{"text_format":"1","workbook":"xlsx","n_sheets":10,"sheets":["SOLICITUD","PedidoOptimizado","PedirTodoUnaEmpresa","DiaCash","DisOfic","Lablink","Lyreco","Ocaña","Taine","Vistalegre"],"not_rendered":{"charts":0,"images":0,"macros":1,"external_links":0,"defined_names":16,"comments":8,"pivot_tables":0},"unopened":[],"bounds":{"document_bytes":16777216,"sheet_cells":100000,"rows_first":2000,"rows_last":500,"rows_between":2000,"halvings":0,"cell_chars":16384,"cell_head_chars":4096},"cells_cut":0,"cells_raw":0,"read":"whole","date_system":"1900"}

{"sheet":"SOLICITUD","index":0,"n_rows":380,"n_cols":15,"rows_kept":380,"cut":false,"hidden":false,"merged":[[2,7,2,11],[0,7,0,11],[379,1,379,5],[378,1,378,3],[4,6,4,12],[375,2,375,4],[376,1,376,5]]}
["Excluido1: ","Este proveedor no sirve este producto.",null,null,null,null,null,"Valoración de un Pedido"]
["Excluido2: ","Cantidad solicitada inferior al mínimo que sirve el proveedor en cuestión"]
["Excluido3:","Importe total de pedido inferior al mínimo del proveedor en cuestión.",null,null,null,null,null,"Solo se debe escribir en las celdas de la columna F"]
[]
[null,null,null,null,null,null,"COSTE PEDIDO"]
["Referencia","Descripción del artículo","Precio Referido a:","Precio  Entre:","Unidades Mínimas que se sirven","Cantidad Solicitada","DiaCash","DisOfic","Lablink","Lyreco","Ocaña","Taine","Vistalegre"]
[1,"Lapiceros de Grafito. Dureza Hb 2 ","Enavse 12 unidades",{"$f":" TEXT(MIN(DiaCash!D7,DisOfic!D7,Lablink!D7,Lyreco!D7,Ocaña!D7,Taine!D7,Vistalegre!D7),\"0,000\") & \" - \" & TEXT(MAX(DiaCash!D7,DisOfic!D7,Lablink!D7,Lyreco!D7,Ocaña!D7,Taine!D7,Vistalegre!D7),\"0,000\")","v":"0,370 - 1,200"},{"$f":" TEXT(MIN(DiaCash!E7,DisOfic!E7,Lyreco!E7,Ocaña!E7,Taine!E7,Vistalegre!E7),\"0,00\") & \" \" & C7","v":"1,00 Enavse 12 unidades"},null,{"$f":"IF(DiaCash!$G7>0,DiaCash!$G7,\"\")","v":""},{"$f":"IF(DisOfic!$G7>0,DisOfic!$G7,\"\")","v":""},{"$f":"IF(Lablink!$G7>0,Lablink!$G7,\"\")","v":""},{"$f":"IF(Lyreco!$G7>0,Lyreco!$G7,\"\")","v":""},{"$f":"IF(Ocaña!$G7>0,Ocaña!$G7,\"\")","v":""},{"$f":"IF(Taine!$G7>0,Taine!$G7,\"\")","v":""},{"$f":"IF(Vistalegre!$G7>0,Vistalegre!$G7,\"\")","v":""},{"$f":"COUNTIF(G7:M7,\"=\" & O7 )","v":0},{"$f":"IF(MIN(G7:M7)=0,\"\",MIN(G7:M7))","v":""}]
[2,"Lapiceros de Grafito. Dureza Hb, 2 (Staedtler)","Enavse 12 unidades",{"$f":" TEXT(MIN(DiaCash!D8,DisOfic!D8,Lablink!D8,Lyreco!D8,Ocaña!D8,Taine!D8,Vistalegre!D8),\"0,000\") & \" - \" & TEXT(MAX(DiaCash!D8,DisOfic!D8,Lablink!D8,Lyreco!D8,Ocaña!D8,Taine!D8,Vistalegre!D8),\"0,000\")","v":"0,530 - 4,200"},{"$f":" TEXT(MIN(DiaCash!E8,DisOfic!E8,Lyreco!E8,Ocaña!E8,Taine!E8,Vistalegre!E8),\"0,00\") & \" \" & C8","v":"1,00 Enavse 12 unidades"},null,{"$f":"IF(DiaCash!$G8>0,DiaCash!$G8,\"\")","v":""},{"$f":"IF(DisOfic!$G8>0,DisOfic!$G8,\"\")","v":""},{"$f":"IF(Lablink!$G8>0,Lablink!$G8,\"\")","v":""},{"$f":"IF(Lyreco!$G8>0,Lyreco!$G8,\"\")","v":""},{"$f":"IF(Ocaña!$G8>0,Ocaña!$G8,\"\")","v":""},{"$f":"IF(Taine!$G8>0,Taine!$G8,\"\")","v":""},{"$f":"IF(Vistalegre!$G8>0,Vistalegre!$G8,\"\")","v":""},{"$f":"COUNTIF(G8:M8,\"=\" & O8)","v":0},{"$f":"IF(MIN(G8:M8)=0,\"\",MIN(G8:M8))","v":""}]
[3,"Minas de Grafito. Calibre 0,5 mm, diferentes durezas (Staedtler, Faber-Castell)","Envase 12 unidades",{"$f":" TEXT(MIN(DiaCash!D9,DisOfic!D9,Lablink!D9,Lyreco!D9,Ocaña!D9,Taine!D9,Vistalegre!D9),\"0,000\") & \" - \" & TEXT(MAX(DiaCash!D9,DisOfic!D9,Lablink!D9,Lyreco!D9,Ocaña!D9,Taine!D9,Vistalegre!D9),\"0,000\")","v":"0,250 - 9,240"},{"$f":" TEXT(MIN(DiaCash!E9,DisOfic!E9,Lyreco!E9,Ocaña!E9,Taine!E9,Vistalegre!E9),\"0,00\") & \" \" & C9","v":"1,00 Envase 12 unidades"},null,{"$f":"IF(DiaCash!$G9>0,DiaCash!$G9,\"\")","v":""},{"$f":"IF(DisOfic!$G9>0,DisOfic!$G9,\"\")","v":""},{"$f":"IF(Lablink!$G9>0,Lablink!$G9,\"\")","v":""},{"$f":"IF(Lyreco!$G9>0,Lyreco!$G9,\"\")","v":""},{"$f":"IF(Ocaña!$G9>0,Ocaña!$G9,\"\")","v":""},{"$f":"IF(Taine!$G9>0,Taine!$G9,\"\")","v":""},{"$f":"IF(Vistalegre!$G9>0,Vistalegre!$G9,\"\")","v":""},0,""]
[4,"Minas de Grafito. Calibre 0,7 mm, diferentes durezas (Staedtler, Faber-Castell)","Envase 12 unidades",{"$f":" TEXT(MIN(DiaCash!D10,DisOfic!D10,Lablink!D10,Lyreco!D10,Ocaña!D10,Taine!D10,Vistalegre!D10),\"0,000\") & \" - \" & TEXT(MAX(DiaCash!D10,DisOfic!D10,Lablink!D10,Lyreco!D10,Ocaña!D10,Taine!D10,Vistalegre!D10),\"0,000\")","v":"0,250 - 9,360"},{"$f":" TEXT(MIN(DiaCash!E10,DisOfic!E10,Lyreco!E10,Ocaña!E10,Taine!E10,Vistalegre!E10),\"0,00\") & \" \" & C10","v":"1,00 Envase 12 unidades"},null,{"$f":"IF(DiaCash!G10>0,DiaCash!G10,\"\")","v":""},{"$f":"IF(DisOfic!G10>0,DisOfic!G10,\"\")","v":""},{"$f":"IF(Lablink!$G10>0,Lablink!$G10,\"\")","v":""},{"$f":"IF(Lyreco!G10>0,Lyreco!G10,\"\")","v":""},{"$f":"IF(Ocaña!G10>0,Ocaña!G10,\"\")","v":""},{"$f":"IF(Taine!G10>0,Taine!G10,\"\")","v":""},{"$f":"IF(Vistalegre!G10>0,Vistalegre!G10,\"\")","v":""},0,""]
[5,"Portaminas Recargable de Puntera Retráctil, Pulsador y Clip, 0,5 mm.","Unidad",{"$f":" TEXT(MIN(DiaCash!D11,DisOfic!D11,Lablink!D11,Lyreco!D11,Ocaña!D11,Taine!D11,Vistalegre!D11),\"0,000\") & \" - \" & TEXT(MAX(DiaCash!D11,DisOfic!D11,Lablink!D11,Lyreco!D11,Ocaña!D11,Taine!D11,Vistalegre!D11),\"0,000\")","v":"0,147 - 0,400"},{"$f":" TEXT(MIN(DiaCash!E11,DisOfic!E11,Lyreco!E11,Ocaña!E11,Taine!E11,Vistalegre!E11),\"0,00\") & \" \" & C11","v":"1,00 Unidad"},null,{"$f":"IF(DiaCash!G11>0,DiaCash!G11,\"\")","v":""},{"$f":"IF(DisOfic!G11>0,DisOfic!G11,\"\")","v":""},{"$f":"IF(Lablink!$G11>0,Lablink!$G11,\"\")","v":""},{"$f":"IF(Lyreco!G11>0,Lyreco!G11,\"\")","v":""},{"$f":"IF(Ocaña!G11>0,Ocaña!G11,\"\")","v":""},{"$f":"IF(Taine!G11>0,Taine!G11,\"\")","v":""},{"$f":"IF(Vistalegre!G11>0,Vistalegre!G11,\"\")","v":""},0,""]
[6,"Portaminas Recargable de Puntera Retráctil, Pulsador y Clip, 0,7 mm.","Unidad",{"$f":" TEXT(MIN(DiaCash!D12,DisOfic!D12,Lablink!D12,Lyreco!D12,Ocaña!D12,Taine!D12,Vistalegre!D12),\"0,000\") & \" - \" & TEXT(MAX(DiaCash!D12,DisOfic!D12,Lablink!D12,Lyreco!D12,Ocaña!D12,Taine!D12,Vistalegre!D12),\"0,000\")","v":"0,150 - 0,420"},{"$f":" TEXT(MIN(DiaCash!E12,DisOfic!E12,Lyreco!E12,Ocaña!E12,Taine!E12,Vistalegre!E12),\"0,00\") & \" \" & C12","v":"1,00 Unidad"},null,{"$f":"IF(DiaCash!G12>0,DiaCash!G12,\"\")","v":""},{"$f":"IF(DisOfic!G12>0,DisOfic!G12,\"\")","v":""},{"$f":"IF(Lablink!$G12>0,Lablink!$G12,\"\")","v":""},{"$f":"IF(Lyreco!G12>0,Lyreco!G12,\"\")","v":""},{"$f":"IF(Ocaña!G12>0,Ocaña!G12,\"\")","v":""},{"$f":"IF(Taine!G12>0,Taine!G12,\"\")","v":""},{"$f":"IF(Vistalegre!G12>0,Vistalegre!G12,\"\")","v":""},0,""]
[7,"Portaminas Recargable de Puntera Retráctil, Pulsador y Clip, 0,5 mm. (Staedtler, Faber Castell)","Unidad",{"$f":" TEXT(MIN(DiaCash!D13,DisOfic!D13,Lablink!D13,Lyreco!D13,Ocaña!D13,Taine!D13,Vistalegre!D13),\"0,000\") & \" - \" & TEXT(MAX(DiaCash!D13,DisOfic!D13,Lablink!D13,Lyreco!D13,Ocaña!D13,Taine!D13,Vistalegre!D13),\"0,000\")","v":"0,150 - 1,990"},{"$f":" TEXT(MIN(DiaCash!E13,DisOfic!E13,Lyreco!E13,Ocaña!E13,Taine!E13,Vistalegre!E13),\"0,00\") & \" \" & C13","v":"1,00 Unidad"},null,{"$f":"IF(DiaCash!G13>0,DiaCash!G13,\"\")","v":""},{"$f":"IF(DisOfic!G13>0,DisOfic!G13,\"\")","v":""},{"$f":"IF(Lablink!$G13>0,Lablink!$G13,\"\")","v":""},{"$f":"IF(Lyreco!G13>0,Lyreco!G13,\"\")","v":""},{"$f":"IF(Ocaña!G13>0,Ocaña!G13,\"\")","v":""},{"$f":"IF(Taine!G13>0,Taine!G13,\"\")","v":""},{"$f":"IF(Vistalegre!G13>0,Vistalegre!G13,\"\")","v":""},0,""]
[8,"Portaminas Recargable de Puntera Retráctil, Pulsador y Clip, 0,7 mm. (Staedtler, Faber Castell)","Unidad",{"$f":" TEXT(MIN(DiaCash!D14,DisOfic!D14,Lablink!D14,Lyreco!D14,Ocaña!D14,Taine!D14,Vistalegre!D14),\"0,000\") & \" - \" & TEXT(MAX(DiaCash!D14,DisOfic!D14,Lablink!D14,Lyreco!D14,Ocaña!D14,Taine!D14,Vistalegre!D14),\"0,000\")","v":"0,150 - 2,000"},{"$f":" TEXT(MIN(DiaCash!E14,DisOfic!E14,Lyreco!E14,Ocaña!E14,Taine!E14,Vistalegre!E14),\"0,00\") & \" \" & C14","v":"1,00 Unidad"},null,{"$f":"IF(DiaCash!G14>0,DiaCash!G14,\"\")","v":""},{"$f":"IF(DisOfic!G14>0,DisOfic!G14,\"\")","v":""},{"$f":"IF(Lablink!$G14>0,Lablink!$G14,\"\")","v":""},{"$f":"IF(Lyreco!G14>0,Lyreco!G14,\"\")","v":""},{"$f":"IF(Ocaña!G14>0,Ocaña!G14,\"\")","v":""},{"$f":"IF(Taine!G14>0,Taine!G14,\"\")","v":""},{"$f":"IF(Vistalegre!G14>0,Vistalegre!G14,\"\")","v":""},0,""]
[9,"Lapiz Bicolor azul/rojo ","Envase 12 unidades",{"$f":" TEXT(MIN(DiaCash!D15,DisOfic!D15,Lablink!D15,Lyreco!D15,Ocaña!D15,Taine!D15,Vistalegre!D15),\"0,000\") & \" - \" & TEXT(MAX(DiaCash!D15,DisOfic!D15,Lablink!D15,Lyreco!D15,Ocaña!D15,Taine!D15,Vistalegre!D15),\"0,000\")","v":"0,616 - 4,680"},{"$f":" TEXT(MIN(DiaCash!E15,DisOfic!E15,Lyreco!E15,Ocaña!E15,Taine!E15,Vistalegre!E15),\"0,00\") & \" \" & C15","v":"1,00 Envase 12 unidades"},null,{"$f":"IF(DiaCash!G15>0,DiaCash!G15,\"\")","v":""},{"$f":"IF(DisOfic!G15>0,DisOfic!G15,\"\")","v":""},{"$f":"IF(Lablink!$G15>0,Lablink!$G15,\"\")","v":""},{"$f":"IF(Lyreco!G15>0,Lyreco!G15,\"\")","v":""},{"$f":"IF(Ocaña!G15>0,Ocaña!G15,\"\")","v":""},{"$f":"IF(Taine!G15>0,Taine!G15,\"\")","v":""},{"$f":"IF(Vistalegre!G15>0,Vistalegre!G15,\"\")","v":""},0,""]
[10,"Lapiz Bicolor azul/rojo  (Faber-Castell)","Envase 12 unidades",{"$f":" TEXT(MIN(DiaCash!D16,DisOfic!D16,Lablink!D16,Lyreco!D16,Ocaña!D16,Taine!D16,Vistalegre!D16),\"0,000\") & \" - \" & TEXT(MAX(DiaCash!D16,DisOfic!D16,Lablink!D16,Lyreco!D16,Ocaña!D16,Taine!D16,Vistalegre!D16),\"0,000\")","v":"0,340 - 5,840"},{"$f":" TEXT(MIN(DiaCash!E16,DisOfic!E16,Lyreco!E16,Ocaña!E16,Taine!E16,Vistalegre!E16),\"0,00\") & \" \" & C16","v":"1,00 Envase 12 unidades"},null,{"$f":"IF(DiaCash!G16>0,DiaCash!G16,\"\")","v":""},{"$f":"IF(DisOfic!G16>0,DisOfic!G16,\"\")","v":""},{"$f":"IF(Lablink!$G16>0,Lablink!$G16,\"\")","v":""},{"$f":"IF(Lyreco!G16>0,Lyreco!G16,\"\")","v":""},{"$f":"IF(Ocaña!G16>0,Ocaña!G16,\"\")","v":""},{"$f":"IF(Taine!G16>0,Taine!G16,\"\")","v":""},{"$f":"IF(Vistalegre!G16>0,Vistalegre!G16,\"\")","v":""},0,""]
[11,"Afila Lapiceros doble entrada metálico","Unidad",{"$f":" TEXT(MIN(DiaCash!D17,DisOfic!D17,Lablink!D17,Lyreco!D17,Ocaña!D17,Taine!D17,Vistalegre!D17),\"0,000\") & \" - \" & TEXT(MAX(DiaCash!D17,DisOfic!D17,Lablink!D17,Lyreco!D17,Ocaña!D17,Taine!D17,Vistalegre!D17),\"0,000\")","v":"0,120 - 0,250"},{"$f":" TEXT(MIN(DiaCash!E17,DisOfic!E17,Lyreco!E17,Ocaña!E17,Taine!E17,Vistalegre!E17),\"0,00\") & \" \" & C17","v":"1,00 Unidad"},null,{"$f":"IF(DiaCash!G17>0,DiaCash!G17,\"\")","v":""},{"$f":"IF(DisOfic!G17>0,DisOfic!G17,\"\")","v":""},{"$f":"IF(Lablink!$G17>0,Lablink!$G17,\"\")","v":""},{"$f":"IF(Lyreco!G17>0,Lyreco!G17,\"\")","v":""},{"$f":"IF(Ocaña!G17>0,Ocaña!G17,\"\")","v":""},{"$f":"IF(Taine!G17>0,Taine!G17,\"\")","v":""},{"$f":"IF(Vistalegre!G17>0,Vistalegre!G17,\"\")","v":""},0,""]
[12,"Afila Lapiceros doble entrada metálico (Faibo)","Unidad",{"$f":" TEXT(MIN(DiaCash!D18,DisOfic!D18,Lablink!D18,Lyreco!D18,Ocaña!D18,Taine!D18,Vistalegre!D18),\"0,000\") & \" - \" & TEXT(MAX(DiaCash!D18,DisOfic!D18,Lablink!D18,Lyreco!D18,Ocaña!D18,Taine!D18,Vistalegre!D18),\"0,000\")","v":"0,190 - 1,000"},{"$f":" TEXT(MIN(DiaCash!E18,DisOfic!E18,Lyreco!E18,Ocaña!E18,Taine!E18,Vistalegre!E18),\"0,00\") & \" \" & C18","v":"1,00 Unidad"},null,{"$f":"IF(DiaCash!G18>0,DiaCash!G18,\"\")","v":""},{"$f":"IF(DisOfic!G18>0,DisOfic!G18,\"\")","v":""},{"$f":"IF(Lablink!$G18>0,Lablink!$G18,\"\")","v":""},{"$f":"IF(Lyreco!G18>0,Lyreco!G18,\"\")","v":""},{"$f":"IF(Ocaña!G18>0,Ocaña!G18,\"\")","v":""},{"$f":"IF(Taine!G18>0,Taine!G18,\"\")","v":""},{"$f":"IF(Vistalegre!G18>0,Vistalegre!G18,\"\")","v":""},0,""]
[13,"Afila Lapiceros una entrada metálico","Unidad",{"$f":" TEXT(MIN(DiaCash!D19,DisOfic!D19,Lablink!D19,Lyreco!D19,Ocaña!D19,Taine!D19,Vistalegre!D19),\"0,000\") & \" - \" & TEXT(MAX(DiaCash!D19,DisOfic!D19,Lablink!D19,Lyreco!D19,Ocaña!D19,Taine!D19,Vistalegre!D19),\"0,000\")","v":"0,080 - 0,150"},{"$f":" TEXT(MIN(DiaCash!E19,DisOfic!E19,Lyreco!E19,Ocaña!E19,Taine!E19,Vistalegre!E19),\"0,00\") & \" \" & C19","v":"1,00 Unidad"},null,{"$f":"IF(DiaCash!G19>0,DiaCash!G19,\"\")","v":""},{"$f":"IF(DisOfic!G19>0,DisOfic!G19,\"\")","v":""},{"$f":"IF(Lablink!$G19>0,Lablink!$G19,\"\")","v":""},{"$f":"IF(Lyreco!G19>0,Lyreco!G19,\"\")","v":""},{"$f":"IF(Ocaña!G19>0,Ocaña!G19,\"\")","v":""},{"$f":"IF(Taine!G19>0,Taine!G19,\"\")","v":""},{"$f":"IF(Vistalegre!G19>0,Vistalegre!G19,\"\")","v":""},0,""]
[14,"Afila Lapiceros una entrada metálico (Faibo)","Unidad",{"$f":" TEXT(MIN(DiaCash!D20,DisOfic!D20,Lablink!D20,Lyreco!D20,Ocaña!D20,Taine!D20,Vistalegre!D20),\"0,000\") & \" - \" & TEXT(MAX(DiaCash!D20,DisOfic!D20,Lablink!D20,Lyreco!D20,Ocaña!D20,Taine!D20,Vistalegre!D20),\"0,000\")","v":"0,080 - 0,400"},{"$f":" TEXT(MIN(DiaCash!E20,DisOfic!E20,Lyreco!E20,Ocaña!E20,Taine!E20,Vistalegre!E20),\"0,00\") & \" \" & C20","v":"1,00 Unidad"},null,{"$f":"IF(DiaCash!G20>0,DiaCash!G20,\"\")","v":""},{"$f":"IF(DisOfic!G20>0,DisOfic!G20,\"\")","v":""},{"$f":"IF(Lablink!$G20>0,Lablink!$G20,\"\")","v":""},{"$f":"IF(Lyreco!G20>0,Lyreco!G20,\"\")","v":""},{"$f":"IF(Ocaña!G20>0,Ocaña!G20,\"\")","v":""},{"$f":"IF(Taine!G20>0,Taine!G20,\"\")","v":""},{"$f":"IF(Vistalegre!G20>0,Vistalegre!G20,\"\")","v":""},0,""]
[15,"Bolígrafo con capuchón, tinta a base de aceite, ancho de escritura 0,42 mm, escritura fina (Bic)","Unidad",{"$f":" TEXT(MIN(DiaCash!D21,DisOfic!D21,Lablink!D21,Lyreco!D21,Ocaña!D21,Taine!D21,Vistalegre!D21),\"0,000\") & \" - \" & TEXT(MAX(DiaCash!D21,DisOfic!D21,Lablink!D21,Lyreco!D21,Ocaña!D21,Taine!D21,Vistalegre!D21),\"0,000\")","v":"0,155 - 0,350"},{"$f":" TEXT(MIN(DiaCash!E21,DisOfic!E21,Lyreco!E21,Ocaña!E21,Taine!E21,Vistalegre!E21),\"0,00\") & \" \" & C21","v":"1,00 Unidad"},null,{"$f":"IF(DiaCash!G21>0,DiaCash!G21,\"\")","v":""},{"$f":"IF(DisOfic!G21>0,DisOfic!G21,\"\")","v":""},{"$f":"IF(Lablink!$G21>0,Lablink!$G21,\"\")","v":""},{"$f":"IF(Lyreco!G21>0,Lyreco!G21,\"\")","v":""},{"$f":"IF(Ocaña!G21>0,Ocaña!G21,\"\")","v":""},{"$f":"IF(Taine!G21>0,Taine!G21,\"\")","v":""},{"$f":"IF(Vistalegre!G21>0,Vistalegre!G21,\"\")","v":""},0,""]
[16,"Bolígrafo borrable (Pilot)","Unidad",{"$f":" TEXT(MIN(DiaCash!D22,DisOfic!D22,Lablink!D22,Lyreco!D22,Ocaña!D22,Taine!D22,Vistalegre!D22),\"0,000\") & \" - \" & TEXT(MAX(DiaCash!D22,DisOfic!D22,Lablink!D22,Lyreco!D22,Ocaña!D22,Taine!D22,Vistalegre!D22),\"0,000\")","v":"0,620 - 1,750"},{"$f":" TEXT(MIN(DiaCash!E22,DisOfic!E22,Lyreco!E22,Ocaña!E22,Taine!E22,Vistalegre!E22),\"0,00\") & \" \" & C22","v":"1,00 Unidad"},null,{"$f":"IF(DiaCash!G22>0,DiaCash!G22,\"\")","v":""},{"$f":"IF(DisOfic!G22>0,DisOfic!G22,\"\")","v":""},{"$f":"IF(Lablink!$G22>0,Lablink!$G22,\"\")","v":""},{"$f":"IF(Lyreco!G22>0,Lyreco!G22,\"\")","v":""},{"$f":"IF(Ocaña!G22>0,Ocaña!G22,\"\")","v":""},{"$f":"IF(Taine!G22>0,Taine!G22,\"\")","v":""},{"$f":"IF(Vistalegre!G22>0,Vistalegre!G22,\"\")","v":""},0,""]
[17,"Bolígrafo con capuchón, tinta a base de aceite, ancho de escritura 1,0mm, escritura normal, colores","Unidad",{"$f":" TEXT(MIN(DiaCash!D23,DisOfic!D23,Lablink!D23,Lyreco!D23,Ocaña!D23,Taine!D23,Vistalegre!D23),\"0,000\") & \" - \" & TEXT(MAX(DiaCash!D23,DisOfic!D23,Lablink!D23,Lyreco!D23,Ocaña!D23,Taine!D23,Vistalegre!D23),\"0,000\")","v":"0,040 - 0,090"},{"$f":" TEXT(MIN(DiaCash!E23,DisOfic!E23,Lyreco!E23,Ocaña!E23,Taine!E23,Vistalegre!E23),\"0,00\") & \" \" & C23","v":"1,00 Unidad"},null,{"$f":"IF(DiaCash!G23>0,DiaCash!G23,\"\")","v":""},{"$f":"IF(DisOfic!G23>0,DisOfic!G23,\"\")","v":""},{"$f":"IF(Lablink!$G23>0,Lablink!$G23,\"\")","v":""},{"$f":"IF(Lyreco!G23>0,Lyreco!G23,\"\")","v":""},{"$f":"IF(Ocaña!G23>0,Ocaña!G23,\"\")","v":""},{"$f":"IF(Taine!G23>0,Taine!G23,\"\")","v":""},{"$f":"IF(Vistalegre!G23>0,Vistalegre!G23,\"\")","v":""},0,""]
[18,"Bolígrafo con capuchón, tinta a base de aceite, ancho de escritura 1,0mm, escritura normal, colores (Bic)","Unidad",{"$f":" TEXT(MIN(DiaCash!D24,DisOfic!D24,Lablink!D24,Lyreco!D24,Ocaña!D24,Taine!D24,Vistalegre!D24),\"0,000\") & \" - \" & TEXT(MAX(DiaCash!D24,DisOfic!D24,Lablink!D24,Lyreco!D24,Ocaña!D24,Taine!D24,Vistalegre!D24),\"0,000\")","v":"0,040 - 0,200"},{"$f":" TEXT(MIN(DiaCash!E24,DisOfic!E24,Lyreco!E24,Ocaña!E24,Taine!E24,Vistalegre!E24),\"0,00\") & \" \" & C24","v":"1,00 Unidad"},null,{"$f":"IF(DiaCash!G24>0,DiaCash!G24,\"\")","v":""},{"$f":"IF(DisOfic!G24>0,DisOfic!G24,\"\")","v":""},{"$f":"IF(Lablink!$G24>0,Lablink!$G24,\"\")","v":""},{"$f":"IF(Lyreco!G24>0,Lyreco!G24,\"\")","v":""},{"$f":"IF(Ocaña!G24>0,Ocaña!G24,\"\")","v":""},{"$f":"IF(Taine!G24>0,Taine!G24,\"\")","v":""},{"$f":"IF(Vistalegre!G24>0,Vistalegre!G24,\"\")","v":""},0,""]
[19,"Bolígrafo con capuchón, tinta a base de aceite, ancho de escritura 0,5mm, escritura fina, colores (Bic)","Unidad",{"$f":" TEXT(MIN(DiaCash!D25,DisOfic!D25,Lablink!D25,Lyreco!D25,Ocaña!D25,Taine!D25,Vistalegre!D25),\"0,000\") & \" - \" & TEXT(MAX(DiaCash!D25,DisOfic!D25,Lablink!D25,Lyreco!D25,Ocaña!D25,Taine!D25,Vistalegre!D25),\"0,000\")","v":"0,180 - 0,240"},{"$f":" TEXT(MIN(DiaCash!E25,DisOfic!E25,Lyreco!E25,Ocaña!E25,Taine!E25,Vistalegre!E25),\"0,00\") & \" \" & C25","v":"1,00 Unidad"},null,{"$f":"IF(DiaCash!G25>0,DiaCash!G25,\"\")","v":""},{"$f":"IF(DisOfic!G25>0,DisOfic!G25,\"\")","v":""},{"$f":"IF(Lablink!$G25>0,Lablink!$G25,\"\")","v":""},{"$f":"IF(Lyreco!G25>0,Lyreco!G25,\"\")","v":""},{"$f":"IF(Ocaña!G25>0,Ocaña!G25,\"\")","v":""},{"$f":"IF(Taine!G25>0,Taine!G25,\"\")","v":""},{"$f":"IF(Vistalegre!G25>0,Vistalegre!G25,\"\")","v":""},0,""]
[20,"Bolígrafo uso común capuchón tinta gel, colores (Bic, Pilot)","Unidad",{"$f":" TEXT(MIN(DiaCash!D26,DisOfic!D26,Lablink!D26,Lyreco!D26,Ocaña!D26,Taine!D26,Vistalegre!D26),\"0,000\") & \" - \" & TEXT(MAX(DiaCash!D26,DisOfic!D26,Lablink!D26,Lyreco!D26,Ocaña!D26,Taine!D26,Vistalegre!D26),\"0,000\")","v":"0,200 - 1,080"},{"$f":" TEXT(MIN(DiaCash!E26,DisOfic!E26,Lyreco!E26,Ocaña!E26,Taine!E26,Vistalegre!E26),\"0,00\") & \" \" & C26","v":"1,00 Unidad"},null,{"$f":"IF(DiaCash!G26>0,DiaCash!G26,\"\")","v":""},{"$f":"IF(DisOfic!G26>0,DisOfic!G26,\"\")","v":""},{"$f":"IF(Lablink!$G26>0,Lablink!$G26,\"\")","v":""},{"$f":"IF(Lyreco!G26>0,Lyreco!G26,\"\")","v":""},{"$f":"IF(Ocaña!G26>0,Ocaña!G26,\"\")","v":""},{"$f":"IF(Taine!G26>0,Taine!G26,\"\")","v":""},{"$f":"IF(Vistalegre!G26>0,Vistalegre!G26,\"\")","v":""},0,""]
[21,"Bolígrafo uso común capuchón, tinta base de aceite (Pilot)","Unidad",{"$f":" TEXT(MIN(DiaCash!D27,DisOfic!D27,Lablink!D27,Lyreco!D27,Ocaña!D27,Taine!D27,Vistalegre!D27),\"0,000\") & \" - \" & TEXT(MAX(DiaCash!D27,DisOfic!D27,Lablink!D27,Lyreco!D27,Ocaña!D27,Taine!D27,Vistalegre!D27),\"0,000\")","v":"0,040 - 0,880"},{"$f":" TEXT(MIN(DiaCash!E27,DisOfic!E27,Lyreco!E27,Ocaña!E27,Taine!E27,Vistalegre!E27),\"0,00\") & \" \" & C27","v":"1,00 Unidad"},null,{"$f":"IF(DiaCash!G27>0,DiaCash!G27,\"\")","v":""},{"$f":"IF(DisOfic!G27>0,DisOfic!G27,\"\")","v":""},{"$f":"IF(Lablink!$G27>0,Lablink!$G27,\"\")","v":""},{"$f":"IF(Lyreco!G27>0,Lyreco!G27,\"\")","v":""},{"$f":"IF(Ocaña!G27>0,Ocaña!G27,\"\")","v":""},{"$f":"IF(Taine!G27>0,Taine!G27,\"\")","v":""},{"$f":"IF(Vistalegre!G27>0,Vistalegre!G27,\"\")","v":""},0,""]
[22,"Bolígrafo retráctil tinta gel  ","Unidad",{"$f":" TEXT(MIN(DiaCash!D28,DisOfic!D28,Lablink!D28,Lyreco!D28,Ocaña!D28,Taine!D28,Vistalegre!D28),\"0,000\") & \" - \" & TEXT(MAX(DiaCash!D28,DisOfic!D28,Lablink!D28,Lyreco!D28,Ocaña!D28,Taine!D28,Vistalegre!D28),\"0,000\")","v":"0,190 - 0,220"},{"$f":" TEXT(MIN(DiaCash!E28,DisOfic!E28,Lyreco!E28,Ocaña!E28,Taine!E28,Vistalegre!E28),\"0,00\") & \" \" & C28","v":"1,00 Unidad"},null,{"$f":"IF(DiaCash!G28>0,DiaCash!G28,\"\")","v":""},{"$f":"IF(DisOfic!G28>0,DisOfic!G28,\"\")","v":""},{"$f":"IF(Lablink!$G28>0,Lablink!$G28,\"\")","v":""},{"$f":"IF(Lyreco!G28>0,Lyreco!G28,\"\")","v":""},{"$f":"IF(Ocaña!G28>0,Ocaña!G28,\"\")","v":""},{"$f":"IF(Taine!G28>0,Taine!G28,\"\")","v":""},{"$f":"IF(Vistalegre!G28>0,Vistalegre!G28,\"\")","v":""},0,""]
[23,"Bolígrafo retráctil tinta gel  (Pilot)","Unidad",{"$f":" TEXT(MIN(DiaCash!D29,DisOfic!D29,Lablink!D29,Lyreco!D29,Ocaña!D29,Taine!D29,Vistalegre!D29),\"0,000\") & \" - \" & TEXT(MAX(DiaCash!D29,DisOfic!D29,Lablink!D29,Lyreco!D29,Ocaña!D29,Taine!D29,Vistalegre!D29),\"0,000\")","v":"0,270 - 1,230"},{"$f":" TEXT(MIN(DiaCash!E29,DisOfic!E29,Lyreco!E29,Ocaña!E29,Taine!E29,Vistalegre!E29),\"0,00\") & \" \" & C29","v":"1,00 Unidad"},null,{"$f":"IF(DiaCash!G29>0,DiaCash!G29,\"\")","v":""},{"$f":"IF(DisOfic!G29>0,DisOfic!G29,\"\")","v":""},{"$f":"IF(Lablink!$G29>0,Lablink!$G29,\"\")","v":""},{"$f":"IF(Lyreco!G29>0,Lyreco!G29,\"\")","v":""},{"$f":"IF(Ocaña!G29>0,Ocaña!G29,\"\")","v":""},{"$f":"IF(Taine!G29>0,Taine!G29,\"\")","v":""},{"$f":"IF(Vistalegre!G29>0,Vistalegre!G29,\"\")","v":""},0,""]
[24,"Pluma desechable (Pilot)","Unidad",{"$f":" TEXT(MIN(DiaCash!D30,DisOfic!D30,Lablink!D30,Lyreco!D30,Ocaña!D30,Taine!D30,Vistalegre!D30),\"0,000\") & \" - \" & TEXT(MAX(DiaCash!D30,DisOfic!D30,Lablink!D30,Lyreco!D30,Ocaña!D30,Taine!D30,Vistalegre!D30),\"0,000\")","v":"1,433 - 2,050"},{"$f":" TEXT(MIN(DiaCash!E30,DisOfic!E30,Lyreco!E30,Ocaña!E30,Taine!E30,Vistalegre!E30),\"0,00\") & \" \" & C30","v":"1,00 Unidad"},null,{"$f":"IF(DiaCash!G30>0,DiaCash!G30,\"\")","v":""},{"$f":"IF(DisOfic!G30>0,DisOfic!G30,\"\")","v":""},{"$f":"IF(Lablink!$G30>0,Lablink!$G30,\"\")","v":""},{"$f":"IF(Lyreco!G30>0,Lyreco!G30,\"\")","v":""},{"$f":"IF(Ocaña!G30>0,Ocaña!G30,\"\")","v":""},{"$f":"IF(Taine!G30>0,Taine!G30,\"\")","v":""},{"$f":"IF(Vistalegre!G30>0,Vistalegre!G30,\"\")","v":""},0,""]
[25,"Marcadores Fluorescentes. Ancho de Trazo entre 2 Y 5 mm","Unidad",{"$f":" TEXT(MIN(DiaCash!D31,DisOfic!D31,Lablink!D31,Lyreco!D31,Ocaña!D31,Taine!D31,Vistalegre!D31),\"0,000\") & \" - \" & TEXT(MAX(DiaCash!D31,DisOfic!D31,Lablink!D31,Lyreco!D31,Ocaña!D31,Taine!D31,Vistalegre!D31),\"0,000\")","v":"0,160 - 0,240"},{"$f":" TEXT(MIN(DiaCash!E31,DisOfic!E31,Lyreco!E31,Ocaña!E31,Taine!E31,Vistalegre!E31),\"0,00\") & \" \" & C31","v":"1,00 Unidad"},null,{"$f":"IF(DiaCash!G31>0,DiaCash!G31,\"\")","v":""},{"$f":"IF(DisOfic!G31>0,DisOfic!G31,\"\")","v":""},{"$f":"IF(Lablink!$G31>0,Lablink!$G31,\"\")","v":""},{"$f":"IF(Lyreco!G31>0,Lyreco!G31,\"\")","v":""},{"$f":"IF(Ocaña!G31>0,Ocaña!G31,\"\")","v":""},{"$f":"IF(Taine!G31>0,Taine!G31,\"\")","v":""},{"$f":"IF(Vistalegre!G31>0,Vistalegre!G31,\"\")","v":""},0,""]
[26,"Marcadores Fluorescentes. Ancho de Trazo entre 2 Y 5 mm (Faber Castell, Stabilo)","Unidad",{"$f":" TEXT(MIN(DiaCash!D32,DisOfic!D32,Lablink!D32,Lyreco!D32,Ocaña!D32,Taine!D32,Vistalegre!D32),\"0,000\") & \" - \" & TEXT(MAX(DiaCash!D32,DisOfic!D32,Lablink!D32,Lyreco!D32,Ocaña!D32,Taine!D32,Vistalegre!D32),\"0,000\")","v":"0,200 - 0,580"},{"$f":" TEXT(MIN(DiaCash!E32,DisOfic!E32,Lyreco!E32,Ocaña!E32,Taine!E32,Vistalegre!E32),\"0,00\") & \" \" & C32","v":"1,00 Unidad"},null,{"$f":"IF(DiaCash!G32>0,DiaCash!G32,\"\")","v":""},{"$f":"IF(DisOfic!G32>0,DisOfic!G32,\"\")","v":""},{"$f":"IF(Lablink!$G32>0,Lablink!$G32,\"\")","v":""},{"$f":"IF(Lyreco!G32>0,Lyreco!G32,\"\")","v":""},{"$f":"IF(Ocaña!G32>0,Ocaña!G32,\"\")","v":""},{"$f":"IF(Taine!G32>0,Taine!G32,\"\")","v":""},{"$f":"IF(Vistalegre!G32>0,Vistalegre!G32,\"\")","v":""},0,""]
[27,"Roller Retráctil Tinta Gel. Trazo entre 0,4 Y 0,7 mm.","Unidad",{"$f":" TEXT(MIN(DiaCash!D33,DisOfic!D33,Lablink!D33,Lyreco!D33,Ocaña!D33,Taine!D33,Vistalegre!D33),\"0,000\") & \" - \" & TEXT(MAX(DiaCash!D33,DisOfic!D33,Lablink!D33,Lyreco!D33,Ocaña!D33,Taine!D33,Vistalegre!D33),\"0,000\")","v":"0,270 - 0,590"},{"$f":" TEXT(MIN(DiaCash!E33,DisOfic!E33,Lyreco!E33,Ocaña!E33,Taine!E33,Vistalegre!E33),\"0,00\") & \" \" & C33","v":"1,00 Unidad"},null,{"$f":"IF(DiaCash!G33>0,DiaCash!G33,\"\")","v":""},{"$f":"IF(DisOfic!G33>0,DisOfic!G33,\"\")","v":""},{"$f":"IF(Lablink!$G33>0,Lablink!$G33,\"\")","v":""},{"$f":"IF(Lyreco!G33>0,Lyreco!G33,\"\")","v":""},{"$f":"IF(Ocaña!G33>0,Ocaña!G33,\"\")","v":""},{"$f":"IF(Taine!G33>0,Taine!G33,\"\")","v":""},{"$f":"IF(Vistalegre!G33>0,Vistalegre!G33,\"\")","v":""},0,""]
[28,"Roller Retráctil Tinta Gel. Trazo entre 0,4 Y 0,7 mm. (Pilot)","Unidad",{"$f":" TEXT(MIN(DiaCash!D34,DisOfic!D34,Lablink!D34,Lyreco!D34,Ocaña!D34,Taine!D34,Vistalegre!D34),\"0,000\") & \" - \" & TEXT(MAX(DiaCash!D34,DisOfic!D34,Lablink!D34,Lyreco!D34,Ocaña!D34,Taine!D34,Vistalegre!D34),\"0,000\")","v":"0,270 - 1,080"},{"$f":" TEXT(MIN(DiaCash!E34,DisOfic!E34,Lyreco!E34,Ocaña!E34,Taine!E34,Vistalegre!E34),\"0,00\") & \" \" & C34","v":"1,00 Unidad"},null,{"$f":"IF(DiaCash!G34>0,DiaCash!G34,\"\")","v":""},{"$f":"IF(DisOfic!G34>0,DisOfic!G34,\"\")","v":""},{"$f":"IF(Lablink!$G34>0,Lablink!$G34,\"\")","v":""},{"$f":"IF(Lyreco!G34>0,Lyreco!G34,\"\")","v":""},{"$f":"IF(Ocaña!G34>0,Ocaña!G34,\"\")","v":""},{"$f":"IF(Taine!G34>0,Taine!G34,\"\")","v":""},{"$f":"IF(Vistalegre!G34>0,Vistalegre!G34,\"\")","v":""},0,""]
[29,"Roller Tinta Gel con capuchón. Trazo entre  0,4 Y 0,7 mm.","Unidad",{"$f":" TEXT(MIN(DiaCash!D35,DisOfic!D35,Lablink!D35,Lyreco!D35,Ocaña!D35,Taine!D35,Vistalegre!D35),\"0,000\") & \" - \" & TEXT(MAX(DiaCash!D35,DisOfic!D35,Lablink!D35,Lyreco!D35,Ocaña!D35,Taine!D35,Vistalegre!D35),\"0,000\")","v":"0,110 - 0,410"},{"$f":" TEXT(MIN(DiaCash!E35,DisOfic!E35,Lyreco!E35,Ocaña!E35,Taine!E35,Vistalegre!E35),\"0,00\") & \" \" & C35","v":"1,00 Unidad"},null,{"$f":"IF(DiaCash!G35>0,DiaCash!G35,\"\")","v":""},{"$f":"IF(DisOfic!G35>0,DisOfic!G35,\"\")","v":""},{"$f":"IF(Lablink!$G35>0,Lablink!$G35,\"\")","v":""},{"$f":"IF(Lyreco!G35>0,Lyreco!G35,\"\")","v":""},{"$f":"IF(Ocaña!G35>0,Ocaña!G35,\"\")","v":""},{"$f":"IF(Taine!G35>0,Taine!G35,\"\")","v":""},{"$f":"IF(Vistalegre!G35>0,Vistalegre!G35,\"\")","v":""},0,""]
[30,"Roller Tinta Gel con capuchón. Trazo entre  0,4 Y 0,7 mm. (Pilot)","Unidad",{"$f":" TEXT(MIN(DiaCash!D36,DisOfic!D36,Lablink!D36,Lyreco!D36,Ocaña!D36,Taine!D36,Vistalegre!D36),\"0,000\") & \" - \" & TEXT(MAX(DiaCash!D36,DisOfic!D36,Lablink!D36,Lyreco!D36,Ocaña!D36,Taine!D36,Vistalegre!D36),\"0,000\")","v":"0,200 - 1,300"},{"$f":" TEXT(MIN(DiaCash!E36,DisOfic!E36,Lyreco!E36,Ocaña!E36,Taine!E36,Vistalegre!E36),\"0,00\") & \" \" & C36","v":"1,00 Unidad"},null,{"$f":"IF(DiaCash!G36>0,DiaCash!G36,\"\")","v":""},{"$f":"IF(DisOfic!G36>0,DisOfic!G36,\"\")","v":""},{"$f":"IF(Lablink!$G36>0,Lablink!$G36,\"\")","v":""},{"$f":"IF(Lyreco!G36>0,Lyreco!G36,\"\")","v":""},{"$f":"IF(Ocaña!G36>0,Ocaña!G36,\"\")","v":""},{"$f":"IF(Taine!G36>0,Taine!G36,\"\")","v":""},{"$f":"IF(Vistalegre!G36>0,Vistalegre!G36,\"\")","v":""},0,""]
[31,"Roller Tinta Líquida con capuchón. Trazo entre 0,5 Y 0,7 mm.","Unidad",{"$f":" TEXT(MIN(DiaCash!D37,DisOfic!D37,Lablink!D37,Lyreco!D37,Ocaña!D37,Taine!D37,Vistalegre!D37),\"0,000\") & \" - \" & TEXT(MAX(DiaCash!D37,DisOfic!D37,Lablink!D37,Lyreco!D37,Ocaña!D37,Taine!D37,Vistalegre!D37),\"0,000\")","v":"0,160 - 0,233"},{"$f":" TEXT(MIN(DiaCash!E37,DisOfic!E37,Lyreco!E37,Ocaña!E37,Taine!E37,Vistalegre!E37),\"0,00\") & \" \" & C37","v":"1,00 Unidad"},null,{"$f":"IF(DiaCash!G37>0,DiaCash!G37,\"\")","v":""},{"$f":"IF(DisOfic!G37>0,DisOfic!G37,\"\")","v":""},{"$f":"IF(Lablink!$G37>0,Lablink!$G37,\"\")","v":""},{"$f":"IF(Lyreco!G37>0,Lyreco!G37,\"\")","v":""},{"$f":"IF(Ocaña!G37>0,Ocaña!G37,\"\")","v":""},{"$f":"IF(Taine!G37>0,Taine!G37,\"\")","v":""},{"$f":"IF(Vistalegre!G37>0,Vistalegre!G37,\"\")","v":""},0,""]
[32,"Roller Tinta Líquida con capuchón. Trazo entre 0,5 Y 0,7 mm. (Pilot)","Unidad",{"$f":" TEXT(MIN(DiaCash!D38,DisOfic!D38,Lablink!D38,Lyreco!D38,Ocaña!D38,Taine!D38,Vistalegre!D38),\"0,000\") & \" - \" & TEXT(MAX(DiaCash!D38,DisOfic!D38,Lablink!D38,Lyreco!D38,Ocaña!D38,Taine!D38,Vistalegre!D38),\"0,000\")","v":"0,250 - 1,430"},{"$f":" TEXT(MIN(DiaCash!E38,DisOfic!E38,Lyreco!E38,Ocaña!E38,Taine!E38,Vistalegre!E38),\"0,00\") & \" \" & C38","v":"1,00 Unidad"},null,{"$f":"IF(DiaCash!G38>0,DiaCash!G38,\"\")","v":""},{"$f":"IF(DisOfic!G38>0,DisOfic!G38,\"\")","v":""},{"$f":"IF(Lablink!$G38>0,Lablink!$G38,\"\")","v":""},{"$f":"IF(Lyreco!G38>0,Lyreco!G38,\"\")","v":""},{"$f":"IF(Ocaña!G38>0,Ocaña!G38,\"\")","v":""},{"$f":"IF(Taine!G38>0,Taine!G38,\"\")","v":""},{"$f":"IF(Vistalegre!G38>0,Vistalegre!G38,\"\")","v":""},0,""]
[33,"Rotulador Punta Fibra. Trazo entre 0,4 Y 1 mm.","Unidad",{"$f":" TEXT(MIN(DiaCash!D39,DisOfic!D39,Lablink!D39,Lyreco!D39,Ocaña!D39,Taine!D39,Vistalegre!D39),\"0,000\") & \" - \" & TEXT(MAX(DiaCash!D39,DisOfic!D39,Lablink!D39,Lyreco!D39,Ocaña!D39,Taine!D39,Vistalegre!D39),\"0,000\")","v":"0,090 - 0,240"},{"$f":" TEXT(MIN(DiaCash!E39,DisOfic!E39,Lyreco!E39,Ocaña!E39,Taine!E39,Vistalegre!E39),\"0,00\") & \" \" & C39","v":"1,00 Unidad"},null,{"$f":"IF(DiaCash!G39>0,DiaCash!G39,\"\")","v":""},{"$f":"IF(DisOfic!G39>0,DisOfic!G39,\"\")","v":""},{"$f":"IF(Lablink!$G39>0,Lablink!$G39,\"\")","v":""},{"$f":"IF(Lyreco!G39>0,Lyreco!G39,\"\")","v":""},{"$f":"IF(Ocaña!G39>0,Ocaña!G39,\"\")","v":""},{"$f":"IF(Taine!G39>0,Taine!G39,\"\")","v":""},{"$f":"IF(Vistalegre!G39>0,Vistalegre!G39,\"\")","v":""},0,""]
[34,"Rotulador Punta Fibra. Trazo entre 0,4 Y 1 mm. (Edding)","Unidad",{"$f":" TEXT(MIN(DiaCash!D40,DisOfic!D40,Lablink!D40,Lyreco!D40,Ocaña!D40,Taine!D40,Vistalegre!D40),\"0,000\") & \" - \" & TEXT(MAX(DiaCash!D40,DisOfic!D40,Lablink!D40,Lyreco!D40,Ocaña!D40,Taine!D40,Vistalegre!D40),\"0,000\")","v":"0,090 - 0,510"},{"$f":" TEXT(MIN(DiaCash!E40,DisOfic!E40,Lyreco!E40,Ocaña!E40,Taine!E40,Vistalegre!E40),\"0,00\") & \" \" & C40","v":"1,00 Unidad"},null,{"$f":"IF(DiaCash!G40>0,DiaCash!G40,\"\")","v":""},{"$f":"IF(DisOfic!G40>0,DisOfic!G40,\"\")","v":""},{"$f":"IF(Lablink!$G40>0,Lablink!$G40,\"\")","v":""},{"$f":"IF(Lyreco!G40>0,Lyreco!G40,\"\")","v":""},{"$f":"IF(Ocaña!G40>0,Ocaña!G40,\"\")","v":""},{"$f":"IF(Taine!G40>0,Taine!G40,\"\")","v":""},{"$f":"IF(Vistalegre!G40>0,Vistalegre!G40,\"\")","v":""},0,""]
[35,"Rotulador indeleble punta 0,6 mm (Staedtler)","Unidad",{"$f":" TEXT(MIN(DiaCash!D41,DisOfic!D41,Lablink!D41,Lyreco!D41,Ocaña!D41,Taine!D41,Vistalegre!D41),\"0,000\") & \" - \" & TEXT(MAX(DiaCash!D41,DisOfic!D41,Lablink!D41,Lyreco!D41,Ocaña!D41,Taine!D41,Vistalegre!D41),\"0,000\")","v":"0,220 - 1,000"},{"$f":" TEXT(MIN(DiaCash!E41,DisOfic!E41,Lyreco!E41,Ocaña!E41,Taine!E41,Vistalegre!E41),\"0,00\") & \" \" & C41","v":"1,00 Unidad"},null,{"$f":"IF(DiaCash!G41>0,DiaCash!G41,\"\")","v":""},{"$f":"IF(DisOfic!G41>0,DisOfic!G41,\"\")","v":""},{"$f":"IF(Lablink!$G41>0,Lablink!$G41,\"\")","v":""},{"$f":"IF(Lyreco!G41>0,Lyreco!G41,\"\")","v":""},{"$f":"IF(Ocaña!G41>0,Ocaña!G41,\"\")","v":""},{"$f":"IF(Taine!G41>0,Taine!G41,\"\")","v":""},{"$f":"IF(Vistalegre!G41>0,Vistalegre!G41,\"\")","v":""},0,""]
[36,"Rotulador Permanente. Trazo entre 0,7 Y 2 mm Punta Cónica","Unidad",{"$f":" TEXT(MIN(DiaCash!D42,DisOfic!D42,Lablink!D42,Lyreco!D42,Ocaña!D42,Taine!D42,Vistalegre!D42),\"0,000\") & \" - \" & TEXT(MAX(DiaCash!D42,DisOfic!D42,Lablink!D42,Lyreco!D42,Ocaña!D42,Taine!D42,Vistalegre!D42),\"0,000\")","v":"0,140 - 0,280"},{"$f":" TEXT(MIN(DiaCash!E42,DisOfic!E42,Lyreco!E42,Ocaña!E42,Taine!E42,Vistalegre!E42),\"0,00\") & \" \" & C42","v":"1,00 Unidad"},null,{"$f":"IF(DiaCash!G42>0,DiaCash!G42,\"\")","v":""},{"$f":"IF(DisOfic!G42>0,DisOfic!G42,\"\")","v":""},{"$f":"IF(Lablink!$G42>0,Lablink!$G42,\"\")","v":""},{"$f":"IF(Lyreco!G42>0,Lyreco!G42,\"\")","v":""},{"$f":"IF(Ocaña!G42>0,Ocaña!G42,\"\")","v":""},{"$f":"IF(Taine!G42>0,Taine!G42,\"\")","v":""},{"$f":"IF(Vistalegre!G42>0,Vistalegre!G42,\"\")","v":""},0,""]
[37,"Rotulador Permanente. Trazo entre 0,7 Y 2 mm Punta Cónica (Edding)","Unidad",{"$f":" TEXT(MIN(DiaCash!D43,DisOfic!D43,Lablink!D43,Lyreco!D43,Ocaña!D43,Taine!D43,Vistalegre!D43),\"0,000\") & \" - \" & TEXT(MAX(DiaCash!D43,DisOfic!D43,Lablink!D43,Lyreco!D43,Ocaña!D43,Taine!D43,Vistalegre!D43),\"0,000\")","v":"0,230 - 1,500"},{"$f":" TEXT(MIN(DiaCash!E43,DisOfic!E43,Lyreco!E43,Ocaña!E43,Taine!E43,Vistalegre!E43),\"0,00\") & \" \" & C43","v":"1,00 Unidad"},null,{"$f":"IF(DiaCash!G43>0,DiaCash!G43,\"\")","v":""},{"$f":"IF(DisOfic!G43>0,DisOfic!G43,\"\")","v":""},{"$f":"IF(Lablink!$G43>0,Lablink!$G43,\"\")","v":""},{"$f":"IF(Lyreco!G43>0,Lyreco!G43,\"\")","v":""},{"$f":"IF(Ocaña!G43>0,Ocaña!G43,\"\")","v":""},{"$f":"IF(Taine!G43>0,Taine!G43,\"\")","v":""},{"$f":"IF(Vistalegre!G43>0,Vistalegre!G43,\"\")","v":""},0,""]
[38,"Rotulador Permanente. Trazo entre 1,5-3 mm  Punta Cómica (Edding)","Unidad",{"$f":" TEXT(MIN(DiaCash!D44,DisOfic!D44,Lablink!D44,Lyreco!D44,Ocaña!D44,Taine!D44,Vistalegre!D44),\"0,000\") & \" - \" & TEXT(MAX(DiaCash!D44,DisOfic!D44,Lablink!D44,Lyreco!D44,Ocaña!D44,Taine!D44,Vistalegre!D44),\"0,000\")","v":"0,200 - 1,780"},{"$f":" TEXT(MIN(DiaCash!E44,DisOfic!E44,Lyreco!E44,Ocaña!E44,Taine!E44,Vistalegre!E44),\"0,00\") & \" \" & C44","v":"1,00 Unidad"},null,{"$f":"IF(DiaCash!G44>0,DiaCash!G44,\"\")","v":""},{"$f":"IF(DisOfic!G44>0,DisOfic!G44,\"\")","v":""},{"$f":"IF(Lablink!$G44>0,Lablink!$G44,\"\")","v":""},{"$f":"IF(Lyreco!G44>0,Lyreco!G44,\"\")","v":""},{"$f":"IF(Ocaña!G44>0,Ocaña!G44,\"\")","v":""},{"$f":"IF(Taine!G44>0,Taine!G44,\"\")","v":""},{"$f":"IF(Vistalegre!G44>0,Vistalegre!G44,\"\")","v":""},0,""]
[39,"Rotulador Permanente. Trazo entre 2 Y 7 mm Punta Cónica","Unidad",{"$f":" TEXT(MIN(DiaCash!D45,DisOfic!D45,Lablink!D45,Lyreco!D45,Ocaña!D45,Taine!D45,Vistalegre!D45),\"0,000\") & \" - \" & TEXT(MAX(DiaCash!D45,DisOfic!D45,Lablink!D45,Lyreco!D45,Ocaña!D45,Taine!D45,Vistalegre!D45),\"0,000\")","v":"0,180 - 0,600"},{"$f":" TEXT(MIN(DiaCash!E45,DisOfic!E45,Lyreco!E45,Ocaña!E45,Taine!E45,Vistalegre!E45),\"0,00\") & \" \" & C45","v":"1,00 Unidad"},null,{"$f":"IF(DiaCash!G45>0,DiaCash!G45,\"\")","v":""},{"$f":"IF(DisOfic!G45>0,DisOfic!G45,\"\")","v":""},{"$f":"IF(Lablink!$G45>0,Lablink!$G45,\"\")","v":""},{"$f":"IF(Lyreco!G45>0,Lyreco!G45,\"\")","v":""},{"$f":"IF(Ocaña!G45>0,Ocaña!G45,\"\")","v":""},{"$f":"IF(Taine!G45>0,Taine!G45,\"\")","v":""},{"$f":"IF(Vistalegre!G45>0,Vistalegre!G45,\"\")","v":""},0,""]
[40,"Rotulador Permanente. Trazo entre 2 Y 7 mm Punta Cónica (Edding)","Unidad",{"$f":" TEXT(MIN(DiaCash!D46,DisOfic!D46,Lablink!D46,Lyreco!D46,Ocaña!D46,Taine!D46,Vistalegre!D46),\"0,000\") & \" - \" & TEXT(MAX(DiaCash!D46,DisOfic!D46,Lablink!D46,Lyreco!D46,Ocaña!D46,Taine!D46,Vistalegre!D46),\"0,000\")","v":"0,180 - 1,600"},{"$f":" TEXT(MIN(DiaCash!E46,DisOfic!E46,Lyreco!E46,Ocaña!E46,Taine!E46,Vistalegre!E46),\"0,00\") & \" \" & C46","v":"1,00 Unidad"},null,{"$f":"IF(DiaCash!G46>0,DiaCash!G46,\"\")","v":""},{"$f":"IF(DisOfic!G46>0,DisOfic!G46,\"\")","v":""},{"$f":"IF(Lablink!$G46>0,Lablink!$G46,\"\")","v":""},{"$f":"IF(Lyreco!G46>0,Lyreco!G46,\"\")","v":""},{"$f":"IF(Ocaña!G46>0,Ocaña!G46,\"\")","v":""},{"$f":"IF(Taine!G46>0,Taine!G46,\"\")","v":""},{"$f":"IF(Vistalegre!G46>0,Vistalegre!G46,\"\")","v":""},0,""]
[41,"Rotulador Permanente. Trazo entre 2 Y 7 mm Punta Biselada","Unidad",{"$f":" TEXT(MIN(DiaCash!D47,DisOfic!D47,Lablink!D47,Lyreco!D47,Ocaña!D47,Taine!D47,Vistalegre!D47),\"0,000\") & \" - \" & TEXT(MAX(DiaCash!D47,DisOfic!D47,Lablink!D47,Lyreco!D47,Ocaña!D47,Taine!D47,Vistalegre!D47),\"0,000\")","v":"0,180 - 0,520"},{"$f":" TEXT(MIN(DiaCash!E47,DisOfic!E47,Lyreco!E47,Ocaña!E47,Taine!E47,Vistalegre!E47),\"0,00\") & \" \" & C47","v":"1,00 Unidad"},null,{"$f":"IF(DiaCash!G47>0,DiaCash!G47,\"\")","v":""},{"$f":"IF(DisOfic!G47>0,DisOfic!G47,\"\")","v":""},{"$f":"IF(Lablink!$G47>0,Lablink!$G47,\"\")","v":""},{"$f":"IF(Lyreco!G47>0,Lyreco!G47,\"\")","v":""},{"$f":"IF(Ocaña!G47>0,Ocaña!G47,\"\")","v":""},{"$f":"IF(Taine!G47>0,Taine!G47,\"\")","v":""},{"$f":"IF(Vistalegre!G47>0,Vistalegre!G47,\"\")","v":""},0,""]
[42,"Rotulador Permanente. Trazo entre 2 Y 7 mm Punta Biselada (Edding)","Unidad",{"$f":" TEXT(MIN(DiaCash!D48,DisOfic!D48,Lablink!D48,Lyreco!D48,Ocaña!D48,Taine!D48,Vistalegre!D48),\"0,000\") & \" - \" & TEXT(MAX(DiaCash!D48,DisOfic!D48,Lablink!D48,Lyreco!D48,Ocaña!D48,Taine!D48,Vistalegre!D48),\"0,000\")","v":"0,180 - 1,400"},{"$f":" TEXT(MIN(DiaCash!E48,DisOfic!E48,Lyreco!E48,Ocaña!E48,Taine!E48,Vistalegre!E48),\"0,00\") & \" \" & C48","v":"1,00 Unidad"},null,{"$f":"IF(DiaCash!G48>0,DiaCash!G48,\"\")","v":""},{"$f":"IF(DisOfic!G48>0,DisOfic!G48,\"\")","v":""},{"$f":"IF(Lablink!$G48>0,Lablink!$G48,\"\")","v":""},{"$f":"IF(Lyreco!G48>0,Lyreco!G48,\"\")","v":""},{"$f":"IF(Ocaña!G48>0,Ocaña!G48,\"\")","v":""},{"$f":"IF(Taine!G48>0,Taine!G48,\"\")","v":""},{"$f":"IF(Vistalegre!G48>0,Vistalegre!G48,\"\")","v":""},0,""]
[43,"Rotulador Permanente. Trazo entre 8 Y 16 mm Punta Biselada","Unidad",{"$f":" TEXT(MIN(DiaCash!D49,DisOfic!D49,Lablink!D49,Lyreco!D49,Ocaña!D49,Taine!D49,Vistalegre!D49),\"0,000\") & \" - \" & TEXT(MAX(DiaCash!D49,DisOfic!D49,Lablink!D49,Lyreco!D49,Ocaña!D49,Taine!D49,Vistalegre!D49),\"0,000\")","v":"1,010 - 1,200"},{"$f":" TEXT(MIN(DiaCash!E49,DisOfic!E49,Lyreco!E49,Ocaña!E49,Taine!E49,Vistalegre!E49),\"0,00\") & \" \" & C49","v":"1,00 Unidad"},null,{"$f":"IF(DiaCash!G49>0,DiaCash!G49,\"\")","v":""},{"$f":"IF(DisOfic!G49>0,DisOfic!G49,\"\")","v":""},{"$f":"IF(Lablink!$G49>0,Lablink!$G49,\"\")","v":""},{"$f":"IF(Lyreco!G49>0,Lyreco!G49,\"\")","v":""},{"$f":"IF(Ocaña!G49>0,Ocaña!G49,\"\")","v":""},{"$f":"IF(Taine!G49>0,Taine!G49,\"\")","v":""},{"$f":"IF(Vistalegre!G49>0,Vistalegre!G49,\"\")","v":""},0,""]
[44,"Rotulador Permanente. Trazo entre 8 Y 16 mm Punta Biselada (Edding)","Unidad",{"$f":" TEXT(MIN(DiaCash!D50,DisOfic!D50,Lablink!D50,Lyreco!D50,Ocaña!D50,Taine!D50,Vistalegre!D50),\"0,000\") & \" - \" & TEXT(MAX(DiaCash!D50,DisOfic!D50,Lablink!D50,Lyreco!D50,Ocaña!D50,Taine!D50,Vistalegre!D50),\"0,000\")","v":"2,600 - 4,492"},{"$f":" TEXT(MIN(DiaCash!E50,DisOfic!E50,Lyreco!E50,Ocaña!E50,Taine!E50,Vistalegre!E50),\"0,00\") & \" \" & C50","v":"1,00 Unidad"},null,{"$f":"IF(DiaCash!G50>0,DiaCash!G50,\"\")","v":""},{"$f":"IF(DisOfic!G50>0,DisOfic!G50,\"\")","v":""},{"$f":"IF(Lablink!$G50>0,Lablink!$G50,\"\")","v":""},{"$f":"IF(Lyreco!G50>0,Lyreco!G50,\"\")","v":""},{"$f":"IF(Ocaña!G50>0,Ocaña!G50,\"\")","v":""},{"$f":"IF(Taine!G50>0,Taine!G50,\"\")","v":""},{"$f":"IF(Vistalegre!G50>0,Vistalegre!G50,\"\")","v":""},0,""]
[45,"Rotulador Borrable de Punta Biselada para Pizarra Blanca. Trazo Entre 2 Y 5 mm","Unidad",{"$f":" TEXT(MIN(DiaCash!D51,DisOfic!D51,Lablink!D51,Lyreco!D51,Ocaña!D51,Taine!D51,Vistalegre!D51),\"0,000\") & \" - \" & TEXT(MAX(DiaCash!D51,DisOfic!D51,Lablink!D51,Lyreco!D51,Ocaña!D51,Taine!D51,Vistalegre!D51),\"0,000\")","v":"0,180 - 0,330"},{"$f":" TEXT(MIN(DiaCash!E51,DisOfic!E51,Lyreco!E51,Ocaña!E51,Taine!E51,Vistalegre!E51),\"0,00\") & \" \" & C51","v":"1,00 Unidad"},null,{"$f":"IF(DiaCash!G51>0,DiaCash!G51,\"\")","v":""},{"$f":"IF(DisOfic!G51>0,DisOfic!G51,\"\")","v":""},{"$f":"IF(Lablink!$G51>0,Lablink!$G51,\"\")","v":""},{"$f":"IF(Lyreco!G51>0,Lyreco!G51,\"\")","v":""},{"$f":"IF(Ocaña!G51>0,Ocaña!G51,\"\")","v":""},{"$f":"IF(Taine!G51>0,Taine!G51,\"\")","v":""},{"$f":"IF(Vistalegre!G51>0,Vistalegre!G51,\"\")","v":""},0,""]
[46,"Rotulador Borrable de Punta Biselada para Pizarra Blanca. Trazo Entre 2 Y 5 mm (Bic)","Unidad",{"$f":" TEXT(MIN(DiaCash!D52,DisOfic!D52,Lablink!D52,Lyreco!D52,Ocaña!D52,Taine!D52,Vistalegre!D52),\"0,000\") & \" - \" & TEXT(MAX(DiaCash!D52,DisOfic!D52,Lablink!D52,Lyreco!D52,Ocaña!D52,Taine!D52,Vistalegre!D52),\"0,000\")","v":"0,240 - 0,900"},{"$f":" TEXT(MIN(DiaCash!E52,DisOfic!E52,Lyreco!E52,Ocaña!E52,Taine!E52,Vistalegre!E52),\"0,00\") & \" \" & C52","v":"1,00 Unidad"},null,{"$f":"IF(DiaCash!G52>0,DiaCash!G52,\"\")","v":""},{"$f":"IF(DisOfic!G52>0,DisOfic!G52,\"\")","v":""},{"$f":"IF(Lablink!$G52>0,Lablink!$G52,\"\")","v":""},{"$f":"IF(Lyreco!G52>0,Lyreco!G52,\"\")","v":""},{"$f":"IF(Ocaña!G52>0,Ocaña!G52,\"\")","v":""},{"$f":"IF(Taine!G52>0,Taine!G52,\"\")","v":""},{"$f":"IF(Vistalegre!G52>0,Vistalegre!G52,\"\")","v":""},0,""]
[47,"Rotulador Borrable de Punta Conica para Pizarra Blanca. Trazo Entre 1 Y 4 mm","Unidad",{"$f":" TEXT(MIN(DiaCash!D53,DisOfic!D53,Lablink!D53,Lyreco!D53,Ocaña!D53,Taine!D53,Vistalegre!D53),\"0,000\") & \" - \" & TEXT(MAX(DiaCash!D53,DisOfic!D53,Lablink!D53,Lyreco!D53,Ocaña!D53,Taine!D53,Vistalegre!D53),\"0,000\")","v":"0,200 - 0,312"},{"$f":" TEXT(MIN(DiaCash!E53,DisOfic!E53,Lyreco!E53,Ocaña!E53,Taine!E53,Vistalegre!E53),\"0,00\") & \" \" & C53","v":"1,00 Unidad"},null,{"$f":"IF(DiaCash!G53>0,DiaCash!G53,\"\")","v":""},{"$f":"IF(DisOfic!G53>0,DisOfic!G53,\"\")","v":""},{"$f":"IF(Lablink!$G53>0,Lablink!$G53,\"\")","v":""},{"$f":"IF(Lyreco!G53>0,Lyreco!G53,\"\")","v":""},{"$f":"IF(Ocaña!G53>0,Ocaña!G53,\"\")","v":""},{"$f":"IF(Taine!G53>0,Taine!G53,\"\")","v":""},{"$f":"IF(Vistalegre!G53>0,Vistalegre!G53,\"\")","v":""},0,""]
[48,"Rotulador Borrable de Punta Conica para Pizarra Blanca. Trazo Entre 1 Y 4 mm (Bic)","Unidad",{"$f":" TEXT(MIN(DiaCash!D54,DisOfic!D54,Lablink!D54,Lyreco!D54,Ocaña!D54,Taine!D54,Vistalegre!D54),\"0,000\") & \" - \" & TEXT(MAX(DiaCash!D54,DisOfic!D54,Lablink!D54,Lyreco!D54,Ocaña!D54,Taine!D54,Vistalegre!D54),\"0,000\")","v":"0,200 - 0,860"},{"$f":" TEXT(MIN(DiaCash!E54,DisOfic!E54,Lyreco!E54,Ocaña!E54,Taine!E54,Vistalegre!E54),\"0,00\") & \" \" & C54","v":"1,00 Unidad"},null,{"$f":"IF(DiaCash!G54>0,DiaCash!G54,\"\")","v":""},{"$f":"IF(DisOfic!G54>0,DisOfic!G54,\"\")","v":""},{"$f":"IF(Lablink!$G54>0,Lablink!$G54,\"\")","v":""},{"$f":"IF(Lyreco!G54>0,Lyreco!G54,\"\")","v":""},{"$f":"IF(Ocaña!G54>0,Ocaña!G54,\"\")","v":""},{"$f":"IF(Taine!G54>0,Taine!G54,\"\")","v":""},{"$f":"IF(Vistalegre!G54>0,Vistalegre!G54,\"\")","v":""},0,""]
[49,"Borrador para Pizarra Blanca","Unidad",{"$f":" TEXT(MIN(DiaCash!D55,DisOfic!D55,Lablink!D55,Lyreco!D55,Ocaña!D55,Taine!D55,Vistalegre!D55),\"0,000\") & \" - \" & TEXT(MAX(DiaCash!D55,DisOfic!D55,Lablink!D55,Lyreco!D55,Ocaña!D55,Taine!D55,Vistalegre!D55),\"0,000\")","v":"0,504 - 1,690"},{"$f":" TEXT(MIN(DiaCash!E55,DisOfic!E55,Lyreco!E55,Ocaña!E55,Taine!E55,Vistalegre!E55),\"0,00\") & \" \" & C55","v":"1,00 Unidad"},null,{"$f":"IF(DiaCash!G55>0,DiaCash!G55,\"\")","v":""},{"$f":"IF(DisOfic!G55>0,DisOfic!G55,\"\")","v":""},{"$f":"IF(Lablink!$G55>0,Lablink!$G55,\"\")","v":""},{"$f":"IF(Lyreco!G55>0,Lyreco!G55,\"\")","v":""},{"$f":"IF(Ocaña!G55>0,Ocaña!G55,\"\")","v":""},{"$f":"IF(Taine!G55>0,Taine!G55,\"\")","v":""},{"$f":"IF(Vistalegre!G55>0,Vistalegre!G55,\"\")","v":""},0,""]
[50,"Recambios Borrador de Pizarra Blanca ","Envase 10 unidades",{"$f":" TEXT(MIN(DiaCash!D56,DisOfic!D56,Lablink!D56,Lyreco!D56,Ocaña!D56,Taine!D56,Vistalegre!D56),\"0,000\") & \" - \" & TEXT(MAX(DiaCash!D56,DisOfic!D56,Lablink!D56,Lyreco!D56,Ocaña!D56,Taine!D56,Vistalegre!D56),\"0,000\")","v":"1,100 - 1,363"},{"$f":" TEXT(MIN(DiaCash!E56,DisOfic!E56,Lyreco!E56,Ocaña!E56,Taine!E56,Vistalegre!E56),\"0,00\") & \" \" & C56","v":"0,50 Envase 10 unidades"},null,{"$f":"IF(DiaCash!G56>0,DiaCash!G56,\"\")","v":""},{"$f":"IF(DisOfic!G56>0,DisOfic!G56,\"\")","v":""},{"$f":"IF(Lablink!$G56>0,Lablink!$G56,\"\")","v":""},{"$f":"IF(Lyreco!G56>0,Lyreco!G56,\"\")","v":""},{"$f":"IF(Ocaña!G56>0,Ocaña!G56,\"\")","v":""},{"$f":"IF(Taine!G56>0,Taine!G56,\"\")","v":""},{"$f":"IF(Vistalegre!G56>0,Vistalegre!G56,\"\")","v":""},0,""]
[51,"Puntero laser rojo (Trust)","Unidad",{"$f":" TEXT(MIN(DiaCash!D57,DisOfic!D57,Lablink!D57,Lyreco!D57,Ocaña!D57,Taine!D57,Vistalegre!D57),\"0,000\") & \" - \" & TEXT(MAX(DiaCash!D57,DisOfic!D57,Lablink!D57,Lyreco!D57,Ocaña!D57,Taine!D57,Vistalegre!D57),\"0,000\")","v":"15,000 - 21,500"},{"$f":" TEXT(MIN(DiaCash!E57,DisOfic!E57,Lyreco!E57,Ocaña!E57,Taine!E57,Vistalegre!E57),\"0,00\") & \" \" & C57","v":"1,00 Unidad"},null,{"$f":"IF(DiaCash!G57>0,DiaCash!G57,\"\")","v":""},{"$f":"IF(DisOfic!G57>0,DisOfic!G57,\"\")","v":""},{"$f":"IF(Lablink!$G57>0,Lablink!$G57,\"\")","v":""},{"$f":"IF(Lyreco!G57>0,Lyreco!G57,\"\")","v":""},{"$f":"IF(Ocaña!G57>0,Ocaña!G57,\"\")","v":""},{"$f":"IF(Taine!G57>0,Taine!G57,\"\")","v":""},{"$f":"IF(Vistalegre!G57>0,Vistalegre!G57,\"\")","v":""},0,""]
[52,"Pizarra blanca magnética esmaltada. Marco aluminio/plástico 60x90 cm (hxa) (Nobo)","Unidad",{"$f":" TEXT(MIN(DiaCash!D58,DisOfic!D58,Lablink!D58,Lyreco!D58,Ocaña!D58,Taine!D58,Vistalegre!D58),\"0,000\") & \" - \" & TEXT(MAX(DiaCash!D58,DisOfic!D58,Lablink!D58,Lyreco!D58,Ocaña!D58,Taine!D58,Vistalegre!D58),\"0,000\")","v":"14,160 - 20,390"},{"$f":" TEXT(MIN(DiaCash!E58,DisOfic!E58,Lyreco!E58,Ocaña!E58,Taine!E58,Vistalegre!E58),\"0,00\") & \" \" & C58","v":"1,00 Unidad"},null,{"$f":"IF(DiaCash!G58>0,DiaCash!G58,\"\")","v":""},{"$f":"IF(DisOfic!G58>0,DisOfic!G58,\"\")","v":""},{"$f":"IF(Lablink!$G58>0,Lablink!$G58,\"\")","v":""},{"$f":"IF(Lyreco!G58>0,Lyreco!G58,\"\")","v":""},{"$f":"IF(Ocaña!G58>0,Ocaña!G58,\"\")","v":""},{"$f":"IF(Taine!G58>0,Taine!G58,\"\")","v":""},{"$f":"IF(Vistalegre!G58>0,Vistalegre!G58,\"\")","v":""},0,""]
[53,"Pizarra blanca magnética esmaltada. Marco aluminio/plástico 90x120 cm (hxa) (Nobo)","Unidad",{"$f":" TEXT(MIN(DiaCash!D59,DisOfic!D59,Lablink!D59,Lyreco!D59,Ocaña!D59,Taine!D59,Vistalegre!D59),\"0,000\") & \" - \" & TEXT(MAX(DiaCash!D59,DisOfic!D59,Lablink!D59,Lyreco!D59,Ocaña!D59,Taine!D59,Vistalegre!D59),\"0,000\")","v":"27,444 - 40,000"},{"$f":" TEXT(MIN(DiaCash!E59,DisOfic!E59,Lyreco!E59,Ocaña!E59,Taine!E59,Vistalegre!E59),\"0,00\") & \" \" & C59","v":"1,00 Unidad"},null,{"$f":"IF(DiaCash!G59>0,DiaCash!G59,\"\")","v":""},{"$f":"IF(DisOfic!G59>0,DisOfic!G59,\"\")","v":""},{"$f":"IF(Lablink!$G59>0,Lablink!$G59,\"\")","v":""},{"$f":"IF(Lyreco!G59>0,Lyreco!G59,\"\")","v":""},{"$f":"IF(Ocaña!G59>0,Ocaña!G59,\"\")","v":""},{"$f":"IF(Taine!G59>0,Taine!G59,\"\")","v":""},{"$f":"IF(Vistalegre!G59>0,Vistalegre!G59,\"\")","v":""},0,""]
[54,"Pizarra blanca magnética esmaltada. Marco aluminio/plástico 100x150 cm (hxa) (Nobo)","Unidad",{"$f":" TEXT(MIN(DiaCash!D60,DisOfic!D60,Lablink!D60,Lyreco!D60,Ocaña!D60,Taine!D60,Vistalegre!D60),\"0,000\") & \" - \" & TEXT(MAX(DiaCash!D60,DisOfic!D60,Lablink!D60,Lyreco!D60,Ocaña!D60,Taine!D60,Vistalegre!D60),\"0,000\")","v":"54,200 - 80,000"},{"$f":" TEXT(MIN(DiaCash!E60,DisOfic!E60,Lyreco!E60,Ocaña!E60,Taine!E60,Vistalegre!E60),\"0,00\") & \" \" & C60","v":"1,00 Unidad"},null,{"$f":"IF(DiaCash!G60>0,DiaCash!G60,\"\")","v":""},{"$f":"IF(DisOfic!G60>0,DisOfic!G60,\"\")","v":""},{"$f":"IF(Lablink!$G60>0,Lablink!$G60,\"\")","v":""},{"$f":"IF(Lyreco!G60>0,Lyreco!G60,\"\")","v":""},{"$f":"IF(Ocaña!G60>0,Ocaña!G60,\"\")","v":""},{"$f":"IF(Taine!G60>0,Taine!G60,\"\")","v":""},{"$f":"IF(Vistalegre!G60>0,Vistalegre!G60,\"\")","v":""},0,""]
[55,"Pizarra caballete con superficie lacada magnética. Marco y bandeja portamarcadores en aluminio. Brazos laterales magnéticos que triplican la superficie de lectura. Pies telescópicos con altura regulable. Para usar con o sin block de papel 1000x700 mm (hxa) (Bi-Office)","Unidad",{"$f":" TEXT(MIN(DiaCash!D61,DisOfic!D61,Lablink!D61,Lyreco!D61,Ocaña!D61,Taine!D61,Vistalegre!D61),\"0,000\") & \" - \" & TEXT(MAX(DiaCash!D61,DisOfic!D61,Lablink!D61,Lyreco!D61,Ocaña!D61,Taine!D61,Vistalegre!D61),\"0,000\")","v":"43,620 - 110,000"},{"$f":" TEXT(MIN(DiaCash!E61,DisOfic!E61,Lyreco!E61,Ocaña!E61,Taine!E61,Vistalegre!E61),\"0,00\") & \" \" & C61","v":"1,00 Unidad"},null,{"$f":"IF(DiaCash!G61>0,DiaCash!G61,\"\")","v":""},{"$f":"IF(DisOfic!G61>0,DisOfic!G61,\"\")","v":""},{"$f":"IF(Lablink!$G61>0,Lablink!$G61,\"\")","v":""},{"$f":"IF(Lyreco!G61>0,Lyreco!G61,\"\")","v":""},{"$f":"IF(Ocaña!G61>0,Ocaña!G61,\"\")","v":""},{"$f":"IF(Taine!G61>0,Taine!G61,\"\")","v":""},{"$f":"IF(Vistalegre!G61>0,Vistalegre!G61,\"\")","v":""},0,""]
[56,"Cinta Correctora con dispensador desechable tipo Roller. Anchos \nde 4,2 A 6 mm. Largos de 8,5 A 12 Mts.","Unidad",{"$f":" TEXT(MIN(DiaCash!D62,DisOfic!D62,Lablink!D62,Lyreco!D62,Ocaña!D62,Taine!D62,Vistalegre!D62),\"0,000\") & \" - \" & TEXT(MAX(DiaCash!D62,DisOfic!D62,Lablink!D62,Lyreco!D62,Ocaña!D62,Taine!D62,Vistalegre!D62),\"0,000\")","v":"0,400 - 1,115"},{"$f":" TEXT(MIN(DiaCash!E62,DisOfic!E62,Lyreco!E62,Ocaña!E62,Taine!E62,Vistalegre!E62),\"0,00\") & \" \" & C62","v":"1,00 Unidad"},null,{"$f":"IF(DiaCash!G62>0,DiaCash!G62,\"\")","v":""},{"$f":"IF(DisOfic!G62>0,DisOfic!G62,\"\")","v":""},{"$f":"IF(Lablink!$G62>0,Lablink!$G62,\"\")","v":""},{"$f":"IF(Lyreco!G62>0,Lyreco!G62,\"\")","v":""},{"$f":"IF(Ocaña!G62>0,Ocaña!G62,\"\")","v":""},{"$f":"IF(Taine!G62>0,Taine!G62,\"\")","v":""},{"$f":"IF(Vistalegre!G62>0,Vistalegre!G62,\"\")","v":""},0,""]
[57,"Cinta Correctora con dispensador desechable tipo Roller. Anchos \nde 4,2 A 6 mm. Largos de 8,5 A 12 Mts. (Pritt Roller)","Unidad",{"$f":" TEXT(MIN(DiaCash!D63,DisOfic!D63,Lablink!D63,Lyreco!D63,Ocaña!D63,Taine!D63,Vistalegre!D63),\"0,000\") & \" - \" & TEXT(MAX(DiaCash!D63,DisOfic!D63,Lablink!D63,Lyreco!D63,Ocaña!D63,Taine!D63,Vistalegre!D63),\"0,000\")","v":"0,530 - 1,900"},{"$f":" TEXT(MIN(DiaCash!E63,DisOfic!E63,Lyreco!E63,Ocaña!E63,Taine!E63,Vistalegre!E63),\"0,00\") & \" \" & C63","v":"1,00 Unidad"},null,{"$f":"IF(DiaCash!G63>0,DiaCash!G63,\"\")","v":""},{"$f":"IF(DisOfic!G63>0,DisOfic!G63,\"\")","v":""},{"$f":"IF(Lablink!$G63>0,Lablink!$G63,\"\")","v":""},{"$f":"IF(Lyreco!G63>0,Lyreco!G63,\"\")","v":""},{"$f":"IF(Ocaña!G63>0,Ocaña!G63,\"\")","v":""},{"$f":"IF(Taine!G63>0,Taine!G63,\"\")","v":""},{"$f":"IF(Vistalegre!G63>0,Vistalegre!G63,\"\")","v":""},0,""]
[58,"Corrector Líquido de secado rápido con pincel aplicador 20 Ml","Unidad",{"$f":" TEXT(MIN(DiaCash!D64,DisOfic!D64,Lablink!D64,Lyreco!D64,Ocaña!D64,Taine!D64,Vistalegre!D64),\"0,000\") & \" - \" & TEXT(MAX(DiaCash!D64,DisOfic!D64,Lablink!D64,Lyreco!D64,Ocaña!D64,Taine!D64,Vistalegre!D64),\"0,000\")","v":"0,200 - 0,300"},{"$f":" TEXT(MIN(DiaCash!E64,DisOfic!E64,Lyreco!E64,Ocaña!E64,Taine!E64,Vistalegre!E64),\"0,00\") & \" \" & C64","v":"1,00 Unidad"},null,{"$f":"IF(DiaCash!G64>0,DiaCash!G64,\"\")","v":""},{"$f":"IF(DisOfic!G64>0,DisOfic!G64,\"\")","v":""},{"$f":"IF(Lablink!$G64>0,Lablink!$G64,\"\")","v":""},{"$f":"IF(Lyreco!G64>0,Lyreco!G64,\"\")","v":""},{"$f":"IF(Ocaña!G64>0,Ocaña!G64,\"\")","v":""},{"$f":"IF(Taine!G64>0,Taine!G64,\"\")","v":""},{"$f":"IF(Vistalegre!G64>0,Vistalegre!G64,\"\")","v":""},0,""]
[59,"Corrector Líquido de secado rápido con pincel aplicador 20 Ml (Tippex)","Unidad",{"$f":" TEXT(MIN(DiaCash!D65,DisOfic!D65,Lablink!D65,Lyreco!D65,Ocaña!D65,Taine!D65,Vistalegre!D65),\"0,000\") & \" - \" & TEXT(MAX(DiaCash!D65,DisOfic!D65,Lablink!D65,Lyreco!D65,Ocaña!D65,Taine!D65,Vistalegre!D65),\"0,000\")","v":"0,240 - 1,500"},{"$f":" TEXT(MIN(DiaCash!E65,DisOfic!E65,Lyreco!E65,Ocaña!E65,Taine!E65,Vistalegre!E65),\"0,00\") & \" \" & C65","v":"1,00 Unidad"},null,{"$f":"IF(DiaCash!G65>0,DiaCash!G65,\"\")","v":""},{"$f":"IF(DisOfic!G65>0,DisOfic!G65,\"\")","v":""},{"$f":"IF(Lablink!$G65>0,Lablink!$G65,\"\")","v":""},{"$f":"IF(Lyreco!G65>0,Lyreco!G65,\"\")","v":""},{"$f":"IF(Ocaña!G65>0,Ocaña!G65,\"\")","v":""},{"$f":"IF(Taine!G65>0,Taine!G65,\"\")","v":""},{"$f":"IF(Vistalegre!G65>0,Vistalegre!G65,\"\")","v":""},0,""]
[60,"Lápiz corrector con capuchón ajustable punta metálica secado rápido, de 7 a 12 ml (Pritt)","Unidad",{"$f":" TEXT(MIN(DiaCash!D66,DisOfic!D66,Lablink!D66,Lyreco!D66,Ocaña!D66,Taine!D66,Vistalegre!D66),\"0,000\") & \" - \" & TEXT(MAX(DiaCash!D66,DisOfic!D66,Lablink!D66,Lyreco!D66,Ocaña!D66,Taine!D66,Vistalegre!D66),\"0,000\")","v":"0,420 - 2,000"},{"$f":" TEXT(MIN(DiaCash!E66,DisOfic!E66,Lyreco!E66,Ocaña!E66,Taine!E66,Vistalegre!E66),\"0,00\") & \" \" & C66","v":"1,00 Unidad"},null,{"$f":"IF(DiaCash!G66>0,DiaCash!G66,\"\")","v":""},{"$f":"IF(DisOfic!G66>0,DisOfic!G66,\"\")","v":""},{"$f":"IF(Lablink!$G66>0,Lablink!$G66,\"\")","v":""},{"$f":"IF(Lyreco!G66>0,Lyreco!G66,\"\")","v":""},{"$f":"IF(Ocaña!G66>0,Ocaña!G66,\"\")","v":""},{"$f":"IF(Taine!G66>0,Taine!G66,\"\")","v":""},{"$f":"IF(Vistalegre!G66>0,Vistalegre!G66,\"\")","v":""},0,""]
[61,"Goma para borrar grafito","Unidad",{"$f":" TEXT(MIN(DiaCash!D67,DisOfic!D67,Lablink!D67,Lyreco!D67,Ocaña!D67,Taine!D67,Vistalegre!D67),\"0,000\") & \" - \" & TEXT(MAX(DiaCash!D67,DisOfic!D67,Lablink!D67,Lyreco!D67,Ocaña!D67,Taine!D67,Vistalegre!D67),\"0,000\")","v":"0,050 - 0,100"},{"$f":" TEXT(MIN(DiaCash!E67,DisOfic!E67,Lyreco!E67,Ocaña!E67,Taine!E67,Vistalegre!E67),\"0,00\") & \" \" & C67","v":"1,00 Unidad"},null,{"$f":"IF(DiaCash!G67>0,DiaCash!G67,\"\")","v":""},{"$f":"IF(DisOfic!G67>0,DisOfic!G67,\"\")","v":""},{"$f":"IF(Lablink!$G67>0,Lablink!$G67,\"\")","v":""},{"$f":"IF(Lyreco!G67>0,Lyreco!G67,\"\")","v":""},{"$f":"IF(Ocaña!G67>0,Ocaña!G67,\"\")","v":""},{"$f":"IF(Taine!G67>0,Taine!G67,\"\")","v":""},{"$f":"IF(Vistalegre!G67>0,Vistalegre!G67,\"\")","v":""},0,""]
[62,"Atril de sobremesa ajustable. Tamaño A4 y mayor","Unidad",{"$f":" TEXT(MIN(DiaCash!D68,DisOfic!D68,Lablink!D68,Lyreco!D68,Ocaña!D68,Taine!D68,Vistalegre!D68),\"0,000\") & \" - \" & TEXT(MAX(DiaCash!D68,DisOfic!D68,Lablink!D68,Lyreco!D68,Ocaña!D68,Taine!D68,Vistalegre!D68),\"0,000\")","v":"1,433 - 10,120"},{"$f":" TEXT(MIN(DiaCash!E68,DisOfic!E68,Lyreco!E68,Ocaña!E68,Taine!E68,Vistalegre!E68),\"0,00\") & \" \" & C68","v":"1,00 Unidad"},null,{"$f":"IF(DiaCash!G68>0,DiaCash!G68,\"\")","v":""},{"$f":"IF(DisOfic!G68>0,DisOfic!G68,\"\")","v":""},{"$f":"IF(Lablink!$G68>0,Lablink!$G68,\"\")","v":""},{"$f":"IF(Lyreco!G68>0,Lyreco!G68,\"\")","v":""},{"$f":"IF(Ocaña!G68>0,Ocaña!G68,\"\")","v":""},{"$f":"IF(Taine!G68>0,Taine!G68,\"\")","v":""},{"$f":"IF(Vistalegre!G68>0,Vistalegre!G68,\"\")","v":""},0,""]
[63,"Bandeja Apilable Sobremesa Plástico . Tamaño minimo apx. 24X34 cms.","Unidad",{"$f":" TEXT(MIN(DiaCash!D69,DisOfic!D69,Lablink!D69,Lyreco!D69,Ocaña!D69,Taine!D69,Vistalegre!D69),\"0,000\") & \" - \" & TEXT(MAX(DiaCash!D69,DisOfic!D69,Lablink!D69,Lyreco!D69,Ocaña!D69,Taine!D69,Vistalegre!D69),\"0,000\")","v":"0,940 - 1,030"},{"$f":" TEXT(MIN(DiaCash!E69,DisOfic!E69,Lyreco!E69,Ocaña!E69,Taine!E69,Vistalegre!E69),\"0,00\") & \" \" & C69","v":"1,00 Unidad"},null,{"$f":"IF(DiaCash!G69>0,DiaCash!G69,\"\")","v":""},{"$f":"IF(DisOfic!G69>0,DisOfic!G69,\"\")","v":""},{"$f":"IF(Lablink!$G69>0,Lablink!$G69,\"\")","v":""},{"$f":"IF(Lyreco!G69>0,Lyreco!G69,\"\")","v":""},{"$f":"IF(Ocaña!G69>0,Ocaña!G69,\"\")","v":""},{"$f":"IF(Taine!G69>0,Taine!G69,\"\")","v":""},{"$f":"IF(Vistalegre!G69>0,Vistalegre!G69,\"\")","v":""},0,""]
[64,"Bandeja Apilable Sobremesa Acero Cromado. Tamaño minimo apx. 24X34 cms.","Unidad",{"$f":" TEXT(MIN(DiaCash!D70,DisOfic!D70,Lablink!D70,Lyreco!D70,Ocaña!D70,Taine!D70,Vistalegre!D70),\"0,000\") & \" - \" & TEXT(MAX(DiaCash!D70,DisOfic!D70,Lablink!D70,Lyreco!D70,Ocaña!D70,Taine!D70,Vistalegre!D70),\"0,000\")","v":"2,050 - 3,690"},{"$f":" TEXT(MIN(DiaCash!E70,DisOfic!E70,Lyreco!E70,Ocaña!E70,Taine!E70,Vistalegre!E70),\"0,00\") & \" \" & C70","v":"1,00 Unidad"},null,{"$f":"IF(DiaCash!G70>0,DiaCash!G70,\"\")","v":""},{"$f":"IF(DisOfic!G70>0,DisOfic!G70,\"\")","v":""},{"$f":"IF(Lablink!$G70>0,Lablink!$G70,\"\")","v":""},{"$f":"IF(Lyreco!G70>0,Lyreco!G70,\"\")","v":""},{"$f":"IF(Ocaña!G70>0,Ocaña!G70,\"\")","v":""},{"$f":"IF(Taine!G70>0,Taine!G70,\"\")","v":""},{"$f":"IF(Vistalegre!G70>0,Vistalegre!G70,\"\")","v":""},0,""]
[65,"Cubilete para lápices ","Unidad",{"$f":" TEXT(MIN(DiaCash!D71,DisOfic!D71,Lablink!D71,Lyreco!D71,Ocaña!D71,Taine!D71,Vistalegre!D71),\"0,000\") & \" - \" & TEXT(MAX(DiaCash!D71,DisOfic!D71,Lablink!D71,Lyreco!D71,Ocaña!D71,Taine!D71,Vistalegre!D71),\"0,000\")","v":"0,520 - 0,650"},{"$f":" TEXT(MIN(DiaCash!E71,DisOfic!E71,Lyreco!E71,Ocaña!E71,Taine!E71,Vistalegre!E71),\"0,00\") & \" \" & C71","v":"1,00 Unidad"},null,{"$f":"IF(DiaCash!G71>0,DiaCash!G71,\"\")","v":""},{"$f":"IF(DisOfic!G71>0,DisOfic!G71,\"\")","v":""},{"$f":"IF(Lablink!$G71>0,Lablink!$G71,\"\")","v":""},{"$f":"IF(Lyreco!G71>0,Lyreco!G71,\"\")","v":""},{"$f":"IF(Ocaña!G71>0,Ocaña!G71,\"\")","v":""},{"$f":"IF(Taine!G71>0,Taine!G71,\"\")","v":""},{"$f":"IF(Vistalegre!G71>0,Vistalegre!G71,\"\")","v":""},{"$f":"COUNTIF(G71:M71,\"=\" & O71)","v":0},""]
[66,"Regla de Plástico milimetrada transparente 40 cm","Unidad",{"$f":" TEXT(MIN(DiaCash!D72,DisOfic!D72,Lablink!D72,Lyreco!D72,Ocaña!D72,Taine!D72,Vistalegre!D72),\"0,000\") & \" - \" & TEXT(MAX(DiaCash!D72,DisOfic!D72,Lablink!D72,Lyreco!D72,Ocaña!D72,Taine!D72,Vistalegre!D72),\"0,000\")","v":"0,220 - 0,290"},{"$f":" TEXT(MIN(DiaCash!E72,DisOfic!E72,Lyreco!E72,Ocaña!E72,Taine!E72,Vistalegre!E72),\"0,00\") & \" \" & C72","v":"1,00 Unidad"},null,{"$f":"IF(DiaCash!G72>0,DiaCash!G72,\"\")","v":""},{"$f":"IF(DisOfic!G72>0,DisOfic!G72,\"\")","v":""},{"$f":"IF(Lablink!$G72>0,Lablink!$G72,\"\")","v":""},{"$f":"IF(Lyreco!G72>0,Lyreco!G72,\"\")","v":""},{"$f":"IF(Ocaña!G72>0,Ocaña!G72,\"\")","v":""},{"$f":"IF(Taine!G72>0,Taine!G72,\"\")","v":""},{"$f":"IF(Vistalegre!G72>0,Vistalegre!G72,\"\")","v":""},0,{"$f":"IF(MIN(G72:M72)=0,\"\",MIN(G72:M72))","v":""}]
[67,"Regla de Plástico milimetrada transparente 40 cm (Staedtler, Faber-Castell)","Unidad",{"$f":" TEXT(MIN(DiaCash!D73,DisOfic!D73,Lablink!D73,Lyreco!D73,Ocaña!D73,Taine!D73,Vistalegre!D73),\"0,000\") & \" - \" & TEXT(MAX(DiaCash!D73,DisOfic!D73,Lablink!D73,Lyreco!D73,Ocaña!D73,Taine!D73,Vistalegre!D73),\"0,000\")","v":"0,290 - 4,300"},{"$f":" TEXT(MIN(DiaCash!E73,DisOfic!E73,Lyreco!E73,Ocaña!E73,Taine!E73,Vistalegre!E73),\"0,00\") & \" \" & C73","v":"1,00 Unidad"},null,{"$f":"IF(DiaCash!G73>0,DiaCash!G73,\"\")","v":""},{"$f":"IF(DisOfic!G73>0,DisOfic!G73,\"\")","v":""},{"$f":"IF(Lablink!$G73>0,Lablink!$G73,\"\")","v":""},{"$f":"IF(Lyreco!G73>0,Lyreco!G73,\"\")","v":""},{"$f":"IF(Ocaña!G73>0,Ocaña!G73,\"\")","v":""},{"$f":"IF(Taine!G73>0,Taine!G73,\"\")","v":""},{"$f":"IF(Vistalegre!G73>0,Vistalegre!G73,\"\")","v":""},0,""]
[68,"Escuadra y Cartabon transparente 30 ó 40 cm ","Unidad",{"$f":" TEXT(MIN(DiaCash!D74,DisOfic!D74,Lablink!D74,Lyreco!D74,Ocaña!D74,Taine!D74,Vistalegre!D74),\"0,000\") & \" - \" & TEXT(MAX(DiaCash!D74,DisOfic!D74,Lablink!D74,Lyreco!D74,Ocaña!D74,Taine!D74,Vistalegre!D74),\"0,000\")","v":"0,280 - 2,400"},{"$f":" TEXT(MIN(DiaCash!E74,DisOfic!E74,Lyreco!E74,Ocaña!E74,Taine!E74,Vistalegre!E74),\"0,00\") & \" \" & C74","v":"1,00 Unidad"},null,{"$f":"IF(DiaCash!G74>0,DiaCash!G74,\"\")","v":""},{"$f":"IF(DisOfic!G74>0,DisOfic!G74,\"\")","v":""},{"$f":"IF(Lablink!$G74>0,Lablink!$G74,\"\")","v":""},{"$f":"IF(Lyreco!G74>0,Lyreco!G74,\"\")","v":""},{"$f":"IF(Ocaña!G74>0,Ocaña!G74,\"\")","v":""},{"$f":"IF(Taine!G74>0,Taine!G74,\"\")","v":""},{"$f":"IF(Vistalegre!G74>0,Vistalegre!G74,\"\")","v":""},0,""]
[69,"Escuadra y Cartabon transparente 30 ó 40 cm (Staedtler, Faber-Castell)","Unidad",{"$f":" TEXT(MIN(DiaCash!D75,DisOfic!D75,Lablink!D75,Lyreco!D75,Ocaña!D75,Taine!D75,Vistalegre!D75),\"0,000\") & \" - \" & TEXT(MAX(DiaCash!D75,DisOfic!D75,Lablink!D75,Lyreco!D75,Ocaña!D75,Taine!D75,Vistalegre!D75),\"0,000\")","v":"0,320 - 4,500"},{"$f":" TEXT(MIN(DiaCash!E75,DisOfic!E75,Lyreco!E75,Ocaña!E75,Taine!E75,Vistalegre!E75),\"0,00\") & \" \" & C75","v":"1,00 Unidad"},null,{"$f":"IF(DiaCash!G75>0,DiaCash!G75,\"\")","v":""},{"$f":"IF(DisOfic!G75>0,DisOfic!G75,\"\")","v":""},{"$f":"IF(Lablink!$G75>0,Lablink!$G75,\"\")","v":""},{"$f":"IF(Lyreco!G75>0,Lyreco!G75,\"\")","v":""},{"$f":"IF(Ocaña!G75>0,Ocaña!G75,\"\")","v":""},{"$f":"IF(Taine!G75>0,Taine!G75,\"\")","v":""},{"$f":"IF(Vistalegre!G75>0,Vistalegre!G75,\"\")","v":""},0,""]
[70,"Abrecartas Acero Inoxidable 170 mm aprox.","Unidad",{"$f":" TEXT(MIN(DiaCash!D76,DisOfic!D76,Lablink!D76,Lyreco!D76,Ocaña!D76,Taine!D76,Vistalegre!D76),\"0,000\") & \" - \" & TEXT(MAX(DiaCash!D76,DisOfic!D76,Lablink!D76,Lyreco!D76,Ocaña!D76,Taine!D76,Vistalegre!D76),\"0,000\")","v":"0,490 - 1,111"},{"$f":" TEXT(MIN(DiaCash!E76,DisOfic!E76,Lyreco!E76,Ocaña!E76,Taine!E76,Vistalegre!E76),\"0,00\") & \" \" & C76","v":"1,00 Unidad"},null,{"$f":"IF(DiaCash!G76>0,DiaCash!G76,\"\")","v":""},{"$f":"IF(DisOfic!G76>0,DisOfic!G76,\"\")","v":""},{"$f":"IF(Lablink!$G76>0,Lablink!$G76,\"\")","v":""},{"$f":"IF(Lyreco!G76>0,Lyreco!G76,\"\")","v":""},{"$f":"IF(Ocaña!G76>0,Ocaña!G76,\"\")","v":""},{"$f":"IF(Taine!G76>0,Taine!G76,\"\")","v":""},{"$f":"IF(Vistalegre!G76>0,Vistalegre!G76,\"\")","v":""},0,""]
[71,"Bloque Calendario 82X116 mm, Papel de 60 gr/m2 mínimo","Unidad",{"$f":" TEXT(MIN(DiaCash!D77,DisOfic!D77,Lablink!D77,Lyreco!D77,Ocaña!D77,Taine!D77,Vistalegre!D77),\"0,000\") & \" - \" & TEXT(MAX(DiaCash!D77,DisOfic!D77,Lablink!D77,Lyreco!D77,Ocaña!D77,Taine!D77,Vistalegre!D77),\"0,000\")","v":"0,600 - 0,654"},{"$f":" TEXT(MIN(DiaCash!E77,DisOfic!E77,Lyreco!E77,Ocaña!E77,Taine!E77,Vistalegre!E77),\"0,00\") & \" \" & C77","v":"1,00 Unidad"},null,{"$f":"IF(DiaCash!G77>0,DiaCash!G77,\"\")","v":""},{"$f":"IF(DisOfic!G77>0,DisOfic!G77,\"\")","v":""},{"$f":"IF(Lablink!$G77>0,Lablink!$G77,\"\")","v":""},{"$f":"IF(Lyreco!G77>0,Lyreco!G77,\"\")","v":""},{"$f":"IF(Ocaña!G77>0,Ocaña!G77,\"\")","v":""},{"$f":"IF(Taine!G77>0,Taine!G77,\"\")","v":""},{"$f":"IF(Vistalegre!G77>0,Vistalegre!G77,\"\")","v":""},0,""]
[72,"Base para Bloque Calendario en baquelita","Unidad",{"$f":" TEXT(MIN(DiaCash!D78,DisOfic!D78,Lablink!D78,Lyreco!D78,Ocaña!D78,Taine!D78,Vistalegre!D78),\"0,000\") & \" - \" & TEXT(MAX(DiaCash!D78,DisOfic!D78,Lablink!D78,Lyreco!D78,Ocaña!D78,Taine!D78,Vistalegre!D78),\"0,000\")","v":"0,900 - 1,050"},{"$f":" TEXT(MIN(DiaCash!E78,DisOfic!E78,Lyreco!E78,Ocaña!E78,Taine!E78,Vistalegre!E78),\"0,00\") & \" \" & C78","v":"1,00 Unidad"},null,{"$f":"IF(DiaCash!G78>0,DiaCash!G78,\"\")","v":""},{"$f":"IF(DisOfic!G78>0,DisOfic!G78,\"\")","v":""},{"$f":"IF(Lablink!$G78>0,Lablink!$G78,\"\")","v":""},{"$f":"IF(Lyreco!G78>0,Lyreco!G78,\"\")","v":""},{"$f":"IF(Ocaña!G78>0,Ocaña!G78,\"\")","v":""},{"$f":"IF(Taine!G78>0,Taine!G78,\"\")","v":""},{"$f":"IF(Vistalegre!G78>0,Vistalegre!G78,\"\")","v":""},0,""]
[73,"Chincheta metálica ","Envase 100 Unidades",{"$f":" TEXT(MIN(DiaCash!D79,DisOfic!D79,Lablink!D79,Lyreco!D79,Ocaña!D79,Taine!D79,Vistalegre!D79),\"0,000\") & \" - \" & TEXT(MAX(DiaCash!D79,DisOfic!D79,Lablink!D79,Lyreco!D79,Ocaña!D79,Taine!D79,Vistalegre!D79),\"0,000\")","v":"0,200 - 0,350"},{"$f":" TEXT(MIN(DiaCash!E79,DisOfic!E79,Lyreco!E79,Ocaña!E79,Taine!E79,Vistalegre!E79),\"0,00\") & \" \" & C79","v":"1,00 Envase 100 Unidades"},null,{"$f":"IF(DiaCash!G79>0,DiaCash!G79,\"\")","v":""},{"$f":"IF(DisOfic!G79>0,DisOfic!G79,\"\")","v":""},{"$f":"IF(Lablink!$G79>0,Lablink!$G79,\"\")","v":""},{"$f":"IF(Lyreco!G79>0,Lyreco!G79,\"\")","v":""},{"$f":"IF(Ocaña!G79>0,Ocaña!G79,\"\")","v":""},{"$f":"IF(Taine!G79>0,Taine!G79,\"\")","v":""},{"$f":"IF(Vistalegre!G79>0,Vistalegre!G79,\"\")","v":""},0,""]
[74,"Chincheta señalizadoras colores (Apli)","Envase 50 unidades",{"$f":" TEXT(MIN(DiaCash!D80,DisOfic!D80,Lablink!D80,Lyreco!D80,Ocaña!D80,Taine!D80,Vistalegre!D80),\"0,000\") & \" - \" & TEXT(MAX(DiaCash!D80,DisOfic!D80,Lablink!D80,Lyreco!D80,Ocaña!D80,Taine!D80,Vistalegre!D80),\"0,000\")","v":"0,180 - 0,500"},{"$f":" TEXT(MIN(DiaCash!E80,DisOfic!E80,Lyreco!E80,Ocaña!E80,Taine!E80,Vistalegre!E80),\"0,00\") & \" \" & C80","v":"0,50 Envase 50 unidades"},null,{"$f":"IF(DiaCash!G80>0,DiaCash!G80,\"\")","v":""},{"$f":"IF(DisOfic!G80>0,DisOfic!G80,\"\")","v":""},{"$f":"IF(Lablink!$G80>0,Lablink!$G80,\"\")","v":""},{"$f":"IF(Lyreco!G80>0,Lyreco!G80,\"\")","v":""},{"$f":"IF(Ocaña!G80>0,Ocaña!G80,\"\")","v":""},{"$f":"IF(Taine!G80>0,Taine!G80,\"\")","v":""},{"$f":"IF(Vistalegre!G80>0,Vistalegre!G80,\"\")","v":""},0,""]
[75,"Portarrollos para Cinta Adhesiva Hasta 25 mm de ancho y hasta 33 mts de largo","Unidad",{"$f":" TEXT(MIN(DiaCash!D81,DisOfic!D81,Lablink!D81,Lyreco!D81,Ocaña!D81,Taine!D81,Vistalegre!D81),\"0,000\") & \" - \" & TEXT(MAX(DiaCash!D81,DisOfic!D81,Lablink!D81,Lyreco!D81,Ocaña!D81,Taine!D81,Vistalegre!D81),\"0,000\")","v":"0,700 - 2,100"},{"$f":" TEXT(MIN(DiaCash!E81,DisOfic!E81,Lyreco!E81,Ocaña!E81,Taine!E81,Vistalegre!E81),\"0,00\") & \" \" & C81","v":"1,00 Unidad"},null,{"$f":"IF(DiaCash!G81>0,DiaCash!G81,\"\")","v":""},{"$f":"IF(DisOfic!G81>0,DisOfic!G81,\"\")","v":""},{"$f":"IF(Lablink!$G81>0,Lablink!$G81,\"\")","v":""},{"$f":"IF(Lyreco!G81>0,Lyreco!G81,\"\")","v":""},{"$f":"IF(Ocaña!G81>0,Ocaña!G81,\"\")","v":""},{"$f":"IF(Taine!G81>0,Taine!G81,\"\")","v":""},{"$f":"IF(Vistalegre!G81>0,Vistalegre!G81,\"\")","v":""},0,""]
[76,"Portarrollos para Cinta Adhesiva Hasta 25 mm de ancho y hasta 33 mts de largo (Scotch)","Unidad",{"$f":" TEXT(MIN(DiaCash!D82,DisOfic!D82,Lablink!D82,Lyreco!D82,Ocaña!D82,Taine!D82,Vistalegre!D82),\"0,000\") & \" - \" & TEXT(MAX(DiaCash!D82,DisOfic!D82,Lablink!D82,Lyreco!D82,Ocaña!D82,Taine!D82,Vistalegre!D82),\"0,000\")","v":"0,750 - 3,500"},{"$f":" TEXT(MIN(DiaCash!E82,DisOfic!E82,Lyreco!E82,Ocaña!E82,Taine!E82,Vistalegre!E82),\"0,00\") & \" \" & C82","v":"1,00 Unidad"},null,{"$f":"IF(DiaCash!G82>0,DiaCash!G82,\"\")","v":""},{"$f":"IF(DisOfic!G82>0,DisOfic!G82,\"\")","v":""},{"$f":"IF(Lablink!$G82>0,Lablink!$G82,\"\")","v":""},{"$f":"IF(Lyreco!G82>0,Lyreco!G82,\"\")","v":""},{"$f":"IF(Ocaña!G82>0,Ocaña!G82,\"\")","v":""},{"$f":"IF(Taine!G82>0,Taine!G82,\"\")","v":""},{"$f":"IF(Vistalegre!G82>0,Vistalegre!G82,\"\")","v":""},0,""]
[77,"Portarrollos para Cinta Adhesiva Hasta 25 mm de ancho y hasta 66 mts de largo","Unidad",{"$f":" TEXT(MIN(DiaCash!D83,DisOfic!D83,Lablink!D83,Lyreco!D83,Ocaña!D83,Taine!D83,Vistalegre!D83),\"0,000\") & \" - \" & TEXT(MAX(DiaCash!D83,DisOfic!D83,Lablink!D83,Lyreco!D83,Ocaña!D83,Taine!D83,Vistalegre!D83),\"0,000\")","v":"0,700 - 2,900"},{"$f":" TEXT(MIN(DiaCash!E83,DisOfic!E83,Lyreco!E83,Ocaña!E83,Taine!E83,Vistalegre!E83),\"0,00\") & \" \" & C83","v":"1,00 Unidad"},null,{"$f":"IF(DiaCash!G83>0,DiaCash!G83,\"\")","v":""},{"$f":"IF(DisOfic!G83>0,DisOfic!G83,\"\")","v":""},{"$f":"IF(Lablink!$G83>0,Lablink!$G83,\"\")","v":""},{"$f":"IF(Lyreco!G83>0,Lyreco!G83,\"\")","v":""},{"$f":"IF(Ocaña!G83>0,Ocaña!G83,\"\")","v":""},{"$f":"IF(Taine!G83>0,Taine!G83,\"\")","v":""},{"$f":"IF(Vistalegre!G83>0,Vistalegre!G83,\"\")","v":""},0,""]
[78,"Portarrollos para Cinta Adhesiva Hasta 25 mm de ancho y hasta 66 mts de largo (Scotch)","Unidad",{"$f":" TEXT(MIN(DiaCash!D84,DisOfic!D84,Lablink!D84,Lyreco!D84,Ocaña!D84,Taine!D84,Vistalegre!D84),\"0,000\") & \" - \" & TEXT(MAX(DiaCash!D84,DisOfic!D84,Lablink!D84,Lyreco!D84,Ocaña!D84,Taine!D84,Vistalegre!D84),\"0,000\")","v":"0,750 - 6,500"},{"$f":" TEXT(MIN(DiaCash!E84,DisOfic!E84,Lyreco!E84,Ocaña!E84,Taine!E84,Vistalegre!E84),\"0,00\") & \" \" & C84","v":"1,00 Unidad"},null,{"$f":"IF(DiaCash!G84>0,DiaCash!G84,\"\")","v":""},{"$f":"IF(DisOfic!G84>0,DisOfic!G84,\"\")","v":""},{"$f":"IF(Lablink!$G84>0,Lablink!$G84,\"\")","v":""},{"$f":"IF(Lyreco!G84>0,Lyreco!G84,\"\")","v":""},{"$f":"IF(Ocaña!G84>0,Ocaña!G84,\"\")","v":""},{"$f":"IF(Taine!G84>0,Taine!G84,\"\")","v":""},{"$f":"IF(Vistalegre!G84>0,Vistalegre!G84,\"\")","v":""},0,""]
[79,"Cinta Adhesiva Transparente 12 mm X 33 mts.","Unidad",{"$f":" TEXT(MIN(DiaCash!D85,DisOfic!D85,Lablink!D85,Lyreco!D85,Ocaña!D85,Taine!D85,Vistalegre!D85),\"0,000\") & \" - \" & TEXT(MAX(DiaCash!D85,DisOfic!D85,Lablink!D85,Lyreco!D85,Ocaña!D85,Taine!D85,Vistalegre!D85),\"0,000\")","v":"0,140 - 0,250"},{"$f":" TEXT(MIN(DiaCash!E85,DisOfic!E85,Lyreco!E85,Ocaña!E85,Taine!E85,Vistalegre!E85),\"0,00\") & \" \" & C85","v":"1,00 Unidad"},null,{"$f":"IF(DiaCash!G85>0,DiaCash!G85,\"\")","v":""},{"$f":"IF(DisOfic!G85>0,DisOfic!G85,\"\")","v":""},{"$f":"IF(Lablink!$G85>0,Lablink!$G85,\"\")","v":""},{"$f":"IF(Lyreco!G85>0,Lyreco!G85,\"\")","v":""},{"$f":"IF(Ocaña!G85>0,Ocaña!G85,\"\")","v":""},{"$f":"IF(Taine!G85>0,Taine!G85,\"\")","v":""},{"$f":"IF(Vistalegre!G85>0,Vistalegre!G85,\"\")","v":""},0,""]
[80,"Cinta Adhesiva Transparente 19 mm X 33 mts.","Unidad",{"$f":" TEXT(MIN(DiaCash!D86,DisOfic!D86,Lablink!D86,Lyreco!D86,Ocaña!D86,Taine!D86,Vistalegre!D86),\"0,000\") & \" - \" & TEXT(MAX(DiaCash!D86,DisOfic!D86,Lablink!D86,Lyreco!D86,Ocaña!D86,Taine!D86,Vistalegre!D86),\"0,000\")","v":"0,110 - 0,280"},{"$f":" TEXT(MIN(DiaCash!E86,DisOfic!E86,Lyreco!E86,Ocaña!E86,Taine!E86,Vistalegre!E86),\"0,00\") & \" \" & C86","v":"1,00 Unidad"},null,{"$f":"IF(DiaCash!G86>0,DiaCash!G86,\"\")","v":""},{"$f":"IF(DisOfic!G86>0,DisOfic!G86,\"\")","v":""},{"$f":"IF(Lablink!$G86>0,Lablink!$G86,\"\")","v":""},{"$f":"IF(Lyreco!G86>0,Lyreco!G86,\"\")","v":""},{"$f":"IF(Ocaña!G86>0,Ocaña!G86,\"\")","v":""},{"$f":"IF(Taine!G86>0,Taine!G86,\"\")","v":""},{"$f":"IF(Vistalegre!G86>0,Vistalegre!G86,\"\")","v":""},0,""]
[81,"Cinta Adhesiva Transparente 19 mm X 66 mts.","Unidad",{"$f":" TEXT(MIN(DiaCash!D87,DisOfic!D87,Lablink!D87,Lyreco!D87,Ocaña!D87,Taine!D87,Vistalegre!D87),\"0,000\") & \" - \" & TEXT(MAX(DiaCash!D87,DisOfic!D87,Lablink!D87,Lyreco!D87,Ocaña!D87,Taine!D87,Vistalegre!D87),\"0,000\")","v":"0,283 - 0,600"},{"$f":" TEXT(MIN(DiaCash!E87,DisOfic!E87,Lyreco!E87,Ocaña!E87,Taine!E87,Vistalegre!E87),\"0,00\") & \" \" & C87","v":"1,00 Unidad"},null,{"$f":"IF(DiaCash!G87>0,DiaCash!G87,\"\")","v":""},{"$f":"IF(DisOfic!G87>0,DisOfic!G87,\"\")","v":""},{"$f":"IF(Lablink!$G87>0,Lablink!$G87,\"\")","v":""},{"$f":"IF(Lyreco!G87>0,Lyreco!G87,\"\")","v":""},{"$f":"IF(Ocaña!G87>0,Ocaña!G87,\"\")","v":""},{"$f":"IF(Taine!G87>0,Taine!G87,\"\")","v":""},{"$f":"IF(Vistalegre!G87>0,Vistalegre!G87,\"\")","v":""},0,""]
[82,"Cinta Adhesiva Invisible 19 mm x 33 mts.","Unidad",{"$f":" TEXT(MIN(DiaCash!D88,DisOfic!D88,Lablink!D88,Lyreco!D88,Ocaña!D88,Taine!D88,Vistalegre!D88),\"0,000\") & \" - \" & TEXT(MAX(DiaCash!D88,DisOfic!D88,Lablink!D88,Lyreco!D88,Ocaña!D88,Taine!D88,Vistalegre!D88),\"0,000\")","v":"0,160 - 0,690"},{"$f":" TEXT(MIN(DiaCash!E88,DisOfic!E88,Lyreco!E88,Ocaña!E88,Taine!E88,Vistalegre!E88),\"0,00\") & \" \" & C88","v":"1,00 Unidad"},null,{"$f":"IF(DiaCash!G88>0,DiaCash!G88,\"\")","v":""},{"$f":"IF(DisOfic!G88>0,DisOfic!G88,\"\")","v":""},{"$f":"IF(Lablink!$G88>0,Lablink!$G88,\"\")","v":""},{"$f":"IF(Lyreco!G88>0,Lyreco!G88,\"\")","v":""},{"$f":"IF(Ocaña!G88>0,Ocaña!G88,\"\")","v":""},{"$f":"IF(Taine!G88>0,Taine!G88,\"\")","v":""},{"$f":"IF(Vistalegre!G88>0,Vistalegre!G88,\"\")","v":""},0,""]
[83,"Cinta Adhesiva Invisible 12 mm x 33 mts. (Scotch Magic)","Unidad",{"$f":" TEXT(MIN(DiaCash!D89,DisOfic!D89,Lablink!D89,Lyreco!D89,Ocaña!D89,Taine!D89,Vistalegre!D89),\"0,000\") & \" - \" & TEXT(MAX(DiaCash!D89,DisOfic!D89,Lablink!D89,Lyreco!D89,Ocaña!D89,Taine!D89,Vistalegre!D89),\"0,000\")","v":"1,350 - 1,900"},{"$f":" TEXT(MIN(DiaCash!E89,DisOfic!E89,Lyreco!E89,Ocaña!E89,Taine!E89,Vistalegre!E89),\"0,00\") & \" \" & C89","v":"1,00 Unidad"},null,{"$f":"IF(DiaCash!G89>0,DiaCash!G89,\"\")","v":""},{"$f":"IF(DisOfic!G89>0,DisOfic!G89,\"\")","v":""},{"$f":"IF(Lablink!$G89>0,Lablink!$G89,\"\")","v":""},{"$f":"IF(Lyreco!G89>0,Lyreco!G89,\"\")","v":""},{"$f":"IF(Ocaña!G89>0,Ocaña!G89,\"\")","v":""},{"$f":"IF(Taine!G89>0,Taine!G89,\"\")","v":""},{"$f":"IF(Vistalegre!G89>0,Vistalegre!G89,\"\")","v":""},0,""]
[84,"Cinta Adhesiva Invisible 19 mm x 33 mts. (Scotch Magic)","Unidad",{"$f":" TEXT(MIN(DiaCash!D90,DisOfic!D90,Lablink!D90,Lyreco!D90,Ocaña!D90,Taine!D90,Vistalegre!D90),\"0,000\") & \" - \" & TEXT(MAX(DiaCash!D90,DisOfic!D90,Lablink!D90,Lyreco!D90,Ocaña!D90,Taine!D90,Vistalegre!D90),\"0,000\")","v":"0,310 - 2,000"},{"$f":" TEXT(MIN(DiaCash!E90,DisOfic!E90,Lyreco!E90,Ocaña!E90,Taine!E90,Vistalegre!E90),\"0,00\") & \" \" & C90","v":"1,00 Unidad"},null,{"$f":"IF(DiaCash!G90>0,DiaCash!G90,\"\")","v":""},{"$f":"IF(DisOfic!G90>0,DisOfic!G90,\"\")","v":""},{"$f":"IF(Lablink!$G90>0,Lablink!$G90,\"\")","v":""},{"$f":"IF(Lyreco!G90>0,Lyreco!G90,\"\")","v":""},{"$f":"IF(Ocaña!G90>0,Ocaña!G90,\"\")","v":""},{"$f":"IF(Taine!G90>0,Taine!G90,\"\")","v":""},{"$f":"IF(Vistalegre!G90>0,Vistalegre!G90,\"\")","v":""},0,""]
[85,"Cinta Adhesiva Transparente 19 mm X 66 mts. (Scotch)","Unidad",{"$f":" TEXT(MIN(DiaCash!D91,DisOfic!D91,Lablink!D91,Lyreco!D91,Ocaña!D91,Taine!D91,Vistalegre!D91),\"0,000\") & \" - \" & TEXT(MAX(DiaCash!D91,DisOfic!D91,Lablink!D91,Lyreco!D91,Ocaña!D91,Taine!D91,Vistalegre!D91),\"0,000\")","v":"0,380 - 1,500"},{"$f":" TEXT(MIN(DiaCash!E91,DisOfic!E91,Lyreco!E91,Ocaña!E91,Taine!E91,Vistalegre!E91),\"0,00\") & \" \" & C91","v":"1,00 Unidad"},null,{"$f":"IF(DiaCash!G91>0,DiaCash!G91,\"\")","v":""},{"$f":"IF(DisOfic!G91>0,DisOfic!G91,\"\")","v":""},{"$f":"IF(Lablink!$G91>0,Lablink!$G91,\"\")","v":""},{"$f":"IF(Lyreco!G91>0,Lyreco!G91,\"\")","v":""},{"$f":"IF(Ocaña!G91>0,Ocaña!G91,\"\")","v":""},{"$f":"IF(Taine!G91>0,Taine!G91,\"\")","v":""},{"$f":"IF(Vistalegre!G91>0,Vistalegre!G91,\"\")","v":""},0,""]
[86,"Precintadora Manual hasta 50 mm de ancho","Unidad",{"$f":" TEXT(MIN(DiaCash!D92,DisOfic!D92,Lablink!D92,Lyreco!D92,Ocaña!D92,Taine!D92,Vistalegre!D92),\"0,000\") & \" - \" & TEXT(MAX(DiaCash!D92,DisOfic!D92,Lablink!D92,Lyreco!D92,Ocaña!D92,Taine!D92,Vistalegre!D92),\"0,000\")","v":"2,510 - 7,000"},{"$f":" TEXT(MIN(DiaCash!E92,DisOfic!E92,Lyreco!E92,Ocaña!E92,Taine!E92,Vistalegre!E92),\"0,00\") & \" \" & C92","v":"1,00 Unidad"},null,{"$f":"IF(DiaCash!G92>0,DiaCash!G92,\"\")","v":""},{"$f":"IF(DisOfic!G92>0,DisOfic!G92,\"\")","v":""},{"$f":"IF(Lablink!$G92>0,Lablink!$G92,\"\")","v":""},{"$f":"IF(Lyreco!G92>0,Lyreco!G92,\"\")","v":""},{"$f":"IF(Ocaña!G92>0,Ocaña!G92,\"\")","v":""},{"$f":"IF(Taine!G92>0,Taine!G92,\"\")","v":""},{"$f":"IF(Vistalegre!G92>0,Vistalegre!G92,\"\")","v":""},0,""]
[87,"Cinta Adhesiva para embalaje (Precinto) 48-55 mm x 66 mts mínimo","Unidad",{"$f":" TEXT(MIN(DiaCash!D93,DisOfic!D93,Lablink!D93,Lyreco!D93,Ocaña!D93,Taine!D93,Vistalegre!D93),\"0,000\") & \" - \" & TEXT(MAX(DiaCash!D93,DisOfic!D93,Lablink!D93,Lyreco!D93,Ocaña!D93,Taine!D93,Vistalegre!D93),\"0,000\")","v":"0,570 - 0,710"},{"$f":" TEXT(MIN(DiaCash!E93,DisOfic!E93,Lyreco!E93,Ocaña!E93,Taine!E93,Vistalegre!E93),\"0,00\") & \" \" & C93","v":"1,00 Unidad"},null,{"$f":"IF(DiaCash!G93>0,DiaCash!G93,\"\")","v":""},{"$f":"IF(DisOfic!G93>0,DisOfic!G93,\"\")","v":""},{"$f":"IF(Lablink!$G93>0,Lablink!$G93,\"\")","v":""},{"$f":"IF(Lyreco!G93>0,Lyreco!G93,\"\")","v":""},{"$f":"IF(Ocaña!G93>0,Ocaña!G93,\"\")","v":""},{"$f":"IF(Taine!G93>0,Taine!G93,\"\")","v":""},{"$f":"IF(Vistalegre!G93>0,Vistalegre!G93,\"\")","v":""},0,""]
[88,"Cinta Adhesiva para embalaje (Precinto) 50 mm x 76 mts mínimo","Unidad",{"$f":" TEXT(MIN(DiaCash!D94,DisOfic!D94,Lablink!D94,Lyreco!D94,Ocaña!D94,Taine!D94,Vistalegre!D94),\"0,000\") & \" - \" & TEXT(MAX(DiaCash!D94,DisOfic!D94,Lablink!D94,Lyreco!D94,Ocaña!D94,Taine!D94,Vistalegre!D94),\"0,000\")","v":"0,610 - 0,900"},{"$f":" TEXT(MIN(DiaCash!E94,DisOfic!E94,Lyreco!E94,Ocaña!E94,Taine!E94,Vistalegre!E94),\"0,00\") & \" \" & C94","v":"1,00 Unidad"},null,{"$f":"IF(DiaCash!G94>0,DiaCash!G94,\"\")","v":""},{"$f":"IF(DisOfic!G94>0,DisOfic!G94,\"\")","v":""},{"$f":"IF(Lablink!$G94>0,Lablink!$G94,\"\")","v":""},{"$f":"IF(Lyreco!G94>0,Lyreco!G94,\"\")","v":""},{"$f":"IF(Ocaña!G94>0,Ocaña!G94,\"\")","v":""},{"$f":"IF(Taine!G94>0,Taine!G94,\"\")","v":""},{"$f":"IF(Vistalegre!G94>0,Vistalegre!G94,\"\")","v":""},0,""]
[89,"Clips Mariposa metálicos niquelados. Número 20. 50 mm","Envase 25 unidades",{"$f":" TEXT(MIN(DiaCash!D95,DisOfic!D95,Lablink!D95,Lyreco!D95,Ocaña!D95,Taine!D95,Vistalegre!D95),\"0,000\") & \" - \" & TEXT(MAX(DiaCash!D95,DisOfic!D95,Lablink!D95,Lyreco!D95,Ocaña!D95,Taine!D95,Vistalegre!D95),\"0,000\")","v":"0,730 - 1,680"},{"$f":" TEXT(MIN(DiaCash!E95,DisOfic!E95,Lyreco!E95,Ocaña!E95,Taine!E95,Vistalegre!E95),\"0,00\") & \" \" & C95","v":"1,00 Envase 25 unidades"},null,{"$f":"IF(DiaCash!G95>0,DiaCash!G95,\"\")","v":""},{"$f":"IF(DisOfic!G95>0,DisOfic!G95,\"\")","v":""},{"$f":"IF(Lablink!$G95>0,Lablink!$G95,\"\")","v":""},{"$f":"IF(Lyreco!G95>0,Lyreco!G95,\"\")","v":""},{"$f":"IF(Ocaña!G95>0,Ocaña!G95,\"\")","v":""},{"$f":"IF(Taine!G95>0,Taine!G95,\"\")","v":""},{"$f":"IF(Vistalegre!G95>0,Vistalegre!G95,\"\")","v":""},0,""]
[90,"Clips Mariposa  metálicos niquelados. Número 10. 40 mm","Envase 50 unidades",{"$f":" TEXT(MIN(DiaCash!D96,DisOfic!D96,Lablink!D96,Lyreco!D96,Ocaña!D96,Taine!D96,Vistalegre!D96),\"0,000\") & \" - \" & TEXT(MAX(DiaCash!D96,DisOfic!D96,Lablink!D96,Lyreco!D96,Ocaña!D96,Taine!D96,Vistalegre!D96),\"0,000\")","v":"0,700 - 1,340"},{"$f":" TEXT(MIN(DiaCash!E96,DisOfic!E96,Lyreco!E96,Ocaña!E96,Taine!E96,Vistalegre!E96),\"0,00\") & \" \" & C96","v":"1,00 Envase 50 unidades"},null,{"$f":"IF(DiaCash!G96>0,DiaCash!G96,\"\")","v":""},{"$f":"IF(DisOfic!G96>0,DisOfic!G96,\"\")","v":""},{"$f":"IF(Lablink!$G96>0,Lablink!$G96,\"\")","v":""},{"$f":"IF(Lyreco!G96>0,Lyreco!G96,\"\")","v":""},{"$f":"IF(Ocaña!G96>0,Ocaña!G96,\"\")","v":""},{"$f":"IF(Taine!G96>0,Taine!G96,\"\")","v":""},{"$f":"IF(Vistalegre!G96>0,Vistalegre!G96,\"\")","v":""},0,""]
[91,"Clips Labiados redondos metálicos pulidos. Número 1. 20 mm","Envase 100 unidades",{"$f":" TEXT(MIN(DiaCash!D97,DisOfic!D97,Lablink!D97,Lyreco!D97,Ocaña!D97,Taine!D97,Vistalegre!D97),\"0,000\") & \" - \" & TEXT(MAX(DiaCash!D97,DisOfic!D97,Lablink!D97,Lyreco!D97,Ocaña!D97,Taine!D97,Vistalegre!D97),\"0,000\")","v":"0,140 - 0,180"},{"$f":" TEXT(MIN(DiaCash!E97,DisOfic!E97,Lyreco!E97,Ocaña!E97,Taine!E97,Vistalegre!E97),\"0,00\") & \" \" & C97","v":"1,00 Envase 100 unidades"},null,{"$f":"IF(DiaCash!G97>0,DiaCash!G97,\"\")","v":""},{"$f":"IF(DisOfic!G97>0,DisOfic!G97,\"\")","v":""},{"$f":"IF(Lablink!$G97>0,Lablink!$G97,\"\")","v":""},{"$f":"IF(Lyreco!G97>0,Lyreco!G97,\"\")","v":""},{"$f":"IF(Ocaña!G97>0,Ocaña!G97,\"\")","v":""},{"$f":"IF(Taine!G97>0,Taine!G97,\"\")","v":""},{"$f":"IF(Vistalegre!G97>0,Vistalegre!G97,\"\")","v":""},0,""]
[92,"Clips Labiados redondos metálicos pulidos. Número 1,5. 25 mm","Envase 100 unidades",{"$f":" TEXT(MIN(DiaCash!D98,DisOfic!D98,Lablink!D98,Lyreco!D98,Ocaña!D98,Taine!D98,Vistalegre!D98),\"0,000\") & \" - \" & TEXT(MAX(DiaCash!D98,DisOfic!D98,Lablink!D98,Lyreco!D98,Ocaña!D98,Taine!D98,Vistalegre!D98),\"0,000\")","v":"0,140 - 0,203"},{"$f":" TEXT(MIN(DiaCash!E98,DisOfic!E98,Lyreco!E98,Ocaña!E98,Taine!E98,Vistalegre!E98),\"0,00\") & \" \" & C98","v":"1,00 Envase 100 unidades"},null,{"$f":"IF(DiaCash!G98>0,DiaCash!G98,\"\")","v":""},{"$f":"IF(DisOfic!G98>0,DisOfic!G98,\"\")","v":""},{"$f":"IF(Lablink!$G98>0,Lablink!$G98,\"\")","v":""},{"$f":"IF(Lyreco!G98>0,Lyreco!G98,\"\")","v":""},{"$f":"IF(Ocaña!G98>0,Ocaña!G98,\"\")","v":""},{"$f":"IF(Taine!G98>0,Taine!G98,\"\")","v":""},{"$f":"IF(Vistalegre!G98>0,Vistalegre!G98,\"\")","v":""},0,""]
[93,"Clips Labiados redondos metálicos pulidos. Número 2. 32 mm","Envase 100 unidades",{"$f":" TEXT(MIN(DiaCash!D99,DisOfic!D99,Lablink!D99,Lyreco!D99,Ocaña!D99,Taine!D99,Vistalegre!D99),\"0,000\") & \" - \" & TEXT(MAX(DiaCash!D99,DisOfic!D99,Lablink!D99,Lyreco!D99,Ocaña!D99,Taine!D99,Vistalegre!D99),\"0,000\")","v":"0,150 - 0,230"},{"$f":" TEXT(MIN(DiaCash!E99,DisOfic!E99,Lyreco!E99,Ocaña!E99,Taine!E99,Vistalegre!E99),\"0,00\") & \" \" & C99","v":"1,00 Envase 100 unidades"},null,{"$f":"IF(DiaCash!G99>0,DiaCash!G99,\"\")","v":""},{"$f":"IF(DisOfic!G99>0,DisOfic!G99,\"\")","v":""},{"$f":"IF(Lablink!$G99>0,Lablink!$G99,\"\")","v":""},{"$f":"IF(Lyreco!G99>0,Lyreco!G99,\"\")","v":""},{"$f":"IF(Ocaña!G99>0,Ocaña!G99,\"\")","v":""},{"$f":"IF(Taine!G99>0,Taine!G99,\"\")","v":""},{"$f":"IF(Vistalegre!G99>0,Vistalegre!G99,\"\")","v":""},0,""]
[94,"Clips Labiados redondos metálicos pulidos. Número 3. 40 mm","Envase 100 unidades",{"$f":" TEXT(MIN(DiaCash!D100,DisOfic!D100,Lablink!D100,Lyreco!D100,Ocaña!D100,Taine!D100,Vistalegre!D100),\"0,000\") & \" - \" & TEXT(MAX(DiaCash!D100,DisOfic!D100,Lablink!D100,Lyreco!D100,Ocaña!D100,Taine!D100,Vistalegre!D100),\"0,000\")","v":"0,320 - 0,420"},{"$f":" TEXT(MIN(DiaCash!E100,DisOfic!E100,Lyreco!E100,Ocaña!E100,Taine!E100,Vistalegre!E100),\"0,00\") & \" \" & C100","v":"1,00 Envase 100 unidades"},null,{"$f":"IF(DiaCash!G100>0,DiaCash!G100,\"\")","v":""},{"$f":"IF(DisOfic!G100>0,DisOfic!G100,\"\")","v":""},{"$f":"IF(Lablink!$G100>0,Lablink!$G100,\"\")","v":""},{"$f":"IF(Lyreco!G100>0,Lyreco!G100,\"\")","v":""},{"$f":"IF(Ocaña!G100>0,Ocaña!G100,\"\")","v":""},{"$f":"IF(Taine!G100>0,Taine!G100,\"\")","v":""},{"$f":"IF(Vistalegre!G100>0,Vistalegre!G100,\"\")","v":""},0,""]
[95,"Pinza doble clip negra 19 mm ","Envase 12 unidades",{"$f":" TEXT(MIN(DiaCash!D101,DisOfic!D101,Lablink!D101,Lyreco!D101,Ocaña!D101,Taine!D101,Vistalegre!D101),\"0,000\") & \" - \" & TEXT(MAX(DiaCash!D101,DisOfic!D101,Lablink!D101,Lyreco!D101,Ocaña!D101,Taine!D101,Vistalegre!D101),\"0,000\")","v":"0,230 - 0,650"},{"$f":" TEXT(MIN(DiaCash!E101,DisOfic!E101,Lyreco!E101,Ocaña!E101,Taine!E101,Vistalegre!E101),\"0,00\") & \" \" & C101","v":"1,00 Envase 12 unidades"},null,{"$f":"IF(DiaCash!G101>0,DiaCash!G101,\"\")","v":""},{"$f":"IF(DisOfic!G101>0,DisOfic!G101,\"\")","v":""},{"$f":"IF(Lablink!$G101>0,Lablink!$G101,\"\")","v":""},{"$f":"IF(Lyreco!G101>0,Lyreco!G101,\"\")","v":""},{"$f":"IF(Ocaña!G101>0,Ocaña!G101,\"\")","v":""},{"$f":"IF(Taine!G101>0,Taine!G101,\"\")","v":""},{"$f":"IF(Vistalegre!G101>0,Vistalegre!G101,\"\")","v":""},0,""]
[96,"Pinza doble clip negra 25 mm ","Envase 12 unidades",{"$f":" TEXT(MIN(DiaCash!D102,DisOfic!D102,Lablink!D102,Lyreco!D102,Ocaña!D102,Taine!D102,Vistalegre!D102),\"0,000\") & \" - \" & TEXT(MAX(DiaCash!D102,DisOfic!D102,Lablink!D102,Lyreco!D102,Ocaña!D102,Taine!D102,Vistalegre!D102),\"0,000\")","v":"0,380 - 0,700"},{"$f":" TEXT(MIN(DiaCash!E102,DisOfic!E102,Lyreco!E102,Ocaña!E102,Taine!E102,Vistalegre!E102),\"0,00\") & \" \" & C102","v":"1,00 Envase 12 unidades"},null,{"$f":"IF(DiaCash!G102>0,DiaCash!G102,\"\")","v":""},{"$f":"IF(DisOfic!G102>0,DisOfic!G102,\"\")","v":""},{"$f":"IF(Lablink!$G102>0,Lablink!$G102,\"\")","v":""},{"$f":"IF(Lyreco!G102>0,Lyreco!G102,\"\")","v":""},{"$f":"IF(Ocaña!G102>0,Ocaña!G102,\"\")","v":""},{"$f":"IF(Taine!G102>0,Taine!G102,\"\")","v":""},{"$f":"IF(Vistalegre!G102>0,Vistalegre!G102,\"\")","v":""},0,""]
[97,"Pinza doble clip negra 32 mm ","Envase 12 unidades",{"$f":" TEXT(MIN(DiaCash!D103,DisOfic!D103,Lablink!D103,Lyreco!D103,Ocaña!D103,Taine!D103,Vistalegre!D103),\"0,000\") & \" - \" & TEXT(MAX(DiaCash!D103,DisOfic!D103,Lablink!D103,Lyreco!D103,Ocaña!D103,Taine!D103,Vistalegre!D103),\"0,000\")","v":"0,520 - 0,820"},{"$f":" TEXT(MIN(DiaCash!E103,DisOfic!E103,Lyreco!E103,Ocaña!E103,Taine!E103,Vistalegre!E103),\"0,00\") & \" \" & C103","v":"1,00 Envase 12 unidades"},null,{"$f":"IF(DiaCash!G103>0,DiaCash!G103,\"\")","v":""},{"$f":"IF(DisOfic!G103>0,DisOfic!G103,\"\")","v":""},{"$f":"IF(Lablink!$G103>0,Lablink!$G103,\"\")","v":""},{"$f":"IF(Lyreco!G103>0,Lyreco!G103,\"\")","v":""},{"$f":"IF(Ocaña!G103>0,Ocaña!G103,\"\")","v":""},{"$f":"IF(Taine!G103>0,Taine!G103,\"\")","v":""},{"$f":"IF(Vistalegre!G103>0,Vistalegre!G103,\"\")","v":""},0,""]
[98,"Pinza doble clip negra 40 mm ","Envase 12 unidades",{"$f":" TEXT(MIN(DiaCash!D104,DisOfic!D104,Lablink!D104,Lyreco!D104,Ocaña!D104,Taine!D104,Vistalegre!D104),\"0,000\") & \" - \" & TEXT(MAX(DiaCash!D104,DisOfic!D104,Lablink!D104,Lyreco!D104,Ocaña!D104,Taine!D104,Vistalegre!D104),\"0,000\")","v":"0,900 - 1,480"},{"$f":" TEXT(MIN(DiaCash!E104,DisOfic!E104,Lyreco!E104,Ocaña!E104,Taine!E104,Vistalegre!E104),\"0,00\") & \" \" & C104","v":"1,00 Envase 12 unidades"},null,{"$f":"IF(DiaCash!G104>0,DiaCash!G104,\"\")","v":""},{"$f":"IF(DisOfic!G104>0,DisOfic!G104,\"\")","v":""},{"$f":"IF(Lablink!$G104>0,Lablink!$G104,\"\")","v":""},{"$f":"IF(Lyreco!G104>0,Lyreco!G104,\"\")","v":""},{"$f":"IF(Ocaña!G104>0,Ocaña!G104,\"\")","v":""},{"$f":"IF(Taine!G104>0,Taine!G104,\"\")","v":""},{"$f":"IF(Vistalegre!G104>0,Vistalegre!G104,\"\")","v":""},0,""]
[99,"Pinza doble clip negra 50 mm ","Envase 12 unidades",{"$f":" TEXT(MIN(DiaCash!D105,DisOfic!D105,Lablink!D105,Lyreco!D105,Ocaña!D105,Taine!D105,Vistalegre!D105),\"0,000\") & \" - \" & TEXT(MAX(DiaCash!D105,DisOfic!D105,Lablink!D105,Lyreco!D105,Ocaña!D105,Taine!D105,Vistalegre!D105),\"0,000\")","v":"1,280 - 1,700"},{"$f":" TEXT(MIN(DiaCash!E105,DisOfic!E105,Lyreco!E105,Ocaña!E105,Taine!E105,Vistalegre!E105),\"0,00\") & \" \" & C105","v":"1,00 Envase 12 unidades"},null,{"$f":"IF(DiaCash!G105>0,DiaCash!G105,\"\")","v":""},{"$f":"IF(DisOfic!G105>0,DisOfic!G105,\"\")","v":""},{"$f":"IF(Lablink!$G105>0,Lablink!$G105,\"\")","v":""},{"$f":"IF(Lyreco!G105>0,Lyreco!G105,\"\")","v":""},{"$f":"IF(Ocaña!G105>0,Ocaña!G105,\"\")","v":""},{"$f":"IF(Taine!G105>0,Taine!G105,\"\")","v":""},{"$f":"IF(Vistalegre!G105>0,Vistalegre!G105,\"\")","v":""},0,""]
[100,"Porta clips imantado con rodillo","Unidad",{"$f":" TEXT(MIN(DiaCash!D106,DisOfic!D106,Lablink!D106,Lyreco!D106,Ocaña!D106,Taine!D106,Vistalegre!D106),\"0,000\") & \" - \" & TEXT(MAX(DiaCash!D106,DisOfic!D106,Lablink!D106,Lyreco!D106,Ocaña!D106,Taine!D106,Vistalegre!D106),\"0,000\")","v":"0,890 - 0,900"},{"$f":" TEXT(MIN(DiaCash!E106,DisOfic!E106,Lyreco!E106,Ocaña!E106,Taine!E106,Vistalegre!E106),\"0,00\") & \" \" & C106","v":"1,00 Unidad"},null,{"$f":"IF(DiaCash!G106>0,DiaCash!G106,\"\")","v":""},{"$f":"IF(DisOfic!G106>0,DisOfic!G106,\"\")","v":""},{"$f":"IF(Lablink!$G106>0,Lablink!$G106,\"\")","v":""},{"$f":"IF(Lyreco!G106>0,Lyreco!G106,\"\")","v":""},{"$f":"IF(Ocaña!G106>0,Ocaña!G106,\"\")","v":""},{"$f":"IF(Taine!G106>0,Taine!G106,\"\")","v":""},{"$f":"IF(Vistalegre!G106>0,Vistalegre!G106,\"\")","v":""},0,""]
[101,"Porta clips imantado redondo","Unidad",{"$f":" TEXT(MIN(DiaCash!D107,DisOfic!D107,Lablink!D107,Lyreco!D107,Ocaña!D107,Taine!D107,Vistalegre!D107),\"0,000\") & \" - \" & TEXT(MAX(DiaCash!D107,DisOfic!D107,Lablink!D107,Lyreco!D107,Ocaña!D107,Taine!D107,Vistalegre!D107),\"0,000\")","v":"0,714 - 3,600"},{"$f":" TEXT(MIN(DiaCash!E107,DisOfic!E107,Lyreco!E107,Ocaña!E107,Taine!E107,Vistalegre!E107),\"0,00\") & \" \" & C107","v":"1,00 Unidad"},null,{"$f":"IF(DiaCash!G107>0,DiaCash!G107,\"\")","v":""},{"$f":"IF(DisOfic!G107>0,DisOfic!G107,\"\")","v":""},{"$f":"IF(Lablink!$G107>0,Lablink!$G107,\"\")","v":""},{"$f":"IF(Lyreco!G107>0,Lyreco!G107,\"\")","v":""},{"$f":"IF(Ocaña!G107>0,Ocaña!G107,\"\")","v":""},{"$f":"IF(Taine!G107>0,Taine!G107,\"\")","v":""},{"$f":"IF(Vistalegre!G107>0,Vistalegre!G107,\"\")","v":""},0,""]
[102,"Cutter hoja 18 mm.","Unidad",{"$f":" TEXT(MIN(DiaCash!D108,DisOfic!D108,Lablink!D108,Lyreco!D108,Ocaña!D108,Taine!D108,Vistalegre!D108),\"0,000\") & \" - \" & TEXT(MAX(DiaCash!D108,DisOfic!D108,Lablink!D108,Lyreco!D108,Ocaña!D108,Taine!D108,Vistalegre!D108),\"0,000\")","v":"0,220 - 0,590"},{"$f":" TEXT(MIN(DiaCash!E108,DisOfic!E108,Lyreco!E108,Ocaña!E108,Taine!E108,Vistalegre!E108),\"0,00\") & \" \" & C108","v":"1,00 Unidad"},null,{"$f":"IF(DiaCash!G108>0,DiaCash!G108,\"\")","v":""},{"$f":"IF(DisOfic!G108>0,DisOfic!G108,\"\")","v":""},{"$f":"IF(Lablink!$G108>0,Lablink!$G108,\"\")","v":""},{"$f":"IF(Lyreco!G108>0,Lyreco!G108,\"\")","v":""},{"$f":"IF(Ocaña!G108>0,Ocaña!G108,\"\")","v":""},{"$f":"IF(Taine!G108>0,Taine!G108,\"\")","v":""},{"$f":"IF(Vistalegre!G108>0,Vistalegre!G108,\"\")","v":""},0,""]
[103,"Cutter hoja 9 mm.","Unidad",{"$f":" TEXT(MIN(DiaCash!D109,DisOfic!D109,Lablink!D109,Lyreco!D109,Ocaña!D109,Taine!D109,Vistalegre!D109),\"0,000\") & \" - \" & TEXT(MAX(DiaCash!D109,DisOfic!D109,Lablink!D109,Lyreco!D109,Ocaña!D109,Taine!D109,Vistalegre!D109),\"0,000\")","v":"0,090 - 0,460"},{"$f":" TEXT(MIN(DiaCash!E109,DisOfic!E109,Lyreco!E109,Ocaña!E109,Taine!E109,Vistalegre!E109),\"0,00\") & \" \" & C109","v":"1,00 Unidad"},null,{"$f":"IF(DiaCash!G109>0,DiaCash!G109,\"\")","v":""},{"$f":"IF(DisOfic!G109>0,DisOfic!G109,\"\")","v":""},{"$f":"IF(Lablink!$G109>0,Lablink!$G109,\"\")","v":""},{"$f":"IF(Lyreco!G109>0,Lyreco!G109,\"\")","v":""},{"$f":"IF(Ocaña!G109>0,Ocaña!G109,\"\")","v":""},{"$f":"IF(Taine!G109>0,Taine!G109,\"\")","v":""},{"$f":"IF(Vistalegre!G109>0,Vistalegre!G109,\"\")","v":""},0,""]
[104,"Recambios para Cutter 18 mm","Envase 10 Unidades",{"$f":" TEXT(MIN(DiaCash!D110,DisOfic!D110,Lablink!D110,Lyreco!D110,Ocaña!D110,Taine!D110,Vistalegre!D110),\"0,000\") & \" - \" & TEXT(MAX(DiaCash!D110,DisOfic!D110,Lablink!D110,Lyreco!D110,Ocaña!D110,Taine!D110,Vistalegre!D110),\"0,000\")","v":"0,300 - 1,030"},{"$f":" TEXT(MIN(DiaCash!E110,DisOfic!E110,Lyreco!E110,Ocaña!E110,Taine!E110,Vistalegre!E110),\"0,00\") & \" \" & C110","v":"1,00 Envase 10 Unidades"},null,{"$f":"IF(DiaCash!G110>0,DiaCash!G110,\"\")","v":""},{"$f":"IF(DisOfic!G110>0,DisOfic!G110,\"\")","v":""},{"$f":"IF(Lablink!$G110>0,Lablink!$G110,\"\")","v":""},{"$f":"IF(Lyreco!G110>0,Lyreco!G110,\"\")","v":""},{"$f":"IF(Ocaña!G110>0,Ocaña!G110,\"\")","v":""},{"$f":"IF(Taine!G110>0,Taine!G110,\"\")","v":""},{"$f":"IF(Vistalegre!G110>0,Vistalegre!G110,\"\")","v":""},0,""]
[105,"Recambios para Cutter 9 mm","Envase 10 Unidades",{"$f":" TEXT(MIN(DiaCash!D111,DisOfic!D111,Lablink!D111,Lyreco!D111,Ocaña!D111,Taine!D111,Vistalegre!D111),\"0,000\") & \" - \" & TEXT(MAX(DiaCash!D111,DisOfic!D111,Lablink!D111,Lyreco!D111,Ocaña!D111,Taine!D111,Vistalegre!D111),\"0,000\")","v":"0,170 - 0,530"},{"$f":" TEXT(MIN(DiaCash!E111,DisOfic!E111,Lyreco!E111,Ocaña!E111,Taine!E111,Vistalegre!E111),\"0,00\") & \" \" & C111","v":"1,00 Envase 10 Unidades"},null,{"$f":"IF(DiaCash!G111>0,DiaCash!G111,\"\")","v":""},{"$f":"IF(DisOfic!G111>0,DisOfic!G111,\"\")","v":""},{"$f":"IF(Lablink!$G111>0,Lablink!$G111,\"\")","v":""},{"$f":"IF(Lyreco!G111>0,Lyreco!G111,\"\")","v":""},{"$f":"IF(Ocaña!G111>0,Ocaña!G111,\"\")","v":""},{"$f":"IF(Taine!G111>0,Taine!G111,\"\")","v":""},{"$f":"IF(Vistalegre!G111>0,Vistalegre!G111,\"\")","v":""},0,""]
[106,"Gomas Elásticas tamaños de 80 A 100 mm","Envase 100 gr.",{"$f":" TEXT(MIN(DiaCash!D112,DisOfic!D112,Lablink!D112,Lyreco!D112,Ocaña!D112,Taine!D112,Vistalegre!D112),\"0,000\") & \" - \" & TEXT(MAX(DiaCash!D112,DisOfic!D112,Lablink!D112,Lyreco!D112,Ocaña!D112,Taine!D112,Vistalegre!D112),\"0,000\")","v":"0,450 - 0,530"},{"$f":" TEXT(MIN(DiaCash!E112,DisOfic!E112,Lyreco!E112,Ocaña!E112,Taine!E112,Vistalegre!E112),\"0,00\") & \" \" & C112","v":"1,00 Envase 100 gr."},null,{"$f":"IF(DiaCash!G112>0,DiaCash!G112,\"\")","v":""},{"$f":"IF(DisOfic!G112>0,DisOfic!G112,\"\")","v":""},{"$f":"IF(Lablink!$G112>0,Lablink!$G112,\"\")","v":""},{"$f":"IF(Lyreco!G112>0,Lyreco!G112,\"\")","v":""},{"$f":"IF(Ocaña!G112>0,Ocaña!G112,\"\")","v":""},{"$f":"IF(Taine!G112>0,Taine!G112,\"\")","v":""},{"$f":"IF(Vistalegre!G112>0,Vistalegre!G112,\"\")","v":""},0,""]
[107,"Gomas Elásticas tamaños Hasta 60 mm","Envase 100 gr.",{"$f":" TEXT(MIN(DiaCash!D113,DisOfic!D113,Lablink!D113,Lyreco!D113,Ocaña!D113,Taine!D113,Vistalegre!D113),\"0,000\") & \" - \" & TEXT(MAX(DiaCash!D113,DisOfic!D113,Lablink!D113,Lyreco!D113,Ocaña!D113,Taine!D113,Vistalegre!D113),\"0,000\")","v":"0,460 - 0,710"},{"$f":" TEXT(MIN(DiaCash!E113,DisOfic!E113,Lyreco!E113,Ocaña!E113,Taine!E113,Vistalegre!E113),\"0,00\") & \" \" & C113","v":"1,00 Envase 100 gr."},null,{"$f":"IF(DiaCash!G113>0,DiaCash!G113,\"\")","v":""},{"$f":"IF(DisOfic!G113>0,DisOfic!G113,\"\")","v":""},{"$f":"IF(Lablink!$G113>0,Lablink!$G113,\"\")","v":""},{"$f":"IF(Lyreco!G113>0,Lyreco!G113,\"\")","v":""},{"$f":"IF(Ocaña!G113>0,Ocaña!G113,\"\")","v":""},{"$f":"IF(Taine!G113>0,Taine!G113,\"\")","v":""},{"$f":"IF(Vistalegre!G113>0,Vistalegre!G113,\"\")","v":""},0,""]
[108,"Pegamento en Barra (Barra 20 gr)","Unidad",{"$f":" TEXT(MIN(DiaCash!D114,DisOfic!D114,Lablink!D114,Lyreco!D114,Ocaña!D114,Taine!D114,Vistalegre!D114),\"0,000\") & \" - \" & TEXT(MAX(DiaCash!D114,DisOfic!D114,Lablink!D114,Lyreco!D114,Ocaña!D114,Taine!D114,Vistalegre!D114),\"0,000\")","v":"0,180 - 0,370"},{"$f":" TEXT(MIN(DiaCash!E114,DisOfic!E114,Lyreco!E114,Ocaña!E114,Taine!E114,Vistalegre!E114),\"0,00\") & \" \" & C114","v":"1,00 Unidad"},null,{"$f":"IF(DiaCash!G114>0,DiaCash!G114,\"\")","v":""},{"$f":"IF(DisOfic!G114>0,DisOfic!G114,\"\")","v":""},{"$f":"IF(Lablink!$G114>0,Lablink!$G114,\"\")","v":""},{"$f":"IF(Lyreco!G114>0,Lyreco!G114,\"\")","v":""},{"$f":"IF(Ocaña!G114>0,Ocaña!G114,\"\")","v":""},{"$f":"IF(Taine!G114>0,Taine!G114,\"\")","v":""},{"$f":"IF(Vistalegre!G114>0,Vistalegre!G114,\"\")","v":""},0,""]
[109,"Pegamento en Barra (Barra 20 gr) (Pritt)","Unidad",{"$f":" TEXT(MIN(DiaCash!D115,DisOfic!D115,Lablink!D115,Lyreco!D115,Ocaña!D115,Taine!D115,Vistalegre!D115),\"0,000\") & \" - \" & TEXT(MAX(DiaCash!D115,DisOfic!D115,Lablink!D115,Lyreco!D115,Ocaña!D115,Taine!D115,Vistalegre!D115),\"0,000\")","v":"0,230 - 1,300"},{"$f":" TEXT(MIN(DiaCash!E115,DisOfic!E115,Lyreco!E115,Ocaña!E115,Taine!E115,Vistalegre!E115),\"0,00\") & \" \" & C115","v":"1,00 Unidad"},null,{"$f":"IF(DiaCash!G115>0,DiaCash!G115,\"\")","v":""},{"$f":"IF(DisOfic!G115>0,DisOfic!G115,\"\")","v":""},{"$f":"IF(Lablink!$G115>0,Lablink!$G115,\"\")","v":""},{"$f":"IF(Lyreco!G115>0,Lyreco!G115,\"\")","v":""},{"$f":"IF(Ocaña!G115>0,Ocaña!G115,\"\")","v":""},{"$f":"IF(Taine!G115>0,Taine!G115,\"\")","v":""},{"$f":"IF(Vistalegre!G115>0,Vistalegre!G115,\"\")","v":""},0,""]
[110,"Pegamento en Barra (Barra 40 gr)","Unidad",{"$f":" TEXT(MIN(DiaCash!D116,DisOfic!D116,Lablink!D116,Lyreco!D116,Ocaña!D116,Taine!D116,Vistalegre!D116),\"0,000\") & \" - \" & TEXT(MAX(DiaCash!D116,DisOfic!D116,Lablink!D116,Lyreco!D116,Ocaña!D116,Taine!D116,Vistalegre!D116),\"0,000\")","v":"0,266 - 0,590"},{"$f":" TEXT(MIN(DiaCash!E116,DisOfic!E116,Lyreco!E116,Ocaña!E116,Taine!E116,Vistalegre!E116),\"0,00\") & \" \" & C116","v":"1,00 Unidad"},null,{"$f":"IF(DiaCash!G116>0,DiaCash!G116,\"\")","v":""},{"$f":"IF(DisOfic!G116>0,DisOfic!G116,\"\")","v":""},{"$f":"IF(Lablink!$G116>0,Lablink!$G116,\"\")","v":""},{"$f":"IF(Lyreco!G116>0,Lyreco!G116,\"\")","v":""},{"$f":"IF(Ocaña!G116>0,Ocaña!G116,\"\")","v":""},{"$f":"IF(Taine!G116>0,Taine!G116,\"\")","v":""},{"$f":"IF(Vistalegre!G116>0,Vistalegre!G116,\"\")","v":""},0,""]
[111,"Pegamento en Barra (Barra 40 gr) (Pritt)","Unidad",{"$f":" TEXT(MIN(DiaCash!D117,DisOfic!D117,Lablink!D117,Lyreco!D117,Ocaña!D117,Taine!D117,Vistalegre!D117),\"0,000\") & \" - \" & TEXT(MAX(DiaCash!D117,DisOfic!D117,Lablink!D117,Lyreco!D117,Ocaña!D117,Taine!D117,Vistalegre!D117),\"0,000\")","v":"0,350 - 1,960"},{"$f":" TEXT(MIN(DiaCash!E117,DisOfic!E117,Lyreco!E117,Ocaña!E117,Taine!E117,Vistalegre!E117),\"0,00\") & \" \" & C117","v":"1,00 Unidad"},null,{"$f":"IF(DiaCash!G117>0,DiaCash!G117,\"\")","v":""},{"$f":"IF(DisOfic!G117>0,DisOfic!G117,\"\")","v":""},{"$f":"IF(Lablink!$G117>0,Lablink!$G117,\"\")","v":""},{"$f":"IF(Lyreco!G117>0,Lyreco!G117,\"\")","v":""},{"$f":"IF(Ocaña!G117>0,Ocaña!G117,\"\")","v":""},{"$f":"IF(Taine!G117>0,Taine!G117,\"\")","v":""},{"$f":"IF(Vistalegre!G117>0,Vistalegre!G117,\"\")","v":""},0,""]
[112,"Pegamento Instantáneo Cianocrilato (Tubo 3 gr)","Unidad",{"$f":" TEXT(MIN(DiaCash!D118,DisOfic!D118,Lablink!D118,Lyreco!D118,Ocaña!D118,Taine!D118,Vistalegre!D118),\"0,000\") & \" - \" & TEXT(MAX(DiaCash!D118,DisOfic!D118,Lablink!D118,Lyreco!D118,Ocaña!D118,Taine!D118,Vistalegre!D118),\"0,000\")","v":"0,400 - 2,000"},{"$f":" TEXT(MIN(DiaCash!E118,DisOfic!E118,Lyreco!E118,Ocaña!E118,Taine!E118,Vistalegre!E118),\"0,00\") & \" \" & C118","v":"1,00 Unidad"},null,{"$f":"IF(DiaCash!G118>0,DiaCash!G118,\"\")","v":""},{"$f":"IF(DisOfic!G118>0,DisOfic!G118,\"\")","v":""},{"$f":"IF(Lablink!$G118>0,Lablink!$G118,\"\")","v":""},{"$f":"IF(Lyreco!G118>0,Lyreco!G118,\"\")","v":""},{"$f":"IF(Ocaña!G118>0,Ocaña!G118,\"\")","v":""},{"$f":"IF(Taine!G118>0,Taine!G118,\"\")","v":""},{"$f":"IF(Vistalegre!G118>0,Vistalegre!G118,\"\")","v":""},0,""]
[113,"Pegamento Instantáneo Cianocrilato (Tubo 3 gr) (Loctite)","Unidad",{"$f":" TEXT(MIN(DiaCash!D119,DisOfic!D119,Lablink!D119,Lyreco!D119,Ocaña!D119,Taine!D119,Vistalegre!D119),\"0,000\") & \" - \" & TEXT(MAX(DiaCash!D119,DisOfic!D119,Lablink!D119,Lyreco!D119,Ocaña!D119,Taine!D119,Vistalegre!D119),\"0,000\")","v":"0,440 - 3,100"},{"$f":" TEXT(MIN(DiaCash!E119,DisOfic!E119,Lyreco!E119,Ocaña!E119,Taine!E119,Vistalegre!E119),\"0,00\") & \" \" & C119","v":"1,00 Unidad"},null,{"$f":"IF(DiaCash!G119>0,DiaCash!G119,\"\")","v":""},{"$f":"IF(DisOfic!G119>0,DisOfic!G119,\"\")","v":""},{"$f":"IF(Lablink!$G119>0,Lablink!$G119,\"\")","v":""},{"$f":"IF(Lyreco!G119>0,Lyreco!G119,\"\")","v":""},{"$f":"IF(Ocaña!G119>0,Ocaña!G119,\"\")","v":""},{"$f":"IF(Taine!G119>0,Taine!G119,\"\")","v":""},{"$f":"IF(Vistalegre!G119>0,Vistalegre!G119,\"\")","v":""},0,""]
[114,"Pegamento Instantáneo Cianocrilato Con Pincel Aplicador (5 gr)","Unidad",{"$f":" TEXT(MIN(DiaCash!D120,DisOfic!D120,Lablink!D120,Lyreco!D120,Ocaña!D120,Taine!D120,Vistalegre!D120),\"0,000\") & \" - \" & TEXT(MAX(DiaCash!D120,DisOfic!D120,Lablink!D120,Lyreco!D120,Ocaña!D120,Taine!D120,Vistalegre!D120),\"0,000\")","v":"0,570 - 2,600"},{"$f":" TEXT(MIN(DiaCash!E120,DisOfic!E120,Lyreco!E120,Ocaña!E120,Taine!E120,Vistalegre!E120),\"0,00\") & \" \" & C120","v":"1,00 Unidad"},null,{"$f":"IF(DiaCash!G120>0,DiaCash!G120,\"\")","v":""},{"$f":"IF(DisOfic!G120>0,DisOfic!G120,\"\")","v":""},{"$f":"IF(Lablink!$G120>0,Lablink!$G120,\"\")","v":""},{"$f":"IF(Lyreco!G120>0,Lyreco!G120,\"\")","v":""},{"$f":"IF(Ocaña!G120>0,Ocaña!G120,\"\")","v":""},{"$f":"IF(Taine!G120>0,Taine!G120,\"\")","v":""},{"$f":"IF(Vistalegre!G120>0,Vistalegre!G120,\"\")","v":""},0,""]
[115,"Pegamento Instantáneo Cianocrilato Con Pincel Aplicador (5 gr) (Loctite)","Unidad",{"$f":" TEXT(MIN(DiaCash!D121,DisOfic!D121,Lablink!D121,Lyreco!D121,Ocaña!D121,Taine!D121,Vistalegre!D121),\"0,000\") & \" - \" & TEXT(MAX(DiaCash!D121,DisOfic!D121,Lablink!D121,Lyreco!D121,Ocaña!D121,Taine!D121,Vistalegre!D121),\"0,000\")","v":"0,570 - 4,000"},{"$f":" TEXT(MIN(DiaCash!E121,DisOfic!E121,Lyreco!E121,Ocaña!E121,Taine!E121,Vistalegre!E121),\"0,00\") & \" \" & C121","v":"1,00 Unidad"},null,{"$f":"IF(DiaCash!G121>0,DiaCash!G121,\"\")","v":""},{"$f":"IF(DisOfic!G121>0,DisOfic!G121,\"\")","v":""},{"$f":"IF(Lablink!$G121>0,Lablink!$G121,\"\")","v":""},{"$f":"IF(Lyreco!G121>0,Lyreco!G121,\"\")","v":""},{"$f":"IF(Ocaña!G121>0,Ocaña!G121,\"\")","v":""},{"$f":"IF(Taine!G121>0,Taine!G121,\"\")","v":""},{"$f":"IF(Vistalegre!G121>0,Vistalegre!G121,\"\")","v":""},0,""]
[116,"Pegamento Universal (Tubo 35 gr)","Unidad",{"$f":" TEXT(MIN(DiaCash!D122,DisOfic!D122,Lablink!D122,Lyreco!D122,Ocaña!D122,Taine!D122,Vistalegre!D122),\"0,000\") & \" - \" & TEXT(MAX(DiaCash!D122,DisOfic!D122,Lablink!D122,Lyreco!D122,Ocaña!D122,Taine!D122,Vistalegre!D122),\"0,000\")","v":"0,360 - 1,040"},{"$f":" TEXT(MIN(DiaCash!E122,DisOfic!E122,Lyreco!E122,Ocaña!E122,Taine!E122,Vistalegre!E122),\"0,00\") & \" \" & C122","v":"1,00 Unidad"},null,{"$f":"IF(DiaCash!G122>0,DiaCash!G122,\"\")","v":""},{"$f":"IF(DisOfic!G122>0,DisOfic!G122,\"\")","v":""},{"$f":"IF(Lablink!$G122>0,Lablink!$G122,\"\")","v":""},{"$f":"IF(Lyreco!G122>0,Lyreco!G122,\"\")","v":""},{"$f":"IF(Ocaña!G122>0,Ocaña!G122,\"\")","v":""},{"$f":"IF(Taine!G122>0,Taine!G122,\"\")","v":""},{"$f":"IF(Vistalegre!G122>0,Vistalegre!G122,\"\")","v":""},0,""]
[117,"Pegamento Universal (Tubo 35 gr) (Imedio)","Unidad",{"$f":" TEXT(MIN(DiaCash!D123,DisOfic!D123,Lablink!D123,Lyreco!D123,Ocaña!D123,Taine!D123,Vistalegre!D123),\"0,000\") & \" - \" & TEXT(MAX(DiaCash!D123,DisOfic!D123,Lablink!D123,Lyreco!D123,Ocaña!D123,Taine!D123,Vistalegre!D123),\"0,000\")","v":"0,460 - 1,900"},{"$f":" TEXT(MIN(DiaCash!E123,DisOfic!E123,Lyreco!E123,Ocaña!E123,Taine!E123,Vistalegre!E123),\"0,00\") & \" \" & C123","v":"1,00 Unidad"},null,{"$f":"IF(DiaCash!G123>0,DiaCash!G123,\"\")","v":""},{"$f":"IF(DisOfic!G123>0,DisOfic!G123,\"\")","v":""},{"$f":"IF(Lablink!$G123>0,Lablink!$G123,\"\")","v":""},{"$f":"IF(Lyreco!G123>0,Lyreco!G123,\"\")","v":""},{"$f":"IF(Ocaña!G123>0,Ocaña!G123,\"\")","v":""},{"$f":"IF(Taine!G123>0,Taine!G123,\"\")","v":""},{"$f":"IF(Vistalegre!G123>0,Vistalegre!G123,\"\")","v":""},0,""]
[118,"Tijera hoja acero inoxidable. Mango ergonomico. Longitud 150 mm","Unidad",{"$f":" TEXT(MIN(DiaCash!D124,DisOfic!D124,Lablink!D124,Lyreco!D124,Ocaña!D124,Taine!D124,Vistalegre!D124),\"0,000\") & \" - \" & TEXT(MAX(DiaCash!D124,DisOfic!D124,Lablink!D124,Lyreco!D124,Ocaña!D124,Taine!D124,Vistalegre!D124),\"0,000\")","v":"0,340 - 0,690"},{"$f":" TEXT(MIN(DiaCash!E124,DisOfic!E124,Lyreco!E124,Ocaña!E124,Taine!E124,Vistalegre!E124),\"0,00\") & \" \" & C124","v":"1,00 Unidad"},null,{"$f":"IF(DiaCash!G124>0,DiaCash!G124,\"\")","v":""},{"$f":"IF(DisOfic!G124>0,DisOfic!G124,\"\")","v":""},{"$f":"IF(Lablink!$G124>0,Lablink!$G124,\"\")","v":""},{"$f":"IF(Lyreco!G124>0,Lyreco!G124,\"\")","v":""},{"$f":"IF(Ocaña!G124>0,Ocaña!G124,\"\")","v":""},{"$f":"IF(Taine!G124>0,Taine!G124,\"\")","v":""},{"$f":"IF(Vistalegre!G124>0,Vistalegre!G124,\"\")","v":""},0,""]
[119,"Tijera hoja acero Inoxidable. Mango ergonomico. Longitud 210 mm","Unidad",{"$f":" TEXT(MIN(DiaCash!D125,DisOfic!D125,Lablink!D125,Lyreco!D125,Ocaña!D125,Taine!D125,Vistalegre!D125),\"0,000\") & \" - \" & TEXT(MAX(DiaCash!D125,DisOfic!D125,Lablink!D125,Lyreco!D125,Ocaña!D125,Taine!D125,Vistalegre!D125),\"0,000\")","v":"0,460 - 0,890"},{"$f":" TEXT(MIN(DiaCash!E125,DisOfic!E125,Lyreco!E125,Ocaña!E125,Taine!E125,Vistalegre!E125),\"0,00\") & \" \" & C125","v":"1,00 Unidad"},null,{"$f":"IF(DiaCash!G125>0,DiaCash!G125,\"\")","v":""},{"$f":"IF(DisOfic!G125>0,DisOfic!G125,\"\")","v":""},{"$f":"IF(Lablink!$G125>0,Lablink!$G125,\"\")","v":""},{"$f":"IF(Lyreco!G125>0,Lyreco!G125,\"\")","v":""},{"$f":"IF(Ocaña!G125>0,Ocaña!G125,\"\")","v":""},{"$f":"IF(Taine!G125>0,Taine!G125,\"\")","v":""},{"$f":"IF(Vistalegre!G125>0,Vistalegre!G125,\"\")","v":""},0,""]
[120,"Tijera hoja acero inoxidable. 150 mm Longitud. (Westcott)","Unidad",{"$f":" TEXT(MIN(DiaCash!D126,DisOfic!D126,Lablink!D126,Lyreco!D126,Ocaña!D126,Taine!D126,Vistalegre!D126),\"0,000\") & \" - \" & TEXT(MAX(DiaCash!D126,DisOfic!D126,Lablink!D126,Lyreco!D126,Ocaña!D126,Taine!D126,Vistalegre!D126),\"0,000\")","v":"0,380 - 3,480"},{"$f":" TEXT(MIN(DiaCash!E126,DisOfic!E126,Lyreco!E126,Ocaña!E126,Taine!E126,Vistalegre!E126),\"0,00\") & \" \" & C126","v":"1,00 Unidad"},null,{"$f":"IF(DiaCash!G126>0,DiaCash!G126,\"\")","v":""},{"$f":"IF(DisOfic!G126>0,DisOfic!G126,\"\")","v":""},{"$f":"IF(Lablink!$G126>0,Lablink!$G126,\"\")","v":""},{"$f":"IF(Lyreco!G126>0,Lyreco!G126,\"\")","v":""},{"$f":"IF(Ocaña!G126>0,Ocaña!G126,\"\")","v":""},{"$f":"IF(Taine!G126>0,Taine!G126,\"\")","v":""},{"$f":"IF(Vistalegre!G126>0,Vistalegre!G126,\"\")","v":""},0,""]
[121,"Tijera hoja acero inoxidable. 210 mm Longitud. (Westcott)","Unidad",{"$f":" TEXT(MIN(DiaCash!D127,DisOfic!D127,Lablink!D127,Lyreco!D127,Ocaña!D127,Taine!D127,Vistalegre!D127),\"0,000\") & \" - \" & TEXT(MAX(DiaCash!D127,DisOfic!D127,Lablink!D127,Lyreco!D127,Ocaña!D127,Taine!D127,Vistalegre!D127),\"0,000\")","v":"0,580 - 4,400"},{"$f":" TEXT(MIN(DiaCash!E127,DisOfic!E127,Lyreco!E127,Ocaña!E127,Taine!E127,Vistalegre!E127),\"0,00\") & \" \" & C127","v":"1,00 Unidad"},null,{"$f":"IF(DiaCash!G127>0,DiaCash!G127,\"\")","v":""},{"$f":"IF(DisOfic!G127>0,DisOfic!G127,\"\")","v":""},{"$f":"IF(Lablink!$G127>0,Lablink!$G127,\"\")","v":""},{"$f":"IF(Lyreco!G127>0,Lyreco!G127,\"\")","v":""},{"$f":"IF(Ocaña!G127>0,Ocaña!G127,\"\")","v":""},{"$f":"IF(Taine!G127>0,Taine!G127,\"\")","v":""},{"$f":"IF(Vistalegre!G127>0,Vistalegre!G127,\"\")","v":""},0,""]
[122,"Calculadora sobremesa de oficina","Unidad",{"$f":" TEXT(MIN(DiaCash!D128,DisOfic!D128,Lablink!D128,Lyreco!D128,Ocaña!D128,Taine!D128,Vistalegre!D128),\"0,000\") & \" - \" & TEXT(MAX(DiaCash!D128,DisOfic!D128,Lablink!D128,Lyreco!D128,Ocaña!D128,Taine!D128,Vistalegre!D128),\"0,000\")","v":"2,060 - 5,110"},{"$f":" TEXT(MIN(DiaCash!E128,DisOfic!E128,Lyreco!E128,Ocaña!E128,Taine!E128,Vistalegre!E128),\"0,00\") & \" \" & C128","v":"1,00 Unidad"},null,{"$f":"IF(DiaCash!G128>0,DiaCash!G128,\"\")","v":""},{"$f":"IF(DisOfic!G128>0,DisOfic!G128,\"\")","v":""},{"$f":"IF(Lablink!$G128>0,Lablink!$G128,\"\")","v":""},{"$f":"IF(Lyreco!G128>0,Lyreco!G128,\"\")","v":""},{"$f":"IF(Ocaña!G128>0,Ocaña!G128,\"\")","v":""},{"$f":"IF(Taine!G128>0,Taine!G128,\"\")","v":""},{"$f":"IF(Vistalegre!G128>0,Vistalegre!G128,\"\")","v":""},0,""]
[123,"Calculadora sobremesa de oficina (Casio)","Unidad",{"$f":" TEXT(MIN(DiaCash!D129,DisOfic!D129,Lablink!D129,Lyreco!D129,Ocaña!D129,Taine!D129,Vistalegre!D129),\"0,000\") & \" - \" & TEXT(MAX(DiaCash!D129,DisOfic!D129,Lablink!D129,Lyreco!D129,Ocaña!D129,Taine!D129,Vistalegre!D129),\"0,000\")","v":"2,360 - 12,000"},{"$f":" TEXT(MIN(DiaCash!E129,DisOfic!E129,Lyreco!E129,Ocaña!E129,Taine!E129,Vistalegre!E129),\"0,00\") & \" \" & C129","v":"1,00 Unidad"},null,{"$f":"IF(DiaCash!G129>0,DiaCash!G129,\"\")","v":""},{"$f":"IF(DisOfic!G129>0,DisOfic!G129,\"\")","v":""},{"$f":"IF(Lablink!$G129>0,Lablink!$G129,\"\")","v":""},{"$f":"IF(Lyreco!G129>0,Lyreco!G129,\"\")","v":""},{"$f":"IF(Ocaña!G129>0,Ocaña!G129,\"\")","v":""},{"$f":"IF(Taine!G129>0,Taine!G129,\"\")","v":""},{"$f":"IF(Vistalegre!G129>0,Vistalegre!G129,\"\")","v":""},0,""]
[124,"Calculadora científica 12 dígitos (Casio)","Unidad",{"$f":" TEXT(MIN(DiaCash!D130,DisOfic!D130,Lablink!D130,Lyreco!D130,Ocaña!D130,Taine!D130,Vistalegre!D130),\"0,000\") & \" - \" & TEXT(MAX(DiaCash!D130,DisOfic!D130,Lablink!D130,Lyreco!D130,Ocaña!D130,Taine!D130,Vistalegre!D130),\"0,000\")","v":"2,360 - 15,000"},{"$f":" TEXT(MIN(DiaCash!E130,DisOfic!E130,Lyreco!E130,Ocaña!E130,Taine!E130,Vistalegre!E130),\"0,00\") & \" \" & C130","v":"1,00 Unidad"},null,{"$f":"IF(DiaCash!G130>0,DiaCash!G130,\"\")","v":""},{"$f":"IF(DisOfic!G130>0,DisOfic!G130,\"\")","v":""},{"$f":"IF(Lablink!$G130>0,Lablink!$G130,\"\")","v":""},{"$f":"IF(Lyreco!G130>0,Lyreco!G130,\"\")","v":""},{"$f":"IF(Ocaña!G130>0,Ocaña!G130,\"\")","v":""},{"$f":"IF(Taine!G130>0,Taine!G130,\"\")","v":""},{"$f":"IF(Vistalegre!G130>0,Vistalegre!G130,\"\")","v":""},0,""]
[125,"Grapadora sobremesa metálica. Capacidad mínima 30 hojas de papel 80 gr/m2","Unidad",{"$f":" TEXT(MIN(DiaCash!D131,DisOfic!D131,Lablink!D131,Lyreco!D131,Ocaña!D131,Taine!D131,Vistalegre!D131),\"0,000\") & \" - \" & TEXT(MAX(DiaCash!D131,DisOfic!D131,Lablink!D131,Lyreco!D131,Ocaña!D131,Taine!D131,Vistalegre!D131),\"0,000\")","v":"1,690 - 7,900"},{"$f":" TEXT(MIN(DiaCash!E131,DisOfic!E131,Lyreco!E131,Ocaña!E131,Taine!E131,Vistalegre!E131),\"0,00\") & \" \" & C131","v":"1,00 Unidad"},null,{"$f":"IF(DiaCash!G131>0,DiaCash!G131,\"\")","v":""},{"$f":"IF(DisOfic!G131>0,DisOfic!G131,\"\")","v":""},{"$f":"IF(Lablink!$G131>0,Lablink!$G131,\"\")","v":""},{"$f":"IF(Lyreco!G131>0,Lyreco!G131,\"\")","v":""},{"$f":"IF(Ocaña!G131>0,Ocaña!G131,\"\")","v":""},{"$f":"IF(Taine!G131>0,Taine!G131,\"\")","v":""},{"$f":"IF(Vistalegre!G131>0,Vistalegre!G131,\"\")","v":""},0,""]
[126,"Grapadora sobremesa metálica. Capacidad mínima 30 hojas de papel 80 gr/m2 (Petrus)","Unidad",{"$f":" TEXT(MIN(DiaCash!D132,DisOfic!D132,Lablink!D132,Lyreco!D132,Ocaña!D132,Taine!D132,Vistalegre!D132),\"0,000\") & \" - \" & TEXT(MAX(DiaCash!D132,DisOfic!D132,Lablink!D132,Lyreco!D132,Ocaña!D132,Taine!D132,Vistalegre!D132),\"0,000\")","v":"2,550 - 16,858"},{"$f":" TEXT(MIN(DiaCash!E132,DisOfic!E132,Lyreco!E132,Ocaña!E132,Taine!E132,Vistalegre!E132),\"0,00\") & \" \" & C132","v":"1,00 Unidad"},null,{"$f":"IF(DiaCash!G132>0,DiaCash!G132,\"\")","v":""},{"$f":"IF(DisOfic!G132>0,DisOfic!G132,\"\")","v":""},{"$f":"IF(Lablink!$G132>0,Lablink!$G132,\"\")","v":""},{"$f":"IF(Lyreco!G132>0,Lyreco!G132,\"\")","v":""},{"$f":"IF(Ocaña!G132>0,Ocaña!G132,\"\")","v":""},{"$f":"IF(Taine!G132>0,Taine!G132,\"\")","v":""},{"$f":"IF(Vistalegre!G132>0,Vistalegre!G132,\"\")","v":""},0,""]
[127,"Grapadora sobremesa . Capacidad mínima 20 hojas de papel 80 gr/m2","Unidad",{"$f":" TEXT(MIN(DiaCash!D133,DisOfic!D133,Lablink!D133,Lyreco!D133,Ocaña!D133,Taine!D133,Vistalegre!D133),\"0,000\") & \" - \" & TEXT(MAX(DiaCash!D133,DisOfic!D133,Lablink!D133,Lyreco!D133,Ocaña!D133,Taine!D133,Vistalegre!D133),\"0,000\")","v":"1,130 - 1,840"},{"$f":" TEXT(MIN(DiaCash!E133,DisOfic!E133,Lyreco!E133,Ocaña!E133,Taine!E133,Vistalegre!E133),\"0,00\") & \" \" & C133","v":"1,00 Unidad"},null,{"$f":"IF(DiaCash!G133>0,DiaCash!G133,\"\")","v":""},{"$f":"IF(DisOfic!G133>0,DisOfic!G133,\"\")","v":""},{"$f":"IF(Lablink!$G133>0,Lablink!$G133,\"\")","v":""},{"$f":"IF(Lyreco!G133>0,Lyreco!G133,\"\")","v":""},{"$f":"IF(Ocaña!G133>0,Ocaña!G133,\"\")","v":""},{"$f":"IF(Taine!G133>0,Taine!G133,\"\")","v":""},{"$f":"IF(Vistalegre!G133>0,Vistalegre!G133,\"\")","v":""},0,""]
[128,"Grapadora Tenaza Metalica. Capacidad mínima 40 hojas de papel 80 gr/m2","Unidad",{"$f":" TEXT(MIN(DiaCash!D134,DisOfic!D134,Lablink!D134,Lyreco!D134,Ocaña!D134,Taine!D134,Vistalegre!D134),\"0,000\") & \" - \" & TEXT(MAX(DiaCash!D134,DisOfic!D134,Lablink!D134,Lyreco!D134,Ocaña!D134,Taine!D134,Vistalegre!D134),\"0,000\")","v":"2,960 - 12,380"},{"$f":" TEXT(MIN(DiaCash!E134,DisOfic!E134,Lyreco!E134,Ocaña!E134,Taine!E134,Vistalegre!E134),\"0,00\") & \" \" & C134","v":"1,00 Unidad"},null,{"$f":"IF(DiaCash!G134>0,DiaCash!G134,\"\")","v":""},{"$f":"IF(DisOfic!G134>0,DisOfic!G134,\"\")","v":""},{"$f":"IF(Lablink!$G134>0,Lablink!$G134,\"\")","v":""},{"$f":"IF(Lyreco!G134>0,Lyreco!G134,\"\")","v":""},{"$f":"IF(Ocaña!G134>0,Ocaña!G134,\"\")","v":""},{"$f":"IF(Taine!G134>0,Taine!G134,\"\")","v":""},{"$f":"IF(Vistalegre!G134>0,Vistalegre!G134,\"\")","v":""},0,""]
[129,"Grapadora Tenaza Metalica. Capacidad mínima 40 hojas de papel 80 gr/m2 (Petrus)","Unidad",{"$f":" TEXT(MIN(DiaCash!D135,DisOfic!D135,Lablink!D135,Lyreco!D135,Ocaña!D135,Taine!D135,Vistalegre!D135),\"0,000\") & \" - \" & TEXT(MAX(DiaCash!D135,DisOfic!D135,Lablink!D135,Lyreco!D135,Ocaña!D135,Taine!D135,Vistalegre!D135),\"0,000\")","v":"2,960 - 20,000"},{"$f":" TEXT(MIN(DiaCash!E135,DisOfic!E135,Lyreco!E135,Ocaña!E135,Taine!E135,Vistalegre!E135),\"0,00\") & \" \" & C135","v":"1,00 Unidad"},null,{"$f":"IF(DiaCash!G135>0,DiaCash!G135,\"\")","v":""},{"$f":"IF(DisOfic!G135>0,DisOfic!G135,\"\")","v":""},{"$f":"IF(Lablink!$G135>0,Lablink!$G135,\"\")","v":""},{"$f":"IF(Lyreco!G135>0,Lyreco!G135,\"\")","v":""},{"$f":"IF(Ocaña!G135>0,Ocaña!G135,\"\")","v":""},{"$f":"IF(Taine!G135>0,Taine!G135,\"\")","v":""},{"$f":"IF(Vistalegre!G135>0,Vistalegre!G135,\"\")","v":""},{"$f":"COUNTIF(G135:M135,\"=\" & O135)","v":0},""]
[130,"Grapadora Tenaza. Capacidad mínima 20 hojas de papel 80 gr/m2","Unidad",{"$f":" TEXT(MIN(DiaCash!D136,DisOfic!D136,Lablink!D136,Lyreco!D136,Ocaña!D136,Taine!D136,Vistalegre!D136),\"0,000\") & \" - \" & TEXT(MAX(DiaCash!D136,DisOfic!D136,Lablink!D136,Lyreco!D136,Ocaña!D136,Taine!D136,Vistalegre!D136),\"0,000\")","v":"1,860 - 10,860"},{"$f":" TEXT(MIN(DiaCash!E136,DisOfic!E136,Lyreco!E136,Ocaña!E136,Taine!E136,Vistalegre!E136),\"0,00\") & \" \" & C136","v":"1,00 Unidad"},null,{"$f":"IF(DiaCash!G136>0,DiaCash!G136,\"\")","v":""},{"$f":"IF(DisOfic!G136>0,DisOfic!G136,\"\")","v":""},{"$f":"IF(Lablink!$G136>0,Lablink!$G136,\"\")","v":""},{"$f":"IF(Lyreco!G136>0,Lyreco!G136,\"\")","v":""},{"$f":"IF(Ocaña!G136>0,Ocaña!G136,\"\")","v":""},{"$f":"IF(Taine!G136>0,Taine!G136,\"\")","v":""},{"$f":"IF(Vistalegre!G136>0,Vistalegre!G136,\"\")","v":""},0,{"$f":"IF(MIN(G136:M136)=0,\"\",MIN(G136:M136))","v":""}]
[131,"Grapas Cobreadas o Galvanizadas 22/6 o equivalente","Envase 1000 unidades",{"$f":" TEXT(MIN(DiaCash!D137,DisOfic!D137,Lablink!D137,Lyreco!D137,Ocaña!D137,Taine!D137,Vistalegre!D137),\"0,000\") & \" - \" & TEXT(MAX(DiaCash!D137,DisOfic!D137,Lablink!D137,Lyreco!D137,Ocaña!D137,Taine!D137,Vistalegre!D137),\"0,000\")","v":"0,120 - 0,380"},{"$f":" TEXT(MIN(DiaCash!E137,DisOfic!E137,Lyreco!E137,Ocaña!E137,Taine!E137,Vistalegre!E137),\"0,00\") & \" \" & C137","v":"1,00 Envase 1000 unidades"},null,{"$f":"IF(DiaCash!G137>0,DiaCash!G137,\"\")","v":""},{"$f":"IF(DisOfic!G137>0,DisOfic!G137,\"\")","v":""},{"$f":"IF(Lablink!$G137>0,Lablink!$G137,\"\")","v":""},{"$f":"IF(Lyreco!G137>0,Lyreco!G137,\"\")","v":""},{"$f":"IF(Ocaña!G137>0,Ocaña!G137,\"\")","v":""},{"$f":"IF(Taine!G137>0,Taine!G137,\"\")","v":""},{"$f":"IF(Vistalegre!G137>0,Vistalegre!G137,\"\")","v":""},0,""]
[132,"Grapas Cobreadas o Galvanizadas 22/6 o equivalente (Petrus)","Envase 1000 unidades",{"$f":" TEXT(MIN(DiaCash!D138,DisOfic!D138,Lablink!D138,Lyreco!D138,Ocaña!D138,Taine!D138,Vistalegre!D138),\"0,000\") & \" - \" & TEXT(MAX(DiaCash!D138,DisOfic!D138,Lablink!D138,Lyreco!D138,Ocaña!D138,Taine!D138,Vistalegre!D138),\"0,000\")","v":"0,120 - 0,580"},{"$f":" TEXT(MIN(DiaCash!E138,DisOfic!E138,Lyreco!E138,Ocaña!E138,Taine!E138,Vistalegre!E138),\"0,00\") & \" \" & C138","v":"1,00 Envase 1000 unidades"},null,{"$f":"IF(DiaCash!G138>0,DiaCash!G138,\"\")","v":""},{"$f":"IF(DisOfic!G138>0,DisOfic!G138,\"\")","v":""},{"$f":"IF(Lablink!$G138>0,Lablink!$G138,\"\")","v":""},{"$f":"IF(Lyreco!G138>0,Lyreco!G138,\"\")","v":""},{"$f":"IF(Ocaña!G138>0,Ocaña!G138,\"\")","v":""},{"$f":"IF(Taine!G138>0,Taine!G138,\"\")","v":""},{"$f":"IF(Vistalegre!G138>0,Vistalegre!G138,\"\")","v":""},0,""]
[133,"Grapas Cobreadas o Galvanizadas 24/6 o equivalente","Envase 1000 unidades",{"$f":" TEXT(MIN(DiaCash!D139,DisOfic!D139,Lablink!D139,Lyreco!D139,Ocaña!D139,Taine!D139,Vistalegre!D139),\"0,000\") & \" - \" & TEXT(MAX(DiaCash!D139,DisOfic!D139,Lablink!D139,Lyreco!D139,Ocaña!D139,Taine!D139,Vistalegre!D139),\"0,000\")","v":"0,120 - 0,380"},{"$f":" TEXT(MIN(DiaCash!E139,DisOfic!E139,Lyreco!E139,Ocaña!E139,Taine!E139,Vistalegre!E139),\"0,00\") & \" \" & C139","v":"1,00 Envase 1000 unidades"},null,{"$f":"IF(DiaCash!G139>0,DiaCash!G139,\"\")","v":""},{"$f":"IF(DisOfic!G139>0,DisOfic!G139,\"\")","v":""},{"$f":"IF(Lablink!$G139>0,Lablink!$G139,\"\")","v":""},{"$f":"IF(Lyreco!G139>0,Lyreco!G139,\"\")","v":""},{"$f":"IF(Ocaña!G139>0,Ocaña!G139,\"\")","v":""},{"$f":"IF(Taine!G139>0,Taine!G139,\"\")","v":""},{"$f":"IF(Vistalegre!G139>0,Vistalegre!G139,\"\")","v":""},0,""]
[134,"Grapas Cobreadas o Galvanizadas 24/6 o equivalente (Petrus)","Envase 1000 unidades",{"$f":" TEXT(MIN(DiaCash!D140,DisOfic!D140,Lablink!D140,Lyreco!D140,Ocaña!D140,Taine!D140,Vistalegre!D140),\"0,000\") & \" - \" & TEXT(MAX(DiaCash!D140,DisOfic!D140,Lablink!D140,Lyreco!D140,Ocaña!D140,Taine!D140,Vistalegre!D140),\"0,000\")","v":"0,120 - 0,580"},{"$f":" TEXT(MIN(DiaCash!E140,DisOfic!E140,Lyreco!E140,Ocaña!E140,Taine!E140,Vistalegre!E140),\"0,00\") & \" \" & C140","v":"1,00 Envase 1000 unidades"},null,{"$f":"IF(DiaCash!G140>0,DiaCash!G140,\"\")","v":""},{"$f":"IF(DisOfic!G140>0,DisOfic!G140,\"\")","v":""},{"$f":"IF(Lablink!$G140>0,Lablink!$G140,\"\")","v":""},{"$f":"IF(Lyreco!G140>0,Lyreco!G140,\"\")","v":""},{"$f":"IF(Ocaña!G140>0,Ocaña!G140,\"\")","v":""},{"$f":"IF(Taine!G140>0,Taine!G140,\"\")","v":""},{"$f":"IF(Vistalegre!G140>0,Vistalegre!G140,\"\")","v":""},0,""]
[135,"Grapas Cobreadas o Galvanizadas 23/6 o equivalente","Envase 1000 unidades",{"$f":" TEXT(MIN(DiaCash!D141,DisOfic!D141,Lablink!D141,Lyreco!D141,Ocaña!D141,Taine!D141,Vistalegre!D141),\"0,000\") & \" - \" & TEXT(MAX(DiaCash!D141,DisOfic!D141,Lablink!D141,Lyreco!D141,Ocaña!D141,Taine!D141,Vistalegre!D141),\"0,000\")","v":"0,180 - 0,490"},{"$f":" TEXT(MIN(DiaCash!E141,DisOfic!E141,Lyreco!E141,Ocaña!E141,Taine!E141,Vistalegre!E141),\"0,00\") & \" \" & C141","v":"1,00 Envase 1000 unidades"},null,{"$f":"IF(DiaCash!G141>0,DiaCash!G141,\"\")","v":""},{"$f":"IF(DisOfic!G141>0,DisOfic!G141,\"\")","v":""},{"$f":"IF(Lablink!$G141>0,Lablink!$G141,\"\")","v":""},{"$f":"IF(Lyreco!G141>0,Lyreco!G141,\"\")","v":""},{"$f":"IF(Ocaña!G141>0,Ocaña!G141,\"\")","v":""},{"$f":"IF(Taine!G141>0,Taine!G141,\"\")","v":""},{"$f":"IF(Vistalegre!G141>0,Vistalegre!G141,\"\")","v":""},0,""]
[136,"Grapas Cobreadas o Galvanizadas 23/6 o equivalente (Petrus)","Envase 1000 unidades",{"$f":" TEXT(MIN(DiaCash!D142,DisOfic!D142,Lablink!D142,Lyreco!D142,Ocaña!D142,Taine!D142,Vistalegre!D142),\"0,000\") & \" - \" & TEXT(MAX(DiaCash!D142,DisOfic!D142,Lablink!D142,Lyreco!D142,Ocaña!D142,Taine!D142,Vistalegre!D142),\"0,000\")","v":"0,190 - 0,530"},{"$f":" TEXT(MIN(DiaCash!E142,DisOfic!E142,Lyreco!E142,Ocaña!E142,Taine!E142,Vistalegre!E142),\"0,00\") & \" \" & C142","v":"1,00 Envase 1000 unidades"},null,{"$f":"IF(DiaCash!G142>0,DiaCash!G142,\"\")","v":""},{"$f":"IF(DisOfic!G142>0,DisOfic!G142,\"\")","v":""},{"$f":"IF(Lablink!$G142>0,Lablink!$G142,\"\")","v":""},{"$f":"IF(Lyreco!G142>0,Lyreco!G142,\"\")","v":""},{"$f":"IF(Ocaña!G142>0,Ocaña!G142,\"\")","v":""},{"$f":"IF(Taine!G142>0,Taine!G142,\"\")","v":""},{"$f":"IF(Vistalegre!G142>0,Vistalegre!G142,\"\")","v":""},0,""]
[137,"Grapas Cobreadas o Galvanizadas 23/8 o equivalente","Envase 1000 unidades",{"$f":" TEXT(MIN(DiaCash!D143,DisOfic!D143,Lablink!D143,Lyreco!D143,Ocaña!D143,Taine!D143,Vistalegre!D143),\"0,000\") & \" - \" & TEXT(MAX(DiaCash!D143,DisOfic!D143,Lablink!D143,Lyreco!D143,Ocaña!D143,Taine!D143,Vistalegre!D143),\"0,000\")","v":"0,370 - 0,600"},{"$f":" TEXT(MIN(DiaCash!E143,DisOfic!E143,Lyreco!E143,Ocaña!E143,Taine!E143,Vistalegre!E143),\"0,00\") & \" \" & C143","v":"1,00 Envase 1000 unidades"},null,{"$f":"IF(DiaCash!G143>0,DiaCash!G143,\"\")","v":""},{"$f":"IF(DisOfic!G143>0,DisOfic!G143,\"\")","v":""},{"$f":"IF(Lablink!$G143>0,Lablink!$G143,\"\")","v":""},{"$f":"IF(Lyreco!G143>0,Lyreco!G143,\"\")","v":""},{"$f":"IF(Ocaña!G143>0,Ocaña!G143,\"\")","v":""},{"$f":"IF(Taine!G143>0,Taine!G143,\"\")","v":""},{"$f":"IF(Vistalegre!G143>0,Vistalegre!G143,\"\")","v":""},0,""]
[138,"Grapas Cobreadas o Galvanizadas 23/8 o equivalente (Petrus)","Envase 1000 unidades",{"$f":" TEXT(MIN(DiaCash!D144,DisOfic!D144,Lablink!D144,Lyreco!D144,Ocaña!D144,Taine!D144,Vistalegre!D144),\"0,000\") & \" - \" & TEXT(MAX(DiaCash!D144,DisOfic!D144,Lablink!D144,Lyreco!D144,Ocaña!D144,Taine!D144,Vistalegre!D144),\"0,000\")","v":"0,390 - 0,800"},{"$f":" TEXT(MIN(DiaCash!E144,DisOfic!E144,Lyreco!E144,Ocaña!E144,Taine!E144,Vistalegre!E144),\"0,00\") & \" \" & C144","v":"1,00 Envase 1000 unidades"},null,{"$f":"IF(DiaCash!G144>0,DiaCash!G144,\"\")","v":""},{"$f":"IF(DisOfic!G144>0,DisOfic!G144,\"\")","v":""},{"$f":"IF(Lablink!$G144>0,Lablink!$G144,\"\")","v":""},{"$f":"IF(Lyreco!G144>0,Lyreco!G144,\"\")","v":""},{"$f":"IF(Ocaña!G144>0,Ocaña!G144,\"\")","v":""},{"$f":"IF(Taine!G144>0,Taine!G144,\"\")","v":""},{"$f":"IF(Vistalegre!G144>0,Vistalegre!G144,\"\")","v":""},0,""]
[139,"Grapas Cobreadas o Galvanizadas 23/10 o equivalente","Envase 1000 unidades",{"$f":" TEXT(MIN(DiaCash!D145,DisOfic!D145,Lablink!D145,Lyreco!D145,Ocaña!D145,Taine!D145,Vistalegre!D145),\"0,000\") & \" - \" & TEXT(MAX(DiaCash!D145,DisOfic!D145,Lablink!D145,Lyreco!D145,Ocaña!D145,Taine!D145,Vistalegre!D145),\"0,000\")","v":"0,390 - 0,525"},{"$f":" TEXT(MIN(DiaCash!E145,DisOfic!E145,Lyreco!E145,Ocaña!E145,Taine!E145,Vistalegre!E145),\"0,00\") & \" \" & C145","v":"1,00 Envase 1000 unidades"},null,{"$f":"IF(DiaCash!G145>0,DiaCash!G145,\"\")","v":""},{"$f":"IF(DisOfic!G145>0,DisOfic!G145,\"\")","v":""},{"$f":"IF(Lablink!$G145>0,Lablink!$G145,\"\")","v":""},{"$f":"IF(Lyreco!G145>0,Lyreco!G145,\"\")","v":""},{"$f":"IF(Ocaña!G145>0,Ocaña!G145,\"\")","v":""},{"$f":"IF(Taine!G145>0,Taine!G145,\"\")","v":""},{"$f":"IF(Vistalegre!G145>0,Vistalegre!G145,\"\")","v":""},0,""]
[140,"Grapas Cobreadas o Galvanizadas 23/10 o equivalente (Petrus)","Envase 1000 unidades",{"$f":" TEXT(MIN(DiaCash!D146,DisOfic!D146,Lablink!D146,Lyreco!D146,Ocaña!D146,Taine!D146,Vistalegre!D146),\"0,000\") & \" - \" & TEXT(MAX(DiaCash!D146,DisOfic!D146,Lablink!D146,Lyreco!D146,Ocaña!D146,Taine!D146,Vistalegre!D146),\"0,000\")","v":"0,410 - 1,200"},{"$f":" TEXT(MIN(DiaCash!E146,DisOfic!E146,Lyreco!E146,Ocaña!E146,Taine!E146,Vistalegre!E146),\"0,00\") & \" \" & C146","v":"1,00 Envase 1000 unidades"},null,{"$f":"IF(DiaCash!G146>0,DiaCash!G146,\"\")","v":""},{"$f":"IF(DisOfic!G146>0,DisOfic!G146,\"\")","v":""},{"$f":"IF(Lablink!$G146>0,Lablink!$G146,\"\")","v":""},{"$f":"IF(Lyreco!G146>0,Lyreco!G146,\"\")","v":""},{"$f":"IF(Ocaña!G146>0,Ocaña!G146,\"\")","v":""},{"$f":"IF(Taine!G146>0,Taine!G146,\"\")","v":""},{"$f":"IF(Vistalegre!G146>0,Vistalegre!G146,\"\")","v":""},0,""]
[141,"Grapas Cobreadas o Galvanizadas 23/12 o equivalente","Envase 1000 unidades",{"$f":" TEXT(MIN(DiaCash!D147,DisOfic!D147,Lablink!D147,Lyreco!D147,Ocaña!D147,Taine!D147,Vistalegre!D147),\"0,000\") & \" - \" & TEXT(MAX(DiaCash!D147,DisOfic!D147,Lablink!D147,Lyreco!D147,Ocaña!D147,Taine!D147,Vistalegre!D147),\"0,000\")","v":"0,683 - 1,040"},{"$f":" TEXT(MIN(DiaCash!E147,DisOfic!E147,Lyreco!E147,Ocaña!E147,Taine!E147,Vistalegre!E147),\"0,00\") & \" \" & C147","v":"1,00 Envase 1000 unidades"},null,{"$f":"IF(DiaCash!G147>0,DiaCash!G147,\"\")","v":""},{"$f":"IF(DisOfic!G147>0,DisOfic!G147,\"\")","v":""},{"$f":"IF(Lablink!$G147>0,Lablink!$G147,\"\")","v":""},{"$f":"IF(Lyreco!G147>0,Lyreco!G147,\"\")","v":""},{"$f":"IF(Ocaña!G147>0,Ocaña!G147,\"\")","v":""},{"$f":"IF(Taine!G147>0,Taine!G147,\"\")","v":""},{"$f":"IF(Vistalegre!G147>0,Vistalegre!G147,\"\")","v":""},0,""]
[142,"Grapas Cobreadas o Galvanizadas 23/12 o equivalente (Petrus)","Envase 1000 unidades",{"$f":" TEXT(MIN(DiaCash!D148,DisOfic!D148,Lablink!D148,Lyreco!D148,Ocaña!D148,Taine!D148,Vistalegre!D148),\"0,000\") & \" - \" & TEXT(MAX(DiaCash!D148,DisOfic!D148,Lablink!D148,Lyreco!D148,Ocaña!D148,Taine!D148,Vistalegre!D148),\"0,000\")","v":"1,040 - 2,000"},{"$f":" TEXT(MIN(DiaCash!E148,DisOfic!E148,Lyreco!E148,Ocaña!E148,Taine!E148,Vistalegre!E148),\"0,00\") & \" \" & C148","v":"1,00 Envase 1000 unidades"},null,{"$f":"IF(DiaCash!G148>0,DiaCash!G148,\"\")","v":""},{"$f":"IF(DisOfic!G148>0,DisOfic!G148,\"\")","v":""},{"$f":"IF(Lablink!$G148>0,Lablink!$G148,\"\")","v":""},{"$f":"IF(Lyreco!G148>0,Lyreco!G148,\"\")","v":""},{"$f":"IF(Ocaña!G148>0,Ocaña!G148,\"\")","v":""},{"$f":"IF(Taine!G148>0,Taine!G148,\"\")","v":""},{"$f":"IF(Vistalegre!G148>0,Vistalegre!G148,\"\")","v":""},0,""]
[143,"Grapas Cobreadas o Galvanizadas 23/13 o equivalente","Envase 1000 unidades",{"$f":" TEXT(MIN(DiaCash!D149,DisOfic!D149,Lablink!D149,Lyreco!D149,Ocaña!D149,Taine!D149,Vistalegre!D149),\"0,000\") & \" - \" & TEXT(MAX(DiaCash!D149,DisOfic!D149,Lablink!D149,Lyreco!D149,Ocaña!D149,Taine!D149,Vistalegre!D149),\"0,000\")","v":"0,520 - 1,220"},{"$f":" TEXT(MIN(DiaCash!E149,DisOfic!E149,Lyreco!E149,Ocaña!E149,Taine!E149,Vistalegre!E149),\"0,00\") & \" \" & C149","v":"1,00 Envase 1000 unidades"},null,{"$f":"IF(DiaCash!G149>0,DiaCash!G149,\"\")","v":""},{"$f":"IF(DisOfic!G149>0,DisOfic!G149,\"\")","v":""},{"$f":"IF(Lablink!$G149>0,Lablink!$G149,\"\")","v":""},{"$f":"IF(Lyreco!G149>0,Lyreco!G149,\"\")","v":""},{"$f":"IF(Ocaña!G149>0,Ocaña!G149,\"\")","v":""},{"$f":"IF(Taine!G149>0,Taine!G149,\"\")","v":""},{"$f":"IF(Vistalegre!G149>0,Vistalegre!G149,\"\")","v":""},0,""]
[144,"Grapas Cobreadas o Galvanizadas 23/13 o equivalente (Petrus)","Envase 1000 unidades",{"$f":" TEXT(MIN(DiaCash!D150,DisOfic!D150,Lablink!D150,Lyreco!D150,Ocaña!D150,Taine!D150,Vistalegre!D150),\"0,000\") & \" - \" & TEXT(MAX(DiaCash!D150,DisOfic!D150,Lablink!D150,Lyreco!D150,Ocaña!D150,Taine!D150,Vistalegre!D150),\"0,000\")","v":"0,520 - 2,000"},{"$f":" TEXT(MIN(DiaCash!E150,DisOfic!E150,Lyreco!E150,Ocaña!E150,Taine!E150,Vistalegre!E150),\"0,00\") & \" \" & C150","v":"1,00 Envase 1000 unidades"},null,{"$f":"IF(DiaCash!G150>0,DiaCash!G150,\"\")","v":""},{"$f":"IF(DisOfic!G150>0,DisOfic!G150,\"\")","v":""},{"$f":"IF(Lablink!$G150>0,Lablink!$G150,\"\")","v":""},{"$f":"IF(Lyreco!G150>0,Lyreco!G150,\"\")","v":""},{"$f":"IF(Ocaña!G150>0,Ocaña!G150,\"\")","v":""},{"$f":"IF(Taine!G150>0,Taine!G150,\"\")","v":""},{"$f":"IF(Vistalegre!G150>0,Vistalegre!G150,\"\")","v":""},0,""]
[145,"Grapas Cobreadas o Galvanizadas 23/15 o equivalente","Envase 1000 unidades",{"$f":" TEXT(MIN(DiaCash!D151,DisOfic!D151,Lablink!D151,Lyreco!D151,Ocaña!D151,Taine!D151,Vistalegre!D151),\"0,000\") & \" - \" & TEXT(MAX(DiaCash!D151,DisOfic!D151,Lablink!D151,Lyreco!D151,Ocaña!D151,Taine!D151,Vistalegre!D151),\"0,000\")","v":"0,680 - 1,130"},{"$f":" TEXT(MIN(DiaCash!E151,DisOfic!E151,Lyreco!E151,Ocaña!E151,Taine!E151,Vistalegre!E151),\"0,00\") & \" \" & C151","v":"1,00 Envase 1000 unidades"},null,{"$f":"IF(DiaCash!G151>0,DiaCash!G151,\"\")","v":""},{"$f":"IF(DisOfic!G151>0,DisOfic!G151,\"\")","v":""},{"$f":"IF(Lablink!$G151>0,Lablink!$G151,\"\")","v":""},{"$f":"IF(Lyreco!G151>0,Lyreco!G151,\"\")","v":""},{"$f":"IF(Ocaña!G151>0,Ocaña!G151,\"\")","v":""},{"$f":"IF(Taine!G151>0,Taine!G151,\"\")","v":""},{"$f":"IF(Vistalegre!G151>0,Vistalegre!G151,\"\")","v":""},0,""]
[146,"Grapas Cobreadas o Galvanizadas 23/15 o equivalente (Petrus)","Envase 1000 unidades",{"$f":" TEXT(MIN(DiaCash!D152,DisOfic!D152,Lablink!D152,Lyreco!D152,Ocaña!D152,Taine!D152,Vistalegre!D152),\"0,000\") & \" - \" & TEXT(MAX(DiaCash!D152,DisOfic!D152,Lablink!D152,Lyreco!D152,Ocaña!D152,Taine!D152,Vistalegre!D152),\"0,000\")","v":"0,680 - 2,000"},{"$f":" TEXT(MIN(DiaCash!E152,DisOfic!E152,Lyreco!E152,Ocaña!E152,Taine!E152,Vistalegre!E152),\"0,00\") & \" \" & C152","v":"1,00 Envase 1000 unidades"},null,{"$f":"IF(DiaCash!G152>0,DiaCash!G152,\"\")","v":""},{"$f":"IF(DisOfic!G152>0,DisOfic!G152,\"\")","v":""},{"$f":"IF(Lablink!$G152>0,Lablink!$G152,\"\")","v":""},{"$f":"IF(Lyreco!G152>0,Lyreco!G152,\"\")","v":""},{"$f":"IF(Ocaña!G152>0,Ocaña!G152,\"\")","v":""},{"$f":"IF(Taine!G152>0,Taine!G152,\"\")","v":""},{"$f":"IF(Vistalegre!G152>0,Vistalegre!G152,\"\")","v":""},0,""]
[147,"Grapas Cobreadas o Galvanizadas 23/17 o equivalente","Envase 1000 unidades",{"$f":" TEXT(MIN(DiaCash!D153,DisOfic!D153,Lablink!D153,Lyreco!D153,Ocaña!D153,Taine!D153,Vistalegre!D153),\"0,000\") & \" - \" & TEXT(MAX(DiaCash!D153,DisOfic!D153,Lablink!D153,Lyreco!D153,Ocaña!D153,Taine!D153,Vistalegre!D153),\"0,000\")","v":"0,930 - 2,040"},{"$f":" TEXT(MIN(DiaCash!E153,DisOfic!E153,Lyreco!E153,Ocaña!E153,Taine!E153,Vistalegre!E153),\"0,00\") & \" \" & C153","v":"1,00 Envase 1000 unidades"},null,{"$f":"IF(DiaCash!G153>0,DiaCash!G153,\"\")","v":""},{"$f":"IF(DisOfic!G153>0,DisOfic!G153,\"\")","v":""},{"$f":"IF(Lablink!$G153>0,Lablink!$G153,\"\")","v":""},{"$f":"IF(Lyreco!G153>0,Lyreco!G153,\"\")","v":""},{"$f":"IF(Ocaña!G153>0,Ocaña!G153,\"\")","v":""},{"$f":"IF(Taine!G153>0,Taine!G153,\"\")","v":""},{"$f":"IF(Vistalegre!G153>0,Vistalegre!G153,\"\")","v":""},0,""]
[148,"Grapas Cobreadas o Galvanizadas 23/17 o equivalente (Petrus)","Envase 1000 unidades",{"$f":" TEXT(MIN(DiaCash!D154,DisOfic!D154,Lablink!D154,Lyreco!D154,Ocaña!D154,Taine!D154,Vistalegre!D154),\"0,000\") & \" - \" & TEXT(MAX(DiaCash!D154,DisOfic!D154,Lablink!D154,Lyreco!D154,Ocaña!D154,Taine!D154,Vistalegre!D154),\"0,000\")","v":"1,000 - 4,070"},{"$f":" TEXT(MIN(DiaCash!E154,DisOfic!E154,Lyreco!E154,Ocaña!E154,Taine!E154,Vistalegre!E154),\"0,00\") & \" \" & C154","v":"1,00 Envase 1000 unidades"},null,{"$f":"IF(DiaCash!G154>0,DiaCash!G154,\"\")","v":""},{"$f":"IF(DisOfic!G154>0,DisOfic!G154,\"\")","v":""},{"$f":"IF(Lablink!$G154>0,Lablink!$G154,\"\")","v":""},{"$f":"IF(Lyreco!G154>0,Lyreco!G154,\"\")","v":""},{"$f":"IF(Ocaña!G154>0,Ocaña!G154,\"\")","v":""},{"$f":"IF(Taine!G154>0,Taine!G154,\"\")","v":""},{"$f":"IF(Vistalegre!G154>0,Vistalegre!G154,\"\")","v":""},0,""]
[149,"Grapas Cobreadas o Galvanizadas 23/20 o equivalente","Envase 1000 unidades",{"$f":" TEXT(MIN(DiaCash!D155,DisOfic!D155,Lablink!D155,Lyreco!D155,Ocaña!D155,Taine!D155,Vistalegre!D155),\"0,000\") & \" - \" & TEXT(MAX(DiaCash!D155,DisOfic!D155,Lablink!D155,Lyreco!D155,Ocaña!D155,Taine!D155,Vistalegre!D155),\"0,000\")","v":"1,100 - 3,260"},{"$f":" TEXT(MIN(DiaCash!E155,DisOfic!E155,Lyreco!E155,Ocaña!E155,Taine!E155,Vistalegre!E155),\"0,00\") & \" \" & C155","v":"1,00 Envase 1000 unidades"},null,{"$f":"IF(DiaCash!G155>0,DiaCash!G155,\"\")","v":""},{"$f":"IF(DisOfic!G155>0,DisOfic!G155,\"\")","v":""},{"$f":"IF(Lablink!$G155>0,Lablink!$G155,\"\")","v":""},{"$f":"IF(Lyreco!G155>0,Lyreco!G155,\"\")","v":""},{"$f":"IF(Ocaña!G155>0,Ocaña!G155,\"\")","v":""},{"$f":"IF(Taine!G155>0,Taine!G155,\"\")","v":""},{"$f":"IF(Vistalegre!G155>0,Vistalegre!G155,\"\")","v":""},0,""]
[150,"Grapas Cobreadas o Galvanizadas 23/20 o equivalente (Petrus)","Envase 1000 unidades",{"$f":" TEXT(MIN(DiaCash!D156,DisOfic!D156,Lablink!D156,Lyreco!D156,Ocaña!D156,Taine!D156,Vistalegre!D156),\"0,000\") & \" - \" & TEXT(MAX(DiaCash!D156,DisOfic!D156,Lablink!D156,Lyreco!D156,Ocaña!D156,Taine!D156,Vistalegre!D156),\"0,000\")","v":"1,170 - 4,750"},{"$f":" TEXT(MIN(DiaCash!E156,DisOfic!E156,Lyreco!E156,Ocaña!E156,Taine!E156,Vistalegre!E156),\"0,00\") & \" \" & C156","v":"1,00 Envase 1000 unidades"},null,{"$f":"IF(DiaCash!G156>0,DiaCash!G156,\"\")","v":""},{"$f":"IF(DisOfic!G156>0,DisOfic!G156,\"\")","v":""},{"$f":"IF(Lablink!$G156>0,Lablink!$G156,\"\")","v":""},{"$f":"IF(Lyreco!G156>0,Lyreco!G156,\"\")","v":""},{"$f":"IF(Ocaña!G156>0,Ocaña!G156,\"\")","v":""},{"$f":"IF(Taine!G156>0,Taine!G156,\"\")","v":""},{"$f":"IF(Vistalegre!G156>0,Vistalegre!G156,\"\")","v":""},0,""]
[151,"Grapas Cobreadas o Galvanizadas 23/24 o equivalente","Envase 1000 unidades",{"$f":" TEXT(MIN(DiaCash!D157,DisOfic!D157,Lablink!D157,Lyreco!D157,Ocaña!D157,Taine!D157,Vistalegre!D157),\"0,000\") & \" - \" & TEXT(MAX(DiaCash!D157,DisOfic!D157,Lablink!D157,Lyreco!D157,Ocaña!D157,Taine!D157,Vistalegre!D157),\"0,000\")","v":"2,520 - 3,402"},{"$f":" TEXT(MIN(DiaCash!E157,DisOfic!E157,Lyreco!E157,Ocaña!E157,Taine!E157,Vistalegre!E157),\"0,00\") & \" \" & C157","v":"1,00 Envase 1000 unidades"},null,{"$f":"IF(DiaCash!G157>0,DiaCash!G157,\"\")","v":""},{"$f":"IF(DisOfic!G157>0,DisOfic!G157,\"\")","v":""},{"$f":"IF(Lablink!$G157>0,Lablink!$G157,\"\")","v":""},{"$f":"IF(Lyreco!G157>0,Lyreco!G157,\"\")","v":""},{"$f":"IF(Ocaña!G157>0,Ocaña!G157,\"\")","v":""},{"$f":"IF(Taine!G157>0,Taine!G157,\"\")","v":""},{"$f":"IF(Vistalegre!G157>0,Vistalegre!G157,\"\")","v":""},0,""]
[152,"Grapas Cobreadas o Galvanizadas 23/24 o equivalente (Petrus)","Envase 1000 unidades",{"$f":" TEXT(MIN(DiaCash!D158,DisOfic!D158,Lablink!D158,Lyreco!D158,Ocaña!D158,Taine!D158,Vistalegre!D158),\"0,000\") & \" - \" & TEXT(MAX(DiaCash!D158,DisOfic!D158,Lablink!D158,Lyreco!D158,Ocaña!D158,Taine!D158,Vistalegre!D158),\"0,000\")","v":"1,700 - 6,000"},{"$f":" TEXT(MIN(DiaCash!E158,DisOfic!E158,Lyreco!E158,Ocaña!E158,Taine!E158,Vistalegre!E158),\"0,00\") & \" \" & C158","v":"1,00 Envase 1000 unidades"},null,{"$f":"IF(DiaCash!G158>0,DiaCash!G158,\"\")","v":""},{"$f":"IF(DisOfic!G158>0,DisOfic!G158,\"\")","v":""},{"$f":"IF(Lablink!$G158>0,Lablink!$G158,\"\")","v":""},{"$f":"IF(Lyreco!G158>0,Lyreco!G158,\"\")","v":""},{"$f":"IF(Ocaña!G158>0,Ocaña!G158,\"\")","v":""},{"$f":"IF(Taine!G158>0,Taine!G158,\"\")","v":""},{"$f":"IF(Vistalegre!G158>0,Vistalegre!G158,\"\")","v":""},0,""]
[153,"Grapas Galvanizadas 26/6 o equivalente","Envase 1000 unidades",{"$f":" TEXT(MIN(DiaCash!D159,DisOfic!D159,Lablink!D159,Lyreco!D159,Ocaña!D159,Taine!D159,Vistalegre!D159),\"0,000\") & \" - \" & TEXT(MAX(DiaCash!D159,DisOfic!D159,Lablink!D159,Lyreco!D159,Ocaña!D159,Taine!D159,Vistalegre!D159),\"0,000\")","v":"0,130 - 0,435"},{"$f":" TEXT(MIN(DiaCash!E159,DisOfic!E159,Lyreco!E159,Ocaña!E159,Taine!E159,Vistalegre!E159),\"0,00\") & \" \" & C159","v":"1,00 Envase 1000 unidades"},null,{"$f":"IF(DiaCash!G159>0,DiaCash!G159,\"\")","v":""},{"$f":"IF(DisOfic!G159>0,DisOfic!G159,\"\")","v":""},{"$f":"IF(Lablink!$G159>0,Lablink!$G159,\"\")","v":""},{"$f":"IF(Lyreco!G159>0,Lyreco!G159,\"\")","v":""},{"$f":"IF(Ocaña!G159>0,Ocaña!G159,\"\")","v":""},{"$f":"IF(Taine!G159>0,Taine!G159,\"\")","v":""},{"$f":"IF(Vistalegre!G159>0,Vistalegre!G159,\"\")","v":""},0,""]
[154,"Grapas Galvanizadas 26/6 o equivalente (Petrus)","Envase 1000 unidades",{"$f":" TEXT(MIN(DiaCash!D160,DisOfic!D160,Lablink!D160,Lyreco!D160,Ocaña!D160,Taine!D160,Vistalegre!D160),\"0,000\") & \" - \" & TEXT(MAX(DiaCash!D160,DisOfic!D160,Lablink!D160,Lyreco!D160,Ocaña!D160,Taine!D160,Vistalegre!D160),\"0,000\")","v":"0,302 - 0,710"},{"$f":" TEXT(MIN(DiaCash!E160,DisOfic!E160,Lyreco!E160,Ocaña!E160,Taine!E160,Vistalegre!E160),\"0,00\") & \" \" & C160","v":"1,00 Envase 1000 unidades"},null,{"$f":"IF(DiaCash!G160>0,DiaCash!G160,\"\")","v":""},{"$f":"IF(DisOfic!G160>0,DisOfic!G160,\"\")","v":""},{"$f":"IF(Lablink!$G160>0,Lablink!$G160,\"\")","v":""},{"$f":"IF(Lyreco!G160>0,Lyreco!G160,\"\")","v":""},{"$f":"IF(Ocaña!G160>0,Ocaña!G160,\"\")","v":""},{"$f":"IF(Taine!G160>0,Taine!G160,\"\")","v":""},{"$f":"IF(Vistalegre!G160>0,Vistalegre!G160,\"\")","v":""},0,""]
[155,"Grapas Galvanizadas 26/8 o equivalente","Envase 5000 unidades",{"$f":" TEXT(MIN(DiaCash!D161,DisOfic!D161,Lablink!D161,Lyreco!D161,Ocaña!D161,Taine!D161,Vistalegre!D161),\"0,000\") & \" - \" & TEXT(MAX(DiaCash!D161,DisOfic!D161,Lablink!D161,Lyreco!D161,Ocaña!D161,Taine!D161,Vistalegre!D161),\"0,000\")","v":"2,360 - 4,740"},{"$f":" TEXT(MIN(DiaCash!E161,DisOfic!E161,Lyreco!E161,Ocaña!E161,Taine!E161,Vistalegre!E161),\"0,00\") & \" \" & C161","v":"1,00 Envase 5000 unidades"},null,{"$f":"IF(DiaCash!G161>0,DiaCash!G161,\"\")","v":""},{"$f":"IF(DisOfic!G161>0,DisOfic!G161,\"\")","v":""},{"$f":"IF(Lablink!$G161>0,Lablink!$G161,\"\")","v":""},{"$f":"IF(Lyreco!G161>0,Lyreco!G161,\"\")","v":""},{"$f":"IF(Ocaña!G161>0,Ocaña!G161,\"\")","v":""},{"$f":"IF(Taine!G161>0,Taine!G161,\"\")","v":""},{"$f":"IF(Vistalegre!G161>0,Vistalegre!G161,\"\")","v":""},0,""]
[156,"Grapas Galvanizadas 26/8 o equivalente (Petrus)","Envase 5000 unidades",{"$f":" TEXT(MIN(DiaCash!D162,DisOfic!D162,Lablink!D162,Lyreco!D162,Ocaña!D162,Taine!D162,Vistalegre!D162),\"0,000\") & \" - \" & TEXT(MAX(DiaCash!D162,DisOfic!D162,Lablink!D162,Lyreco!D162,Ocaña!D162,Taine!D162,Vistalegre!D162),\"0,000\")","v":"2,360 - 5,300"},{"$f":" TEXT(MIN(DiaCash!E162,DisOfic!E162,Lyreco!E162,Ocaña!E162,Taine!E162,Vistalegre!E162),\"0,00\") & \" \" & C162","v":"1,00 Envase 5000 unidades"},null,{"$f":"IF(DiaCash!G162>0,DiaCash!G162,\"\")","v":""},{"$f":"IF(DisOfic!G162>0,DisOfic!G162,\"\")","v":""},{"$f":"IF(Lablink!$G162>0,Lablink!$G162,\"\")","v":""},{"$f":"IF(Lyreco!G162>0,Lyreco!G162,\"\")","v":""},{"$f":"IF(Ocaña!G162>0,Ocaña!G162,\"\")","v":""},{"$f":"IF(Taine!G162>0,Taine!G162,\"\")","v":""},{"$f":"IF(Vistalegre!G162>0,Vistalegre!G162,\"\")","v":""},0,""]
[157,"Quita Grapas tipo pinza cuerpo metálico","Unidad",{"$f":" TEXT(MIN(DiaCash!D163,DisOfic!D163,Lablink!D163,Lyreco!D163,Ocaña!D163,Taine!D163,Vistalegre!D163),\"0,000\") & \" - \" & TEXT(MAX(DiaCash!D163,DisOfic!D163,Lablink!D163,Lyreco!D163,Ocaña!D163,Taine!D163,Vistalegre!D163),\"0,000\")","v":"0,200 - 0,334"},{"$f":" TEXT(MIN(DiaCash!E163,DisOfic!E163,Lyreco!E163,Ocaña!E163,Taine!E163,Vistalegre!E163),\"0,00\") & \" \" & C163","v":"1,00 Unidad"},null,{"$f":"IF(DiaCash!G163>0,DiaCash!G163,\"\")","v":""},{"$f":"IF(DisOfic!G163>0,DisOfic!G163,\"\")","v":""},{"$f":"IF(Lablink!$G163>0,Lablink!$G163,\"\")","v":""},{"$f":"IF(Lyreco!G163>0,Lyreco!G163,\"\")","v":""},{"$f":"IF(Ocaña!G163>0,Ocaña!G163,\"\")","v":""},{"$f":"IF(Taine!G163>0,Taine!G163,\"\")","v":""},{"$f":"IF(Vistalegre!G163>0,Vistalegre!G163,\"\")","v":""},0,""]
[158,"Quita Grapas tipo pinza cuerpo metálico (Petrus, Novus)","Unidad",{"$f":" TEXT(MIN(DiaCash!D164,DisOfic!D164,Lablink!D164,Lyreco!D164,Ocaña!D164,Taine!D164,Vistalegre!D164),\"0,000\") & \" - \" & TEXT(MAX(DiaCash!D164,DisOfic!D164,Lablink!D164,Lyreco!D164,Ocaña!D164,Taine!D164,Vistalegre!D164),\"0,000\")","v":"0,210 - 2,240"},{"$f":" TEXT(MIN(DiaCash!E164,DisOfic!E164,Lyreco!E164,Ocaña!E164,Taine!E164,Vistalegre!E164),\"0,00\") & \" \" & C164","v":"1,00 Unidad"},null,{"$f":"IF(DiaCash!G164>0,DiaCash!G164,\"\")","v":""},{"$f":"IF(DisOfic!G164>0,DisOfic!G164,\"\")","v":""},{"$f":"IF(Lablink!$G164>0,Lablink!$G164,\"\")","v":""},{"$f":"IF(Lyreco!G164>0,Lyreco!G164,\"\")","v":""},{"$f":"IF(Ocaña!G164>0,Ocaña!G164,\"\")","v":""},{"$f":"IF(Taine!G164>0,Taine!G164,\"\")","v":""},{"$f":"IF(Vistalegre!G164>0,Vistalegre!G164,\"\")","v":""},0,""]
[159,"Perforadora  para papel 4 punzones. Capacidad Minima 30 hojas de 80gr/m2. Guia de posicicionamiento y deposito desperdicios. Distancia entre taladros 80mm","Unidad",{"$f":" TEXT(MIN(DiaCash!D165,DisOfic!D165,Lablink!D165,Lyreco!D165,Ocaña!D165,Taine!D165,Vistalegre!D165),\"0,000\") & \" - \" & TEXT(MAX(DiaCash!D165,DisOfic!D165,Lablink!D165,Lyreco!D165,Ocaña!D165,Taine!D165,Vistalegre!D165),\"0,000\")","v":"2,110 - 34,740"},{"$f":" TEXT(MIN(DiaCash!E165,DisOfic!E165,Lyreco!E165,Ocaña!E165,Taine!E165,Vistalegre!E165),\"0,00\") & \" \" & C165","v":"1,00 Unidad"},null,{"$f":"IF(DiaCash!G165>0,DiaCash!G165,\"\")","v":""},{"$f":"IF(DisOfic!G165>0,DisOfic!G165,\"\")","v":""},{"$f":"IF(Lablink!$G165>0,Lablink!$G165,\"\")","v":""},{"$f":"IF(Lyreco!G165>0,Lyreco!G165,\"\")","v":""},{"$f":"IF(Ocaña!G165>0,Ocaña!G165,\"\")","v":""},{"$f":"IF(Taine!G165>0,Taine!G165,\"\")","v":""},{"$f":"IF(Vistalegre!G165>0,Vistalegre!G165,\"\")","v":""},0,""]
[160,"Perforadora  para papel 4 punzones. Capacidad Minima 30 hojas de 80gr/m2. Guia de posicicionamiento y deposito desperdicios. Distancia entre taladros 80mm (Petrus)","Unidad",{"$f":" TEXT(MIN(DiaCash!D166,DisOfic!D166,Lablink!D166,Lyreco!D166,Ocaña!D166,Taine!D166,Vistalegre!D166),\"0,000\") & \" - \" & TEXT(MAX(DiaCash!D166,DisOfic!D166,Lablink!D166,Lyreco!D166,Ocaña!D166,Taine!D166,Vistalegre!D166),\"0,000\")","v":"34,736 - 47,350"},{"$f":" TEXT(MIN(DiaCash!E166,DisOfic!E166,Lyreco!E166,Ocaña!E166,Taine!E166,Vistalegre!E166),\"0,00\") & \" \" & C166","v":"1,00 Unidad"},null,{"$f":"IF(DiaCash!G166>0,DiaCash!G166,\"\")","v":""},{"$f":"IF(DisOfic!G166>0,DisOfic!G166,\"\")","v":""},{"$f":"IF(Lablink!$G166>0,Lablink!$G166,\"\")","v":""},{"$f":"IF(Lyreco!G166>0,Lyreco!G166,\"\")","v":""},{"$f":"IF(Ocaña!G166>0,Ocaña!G166,\"\")","v":""},{"$f":"IF(Taine!G166>0,Taine!G166,\"\")","v":""},{"$f":"IF(Vistalegre!G166>0,Vistalegre!G166,\"\")","v":""},0,""]
[161,"Perforadora  para papel 2 Punzones. Capacidad mínima 20 hojas de 80gr/m2. Guia de posicicionamiento y deposito desperdicios. Distancia entre taladros 80mm ","Unidad",{"$f":" TEXT(MIN(DiaCash!D167,DisOfic!D167,Lablink!D167,Lyreco!D167,Ocaña!D167,Taine!D167,Vistalegre!D167),\"0,000\") & \" - \" & TEXT(MAX(DiaCash!D167,DisOfic!D167,Lablink!D167,Lyreco!D167,Ocaña!D167,Taine!D167,Vistalegre!D167),\"0,000\")","v":"1,410 - 5,020"},{"$f":" TEXT(MIN(DiaCash!E167,DisOfic!E167,Lyreco!E167,Ocaña!E167,Taine!E167,Vistalegre!E167),\"0,00\") & \" \" & C167","v":"1,00 Unidad"},null,{"$f":"IF(DiaCash!G167>0,DiaCash!G167,\"\")","v":""},{"$f":"IF(DisOfic!G167>0,DisOfic!G167,\"\")","v":""},{"$f":"IF(Lablink!$G167>0,Lablink!$G167,\"\")","v":""},{"$f":"IF(Lyreco!G167>0,Lyreco!G167,\"\")","v":""},{"$f":"IF(Ocaña!G167>0,Ocaña!G167,\"\")","v":""},{"$f":"IF(Taine!G167>0,Taine!G167,\"\")","v":""},{"$f":"IF(Vistalegre!G167>0,Vistalegre!G167,\"\")","v":""},0,""]
[162,"Perforadora  para papel 2 Punzones. Capacidad mínima 20 hojas de 80gr/m2. Guia de posicicionamiento y deposito desperdicios. Distancia entre taladros 80mm (Petrus)","Unidad",{"$f":" TEXT(MIN(DiaCash!D168,DisOfic!D168,Lablink!D168,Lyreco!D168,Ocaña!D168,Taine!D168,Vistalegre!D168),\"0,000\") & \" - \" & TEXT(MAX(DiaCash!D168,DisOfic!D168,Lablink!D168,Lyreco!D168,Ocaña!D168,Taine!D168,Vistalegre!D168),\"0,000\")","v":"1,660 - 9,990"},{"$f":" TEXT(MIN(DiaCash!E168,DisOfic!E168,Lyreco!E168,Ocaña!E168,Taine!E168,Vistalegre!E168),\"0,00\") & \" \" & C168","v":"1,00 Unidad"},null,{"$f":"IF(DiaCash!G168>0,DiaCash!G168,\"\")","v":""},{"$f":"IF(DisOfic!G168>0,DisOfic!G168,\"\")","v":""},{"$f":"IF(Lablink!$G168>0,Lablink!$G168,\"\")","v":""},{"$f":"IF(Lyreco!G168>0,Lyreco!G168,\"\")","v":""},{"$f":"IF(Ocaña!G168>0,Ocaña!G168,\"\")","v":""},{"$f":"IF(Taine!G168>0,Taine!G168,\"\")","v":""},{"$f":"IF(Vistalegre!G168>0,Vistalegre!G168,\"\")","v":""},0,""]
[163,"Perforadora  para papel 2 Punzones. Capacidad mínima 60 hojas de 80gr/m2. Guia de Posicicionamiento y deposito desperdicios. Distancia entre taladros 80mm","Unidad",{"$f":" TEXT(MIN(DiaCash!D169,DisOfic!D169,Lablink!D169,Lyreco!D169,Ocaña!D169,Taine!D169,Vistalegre!D169),\"0,000\") & \" - \" & TEXT(MAX(DiaCash!D169,DisOfic!D169,Lablink!D169,Lyreco!D169,Ocaña!D169,Taine!D169,Vistalegre!D169),\"0,000\")","v":"8,940 - 15,957"},{"$f":" TEXT(MIN(DiaCash!E169,DisOfic!E169,Lyreco!E169,Ocaña!E169,Taine!E169,Vistalegre!E169),\"0,00\") & \" \" & C169","v":"1,00 Unidad"},null,{"$f":"IF(DiaCash!G169>0,DiaCash!G169,\"\")","v":""},{"$f":"IF(DisOfic!G169>0,DisOfic!G169,\"\")","v":""},{"$f":"IF(Lablink!$G169>0,Lablink!$G169,\"\")","v":""},{"$f":"IF(Lyreco!G169>0,Lyreco!G169,\"\")","v":""},{"$f":"IF(Ocaña!G169>0,Ocaña!G169,\"\")","v":""},{"$f":"IF(Taine!G169>0,Taine!G169,\"\")","v":""},{"$f":"IF(Vistalegre!G169>0,Vistalegre!G169,\"\")","v":""},0,""]
[164,"Perforadora  para papel 2 Punzones. Capacidad mínima 60 hojas de 80gr/m2. Guia de Posicicionamiento y deposito desperdicios. Distancia entre taladros 80mm (Petrus)","Unidad",{"$f":" TEXT(MIN(DiaCash!D170,DisOfic!D170,Lablink!D170,Lyreco!D170,Ocaña!D170,Taine!D170,Vistalegre!D170),\"0,000\") & \" - \" & TEXT(MAX(DiaCash!D170,DisOfic!D170,Lablink!D170,Lyreco!D170,Ocaña!D170,Taine!D170,Vistalegre!D170),\"0,000\")","v":"9,530 - 22,000"},{"$f":" TEXT(MIN(DiaCash!E170,DisOfic!E170,Lyreco!E170,Ocaña!E170,Taine!E170,Vistalegre!E170),\"0,00\") & \" \" & C170","v":"1,00 Unidad"},null,{"$f":"IF(DiaCash!G170>0,DiaCash!G170,\"\")","v":""},{"$f":"IF(DisOfic!G170>0,DisOfic!G170,\"\")","v":""},{"$f":"IF(Lablink!$G170>0,Lablink!$G170,\"\")","v":""},{"$f":"IF(Lyreco!G170>0,Lyreco!G170,\"\")","v":""},{"$f":"IF(Ocaña!G170>0,Ocaña!G170,\"\")","v":""},{"$f":"IF(Taine!G170>0,Taine!G170,\"\")","v":""},{"$f":"IF(Vistalegre!G170>0,Vistalegre!G170,\"\")","v":""},0,""]
[165,"Papelera metálica rejilla cuadrada o redonda. Mínimo:  30cm altura X 25cm diámetro","Unidad",{"$f":" TEXT(MIN(DiaCash!D171,DisOfic!D171,Lablink!D171,Lyreco!D171,Ocaña!D171,Taine!D171,Vistalegre!D171),\"0,000\") & \" - \" & TEXT(MAX(DiaCash!D171,DisOfic!D171,Lablink!D171,Lyreco!D171,Ocaña!D171,Taine!D171,Vistalegre!D171),\"0,000\")","v":"2,652 - 5,000"},{"$f":" TEXT(MIN(DiaCash!E171,DisOfic!E171,Lyreco!E171,Ocaña!E171,Taine!E171,Vistalegre!E171),\"0,00\") & \" \" & C171","v":"1,00 Unidad"},null,{"$f":"IF(DiaCash!G171>0,DiaCash!G171,\"\")","v":""},{"$f":"IF(DisOfic!G171>0,DisOfic!G171,\"\")","v":""},{"$f":"IF(Lablink!$G171>0,Lablink!$G171,\"\")","v":""},{"$f":"IF(Lyreco!G171>0,Lyreco!G171,\"\")","v":""},{"$f":"IF(Ocaña!G171>0,Ocaña!G171,\"\")","v":""},{"$f":"IF(Taine!G171>0,Taine!G171,\"\")","v":""},{"$f":"IF(Vistalegre!G171>0,Vistalegre!G171,\"\")","v":""},0,""]
[166,"Fechador de entintaje automático. Con placa de texto altura mínima de impresión de 4 mm.","Unidad",{"$f":" TEXT(MIN(DiaCash!D172,DisOfic!D172,Lablink!D172,Lyreco!D172,Ocaña!D172,Taine!D172,Vistalegre!D172),\"0,000\") & \" - \" & TEXT(MAX(DiaCash!D172,DisOfic!D172,Lablink!D172,Lyreco!D172,Ocaña!D172,Taine!D172,Vistalegre!D172),\"0,000\")","v":"4,950 - 20,370"},{"$f":" TEXT(MIN(DiaCash!E172,DisOfic!E172,Lyreco!E172,Ocaña!E172,Taine!E172,Vistalegre!E172),\"0,00\") & \" \" & C172","v":"1,00 Unidad"},null,{"$f":"IF(DiaCash!G172>0,DiaCash!G172,\"\")","v":""},{"$f":"IF(DisOfic!G172>0,DisOfic!G172,\"\")","v":""},{"$f":"IF(Lablink!$G172>0,Lablink!$G172,\"\")","v":""},{"$f":"IF(Lyreco!G172>0,Lyreco!G172,\"\")","v":""},{"$f":"IF(Ocaña!G172>0,Ocaña!G172,\"\")","v":""},{"$f":"IF(Taine!G172>0,Taine!G172,\"\")","v":""},{"$f":"IF(Vistalegre!G172>0,Vistalegre!G172,\"\")","v":""},0,""]
[167,"Numerador automático de 6 dígitos con armazón metálico y ruedas. Altura de impresión mínima de 4, 5 mm.","Unidad",{"$f":" TEXT(MIN(DiaCash!D173,DisOfic!D173,Lablink!D173,Lyreco!D173,Ocaña!D173,Taine!D173,Vistalegre!D173),\"0,000\") & \" - \" & TEXT(MAX(DiaCash!D173,DisOfic!D173,Lablink!D173,Lyreco!D173,Ocaña!D173,Taine!D173,Vistalegre!D173),\"0,000\")","v":"13,750 - 39,160"},{"$f":" TEXT(MIN(DiaCash!E173,DisOfic!E173,Lyreco!E173,Ocaña!E173,Taine!E173,Vistalegre!E173),\"0,00\") & \" \" & C173","v":"1,00 Unidad"},null,{"$f":"IF(DiaCash!G173>0,DiaCash!G173,\"\")","v":""},{"$f":"IF(DisOfic!G173>0,DisOfic!G173,\"\")","v":""},{"$f":"IF(Lablink!$G173>0,Lablink!$G173,\"\")","v":""},{"$f":"IF(Lyreco!G173>0,Lyreco!G173,\"\")","v":""},{"$f":"IF(Ocaña!G173>0,Ocaña!G173,\"\")","v":""},{"$f":"IF(Taine!G173>0,Taine!G173,\"\")","v":""},{"$f":"IF(Vistalegre!G173>0,Vistalegre!G173,\"\")","v":""},0,""]
[168,"Sello de caucho circular grabado. Tamaño área para texto de hasta 50 mm  de diámetro.","Unidad",{"$f":" TEXT(MIN(DiaCash!D174,DisOfic!D174,Lablink!D174,Lyreco!D174,Ocaña!D174,Taine!D174,Vistalegre!D174),\"0,000\") & \" - \" & TEXT(MAX(DiaCash!D174,DisOfic!D174,Lablink!D174,Lyreco!D174,Ocaña!D174,Taine!D174,Vistalegre!D174),\"0,000\")","v":"6,500 - 12,500"},{"$f":" TEXT(MIN(DiaCash!E174,DisOfic!E174,Lyreco!E174,Ocaña!E174,Taine!E174,Vistalegre!E174),\"0,00\") & \" \" & C174","v":"1,00 Unidad"},null,{"$f":"IF(DiaCash!G174>0,DiaCash!G174,\"\")","v":""},{"$f":"IF(DisOfic!G174>0,DisOfic!G174,\"\")","v":""},{"$f":"IF(Lablink!$G174>0,Lablink!$G174,\"\")","v":""},{"$f":"IF(Lyreco!G174>0,Lyreco!G174,\"\")","v":""},{"$f":"IF(Ocaña!G174>0,Ocaña!G174,\"\")","v":""},{"$f":"IF(Taine!G174>0,Taine!G174,\"\")","v":""},{"$f":"IF(Vistalegre!G174>0,Vistalegre!G174,\"\")","v":""},0,""]
[169,"Sello de caucho rectangular grabado. Tamaño área para texto de hasta 50x50 mm.","Unidad",{"$f":" TEXT(MIN(DiaCash!D175,DisOfic!D175,Lablink!D175,Lyreco!D175,Ocaña!D175,Taine!D175,Vistalegre!D175),\"0,000\") & \" - \" & TEXT(MAX(DiaCash!D175,DisOfic!D175,Lablink!D175,Lyreco!D175,Ocaña!D175,Taine!D175,Vistalegre!D175),\"0,000\")","v":"4,840 - 8,320"},{"$f":" TEXT(MIN(DiaCash!E175,DisOfic!E175,Lyreco!E175,Ocaña!E175,Taine!E175,Vistalegre!E175),\"0,00\") & \" \" & C175","v":"1,00 Unidad"},null,{"$f":"IF(DiaCash!G175>0,DiaCash!G175,\"\")","v":""},{"$f":"IF(DisOfic!G175>0,DisOfic!G175,\"\")","v":""},{"$f":"IF(Lablink!$G175>0,Lablink!$G175,\"\")","v":""},{"$f":"IF(Lyreco!G175>0,Lyreco!G175,\"\")","v":""},{"$f":"IF(Ocaña!G175>0,Ocaña!G175,\"\")","v":""},{"$f":"IF(Taine!G175>0,Taine!G175,\"\")","v":""},{"$f":"IF(Vistalegre!G175>0,Vistalegre!G175,\"\")","v":""},0,""]
[170,"Sello de caucho rectangular grabado. Tamaño área para texto de hasta 80x80 mm.","Unidad",{"$f":" TEXT(MIN(DiaCash!D176,DisOfic!D176,Lablink!D176,Lyreco!D176,Ocaña!D176,Taine!D176,Vistalegre!D176),\"0,000\") & \" - \" & TEXT(MAX(DiaCash!D176,DisOfic!D176,Lablink!D176,Lyreco!D176,Ocaña!D176,Taine!D176,Vistalegre!D176),\"0,000\")","v":"6,500 - 19,340"},{"$f":" TEXT(MIN(DiaCash!E176,DisOfic!E176,Lyreco!E176,Ocaña!E176,Taine!E176,Vistalegre!E176),\"0,00\") & \" \" & C176","v":"1,00 Unidad"},null,{"$f":"IF(DiaCash!G176>0,DiaCash!G176,\"\")","v":""},{"$f":"IF(DisOfic!G176>0,DisOfic!G176,\"\")","v":""},{"$f":"IF(Lablink!$G176>0,Lablink!$G176,\"\")","v":""},{"$f":"IF(Lyreco!G176>0,Lyreco!G176,\"\")","v":""},{"$f":"IF(Ocaña!G176>0,Ocaña!G176,\"\")","v":""},{"$f":"IF(Taine!G176>0,Taine!G176,\"\")","v":""},{"$f":"IF(Vistalegre!G176>0,Vistalegre!G176,\"\")","v":""},0,""]
[171,"Sello de Caucho Autoentintado Rectangular hasta 45X18 mm ","Unidad",{"$f":" TEXT(MIN(DiaCash!D177,DisOfic!D177,Lablink!D177,Lyreco!D177,Ocaña!D177,Taine!D177,Vistalegre!D177),\"0,000\") & \" - \" & TEXT(MAX(DiaCash!D177,DisOfic!D177,Lablink!D177,Lyreco!D177,Ocaña!D177,Taine!D177,Vistalegre!D177),\"0,000\")","v":"7,290 - 16,000"},{"$f":" TEXT(MIN(DiaCash!E177,DisOfic!E177,Lyreco!E177,Ocaña!E177,Taine!E177,Vistalegre!E177),\"0,00\") & \" \" & C177","v":"1,00 Unidad"},null,{"$f":"IF(DiaCash!G177>0,DiaCash!G177,\"\")","v":""},{"$f":"IF(DisOfic!G177>0,DisOfic!G177,\"\")","v":""},{"$f":"IF(Lablink!$G177>0,Lablink!$G177,\"\")","v":""},{"$f":"IF(Lyreco!G177>0,Lyreco!G177,\"\")","v":""},{"$f":"IF(Ocaña!G177>0,Ocaña!G177,\"\")","v":""},{"$f":"IF(Taine!G177>0,Taine!G177,\"\")","v":""},{"$f":"IF(Vistalegre!G177>0,Vistalegre!G177,\"\")","v":""},0,""]
[172,"Sello de Caucho Autoentintado Rectangular de 46X19 hasta 70X30 mm","Unidad",{"$f":" TEXT(MIN(DiaCash!D178,DisOfic!D178,Lablink!D178,Lyreco!D178,Ocaña!D178,Taine!D178,Vistalegre!D178),\"0,000\") & \" - \" & TEXT(MAX(DiaCash!D178,DisOfic!D178,Lablink!D178,Lyreco!D178,Ocaña!D178,Taine!D178,Vistalegre!D178),\"0,000\")","v":"10,490 - 18,000"},{"$f":" TEXT(MIN(DiaCash!E178,DisOfic!E178,Lyreco!E178,Ocaña!E178,Taine!E178,Vistalegre!E178),\"0,00\") & \" \" & C178","v":"1,00 Unidad"},null,{"$f":"IF(DiaCash!G178>0,DiaCash!G178,\"\")","v":""},{"$f":"IF(DisOfic!G178>0,DisOfic!G178,\"\")","v":""},{"$f":"IF(Lablink!$G178>0,Lablink!$G178,\"\")","v":""},{"$f":"IF(Lyreco!G178>0,Lyreco!G178,\"\")","v":""},{"$f":"IF(Ocaña!G178>0,Ocaña!G178,\"\")","v":""},{"$f":"IF(Taine!G178>0,Taine!G178,\"\")","v":""},{"$f":"IF(Vistalegre!G178>0,Vistalegre!G178,\"\")","v":""},0,""]
[173,"Sello de Caucho Autoentintado Redondo hasta 30 mm","Unidad",{"$f":" TEXT(MIN(DiaCash!D179,DisOfic!D179,Lablink!D179,Lyreco!D179,Ocaña!D179,Taine!D179,Vistalegre!D179),\"0,000\") & \" - \" & TEXT(MAX(DiaCash!D179,DisOfic!D179,Lablink!D179,Lyreco!D179,Ocaña!D179,Taine!D179,Vistalegre!D179),\"0,000\")","v":"15,130 - 20,000"},{"$f":" TEXT(MIN(DiaCash!E179,DisOfic!E179,Lyreco!E179,Ocaña!E179,Taine!E179,Vistalegre!E179),\"0,00\") & \" \" & C179","v":"1,00 Unidad"},null,{"$f":"IF(DiaCash!G179>0,DiaCash!G179,\"\")","v":""},{"$f":"IF(DisOfic!G179>0,DisOfic!G179,\"\")","v":""},{"$f":"IF(Lablink!$G179>0,Lablink!$G179,\"\")","v":""},{"$f":"IF(Lyreco!G179>0,Lyreco!G179,\"\")","v":""},{"$f":"IF(Ocaña!G179>0,Ocaña!G179,\"\")","v":""},{"$f":"IF(Taine!G179>0,Taine!G179,\"\")","v":""},{"$f":"IF(Vistalegre!G179>0,Vistalegre!G179,\"\")","v":""},0,""]
[174,"Sello de Caucho Autoentintado Redondo de 31 a 50 mm","Unidad",{"$f":" TEXT(MIN(DiaCash!D180,DisOfic!D180,Lablink!D180,Lyreco!D180,Ocaña!D180,Taine!D180,Vistalegre!D180),\"0,000\") & \" - \" & TEXT(MAX(DiaCash!D180,DisOfic!D180,Lablink!D180,Lyreco!D180,Ocaña!D180,Taine!D180,Vistalegre!D180),\"0,000\")","v":"13,980 - 25,000"},{"$f":" TEXT(MIN(DiaCash!E180,DisOfic!E180,Lyreco!E180,Ocaña!E180,Taine!E180,Vistalegre!E180),\"0,00\") & \" \" & C180","v":"1,00 Unidad"},null,{"$f":"IF(DiaCash!G180>0,DiaCash!G180,\"\")","v":""},{"$f":"IF(DisOfic!G180>0,DisOfic!G180,\"\")","v":""},{"$f":"IF(Lablink!$G180>0,Lablink!$G180,\"\")","v":""},{"$f":"IF(Lyreco!G180>0,Lyreco!G180,\"\")","v":""},{"$f":"IF(Ocaña!G180>0,Ocaña!G180,\"\")","v":""},{"$f":"IF(Taine!G180>0,Taine!G180,\"\")","v":""},{"$f":"IF(Vistalegre!G180>0,Vistalegre!G180,\"\")","v":""},0,""]
[175,"Sello de Caucho Autoentintado Cuadrado hasta 30 mm","Unidad",{"$f":" TEXT(MIN(DiaCash!D181,DisOfic!D181,Lablink!D181,Lyreco!D181,Ocaña!D181,Taine!D181,Vistalegre!D181),\"0,000\") & \" - \" & TEXT(MAX(DiaCash!D181,DisOfic!D181,Lablink!D181,Lyreco!D181,Ocaña!D181,Taine!D181,Vistalegre!D181),\"0,000\")","v":"12,060 - 16,000"},{"$f":" TEXT(MIN(DiaCash!E181,DisOfic!E181,Lyreco!E181,Ocaña!E181,Taine!E181,Vistalegre!E181),\"0,00\") & \" \" & C181","v":"1,00 Unidad"},null,{"$f":"IF(DiaCash!G181>0,DiaCash!G181,\"\")","v":""},{"$f":"IF(DisOfic!G181>0,DisOfic!G181,\"\")","v":""},{"$f":"IF(Lablink!$G181>0,Lablink!$G181,\"\")","v":""},{"$f":"IF(Lyreco!G181>0,Lyreco!G181,\"\")","v":""},{"$f":"IF(Ocaña!G181>0,Ocaña!G181,\"\")","v":""},{"$f":"IF(Taine!G181>0,Taine!G181,\"\")","v":""},{"$f":"IF(Vistalegre!G181>0,Vistalegre!G181,\"\")","v":""},0,""]
[176,"Sello de Caucho Autoentintado Cuadrado de 31 a 50 mm","Unidad",{"$f":" TEXT(MIN(DiaCash!D182,DisOfic!D182,Lablink!D182,Lyreco!D182,Ocaña!D182,Taine!D182,Vistalegre!D182),\"0,000\") & \" - \" & TEXT(MAX(DiaCash!D182,DisOfic!D182,Lablink!D182,Lyreco!D182,Ocaña!D182,Taine!D182,Vistalegre!D182),\"0,000\")","v":"15,600 - 18,000"},{"$f":" TEXT(MIN(DiaCash!E182,DisOfic!E182,Lyreco!E182,Ocaña!E182,Taine!E182,Vistalegre!E182),\"0,00\") & \" \" & C182","v":"1,00 Unidad"},null,{"$f":"IF(DiaCash!G182>0,DiaCash!G182,\"\")","v":""},{"$f":"IF(DisOfic!G182>0,DisOfic!G182,\"\")","v":""},{"$f":"IF(Lablink!$G182>0,Lablink!$G182,\"\")","v":""},{"$f":"IF(Lyreco!G182>0,Lyreco!G182,\"\")","v":""},{"$f":"IF(Ocaña!G182>0,Ocaña!G182,\"\")","v":""},{"$f":"IF(Taine!G182>0,Taine!G182,\"\")","v":""},{"$f":"IF(Vistalegre!G182>0,Vistalegre!G182,\"\")","v":""},0,""]
[177,"Tampón para sellos.N1, 90 X160 mm.","Unidad",{"$f":" TEXT(MIN(DiaCash!D183,DisOfic!D183,Lablink!D183,Lyreco!D183,Ocaña!D183,Taine!D183,Vistalegre!D183),\"0,000\") & \" - \" & TEXT(MAX(DiaCash!D183,DisOfic!D183,Lablink!D183,Lyreco!D183,Ocaña!D183,Taine!D183,Vistalegre!D183),\"0,000\")","v":"2,290 - 6,030"},{"$f":" TEXT(MIN(DiaCash!E183,DisOfic!E183,Lyreco!E183,Ocaña!E183,Taine!E183,Vistalegre!E183),\"0,00\") & \" \" & C183","v":"1,00 Unidad"},null,{"$f":"IF(DiaCash!G183>0,DiaCash!G183,\"\")","v":""},{"$f":"IF(DisOfic!G183>0,DisOfic!G183,\"\")","v":""},{"$f":"IF(Lablink!$G183>0,Lablink!$G183,\"\")","v":""},{"$f":"IF(Lyreco!G183>0,Lyreco!G183,\"\")","v":""},{"$f":"IF(Ocaña!G183>0,Ocaña!G183,\"\")","v":""},{"$f":"IF(Taine!G183>0,Taine!G183,\"\")","v":""},{"$f":"IF(Vistalegre!G183>0,Vistalegre!G183,\"\")","v":""},0,""]
[178,"Tampón para sellos.N2, 70 X110 mm.","Unidad",{"$f":" TEXT(MIN(DiaCash!D184,DisOfic!D184,Lablink!D184,Lyreco!D184,Ocaña!D184,Taine!D184,Vistalegre!D184),\"0,000\") & \" - \" & TEXT(MAX(DiaCash!D184,DisOfic!D184,Lablink!D184,Lyreco!D184,Ocaña!D184,Taine!D184,Vistalegre!D184),\"0,000\")","v":"0,520 - 2,060"},{"$f":" TEXT(MIN(DiaCash!E184,DisOfic!E184,Lyreco!E184,Ocaña!E184,Taine!E184,Vistalegre!E184),\"0,00\") & \" \" & C184","v":"1,00 Unidad"},null,{"$f":"IF(DiaCash!G184>0,DiaCash!G184,\"\")","v":""},{"$f":"IF(DisOfic!G184>0,DisOfic!G184,\"\")","v":""},{"$f":"IF(Lablink!$G184>0,Lablink!$G184,\"\")","v":""},{"$f":"IF(Lyreco!G184>0,Lyreco!G184,\"\")","v":""},{"$f":"IF(Ocaña!G184>0,Ocaña!G184,\"\")","v":""},{"$f":"IF(Taine!G184>0,Taine!G184,\"\")","v":""},{"$f":"IF(Vistalegre!G184>0,Vistalegre!G184,\"\")","v":""},0,""]
[179,"Tinta de sellar para tampón.(30 ML)","Unidad",{"$f":" TEXT(MIN(DiaCash!D185,DisOfic!D185,Lablink!D185,Lyreco!D185,Ocaña!D185,Taine!D185,Vistalegre!D185),\"0,000\") & \" - \" & TEXT(MAX(DiaCash!D185,DisOfic!D185,Lablink!D185,Lyreco!D185,Ocaña!D185,Taine!D185,Vistalegre!D185),\"0,000\")","v":"0,210 - 0,490"},{"$f":" TEXT(MIN(DiaCash!E185,DisOfic!E185,Lyreco!E185,Ocaña!E185,Taine!E185,Vistalegre!E185),\"0,00\") & \" \" & C185","v":"1,00 Unidad"},null,{"$f":"IF(DiaCash!G185>0,DiaCash!G185,\"\")","v":""},{"$f":"IF(DisOfic!G185>0,DisOfic!G185,\"\")","v":""},{"$f":"IF(Lablink!$G185>0,Lablink!$G185,\"\")","v":""},{"$f":"IF(Lyreco!G185>0,Lyreco!G185,\"\")","v":""},{"$f":"IF(Ocaña!G185>0,Ocaña!G185,\"\")","v":""},{"$f":"IF(Taine!G185>0,Taine!G185,\"\")","v":""},{"$f":"IF(Vistalegre!G185>0,Vistalegre!G185,\"\")","v":""},0,""]
[180,"Almohadilla para sello autoentintado. Hasta 30X50 mm","Unidad",{"$f":" TEXT(MIN(DiaCash!D186,DisOfic!D186,Lablink!D186,Lyreco!D186,Ocaña!D186,Taine!D186,Vistalegre!D186),\"0,000\") & \" - \" & TEXT(MAX(DiaCash!D186,DisOfic!D186,Lablink!D186,Lyreco!D186,Ocaña!D186,Taine!D186,Vistalegre!D186),\"0,000\")","v":"1,090 - 1,100"},{"$f":" TEXT(MIN(DiaCash!E186,DisOfic!E186,Lyreco!E186,Ocaña!E186,Taine!E186,Vistalegre!E186),\"0,00\") & \" \" & C186","v":"1,00 Unidad"},null,{"$f":"IF(DiaCash!G186>0,DiaCash!G186,\"\")","v":""},{"$f":"IF(DisOfic!G186>0,DisOfic!G186,\"\")","v":""},{"$f":"IF(Lablink!$G186>0,Lablink!$G186,\"\")","v":""},{"$f":"IF(Lyreco!G186>0,Lyreco!G186,\"\")","v":""},{"$f":"IF(Ocaña!G186>0,Ocaña!G186,\"\")","v":""},{"$f":"IF(Taine!G186>0,Taine!G186,\"\")","v":""},{"$f":"IF(Vistalegre!G186>0,Vistalegre!G186,\"\")","v":""},0,""]
[181,"Almohadilla para sello autoentintado. Hasta 70X30 mm","Unidad",{"$f":" TEXT(MIN(DiaCash!D187,DisOfic!D187,Lablink!D187,Lyreco!D187,Ocaña!D187,Taine!D187,Vistalegre!D187),\"0,000\") & \" - \" & TEXT(MAX(DiaCash!D187,DisOfic!D187,Lablink!D187,Lyreco!D187,Ocaña!D187,Taine!D187,Vistalegre!D187),\"0,000\")","v":"1,855 - 2,000"},{"$f":" TEXT(MIN(DiaCash!E187,DisOfic!E187,Lyreco!E187,Ocaña!E187,Taine!E187,Vistalegre!E187),\"0,00\") & \" \" & C187","v":"1,00 Unidad"},null,{"$f":"IF(DiaCash!G187>0,DiaCash!G187,\"\")","v":""},{"$f":"IF(DisOfic!G187>0,DisOfic!G187,\"\")","v":""},{"$f":"IF(Lablink!$G187>0,Lablink!$G187,\"\")","v":""},{"$f":"IF(Lyreco!G187>0,Lyreco!G187,\"\")","v":""},{"$f":"IF(Ocaña!G187>0,Ocaña!G187,\"\")","v":""},{"$f":"IF(Taine!G187>0,Taine!G187,\"\")","v":""},{"$f":"IF(Vistalegre!G187>0,Vistalegre!G187,\"\")","v":""},0,""]
[182,"Portasellos de sobremesa 6 plazas","Unidad",{"$f":" TEXT(MIN(DiaCash!D188,DisOfic!D188,Lablink!D188,Lyreco!D188,Ocaña!D188,Taine!D188,Vistalegre!D188),\"0,000\") & \" - \" & TEXT(MAX(DiaCash!D188,DisOfic!D188,Lablink!D188,Lyreco!D188,Ocaña!D188,Taine!D188,Vistalegre!D188),\"0,000\")","v":"1,974 - 4,710"},{"$f":" TEXT(MIN(DiaCash!E188,DisOfic!E188,Lyreco!E188,Ocaña!E188,Taine!E188,Vistalegre!E188),\"0,00\") & \" \" & C188","v":"1,00 Unidad"},null,{"$f":"IF(DiaCash!G188>0,DiaCash!G188,\"\")","v":""},{"$f":"IF(DisOfic!G188>0,DisOfic!G188,\"\")","v":""},{"$f":"IF(Lablink!$G188>0,Lablink!$G188,\"\")","v":""},{"$f":"IF(Lyreco!G188>0,Lyreco!G188,\"\")","v":""},{"$f":"IF(Ocaña!G188>0,Ocaña!G188,\"\")","v":""},{"$f":"IF(Taine!G188>0,Taine!G188,\"\")","v":""},{"$f":"IF(Vistalegre!G188>0,Vistalegre!G188,\"\")","v":""},0,""]
[183,"Portasellos de sobremesa 8 plazas","Unidad",{"$f":" TEXT(MIN(DiaCash!D189,DisOfic!D189,Lablink!D189,Lyreco!D189,Ocaña!D189,Taine!D189,Vistalegre!D189),\"0,000\") & \" - \" & TEXT(MAX(DiaCash!D189,DisOfic!D189,Lablink!D189,Lyreco!D189,Ocaña!D189,Taine!D189,Vistalegre!D189),\"0,000\")","v":"2,030 - 4,780"},{"$f":" TEXT(MIN(DiaCash!E189,DisOfic!E189,Lyreco!E189,Ocaña!E189,Taine!E189,Vistalegre!E189),\"0,00\") & \" \" & C189","v":"1,00 Unidad"},null,{"$f":"IF(DiaCash!G189>0,DiaCash!G189,\"\")","v":""},{"$f":"IF(DisOfic!G189>0,DisOfic!G189,\"\")","v":""},{"$f":"IF(Lablink!$G189>0,Lablink!$G189,\"\")","v":""},{"$f":"IF(Lyreco!G189>0,Lyreco!G189,\"\")","v":""},{"$f":"IF(Ocaña!G189>0,Ocaña!G189,\"\")","v":""},{"$f":"IF(Taine!G189>0,Taine!G189,\"\")","v":""},{"$f":"IF(Vistalegre!G189>0,Vistalegre!G189,\"\")","v":""},0,""]
[184,"Portasellos de sobremesa 10 plazas","Unidad",{"$f":" TEXT(MIN(DiaCash!D190,DisOfic!D190,Lablink!D190,Lyreco!D190,Ocaña!D190,Taine!D190,Vistalegre!D190),\"0,000\") & \" - \" & TEXT(MAX(DiaCash!D190,DisOfic!D190,Lablink!D190,Lyreco!D190,Ocaña!D190,Taine!D190,Vistalegre!D190),\"0,000\")","v":"2,030 - 6,600"},{"$f":" TEXT(MIN(DiaCash!E190,DisOfic!E190,Lyreco!E190,Ocaña!E190,Taine!E190,Vistalegre!E190),\"0,00\") & \" \" & C190","v":"1,00 Unidad"},null,{"$f":"IF(DiaCash!G190>0,DiaCash!G190,\"\")","v":""},{"$f":"IF(DisOfic!G190>0,DisOfic!G190,\"\")","v":""},{"$f":"IF(Lablink!$G190>0,Lablink!$G190,\"\")","v":""},{"$f":"IF(Lyreco!G190>0,Lyreco!G190,\"\")","v":""},{"$f":"IF(Ocaña!G190>0,Ocaña!G190,\"\")","v":""},{"$f":"IF(Taine!G190>0,Taine!G190,\"\")","v":""},{"$f":"IF(Vistalegre!G190>0,Vistalegre!G190,\"\")","v":""},0,""]
[185,"Archivador de palanca a-z sin caja. Cartón forrado en plástico . Con cantonera metálica. Dos anillas. Lomo de  75 mm. Tamaño A4.","Unidad",{"$f":" TEXT(MIN(DiaCash!D191,DisOfic!D191,Lablink!D191,Lyreco!D191,Ocaña!D191,Taine!D191,Vistalegre!D191),\"0,000\") & \" - \" & TEXT(MAX(DiaCash!D191,DisOfic!D191,Lablink!D191,Lyreco!D191,Ocaña!D191,Taine!D191,Vistalegre!D191),\"0,000\")","v":"0,880 - 1,302"},{"$f":" TEXT(MIN(DiaCash!E191,DisOfic!E191,Lyreco!E191,Ocaña!E191,Taine!E191,Vistalegre!E191),\"0,00\") & \" \" & C191","v":"1,00 Unidad"},null,{"$f":"IF(DiaCash!G191>0,DiaCash!G191,\"\")","v":""},{"$f":"IF(DisOfic!G191>0,DisOfic!G191,\"\")","v":""},{"$f":"IF(Lablink!$G191>0,Lablink!$G191,\"\")","v":""},{"$f":"IF(Lyreco!G191>0,Lyreco!G191,\"\")","v":""},{"$f":"IF(Ocaña!G191>0,Ocaña!G191,\"\")","v":""},{"$f":"IF(Taine!G191>0,Taine!G191,\"\")","v":""},{"$f":"IF(Vistalegre!G191>0,Vistalegre!G191,\"\")","v":""},0,""]
[186,"Archivador de palanca a-z sin caja. Cartón forrado en plástico . Con cantonera metálica. Dos anillas. Lomo de  75 mm. Tamaño folio.","Unidad",{"$f":" TEXT(MIN(DiaCash!D192,DisOfic!D192,Lablink!D192,Lyreco!D192,Ocaña!D192,Taine!D192,Vistalegre!D192),\"0,000\") & \" - \" & TEXT(MAX(DiaCash!D192,DisOfic!D192,Lablink!D192,Lyreco!D192,Ocaña!D192,Taine!D192,Vistalegre!D192),\"0,000\")","v":"0,880 - 1,323"},{"$f":" TEXT(MIN(DiaCash!E192,DisOfic!E192,Lyreco!E192,Ocaña!E192,Taine!E192,Vistalegre!E192),\"0,00\") & \" \" & C192","v":"1,00 Unidad"},null,{"$f":"IF(DiaCash!G192>0,DiaCash!G192,\"\")","v":""},{"$f":"IF(DisOfic!G192>0,DisOfic!G192,\"\")","v":""},{"$f":"IF(Lablink!$G192>0,Lablink!$G192,\"\")","v":""},{"$f":"IF(Lyreco!G192>0,Lyreco!G192,\"\")","v":""},{"$f":"IF(Ocaña!G192>0,Ocaña!G192,\"\")","v":""},{"$f":"IF(Taine!G192>0,Taine!G192,\"\")","v":""},{"$f":"IF(Vistalegre!G192>0,Vistalegre!G192,\"\")","v":""},0,""]
[187,"Archivador de palanca a-z sin caja.Cartón jaspeado. Con cantonera metálica. Dos anillas. Lomo de  75 mm. Tamaño A4.","Unidad",{"$f":" TEXT(MIN(DiaCash!D193,DisOfic!D193,Lablink!D193,Lyreco!D193,Ocaña!D193,Taine!D193,Vistalegre!D193),\"0,000\") & \" - \" & TEXT(MAX(DiaCash!D193,DisOfic!D193,Lablink!D193,Lyreco!D193,Ocaña!D193,Taine!D193,Vistalegre!D193),\"0,000\")","v":"0,740 - 1,000"},{"$f":" TEXT(MIN(DiaCash!E193,DisOfic!E193,Lyreco!E193,Ocaña!E193,Taine!E193,Vistalegre!E193),\"0,00\") & \" \" & C193","v":"1,00 Unidad"},null,{"$f":"IF(DiaCash!G193>0,DiaCash!G193,\"\")","v":""},{"$f":"IF(DisOfic!G193>0,DisOfic!G193,\"\")","v":""},{"$f":"IF(Lablink!$G193>0,Lablink!$G193,\"\")","v":""},{"$f":"IF(Lyreco!G193>0,Lyreco!G193,\"\")","v":""},{"$f":"IF(Ocaña!G193>0,Ocaña!G193,\"\")","v":""},{"$f":"IF(Taine!G193>0,Taine!G193,\"\")","v":""},{"$f":"IF(Vistalegre!G193>0,Vistalegre!G193,\"\")","v":""},0,""]
[188,"Archivador de palanca a-z sin caja.Cartón jaspeado. Con cantonera metálica. Dos anillas. Lomo de  75 mm. Tamaño folio.","Unidad",{"$f":" TEXT(MIN(DiaCash!D194,DisOfic!D194,Lablink!D194,Lyreco!D194,Ocaña!D194,Taine!D194,Vistalegre!D194),\"0,000\") & \" - \" & TEXT(MAX(DiaCash!D194,DisOfic!D194,Lablink!D194,Lyreco!D194,Ocaña!D194,Taine!D194,Vistalegre!D194),\"0,000\")","v":"0,740 - 0,980"},{"$f":" TEXT(MIN(DiaCash!E194,DisOfic!E194,Lyreco!E194,Ocaña!E194,Taine!E194,Vistalegre!E194),\"0,00\") & \" \" & C194","v":"1,00 Unidad"},null,{"$f":"IF(DiaCash!G194>0,DiaCash!G194,\"\")","v":""},{"$f":"IF(DisOfic!G194>0,DisOfic!G194,\"\")","v":""},{"$f":"IF(Lablink!$G194>0,Lablink!$G194,\"\")","v":""},{"$f":"IF(Lyreco!G194>0,Lyreco!G194,\"\")","v":""},{"$f":"IF(Ocaña!G194>0,Ocaña!G194,\"\")","v":""},{"$f":"IF(Taine!G194>0,Taine!G194,\"\")","v":""},{"$f":"IF(Vistalegre!G194>0,Vistalegre!G194,\"\")","v":""},0,""]
[189,"Caja de cartón color blanco para archivo definitivo. Tamaño folio  Lomo 100 mm aprox.","Unidad",{"$f":" TEXT(MIN(DiaCash!D195,DisOfic!D195,Lablink!D195,Lyreco!D195,Ocaña!D195,Taine!D195,Vistalegre!D195),\"0,000\") & \" - \" & TEXT(MAX(DiaCash!D195,DisOfic!D195,Lablink!D195,Lyreco!D195,Ocaña!D195,Taine!D195,Vistalegre!D195),\"0,000\")","v":"0,210 - 0,320"},{"$f":" TEXT(MIN(DiaCash!E195,DisOfic!E195,Lyreco!E195,Ocaña!E195,Taine!E195,Vistalegre!E195),\"0,00\") & \" \" & C195","v":"1,00 Unidad"},null,{"$f":"IF(DiaCash!G195>0,DiaCash!G195,\"\")","v":""},{"$f":"IF(DisOfic!G195>0,DisOfic!G195,\"\")","v":""},{"$f":"IF(Lablink!$G195>0,Lablink!$G195,\"\")","v":""},{"$f":"IF(Lyreco!G195>0,Lyreco!G195,\"\")","v":""},{"$f":"IF(Ocaña!G195>0,Ocaña!G195,\"\")","v":""},{"$f":"IF(Taine!G195>0,Taine!G195,\"\")","v":""},{"$f":"IF(Vistalegre!G195>0,Vistalegre!G195,\"\")","v":""},0,""]
[190,"Caja de cartón color blanco para archivo definitivo. Tamaño folio prolongado Lomo 115 mm aprox.","Unidad",{"$f":" TEXT(MIN(DiaCash!D196,DisOfic!D196,Lablink!D196,Lyreco!D196,Ocaña!D196,Taine!D196,Vistalegre!D196),\"0,000\") & \" - \" & TEXT(MAX(DiaCash!D196,DisOfic!D196,Lablink!D196,Lyreco!D196,Ocaña!D196,Taine!D196,Vistalegre!D196),\"0,000\")","v":"0,260 - 0,379"},{"$f":" TEXT(MIN(DiaCash!E196,DisOfic!E196,Lyreco!E196,Ocaña!E196,Taine!E196,Vistalegre!E196),\"0,00\") & \" \" & C196","v":"1,00 Unidad"},null,{"$f":"IF(DiaCash!G196>0,DiaCash!G196,\"\")","v":""},{"$f":"IF(DisOfic!G196>0,DisOfic!G196,\"\")","v":""},{"$f":"IF(Lablink!$G196>0,Lablink!$G196,\"\")","v":""},{"$f":"IF(Lyreco!G196>0,Lyreco!G196,\"\")","v":""},{"$f":"IF(Ocaña!G196>0,Ocaña!G196,\"\")","v":""},{"$f":"IF(Taine!G196>0,Taine!G196,\"\")","v":""},{"$f":"IF(Vistalegre!G196>0,Vistalegre!G196,\"\")","v":""},0,""]
[191,"Caja de cartón color blanco para archivo definitivo. Tamaño folio prolongado. Lomo 100 mm aprox.","Unidad",{"$f":" TEXT(MIN(DiaCash!D197,DisOfic!D197,Lablink!D197,Lyreco!D197,Ocaña!D197,Taine!D197,Vistalegre!D197),\"0,000\") & \" - \" & TEXT(MAX(DiaCash!D197,DisOfic!D197,Lablink!D197,Lyreco!D197,Ocaña!D197,Taine!D197,Vistalegre!D197),\"0,000\")","v":"0,260 - 0,490"},{"$f":" TEXT(MIN(DiaCash!E197,DisOfic!E197,Lyreco!E197,Ocaña!E197,Taine!E197,Vistalegre!E197),\"0,00\") & \" \" & C197","v":"1,00 Unidad"},null,{"$f":"IF(DiaCash!G197>0,DiaCash!G197,\"\")","v":""},{"$f":"IF(DisOfic!G197>0,DisOfic!G197,\"\")","v":""},{"$f":"IF(Lablink!$G197>0,Lablink!$G197,\"\")","v":""},{"$f":"IF(Lyreco!G197>0,Lyreco!G197,\"\")","v":""},{"$f":"IF(Ocaña!G197>0,Ocaña!G197,\"\")","v":""},{"$f":"IF(Taine!G197>0,Taine!G197,\"\")","v":""},{"$f":"IF(Vistalegre!G197>0,Vistalegre!G197,\"\")","v":""},0,""]
[192,"Caja para archivador de palanca a-z. Misma calidad y dimensiones compatibles con el archivador de palanca a-z. Tamaño A4. Lomo de  75 mm.","Unidad",{"$f":" TEXT(MIN(DiaCash!D198,DisOfic!D198,Lablink!D198,Lyreco!D198,Ocaña!D198,Taine!D198,Vistalegre!D198),\"0,000\") & \" - \" & TEXT(MAX(DiaCash!D198,DisOfic!D198,Lablink!D198,Lyreco!D198,Ocaña!D198,Taine!D198,Vistalegre!D198),\"0,000\")","v":"0,250 - 0,480"},{"$f":" TEXT(MIN(DiaCash!E198,DisOfic!E198,Lyreco!E198,Ocaña!E198,Taine!E198,Vistalegre!E198),\"0,00\") & \" \" & C198","v":"1,00 Unidad"},null,{"$f":"IF(DiaCash!G198>0,DiaCash!G198,\"\")","v":""},{"$f":"IF(DisOfic!G198>0,DisOfic!G198,\"\")","v":""},{"$f":"IF(Lablink!$G198>0,Lablink!$G198,\"\")","v":""},{"$f":"IF(Lyreco!G198>0,Lyreco!G198,\"\")","v":""},{"$f":"IF(Ocaña!G198>0,Ocaña!G198,\"\")","v":""},{"$f":"IF(Taine!G198>0,Taine!G198,\"\")","v":""},{"$f":"IF(Vistalegre!G198>0,Vistalegre!G198,\"\")","v":""},0,""]
[193,"Caja para archivador de palanca a-z. Misma calidad y dimensiones compatibles con el archivador de palanca a-z. Tamaño folio. Lomo de  75 mm.","Unidad",{"$f":" TEXT(MIN(DiaCash!D199,DisOfic!D199,Lablink!D199,Lyreco!D199,Ocaña!D199,Taine!D199,Vistalegre!D199),\"0,000\") & \" - \" & TEXT(MAX(DiaCash!D199,DisOfic!D199,Lablink!D199,Lyreco!D199,Ocaña!D199,Taine!D199,Vistalegre!D199),\"0,000\")","v":"0,250 - 0,540"},{"$f":" TEXT(MIN(DiaCash!E199,DisOfic!E199,Lyreco!E199,Ocaña!E199,Taine!E199,Vistalegre!E199),\"0,00\") & \" \" & C199","v":"1,00 Unidad"},null,{"$f":"IF(DiaCash!G199>0,DiaCash!G199,\"\")","v":""},{"$f":"IF(DisOfic!G199>0,DisOfic!G199,\"\")","v":""},{"$f":"IF(Lablink!$G199>0,Lablink!$G199,\"\")","v":""},{"$f":"IF(Lyreco!G199>0,Lyreco!G199,\"\")","v":""},{"$f":"IF(Ocaña!G199>0,Ocaña!G199,\"\")","v":""},{"$f":"IF(Taine!G199>0,Taine!G199,\"\")","v":""},{"$f":"IF(Vistalegre!G199>0,Vistalegre!G199,\"\")","v":""},{"$f":"COUNTIF(G199:M199,\"=\" & O199)","v":0},""]
[194,"Archivador de 2 anillas 25 mm. Fabricado en cartón forrado en plástico tanto en el exterior como en el interior. Dos anillas. Lomo de 40 mm. Tamaño A4.","Unidad",{"$f":" TEXT(MIN(DiaCash!D200,DisOfic!D200,Lablink!D200,Lyreco!D200,Ocaña!D200,Taine!D200,Vistalegre!D200),\"0,000\") & \" - \" & TEXT(MAX(DiaCash!D200,DisOfic!D200,Lablink!D200,Lyreco!D200,Ocaña!D200,Taine!D200,Vistalegre!D200),\"0,000\")","v":"1,210 - 2,000"},{"$f":" TEXT(MIN(DiaCash!E200,DisOfic!E200,Lyreco!E200,Ocaña!E200,Taine!E200,Vistalegre!E200),\"0,00\") & \" \" & C200","v":"1,00 Unidad"},null,{"$f":"IF(DiaCash!G200>0,DiaCash!G200,\"\")","v":""},{"$f":"IF(DisOfic!G200>0,DisOfic!G200,\"\")","v":""},{"$f":"IF(Lablink!$G200>0,Lablink!$G200,\"\")","v":""},{"$f":"IF(Lyreco!G200>0,Lyreco!G200,\"\")","v":""},{"$f":"IF(Ocaña!G200>0,Ocaña!G200,\"\")","v":""},{"$f":"IF(Taine!G200>0,Taine!G200,\"\")","v":""},{"$f":"IF(Vistalegre!G200>0,Vistalegre!G200,\"\")","v":""},0,{"$f":"IF(MIN(G200:M200)=0,\"\",MIN(G200:M200))","v":""}]
[195,"Archivador de 2 anillas 25 mm. Fabricado en cartón forrado en plástico tanto en el exterior como en el interior. Dos anillas. Lomo de 40 mm. Tamaño folio.","Unidad",{"$f":" TEXT(MIN(DiaCash!D201,DisOfic!D201,Lablink!D201,Lyreco!D201,Ocaña!D201,Taine!D201,Vistalegre!D201),\"0,000\") & \" - \" & TEXT(MAX(DiaCash!D201,DisOfic!D201,Lablink!D201,Lyreco!D201,Ocaña!D201,Taine!D201,Vistalegre!D201),\"0,000\")","v":"1,320 - 2,200"},{"$f":" TEXT(MIN(DiaCash!E201,DisOfic!E201,Lyreco!E201,Ocaña!E201,Taine!E201,Vistalegre!E201),\"0,00\") & \" \" & C201","v":"1,00 Unidad"},null,{"$f":"IF(DiaCash!G201>0,DiaCash!G201,\"\")","v":""},{"$f":"IF(DisOfic!G201>0,DisOfic!G201,\"\")","v":""},{"$f":"IF(Lablink!$G201>0,Lablink!$G201,\"\")","v":""},{"$f":"IF(Lyreco!G201>0,Lyreco!G201,\"\")","v":""},{"$f":"IF(Ocaña!G201>0,Ocaña!G201,\"\")","v":""},{"$f":"IF(Taine!G201>0,Taine!G201,\"\")","v":""},{"$f":"IF(Vistalegre!G201>0,Vistalegre!G201,\"\")","v":""},0,""]
[196,"Archivador de 4 anillas 25 mm. Fabricado en cartón forrado en plástico tanto en el exterior como en el interior. Lomo de 40 mm. Tamaño A4.","Unidad",{"$f":" TEXT(MIN(DiaCash!D202,DisOfic!D202,Lablink!D202,Lyreco!D202,Ocaña!D202,Taine!D202,Vistalegre!D202),\"0,000\") & \" - \" & TEXT(MAX(DiaCash!D202,DisOfic!D202,Lablink!D202,Lyreco!D202,Ocaña!D202,Taine!D202,Vistalegre!D202),\"0,000\")","v":"1,200 - 2,000"},{"$f":" TEXT(MIN(DiaCash!E202,DisOfic!E202,Lyreco!E202,Ocaña!E202,Taine!E202,Vistalegre!E202),\"0,00\") & \" \" & C202","v":"1,00 Unidad"},null,{"$f":"IF(DiaCash!G202>0,DiaCash!G202,\"\")","v":""},{"$f":"IF(DisOfic!G202>0,DisOfic!G202,\"\")","v":""},{"$f":"IF(Lablink!$G202>0,Lablink!$G202,\"\")","v":""},{"$f":"IF(Lyreco!G202>0,Lyreco!G202,\"\")","v":""},{"$f":"IF(Ocaña!G202>0,Ocaña!G202,\"\")","v":""},{"$f":"IF(Taine!G202>0,Taine!G202,\"\")","v":""},{"$f":"IF(Vistalegre!G202>0,Vistalegre!G202,\"\")","v":""},0,""]
[197,"Archivador de 4 anillas 25 mm. Fabricado en cartón forrado en plástico tanto en el exterior como en el interior. Lomo de 40 mm. Tamaño folio.","Unidad",{"$f":" TEXT(MIN(DiaCash!D203,DisOfic!D203,Lablink!D203,Lyreco!D203,Ocaña!D203,Taine!D203,Vistalegre!D203),\"0,000\") & \" - \" & TEXT(MAX(DiaCash!D203,DisOfic!D203,Lablink!D203,Lyreco!D203,Ocaña!D203,Taine!D203,Vistalegre!D203),\"0,000\")","v":"1,180 - 2,200"},{"$f":" TEXT(MIN(DiaCash!E203,DisOfic!E203,Lyreco!E203,Ocaña!E203,Taine!E203,Vistalegre!E203),\"0,00\") & \" \" & C203","v":"1,00 Unidad"},null,{"$f":"IF(DiaCash!G203>0,DiaCash!G203,\"\")","v":""},{"$f":"IF(DisOfic!G203>0,DisOfic!G203,\"\")","v":""},{"$f":"IF(Lablink!$G203>0,Lablink!$G203,\"\")","v":""},{"$f":"IF(Lyreco!G203>0,Lyreco!G203,\"\")","v":""},{"$f":"IF(Ocaña!G203>0,Ocaña!G203,\"\")","v":""},{"$f":"IF(Taine!G203>0,Taine!G203,\"\")","v":""},{"$f":"IF(Vistalegre!G203>0,Vistalegre!G203,\"\")","v":""},0,""]
[198,"Archivador de 4 anillas 40 mm. Fabricado en cartón forrado en plástico tanto en el exterior como en el interior. Lomo de 60 mm. Tamaño A4.","Unidad",{"$f":" TEXT(MIN(DiaCash!D204,DisOfic!D204,Lablink!D204,Lyreco!D204,Ocaña!D204,Taine!D204,Vistalegre!D204),\"0,000\") & \" - \" & TEXT(MAX(DiaCash!D204,DisOfic!D204,Lablink!D204,Lyreco!D204,Ocaña!D204,Taine!D204,Vistalegre!D204),\"0,000\")","v":"1,850 - 2,200"},{"$f":" TEXT(MIN(DiaCash!E204,DisOfic!E204,Lyreco!E204,Ocaña!E204,Taine!E204,Vistalegre!E204),\"0,00\") & \" \" & C204","v":"1,00 Unidad"},null,{"$f":"IF(DiaCash!G204>0,DiaCash!G204,\"\")","v":""},{"$f":"IF(DisOfic!G204>0,DisOfic!G204,\"\")","v":""},{"$f":"IF(Lablink!$G204>0,Lablink!$G204,\"\")","v":""},{"$f":"IF(Lyreco!G204>0,Lyreco!G204,\"\")","v":""},{"$f":"IF(Ocaña!G204>0,Ocaña!G204,\"\")","v":""},{"$f":"IF(Taine!G204>0,Taine!G204,\"\")","v":""},{"$f":"IF(Vistalegre!G204>0,Vistalegre!G204,\"\")","v":""},0,""]
[199,"Archivador de 4 anillas 40 mm. Fabricado en cartón forrado en plástico tanto en el exterior como en el interior. Lomo de 60 mm. Tamaño folio.","Unidad",{"$f":" TEXT(MIN(DiaCash!D205,DisOfic!D205,Lablink!D205,Lyreco!D205,Ocaña!D205,Taine!D205,Vistalegre!D205),\"0,000\") & \" - \" & TEXT(MAX(DiaCash!D205,DisOfic!D205,Lablink!D205,Lyreco!D205,Ocaña!D205,Taine!D205,Vistalegre!D205),\"0,000\")","v":"1,630 - 2,400"},{"$f":" TEXT(MIN(DiaCash!E205,DisOfic!E205,Lyreco!E205,Ocaña!E205,Taine!E205,Vistalegre!E205),\"0,00\") & \" \" & C205","v":"1,00 Unidad"},null,{"$f":"IF(DiaCash!G205>0,DiaCash!G205,\"\")","v":""},{"$f":"IF(DisOfic!G205>0,DisOfic!G205,\"\")","v":""},{"$f":"IF(Lablink!$G205>0,Lablink!$G205,\"\")","v":""},{"$f":"IF(Lyreco!G205>0,Lyreco!G205,\"\")","v":""},{"$f":"IF(Ocaña!G205>0,Ocaña!G205,\"\")","v":""},{"$f":"IF(Taine!G205>0,Taine!G205,\"\")","v":""},{"$f":"IF(Vistalegre!G205>0,Vistalegre!G205,\"\")","v":""},0,""]
[200,"Separadores de plástico tamaño folio 5 pestañas 2 o 4 perforaciones","Unidad",{"$f":" TEXT(MIN(DiaCash!D206,DisOfic!D206,Lablink!D206,Lyreco!D206,Ocaña!D206,Taine!D206,Vistalegre!D206),\"0,000\") & \" - \" & TEXT(MAX(DiaCash!D206,DisOfic!D206,Lablink!D206,Lyreco!D206,Ocaña!D206,Taine!D206,Vistalegre!D206),\"0,000\")","v":"0,270 - 0,480"},{"$f":" TEXT(MIN(DiaCash!E206,DisOfic!E206,Lyreco!E206,Ocaña!E206,Taine!E206,Vistalegre!E206),\"0,00\") & \" \" & C206","v":"1,00 Unidad"},null,{"$f":"IF(DiaCash!G206>0,DiaCash!G206,\"\")","v":""},{"$f":"IF(DisOfic!G206>0,DisOfic!G206,\"\")","v":""},{"$f":"IF(Lablink!$G206>0,Lablink!$G206,\"\")","v":""},{"$f":"IF(Lyreco!G206>0,Lyreco!G206,\"\")","v":""},{"$f":"IF(Ocaña!G206>0,Ocaña!G206,\"\")","v":""},{"$f":"IF(Taine!G206>0,Taine!G206,\"\")","v":""},{"$f":"IF(Vistalegre!G206>0,Vistalegre!G206,\"\")","v":""},0,""]
[201,"Carpeta clasificadora forrada, con fuelle-acordeón. Índice alfabético (a-z) o numérico (1-31) . Tamaño folio. 12 departamentos mínimo.","Unidad",{"$f":" TEXT(MIN(DiaCash!D207,DisOfic!D207,Lablink!D207,Lyreco!D207,Ocaña!D207,Taine!D207,Vistalegre!D207),\"0,000\") & \" - \" & TEXT(MAX(DiaCash!D207,DisOfic!D207,Lablink!D207,Lyreco!D207,Ocaña!D207,Taine!D207,Vistalegre!D207),\"0,000\")","v":"2,050 - 5,710"},{"$f":" TEXT(MIN(DiaCash!E207,DisOfic!E207,Lyreco!E207,Ocaña!E207,Taine!E207,Vistalegre!E207),\"0,00\") & \" \" & C207","v":"1,00 Unidad"},null,{"$f":"IF(DiaCash!G207>0,DiaCash!G207,\"\")","v":""},{"$f":"IF(DisOfic!G207>0,DisOfic!G207,\"\")","v":""},{"$f":"IF(Lablink!$G207>0,Lablink!$G207,\"\")","v":""},{"$f":"IF(Lyreco!G207>0,Lyreco!G207,\"\")","v":""},{"$f":"IF(Ocaña!G207>0,Ocaña!G207,\"\")","v":""},{"$f":"IF(Taine!G207>0,Taine!G207,\"\")","v":""},{"$f":"IF(Vistalegre!G207>0,Vistalegre!G207,\"\")","v":""},0,""]
[202,"Carpeta clasificadora forrada, con fuelle-acordeón. Índice alfabético (a-z) o numérico (1-31) . Tamaño folio. 20 departamentos mínimo.","Unidad",{"$f":" TEXT(MIN(DiaCash!D208,DisOfic!D208,Lablink!D208,Lyreco!D208,Ocaña!D208,Taine!D208,Vistalegre!D208),\"0,000\") & \" - \" & TEXT(MAX(DiaCash!D208,DisOfic!D208,Lablink!D208,Lyreco!D208,Ocaña!D208,Taine!D208,Vistalegre!D208),\"0,000\")","v":"4,280 - 7,200"},{"$f":" TEXT(MIN(DiaCash!E208,DisOfic!E208,Lyreco!E208,Ocaña!E208,Taine!E208,Vistalegre!E208),\"0,00\") & \" \" & C208","v":"1,00 Unidad"},null,{"$f":"IF(DiaCash!G208>0,DiaCash!G208,\"\")","v":""},{"$f":"IF(DisOfic!G208>0,DisOfic!G208,\"\")","v":""},{"$f":"IF(Lablink!$G208>0,Lablink!$G208,\"\")","v":""},{"$f":"IF(Lyreco!G208>0,Lyreco!G208,\"\")","v":""},{"$f":"IF(Ocaña!G208>0,Ocaña!G208,\"\")","v":""},{"$f":"IF(Taine!G208>0,Taine!G208,\"\")","v":""},{"$f":"IF(Vistalegre!G208>0,Vistalegre!G208,\"\")","v":""},0,""]
[203,"Carpeta colgante de armario  . Tamaño A4.  Visor vertical o lateral rígido 13 cm. Varilla de plástico o metálica. Medida entre ejes 330 mm.  Cartón de 230 gr/m2 mínimo.  Lomo en 15 mm .","Unidad",{"$f":" TEXT(MIN(DiaCash!D209,DisOfic!D209,Lablink!D209,Lyreco!D209,Ocaña!D209,Taine!D209,Vistalegre!D209),\"0,000\") & \" - \" & TEXT(MAX(DiaCash!D209,DisOfic!D209,Lablink!D209,Lyreco!D209,Ocaña!D209,Taine!D209,Vistalegre!D209),\"0,000\")","v":"0,534 - 0,750"},{"$f":" TEXT(MIN(DiaCash!E209,DisOfic!E209,Lyreco!E209,Ocaña!E209,Taine!E209,Vistalegre!E209),\"0,00\") & \" \" & C209","v":"1,00 Unidad"},null,{"$f":"IF(DiaCash!G209>0,DiaCash!G209,\"\")","v":""},{"$f":"IF(DisOfic!G209>0,DisOfic!G209,\"\")","v":""},{"$f":"IF(Lablink!$G209>0,Lablink!$G209,\"\")","v":""},{"$f":"IF(Lyreco!G209>0,Lyreco!G209,\"\")","v":""},{"$f":"IF(Ocaña!G209>0,Ocaña!G209,\"\")","v":""},{"$f":"IF(Taine!G209>0,Taine!G209,\"\")","v":""},{"$f":"IF(Vistalegre!G209>0,Vistalegre!G209,\"\")","v":""},0,""]
[204,"Carpeta colgante de armario  . Tamaño A4. Visor vertical o lateral rígido 13 cm. Varilla de plástico o metálica.  Medida entre ejes 330 mm . Cartón de 230gr/m2 mínimo. Lomo en 30mm.","Unidad",{"$f":" TEXT(MIN(DiaCash!D210,DisOfic!D210,Lablink!D210,Lyreco!D210,Ocaña!D210,Taine!D210,Vistalegre!D210),\"0,000\") & \" - \" & TEXT(MAX(DiaCash!D210,DisOfic!D210,Lablink!D210,Lyreco!D210,Ocaña!D210,Taine!D210,Vistalegre!D210),\"0,000\")","v":"0,534 - 0,760"},{"$f":" TEXT(MIN(DiaCash!E210,DisOfic!E210,Lyreco!E210,Ocaña!E210,Taine!E210,Vistalegre!E210),\"0,00\") & \" \" & C210","v":"1,00 Unidad"},null,{"$f":"IF(DiaCash!G210>0,DiaCash!G210,\"\")","v":""},{"$f":"IF(DisOfic!G210>0,DisOfic!G210,\"\")","v":""},{"$f":"IF(Lablink!$G210>0,Lablink!$G210,\"\")","v":""},{"$f":"IF(Lyreco!G210>0,Lyreco!G210,\"\")","v":""},{"$f":"IF(Ocaña!G210>0,Ocaña!G210,\"\")","v":""},{"$f":"IF(Taine!G210>0,Taine!G210,\"\")","v":""},{"$f":"IF(Vistalegre!G210>0,Vistalegre!G210,\"\")","v":""},0,""]
[205,"Carpeta colgante de armario  . Tamaño A4.  Visor vertical o lateral rígido 13 cm. Varilla de plástico o metálica. Medida entre ejes 330 mm . Cartón de 230 gr/m2 mínimo. Lomo en v.","Unidad",{"$f":" TEXT(MIN(DiaCash!D211,DisOfic!D211,Lablink!D211,Lyreco!D211,Ocaña!D211,Taine!D211,Vistalegre!D211),\"0,000\") & \" - \" & TEXT(MAX(DiaCash!D211,DisOfic!D211,Lablink!D211,Lyreco!D211,Ocaña!D211,Taine!D211,Vistalegre!D211),\"0,000\")","v":"0,316 - 0,490"},{"$f":" TEXT(MIN(DiaCash!E211,DisOfic!E211,Lyreco!E211,Ocaña!E211,Taine!E211,Vistalegre!E211),\"0,00\") & \" \" & C211","v":"1,00 Unidad"},null,{"$f":"IF(DiaCash!G211>0,DiaCash!G211,\"\")","v":""},{"$f":"IF(DisOfic!G211>0,DisOfic!G211,\"\")","v":""},{"$f":"IF(Lablink!$G211>0,Lablink!$G211,\"\")","v":""},{"$f":"IF(Lyreco!G211>0,Lyreco!G211,\"\")","v":""},{"$f":"IF(Ocaña!G211>0,Ocaña!G211,\"\")","v":""},{"$f":"IF(Taine!G211>0,Taine!G211,\"\")","v":""},{"$f":"IF(Vistalegre!G211>0,Vistalegre!G211,\"\")","v":""},0,""]
[206,"Carpeta colgante de armario  . Tamaño folio. Visor vertical o lateral rígido de 13 cm. Medida entre ejes 365 mm.  Cartón de 230gr/m2 mínimo. Lomo en v.","Unidad",{"$f":" TEXT(MIN(DiaCash!D212,DisOfic!D212,Lablink!D212,Lyreco!D212,Ocaña!D212,Taine!D212,Vistalegre!D212),\"0,000\") & \" - \" & TEXT(MAX(DiaCash!D212,DisOfic!D212,Lablink!D212,Lyreco!D212,Ocaña!D212,Taine!D212,Vistalegre!D212),\"0,000\")","v":"0,300 - 0,560"},{"$f":" TEXT(MIN(DiaCash!E212,DisOfic!E212,Lyreco!E212,Ocaña!E212,Taine!E212,Vistalegre!E212),\"0,00\") & \" \" & C212","v":"1,00 Unidad"},null,{"$f":"IF(DiaCash!G212>0,DiaCash!G212,\"\")","v":""},{"$f":"IF(DisOfic!G212>0,DisOfic!G212,\"\")","v":""},{"$f":"IF(Lablink!$G212>0,Lablink!$G212,\"\")","v":""},{"$f":"IF(Lyreco!G212>0,Lyreco!G212,\"\")","v":""},{"$f":"IF(Ocaña!G212>0,Ocaña!G212,\"\")","v":""},{"$f":"IF(Taine!G212>0,Taine!G212,\"\")","v":""},{"$f":"IF(Vistalegre!G212>0,Vistalegre!G212,\"\")","v":""},0,""]
[207,"Carpeta colgante de cajón . Tamaño A4. Visor horizontal o superior .Varilla de plástico o metálica. Medida entre ejes 330 mm. Cartón kraft de 230gr/m2 mínimo.Lomo 15 mm ","Unidad",{"$f":" TEXT(MIN(DiaCash!D213,DisOfic!D213,Lablink!D213,Lyreco!D213,Ocaña!D213,Taine!D213,Vistalegre!D213),\"0,000\") & \" - \" & TEXT(MAX(DiaCash!D213,DisOfic!D213,Lablink!D213,Lyreco!D213,Ocaña!D213,Taine!D213,Vistalegre!D213),\"0,000\")","v":"0,244 - 0,620"},{"$f":" TEXT(MIN(DiaCash!E213,DisOfic!E213,Lyreco!E213,Ocaña!E213,Taine!E213,Vistalegre!E213),\"0,00\") & \" \" & C213","v":"1,00 Unidad"},null,{"$f":"IF(DiaCash!G213>0,DiaCash!G213,\"\")","v":""},{"$f":"IF(DisOfic!G213>0,DisOfic!G213,\"\")","v":""},{"$f":"IF(Lablink!$G213>0,Lablink!$G213,\"\")","v":""},{"$f":"IF(Lyreco!G213>0,Lyreco!G213,\"\")","v":""},{"$f":"IF(Ocaña!G213>0,Ocaña!G213,\"\")","v":""},{"$f":"IF(Taine!G213>0,Taine!G213,\"\")","v":""},{"$f":"IF(Vistalegre!G213>0,Vistalegre!G213,\"\")","v":""},0,""]
[208,"Carpeta colgante de cajón . Tamaño folio. Visor horizontal o superior .Varilla de plástico o metálica. Medida entre ejes 365 mm.  Cartón de 230gr/m2 mínimo. Lomo 15 mm","Unidad",{"$f":" TEXT(MIN(DiaCash!D214,DisOfic!D214,Lablink!D214,Lyreco!D214,Ocaña!D214,Taine!D214,Vistalegre!D214),\"0,000\") & \" - \" & TEXT(MAX(DiaCash!D214,DisOfic!D214,Lablink!D214,Lyreco!D214,Ocaña!D214,Taine!D214,Vistalegre!D214),\"0,000\")","v":"0,262 - 0,670"},{"$f":" TEXT(MIN(DiaCash!E214,DisOfic!E214,Lyreco!E214,Ocaña!E214,Taine!E214,Vistalegre!E214),\"0,00\") & \" \" & C214","v":"1,00 Unidad"},null,{"$f":"IF(DiaCash!G214>0,DiaCash!G214,\"\")","v":""},{"$f":"IF(DisOfic!G214>0,DisOfic!G214,\"\")","v":""},{"$f":"IF(Lablink!$G214>0,Lablink!$G214,\"\")","v":""},{"$f":"IF(Lyreco!G214>0,Lyreco!G214,\"\")","v":""},{"$f":"IF(Ocaña!G214>0,Ocaña!G214,\"\")","v":""},{"$f":"IF(Taine!G214>0,Taine!G214,\"\")","v":""},{"$f":"IF(Vistalegre!G214>0,Vistalegre!G214,\"\")","v":""},0,""]
[209,"Carpeta colgante de cajón . Tamaño folio. Visor horizontal o superior .Varilla de plástico o metálica. Medida entre ejes 365 mm. Cartón de 230gr/m2 mínimo. Lomo en 30 mm","Unidad",{"$f":" TEXT(MIN(DiaCash!D215,DisOfic!D215,Lablink!D215,Lyreco!D215,Ocaña!D215,Taine!D215,Vistalegre!D215),\"0,000\") & \" - \" & TEXT(MAX(DiaCash!D215,DisOfic!D215,Lablink!D215,Lyreco!D215,Ocaña!D215,Taine!D215,Vistalegre!D215),\"0,000\")","v":"0,248 - 0,660"},{"$f":" TEXT(MIN(DiaCash!E215,DisOfic!E215,Lyreco!E215,Ocaña!E215,Taine!E215,Vistalegre!E215),\"0,00\") & \" \" & C215","v":"1,00 Unidad"},null,{"$f":"IF(DiaCash!G215>0,DiaCash!G215,\"\")","v":""},{"$f":"IF(DisOfic!G215>0,DisOfic!G215,\"\")","v":""},{"$f":"IF(Lablink!$G215>0,Lablink!$G215,\"\")","v":""},{"$f":"IF(Lyreco!G215>0,Lyreco!G215,\"\")","v":""},{"$f":"IF(Ocaña!G215>0,Ocaña!G215,\"\")","v":""},{"$f":"IF(Taine!G215>0,Taine!G215,\"\")","v":""},{"$f":"IF(Vistalegre!G215>0,Vistalegre!G215,\"\")","v":""},0,""]
[210,"Carpeta colgante de cajón . Tamaño A4.Visor horizontal o superior .Varilla de plástico o metálica. Medida entre ejes 330 mm. Cartón kraft de 230gr/m2 mínimo. Lomo en v.","Unidad",{"$f":" TEXT(MIN(DiaCash!D216,DisOfic!D216,Lablink!D216,Lyreco!D216,Ocaña!D216,Taine!D216,Vistalegre!D216),\"0,000\") & \" - \" & TEXT(MAX(DiaCash!D216,DisOfic!D216,Lablink!D216,Lyreco!D216,Ocaña!D216,Taine!D216,Vistalegre!D216),\"0,000\")","v":"0,236 - 0,460"},{"$f":" TEXT(MIN(DiaCash!E216,DisOfic!E216,Lyreco!E216,Ocaña!E216,Taine!E216,Vistalegre!E216),\"0,00\") & \" \" & C216","v":"1,00 Unidad"},null,{"$f":"IF(DiaCash!G216>0,DiaCash!G216,\"\")","v":""},{"$f":"IF(DisOfic!G216>0,DisOfic!G216,\"\")","v":""},{"$f":"IF(Lablink!$G216>0,Lablink!$G216,\"\")","v":""},{"$f":"IF(Lyreco!G216>0,Lyreco!G216,\"\")","v":""},{"$f":"IF(Ocaña!G216>0,Ocaña!G216,\"\")","v":""},{"$f":"IF(Taine!G216>0,Taine!G216,\"\")","v":""},{"$f":"IF(Vistalegre!G216>0,Vistalegre!G216,\"\")","v":""},0,""]
[211,"Carpeta colgante de cajón . Tamaño folio prolongado. Visor horizontal o superior. Varilla de plástico o metálica.  Medida entre ejes 390 mm. Cartón kraft de 230gr/m2 mínimo. Lomo en v.","Unidad",{"$f":" TEXT(MIN(DiaCash!D217,DisOfic!D217,Lablink!D217,Lyreco!D217,Ocaña!D217,Taine!D217,Vistalegre!D217),\"0,000\") & \" - \" & TEXT(MAX(DiaCash!D217,DisOfic!D217,Lablink!D217,Lyreco!D217,Ocaña!D217,Taine!D217,Vistalegre!D217),\"0,000\")","v":"0,312 - 0,490"},{"$f":" TEXT(MIN(DiaCash!E217,DisOfic!E217,Lyreco!E217,Ocaña!E217,Taine!E217,Vistalegre!E217),\"0,00\") & \" \" & C217","v":"1,00 Unidad"},null,{"$f":"IF(DiaCash!G217>0,DiaCash!G217,\"\")","v":""},{"$f":"IF(DisOfic!G217>0,DisOfic!G217,\"\")","v":""},{"$f":"IF(Lablink!$G217>0,Lablink!$G217,\"\")","v":""},{"$f":"IF(Lyreco!G217>0,Lyreco!G217,\"\")","v":""},{"$f":"IF(Ocaña!G217>0,Ocaña!G217,\"\")","v":""},{"$f":"IF(Taine!G217>0,Taine!G217,\"\")","v":""},{"$f":"IF(Vistalegre!G217>0,Vistalegre!G217,\"\")","v":""},0,""]
[212,"Carpeta de cartulina con gomas y 3 solapas. Gramaje de 380 gr/m2 mínimo Medidas 320 x 240 mm aprox.","Unidad",{"$f":" TEXT(MIN(DiaCash!D218,DisOfic!D218,Lablink!D218,Lyreco!D218,Ocaña!D218,Taine!D218,Vistalegre!D218),\"0,000\") & \" - \" & TEXT(MAX(DiaCash!D218,DisOfic!D218,Lablink!D218,Lyreco!D218,Ocaña!D218,Taine!D218,Vistalegre!D218),\"0,000\")","v":"0,280 - 0,450"},{"$f":" TEXT(MIN(DiaCash!E218,DisOfic!E218,Lyreco!E218,Ocaña!E218,Taine!E218,Vistalegre!E218),\"0,00\") & \" \" & C218","v":"1,00 Unidad"},null,{"$f":"IF(DiaCash!G218>0,DiaCash!G218,\"\")","v":""},{"$f":"IF(DisOfic!G218>0,DisOfic!G218,\"\")","v":""},{"$f":"IF(Lablink!$G218>0,Lablink!$G218,\"\")","v":""},{"$f":"IF(Lyreco!G218>0,Lyreco!G218,\"\")","v":""},{"$f":"IF(Ocaña!G218>0,Ocaña!G218,\"\")","v":""},{"$f":"IF(Taine!G218>0,Taine!G218,\"\")","v":""},{"$f":"IF(Vistalegre!G218>0,Vistalegre!G218,\"\")","v":""},0,""]
[213,"Carpeta proyectos. Cartón gomas montadas. Lomo 50 mm.","Unidad",{"$f":" TEXT(MIN(DiaCash!D219,DisOfic!D219,Lablink!D219,Lyreco!D219,Ocaña!D219,Taine!D219,Vistalegre!D219),\"0,000\") & \" - \" & TEXT(MAX(DiaCash!D219,DisOfic!D219,Lablink!D219,Lyreco!D219,Ocaña!D219,Taine!D219,Vistalegre!D219),\"0,000\")","v":"1,390 - 1,650"},{"$f":" TEXT(MIN(DiaCash!E219,DisOfic!E219,Lyreco!E219,Ocaña!E219,Taine!E219,Vistalegre!E219),\"0,00\") & \" \" & C219","v":"1,00 Unidad"},null,{"$f":"IF(DiaCash!G219>0,DiaCash!G219,\"\")","v":""},{"$f":"IF(DisOfic!G219>0,DisOfic!G219,\"\")","v":""},{"$f":"IF(Lablink!$G219>0,Lablink!$G219,\"\")","v":""},{"$f":"IF(Lyreco!G219>0,Lyreco!G219,\"\")","v":""},{"$f":"IF(Ocaña!G219>0,Ocaña!G219,\"\")","v":""},{"$f":"IF(Taine!G219>0,Taine!G219,\"\")","v":""},{"$f":"IF(Vistalegre!G219>0,Vistalegre!G219,\"\")","v":""},0,""]
[214,"Carpeta proyectos. Cartón gomas montadas. Lomo 90 mm.","Unidad",{"$f":" TEXT(MIN(DiaCash!D220,DisOfic!D220,Lablink!D220,Lyreco!D220,Ocaña!D220,Taine!D220,Vistalegre!D220),\"0,000\") & \" - \" & TEXT(MAX(DiaCash!D220,DisOfic!D220,Lablink!D220,Lyreco!D220,Ocaña!D220,Taine!D220,Vistalegre!D220),\"0,000\")","v":"1,540 - 2,080"},{"$f":" TEXT(MIN(DiaCash!E220,DisOfic!E220,Lyreco!E220,Ocaña!E220,Taine!E220,Vistalegre!E220),\"0,00\") & \" \" & C220","v":"1,00 Unidad"},null,{"$f":"IF(DiaCash!G220>0,DiaCash!G220,\"\")","v":""},{"$f":"IF(DisOfic!G220>0,DisOfic!G220,\"\")","v":""},{"$f":"IF(Lablink!$G220>0,Lablink!$G220,\"\")","v":""},{"$f":"IF(Lyreco!G220>0,Lyreco!G220,\"\")","v":""},{"$f":"IF(Ocaña!G220>0,Ocaña!G220,\"\")","v":""},{"$f":"IF(Taine!G220>0,Taine!G220,\"\")","v":""},{"$f":"IF(Vistalegre!G220>0,Vistalegre!G220,\"\")","v":""},0,""]
[215,"Carpetas de fundas. Cubiertas en plástico semirrígido opaco. Fundas interiores soldadas al lomo. Número de fundas interiores: 10.","Unidad",{"$f":" TEXT(MIN(DiaCash!D221,DisOfic!D221,Lablink!D221,Lyreco!D221,Ocaña!D221,Taine!D221,Vistalegre!D221),\"0,000\") & \" - \" & TEXT(MAX(DiaCash!D221,DisOfic!D221,Lablink!D221,Lyreco!D221,Ocaña!D221,Taine!D221,Vistalegre!D221),\"0,000\")","v":"0,700 - 1,360"},{"$f":" TEXT(MIN(DiaCash!E221,DisOfic!E221,Lyreco!E221,Ocaña!E221,Taine!E221,Vistalegre!E221),\"0,00\") & \" \" & C221","v":"1,00 Unidad"},null,{"$f":"IF(DiaCash!G221>0,DiaCash!G221,\"\")","v":""},{"$f":"IF(DisOfic!G221>0,DisOfic!G221,\"\")","v":""},{"$f":"IF(Lablink!$G221>0,Lablink!$G221,\"\")","v":""},{"$f":"IF(Lyreco!G221>0,Lyreco!G221,\"\")","v":""},{"$f":"IF(Ocaña!G221>0,Ocaña!G221,\"\")","v":""},{"$f":"IF(Taine!G221>0,Taine!G221,\"\")","v":""},{"$f":"IF(Vistalegre!G221>0,Vistalegre!G221,\"\")","v":""},0,""]
[216,"Carpetas de fundas. Cubiertas en plástico semirrígido opaco. Fundas interiores soldadas al lomo. Número de fundas interiores: 20.","Unidad",{"$f":" TEXT(MIN(DiaCash!D222,DisOfic!D222,Lablink!D222,Lyreco!D222,Ocaña!D222,Taine!D222,Vistalegre!D222),\"0,000\") & \" - \" & TEXT(MAX(DiaCash!D222,DisOfic!D222,Lablink!D222,Lyreco!D222,Ocaña!D222,Taine!D222,Vistalegre!D222),\"0,000\")","v":"0,670 - 1,350"},{"$f":" TEXT(MIN(DiaCash!E222,DisOfic!E222,Lyreco!E222,Ocaña!E222,Taine!E222,Vistalegre!E222),\"0,00\") & \" \" & C222","v":"1,00 Unidad"},null,{"$f":"IF(DiaCash!G222>0,DiaCash!G222,\"\")","v":""},{"$f":"IF(DisOfic!G222>0,DisOfic!G222,\"\")","v":""},{"$f":"IF(Lablink!$G222>0,Lablink!$G222,\"\")","v":""},{"$f":"IF(Lyreco!G222>0,Lyreco!G222,\"\")","v":""},{"$f":"IF(Ocaña!G222>0,Ocaña!G222,\"\")","v":""},{"$f":"IF(Taine!G222>0,Taine!G222,\"\")","v":""},{"$f":"IF(Vistalegre!G222>0,Vistalegre!G222,\"\")","v":""},0,""]
[217,"Carpetas de fundas. Cubiertas en plástico semirrígido opaco. Fundas interiores soldadas al lomo. Número de fundas interiores: 30.","Unidad",{"$f":" TEXT(MIN(DiaCash!D223,DisOfic!D223,Lablink!D223,Lyreco!D223,Ocaña!D223,Taine!D223,Vistalegre!D223),\"0,000\") & \" - \" & TEXT(MAX(DiaCash!D223,DisOfic!D223,Lablink!D223,Lyreco!D223,Ocaña!D223,Taine!D223,Vistalegre!D223),\"0,000\")","v":"0,890 - 2,840"},{"$f":" TEXT(MIN(DiaCash!E223,DisOfic!E223,Lyreco!E223,Ocaña!E223,Taine!E223,Vistalegre!E223),\"0,00\") & \" \" & C223","v":"1,00 Unidad"},null,{"$f":"IF(DiaCash!G223>0,DiaCash!G223,\"\")","v":""},{"$f":"IF(DisOfic!G223>0,DisOfic!G223,\"\")","v":""},{"$f":"IF(Lablink!$G223>0,Lablink!$G223,\"\")","v":""},{"$f":"IF(Lyreco!G223>0,Lyreco!G223,\"\")","v":""},{"$f":"IF(Ocaña!G223>0,Ocaña!G223,\"\")","v":""},{"$f":"IF(Taine!G223>0,Taine!G223,\"\")","v":""},{"$f":"IF(Vistalegre!G223>0,Vistalegre!G223,\"\")","v":""},0,""]
[218,"Carpetas de fundas. Cubiertas en plástico semirrígido opaco. Fundas interiores soldadas al lomo. Número de fundas interiores: 40.","Unidad",{"$f":" TEXT(MIN(DiaCash!D224,DisOfic!D224,Lablink!D224,Lyreco!D224,Ocaña!D224,Taine!D224,Vistalegre!D224),\"0,000\") & \" - \" & TEXT(MAX(DiaCash!D224,DisOfic!D224,Lablink!D224,Lyreco!D224,Ocaña!D224,Taine!D224,Vistalegre!D224),\"0,000\")","v":"1,090 - 2,040"},{"$f":" TEXT(MIN(DiaCash!E224,DisOfic!E224,Lyreco!E224,Ocaña!E224,Taine!E224,Vistalegre!E224),\"0,00\") & \" \" & C224","v":"1,00 Unidad"},null,{"$f":"IF(DiaCash!G224>0,DiaCash!G224,\"\")","v":""},{"$f":"IF(DisOfic!G224>0,DisOfic!G224,\"\")","v":""},{"$f":"IF(Lablink!$G224>0,Lablink!$G224,\"\")","v":""},{"$f":"IF(Lyreco!G224>0,Lyreco!G224,\"\")","v":""},{"$f":"IF(Ocaña!G224>0,Ocaña!G224,\"\")","v":""},{"$f":"IF(Taine!G224>0,Taine!G224,\"\")","v":""},{"$f":"IF(Vistalegre!G224>0,Vistalegre!G224,\"\")","v":""},0,""]
[219,"Carpetas de fundas. Cubiertas en plástico semirrígido opaco. Fundas interiores soldadas al lomo. Número de fundas interiores: 60.","Unidad",{"$f":" TEXT(MIN(DiaCash!D225,DisOfic!D225,Lablink!D225,Lyreco!D225,Ocaña!D225,Taine!D225,Vistalegre!D225),\"0,000\") & \" - \" & TEXT(MAX(DiaCash!D225,DisOfic!D225,Lablink!D225,Lyreco!D225,Ocaña!D225,Taine!D225,Vistalegre!D225),\"0,000\")","v":"1,310 - 2,410"},{"$f":" TEXT(MIN(DiaCash!E225,DisOfic!E225,Lyreco!E225,Ocaña!E225,Taine!E225,Vistalegre!E225),\"0,00\") & \" \" & C225","v":"1,00 Unidad"},null,{"$f":"IF(DiaCash!G225>0,DiaCash!G225,\"\")","v":""},{"$f":"IF(DisOfic!G225>0,DisOfic!G225,\"\")","v":""},{"$f":"IF(Lablink!$G225>0,Lablink!$G225,\"\")","v":""},{"$f":"IF(Lyreco!G225>0,Lyreco!G225,\"\")","v":""},{"$f":"IF(Ocaña!G225>0,Ocaña!G225,\"\")","v":""},{"$f":"IF(Taine!G225>0,Taine!G225,\"\")","v":""},{"$f":"IF(Vistalegre!G225>0,Vistalegre!G225,\"\")","v":""},0,""]
[220,"Índice plástico varios colores. Juego de solapas tipo 1 a 10 de plástico mínimo de 120 micras . Tamaño  A4 o superior.","Unidad",{"$f":" TEXT(MIN(DiaCash!D226,DisOfic!D226,Lablink!D226,Lyreco!D226,Ocaña!D226,Taine!D226,Vistalegre!D226),\"0,000\") & \" - \" & TEXT(MAX(DiaCash!D226,DisOfic!D226,Lablink!D226,Lyreco!D226,Ocaña!D226,Taine!D226,Vistalegre!D226),\"0,000\")","v":"0,360 - 0,590"},{"$f":" TEXT(MIN(DiaCash!E226,DisOfic!E226,Lyreco!E226,Ocaña!E226,Taine!E226,Vistalegre!E226),\"0,00\") & \" \" & C226","v":"1,00 Unidad"},null,{"$f":"IF(DiaCash!G226>0,DiaCash!G226,\"\")","v":""},{"$f":"IF(DisOfic!G226>0,DisOfic!G226,\"\")","v":""},{"$f":"IF(Lablink!$G226>0,Lablink!$G226,\"\")","v":""},{"$f":"IF(Lyreco!G226>0,Lyreco!G226,\"\")","v":""},{"$f":"IF(Ocaña!G226>0,Ocaña!G226,\"\")","v":""},{"$f":"IF(Taine!G226>0,Taine!G226,\"\")","v":""},{"$f":"IF(Vistalegre!G226>0,Vistalegre!G226,\"\")","v":""},0,""]
[221,"Índice plástico varios colores. Juego de solapas tipo A a Z de plástico espesor mínimo de 120 micras . Tamaño  A4 o superior.","Unidad",{"$f":" TEXT(MIN(DiaCash!D227,DisOfic!D227,Lablink!D227,Lyreco!D227,Ocaña!D227,Taine!D227,Vistalegre!D227),\"0,000\") & \" - \" & TEXT(MAX(DiaCash!D227,DisOfic!D227,Lablink!D227,Lyreco!D227,Ocaña!D227,Taine!D227,Vistalegre!D227),\"0,000\")","v":"0,700 - 1,190"},{"$f":" TEXT(MIN(DiaCash!E227,DisOfic!E227,Lyreco!E227,Ocaña!E227,Taine!E227,Vistalegre!E227),\"0,00\") & \" \" & C227","v":"1,00 Unidad"},null,{"$f":"IF(DiaCash!G227>0,DiaCash!G227,\"\")","v":""},{"$f":"IF(DisOfic!G227>0,DisOfic!G227,\"\")","v":""},{"$f":"IF(Lablink!$G227>0,Lablink!$G227,\"\")","v":""},{"$f":"IF(Lyreco!G227>0,Lyreco!G227,\"\")","v":""},{"$f":"IF(Ocaña!G227>0,Ocaña!G227,\"\")","v":""},{"$f":"IF(Taine!G227>0,Taine!G227,\"\")","v":""},{"$f":"IF(Vistalegre!G227>0,Vistalegre!G227,\"\")","v":""},0,""]
[222,"Subcarpeta cartulina. Gramaje 170 gr/m2 mínimo. Tamaño A4.","Unidad",{"$f":" TEXT(MIN(DiaCash!D228,DisOfic!D228,Lablink!D228,Lyreco!D228,Ocaña!D228,Taine!D228,Vistalegre!D228),\"0,000\") & \" - \" & TEXT(MAX(DiaCash!D228,DisOfic!D228,Lablink!D228,Lyreco!D228,Ocaña!D228,Taine!D228,Vistalegre!D228),\"0,000\")","v":"0,050 - 0,070"},{"$f":" TEXT(MIN(DiaCash!E228,DisOfic!E228,Lyreco!E228,Ocaña!E228,Taine!E228,Vistalegre!E228),\"0,00\") & \" \" & C228","v":"1,00 Unidad"},null,{"$f":"IF(DiaCash!G228>0,DiaCash!G228,\"\")","v":""},{"$f":"IF(DisOfic!G228>0,DisOfic!G228,\"\")","v":""},{"$f":"IF(Lablink!$G228>0,Lablink!$G228,\"\")","v":""},{"$f":"IF(Lyreco!G228>0,Lyreco!G228,\"\")","v":""},{"$f":"IF(Ocaña!G228>0,Ocaña!G228,\"\")","v":""},{"$f":"IF(Taine!G228>0,Taine!G228,\"\")","v":""},{"$f":"IF(Vistalegre!G228>0,Vistalegre!G228,\"\")","v":""},0,""]
[223,"Subcarpeta cartulina. Gramaje 170 gr/m2 mínimo. Tamaño folio.","Unidad",{"$f":" TEXT(MIN(DiaCash!D229,DisOfic!D229,Lablink!D229,Lyreco!D229,Ocaña!D229,Taine!D229,Vistalegre!D229),\"0,000\") & \" - \" & TEXT(MAX(DiaCash!D229,DisOfic!D229,Lablink!D229,Lyreco!D229,Ocaña!D229,Taine!D229,Vistalegre!D229),\"0,000\")","v":"0,050 - 0,090"},{"$f":" TEXT(MIN(DiaCash!E229,DisOfic!E229,Lyreco!E229,Ocaña!E229,Taine!E229,Vistalegre!E229),\"0,00\") & \" \" & C229","v":"1,00 Unidad"},null,{"$f":"IF(DiaCash!G229>0,DiaCash!G229,\"\")","v":""},{"$f":"IF(DisOfic!G229>0,DisOfic!G229,\"\")","v":""},{"$f":"IF(Lablink!$G229>0,Lablink!$G229,\"\")","v":""},{"$f":"IF(Lyreco!G229>0,Lyreco!G229,\"\")","v":""},{"$f":"IF(Ocaña!G229>0,Ocaña!G229,\"\")","v":""},{"$f":"IF(Taine!G229>0,Taine!G229,\"\")","v":""},{"$f":"IF(Vistalegre!G229>0,Vistalegre!G229,\"\")","v":""},0,""]
[224,"Subcarpeta cartulina. Gramaje 210 gr/m2 mínimo. Tamaño A4.","Unidad",{"$f":" TEXT(MIN(DiaCash!D230,DisOfic!D230,Lablink!D230,Lyreco!D230,Ocaña!D230,Taine!D230,Vistalegre!D230),\"0,000\") & \" - \" & TEXT(MAX(DiaCash!D230,DisOfic!D230,Lablink!D230,Lyreco!D230,Ocaña!D230,Taine!D230,Vistalegre!D230),\"0,000\")","v":"0,076 - 0,900"},{"$f":" TEXT(MIN(DiaCash!E230,DisOfic!E230,Lyreco!E230,Ocaña!E230,Taine!E230,Vistalegre!E230),\"0,00\") & \" \" & C230","v":"0,02 Unidad"},null,{"$f":"IF(DiaCash!G230>0,DiaCash!G230,\"\")","v":""},{"$f":"IF(DisOfic!G230>0,DisOfic!G230,\"\")","v":""},{"$f":"IF(Lablink!$G230>0,Lablink!$G230,\"\")","v":""},{"$f":"IF(Lyreco!G230>0,Lyreco!G230,\"\")","v":""},{"$f":"IF(Ocaña!G230>0,Ocaña!G230,\"\")","v":""},{"$f":"IF(Taine!G230>0,Taine!G230,\"\")","v":""},{"$f":"IF(Vistalegre!G230>0,Vistalegre!G230,\"\")","v":""},0,""]
[225,"Subcarpeta cartulina. Gramaje 210 gr/m2 mínimo. Tamaño folio.","Unidad",{"$f":" TEXT(MIN(DiaCash!D231,DisOfic!D231,Lablink!D231,Lyreco!D231,Ocaña!D231,Taine!D231,Vistalegre!D231),\"0,000\") & \" - \" & TEXT(MAX(DiaCash!D231,DisOfic!D231,Lablink!D231,Lyreco!D231,Ocaña!D231,Taine!D231,Vistalegre!D231),\"0,000\")","v":"0,041 - 0,100"},{"$f":" TEXT(MIN(DiaCash!E231,DisOfic!E231,Lyreco!E231,Ocaña!E231,Taine!E231,Vistalegre!E231),\"0,00\") & \" \" & C231","v":"0,02 Unidad"},null,{"$f":"IF(DiaCash!G231>0,DiaCash!G231,\"\")","v":""},{"$f":"IF(DisOfic!G231>0,DisOfic!G231,\"\")","v":""},{"$f":"IF(Lablink!$G231>0,Lablink!$G231,\"\")","v":""},{"$f":"IF(Lyreco!G231>0,Lyreco!G231,\"\")","v":""},{"$f":"IF(Ocaña!G231>0,Ocaña!G231,\"\")","v":""},{"$f":"IF(Taine!G231>0,Taine!G231,\"\")","v":""},{"$f":"IF(Vistalegre!G231>0,Vistalegre!G231,\"\")","v":""},0,""]
[226,"Tubo portaplanos de plástico","Unidad",{"$f":" TEXT(MIN(DiaCash!D232,DisOfic!D232,Lablink!D232,Lyreco!D232,Ocaña!D232,Taine!D232,Vistalegre!D232),\"0,000\") & \" - \" & TEXT(MAX(DiaCash!D232,DisOfic!D232,Lablink!D232,Lyreco!D232,Ocaña!D232,Taine!D232,Vistalegre!D232),\"0,000\")","v":"0,140 - 1,130"},{"$f":" TEXT(MIN(DiaCash!E232,DisOfic!E232,Lyreco!E232,Ocaña!E232,Taine!E232,Vistalegre!E232),\"0,00\") & \" \" & C232","v":"1,00 Unidad"},null,{"$f":"IF(DiaCash!G232>0,DiaCash!G232,\"\")","v":""},{"$f":"IF(DisOfic!G232>0,DisOfic!G232,\"\")","v":""},{"$f":"IF(Lablink!$G232>0,Lablink!$G232,\"\")","v":""},{"$f":"IF(Lyreco!G232>0,Lyreco!G232,\"\")","v":""},{"$f":"IF(Ocaña!G232>0,Ocaña!G232,\"\")","v":""},{"$f":"IF(Taine!G232>0,Taine!G232,\"\")","v":""},{"$f":"IF(Vistalegre!G232>0,Vistalegre!G232,\"\")","v":""},0,""]
[227,"Visores plásticos (rígido o flexible con/sin efecto lupa, visión superior o lateral, con/sin etiquetas ).","Unidad",{"$f":" TEXT(MIN(DiaCash!D233,DisOfic!D233,Lablink!D233,Lyreco!D233,Ocaña!D233,Taine!D233,Vistalegre!D233),\"0,000\") & \" - \" & TEXT(MAX(DiaCash!D233,DisOfic!D233,Lablink!D233,Lyreco!D233,Ocaña!D233,Taine!D233,Vistalegre!D233),\"0,000\")","v":"0,064 - 0,099"},{"$f":" TEXT(MIN(DiaCash!E233,DisOfic!E233,Lyreco!E233,Ocaña!E233,Taine!E233,Vistalegre!E233),\"0,00\") & \" \" & C233","v":"0,04 Unidad"},null,{"$f":"IF(DiaCash!G233>0,DiaCash!G233,\"\")","v":""},{"$f":"IF(DisOfic!G233>0,DisOfic!G233,\"\")","v":""},{"$f":"IF(Lablink!$G233>0,Lablink!$G233,\"\")","v":""},{"$f":"IF(Lyreco!G233>0,Lyreco!G233,\"\")","v":""},{"$f":"IF(Ocaña!G233>0,Ocaña!G233,\"\")","v":""},{"$f":"IF(Taine!G233>0,Taine!G233,\"\")","v":""},{"$f":"IF(Vistalegre!G233>0,Vistalegre!G233,\"\")","v":""},0,""]
[228,"Dossier con fastener. Portada transparente, contraportada opaca.  Fastener metálico. Tamaño A4.","Unidad",{"$f":" TEXT(MIN(DiaCash!D234,DisOfic!D234,Lablink!D234,Lyreco!D234,Ocaña!D234,Taine!D234,Vistalegre!D234),\"0,000\") & \" - \" & TEXT(MAX(DiaCash!D234,DisOfic!D234,Lablink!D234,Lyreco!D234,Ocaña!D234,Taine!D234,Vistalegre!D234),\"0,000\")","v":"0,120 - 0,333"},{"$f":" TEXT(MIN(DiaCash!E234,DisOfic!E234,Lyreco!E234,Ocaña!E234,Taine!E234,Vistalegre!E234),\"0,00\") & \" \" & C234","v":"0,04 Unidad"},null,{"$f":"IF(DiaCash!G234>0,DiaCash!G234,\"\")","v":""},{"$f":"IF(DisOfic!G234>0,DisOfic!G234,\"\")","v":""},{"$f":"IF(Lablink!$G234>0,Lablink!$G234,\"\")","v":""},{"$f":"IF(Lyreco!G234>0,Lyreco!G234,\"\")","v":""},{"$f":"IF(Ocaña!G234>0,Ocaña!G234,\"\")","v":""},{"$f":"IF(Taine!G234>0,Taine!G234,\"\")","v":""},{"$f":"IF(Vistalegre!G234>0,Vistalegre!G234,\"\")","v":""},0,""]
[229,"Dossier con fastener. Portada transparente, contraportada opaca.  Fastener metálico. Tamaño folio.","Unidad",{"$f":" TEXT(MIN(DiaCash!D235,DisOfic!D235,Lablink!D235,Lyreco!D235,Ocaña!D235,Taine!D235,Vistalegre!D235),\"0,000\") & \" - \" & TEXT(MAX(DiaCash!D235,DisOfic!D235,Lablink!D235,Lyreco!D235,Ocaña!D235,Taine!D235,Vistalegre!D235),\"0,000\")","v":"0,280 - 0,530"},{"$f":" TEXT(MIN(DiaCash!E235,DisOfic!E235,Lyreco!E235,Ocaña!E235,Taine!E235,Vistalegre!E235),\"0,00\") & \" \" & C235","v":"1,00 Unidad"},null,{"$f":"IF(DiaCash!G235>0,DiaCash!G235,\"\")","v":""},{"$f":"IF(DisOfic!G235>0,DisOfic!G235,\"\")","v":""},{"$f":"IF(Lablink!$G235>0,Lablink!$G235,\"\")","v":""},{"$f":"IF(Lyreco!G235>0,Lyreco!G235,\"\")","v":""},{"$f":"IF(Ocaña!G235>0,Ocaña!G235,\"\")","v":""},{"$f":"IF(Taine!G235>0,Taine!G235,\"\")","v":""},{"$f":"IF(Vistalegre!G235>0,Vistalegre!G235,\"\")","v":""},0,""]
[230,"Dossier uñero en plástico. Apertura superior y lateral. Tamaño folio","Envase 100 unidades",{"$f":" TEXT(MIN(DiaCash!D236,DisOfic!D236,Lablink!D236,Lyreco!D236,Ocaña!D236,Taine!D236,Vistalegre!D236),\"0,000\") & \" - \" & TEXT(MAX(DiaCash!D236,DisOfic!D236,Lablink!D236,Lyreco!D236,Ocaña!D236,Taine!D236,Vistalegre!D236),\"0,000\")","v":"4,848 - 7,000"},{"$f":" TEXT(MIN(DiaCash!E236,DisOfic!E236,Lyreco!E236,Ocaña!E236,Taine!E236,Vistalegre!E236),\"0,00\") & \" \" & C236","v":"1,00 Envase 100 unidades"},null,{"$f":"IF(DiaCash!G236>0,DiaCash!G236,\"\")","v":""},{"$f":"IF(DisOfic!G236>0,DisOfic!G236,\"\")","v":""},{"$f":"IF(Lablink!$G236>0,Lablink!$G236,\"\")","v":""},{"$f":"IF(Lyreco!G236>0,Lyreco!G236,\"\")","v":""},{"$f":"IF(Ocaña!G236>0,Ocaña!G236,\"\")","v":""},{"$f":"IF(Taine!G236>0,Taine!G236,\"\")","v":""},{"$f":"IF(Vistalegre!G236>0,Vistalegre!G236,\"\")","v":""},0,""]
[231,"Funda plástico transparente antiestática multitaladro. Tamaño A4. Grosor de 60 micras mínimo.","Envase 100 unidades",{"$f":" TEXT(MIN(DiaCash!D237,DisOfic!D237,Lablink!D237,Lyreco!D237,Ocaña!D237,Taine!D237,Vistalegre!D237),\"0,000\") & \" - \" & TEXT(MAX(DiaCash!D237,DisOfic!D237,Lablink!D237,Lyreco!D237,Ocaña!D237,Taine!D237,Vistalegre!D237),\"0,000\")","v":"1,690 - 3,700"},{"$f":" TEXT(MIN(DiaCash!E237,DisOfic!E237,Lyreco!E237,Ocaña!E237,Taine!E237,Vistalegre!E237),\"0,00\") & \" \" & C237","v":"1,00 Envase 100 unidades"},null,{"$f":"IF(DiaCash!G237>0,DiaCash!G237,\"\")","v":""},{"$f":"IF(DisOfic!G237>0,DisOfic!G237,\"\")","v":""},{"$f":"IF(Lablink!$G237>0,Lablink!$G237,\"\")","v":""},{"$f":"IF(Lyreco!G237>0,Lyreco!G237,\"\")","v":""},{"$f":"IF(Ocaña!G237>0,Ocaña!G237,\"\")","v":""},{"$f":"IF(Taine!G237>0,Taine!G237,\"\")","v":""},{"$f":"IF(Vistalegre!G237>0,Vistalegre!G237,\"\")","v":""},0,""]
[232,"Funda plástico transparente antiestática multitaladro. Tamaño folio. Grosor de 60 micras mínimo.","Envase 100 unidades",{"$f":" TEXT(MIN(DiaCash!D238,DisOfic!D238,Lablink!D238,Lyreco!D238,Ocaña!D238,Taine!D238,Vistalegre!D238),\"0,000\") & \" - \" & TEXT(MAX(DiaCash!D238,DisOfic!D238,Lablink!D238,Lyreco!D238,Ocaña!D238,Taine!D238,Vistalegre!D238),\"0,000\")","v":"3,000 - 4,000"},{"$f":" TEXT(MIN(DiaCash!E238,DisOfic!E238,Lyreco!E238,Ocaña!E238,Taine!E238,Vistalegre!E238),\"0,00\") & \" \" & C238","v":"1,00 Envase 100 unidades"},null,{"$f":"IF(DiaCash!G238>0,DiaCash!G238,\"\")","v":""},{"$f":"IF(DisOfic!G238>0,DisOfic!G238,\"\")","v":""},{"$f":"IF(Lablink!$G238>0,Lablink!$G238,\"\")","v":""},{"$f":"IF(Lyreco!G238>0,Lyreco!G238,\"\")","v":""},{"$f":"IF(Ocaña!G238>0,Ocaña!G238,\"\")","v":""},{"$f":"IF(Taine!G238>0,Taine!G238,\"\")","v":""},{"$f":"IF(Vistalegre!G238>0,Vistalegre!G238,\"\")","v":""},0,""]
[233,"Bolsas para plastificar tamaño A4. 80 micras mínimo","Envase 100 unidades",{"$f":" TEXT(MIN(DiaCash!D239,DisOfic!D239,Lablink!D239,Lyreco!D239,Ocaña!D239,Taine!D239,Vistalegre!D239),\"0,000\") & \" - \" & TEXT(MAX(DiaCash!D239,DisOfic!D239,Lablink!D239,Lyreco!D239,Ocaña!D239,Taine!D239,Vistalegre!D239),\"0,000\")","v":"4,030 - 8,000"},{"$f":" TEXT(MIN(DiaCash!E239,DisOfic!E239,Lyreco!E239,Ocaña!E239,Taine!E239,Vistalegre!E239),\"0,00\") & \" \" & C239","v":"1,00 Envase 100 unidades"},null,{"$f":"IF(DiaCash!G239>0,DiaCash!G239,\"\")","v":""},{"$f":"IF(DisOfic!G239>0,DisOfic!G239,\"\")","v":""},{"$f":"IF(Lablink!$G239>0,Lablink!$G239,\"\")","v":""},{"$f":"IF(Lyreco!G239>0,Lyreco!G239,\"\")","v":""},{"$f":"IF(Ocaña!G239>0,Ocaña!G239,\"\")","v":""},{"$f":"IF(Taine!G239>0,Taine!G239,\"\")","v":""},{"$f":"IF(Vistalegre!G239>0,Vistalegre!G239,\"\")","v":""},0,""]
[234,"Portafirmas fabricado en plástico color negro, tapas acolchadas  con refuerzo en base y escalonados . Medidas 335 x 245 mm aprox. Con 18 departamentos mínimo de doble cartulina y lomo tipo fuelle.","Unidad",{"$f":" TEXT(MIN(DiaCash!D240,DisOfic!D240,Lablink!D240,Lyreco!D240,Ocaña!D240,Taine!D240,Vistalegre!D240),\"0,000\") & \" - \" & TEXT(MAX(DiaCash!D240,DisOfic!D240,Lablink!D240,Lyreco!D240,Ocaña!D240,Taine!D240,Vistalegre!D240),\"0,000\")","v":"9,030 - 23,750"},{"$f":" TEXT(MIN(DiaCash!E240,DisOfic!E240,Lyreco!E240,Ocaña!E240,Taine!E240,Vistalegre!E240),\"0,00\") & \" \" & C240","v":"1,00 Unidad"},null,{"$f":"IF(DiaCash!G240>0,DiaCash!G240,\"\")","v":""},{"$f":"IF(DisOfic!G240>0,DisOfic!G240,\"\")","v":""},{"$f":"IF(Lablink!$G240>0,Lablink!$G240,\"\")","v":""},{"$f":"IF(Lyreco!G240>0,Lyreco!G240,\"\")","v":""},{"$f":"IF(Ocaña!G240>0,Ocaña!G240,\"\")","v":""},{"$f":"IF(Taine!G240>0,Taine!G240,\"\")","v":""},{"$f":"IF(Vistalegre!G240>0,Vistalegre!G240,\"\")","v":""},0,""]
[235,"Bloc de notas. Liso o cuadrícula. De 80-90 hojas aprox. Gramaje 60 gr/m2 mínimo.Tamaño A4 o folio.","Unidad",{"$f":" TEXT(MIN(DiaCash!D241,DisOfic!D241,Lablink!D241,Lyreco!D241,Ocaña!D241,Taine!D241,Vistalegre!D241),\"0,000\") & \" - \" & TEXT(MAX(DiaCash!D241,DisOfic!D241,Lablink!D241,Lyreco!D241,Ocaña!D241,Taine!D241,Vistalegre!D241),\"0,000\")","v":"0,610 - 1,400"},{"$f":" TEXT(MIN(DiaCash!E241,DisOfic!E241,Lyreco!E241,Ocaña!E241,Taine!E241,Vistalegre!E241),\"0,00\") & \" \" & C241","v":"1,00 Unidad"},null,{"$f":"IF(DiaCash!G241>0,DiaCash!G241,\"\")","v":""},{"$f":"IF(DisOfic!G241>0,DisOfic!G241,\"\")","v":""},{"$f":"IF(Lablink!$G241>0,Lablink!$G241,\"\")","v":""},{"$f":"IF(Lyreco!G241>0,Lyreco!G241,\"\")","v":""},{"$f":"IF(Ocaña!G241>0,Ocaña!G241,\"\")","v":""},{"$f":"IF(Taine!G241>0,Taine!G241,\"\")","v":""},{"$f":"IF(Vistalegre!G241>0,Vistalegre!G241,\"\")","v":""},0,""]
[236,"Bloc de notas. Liso o cuadrícula. De 80-90 hojas aprox. Gramaje 60 gr/m2 mínimo.Tamaño A4 o folio. (Enri)","Unidad",{"$f":" TEXT(MIN(DiaCash!D242,DisOfic!D242,Lablink!D242,Lyreco!D242,Ocaña!D242,Taine!D242,Vistalegre!D242),\"0,000\") & \" - \" & TEXT(MAX(DiaCash!D242,DisOfic!D242,Lablink!D242,Lyreco!D242,Ocaña!D242,Taine!D242,Vistalegre!D242),\"0,000\")","v":"0,920 - 1,600"},{"$f":" TEXT(MIN(DiaCash!E242,DisOfic!E242,Lyreco!E242,Ocaña!E242,Taine!E242,Vistalegre!E242),\"0,00\") & \" \" & C242","v":"1,00 Unidad"},null,{"$f":"IF(DiaCash!G242>0,DiaCash!G242,\"\")","v":""},{"$f":"IF(DisOfic!G242>0,DisOfic!G242,\"\")","v":""},{"$f":"IF(Lablink!$G242>0,Lablink!$G242,\"\")","v":""},{"$f":"IF(Lyreco!G242>0,Lyreco!G242,\"\")","v":""},{"$f":"IF(Ocaña!G242>0,Ocaña!G242,\"\")","v":""},{"$f":"IF(Taine!G242>0,Taine!G242,\"\")","v":""},{"$f":"IF(Vistalegre!G242>0,Vistalegre!G242,\"\")","v":""},0,""]
[237,"Bloc de notas. Liso o cuadrícula. De 80-90 hojas aprox. Gramaje 60 gr/m2 mínimo.Tamaño A5 o 4º.","Unidad",{"$f":" TEXT(MIN(DiaCash!D243,DisOfic!D243,Lablink!D243,Lyreco!D243,Ocaña!D243,Taine!D243,Vistalegre!D243),\"0,000\") & \" - \" & TEXT(MAX(DiaCash!D243,DisOfic!D243,Lablink!D243,Lyreco!D243,Ocaña!D243,Taine!D243,Vistalegre!D243),\"0,000\")","v":"0,350 - 0,750"},{"$f":" TEXT(MIN(DiaCash!E243,DisOfic!E243,Lyreco!E243,Ocaña!E243,Taine!E243,Vistalegre!E243),\"0,00\") & \" \" & C243","v":"1,00 Unidad"},null,{"$f":"IF(DiaCash!G243>0,DiaCash!G243,\"\")","v":""},{"$f":"IF(DisOfic!G243>0,DisOfic!G243,\"\")","v":""},{"$f":"IF(Lablink!$G243>0,Lablink!$G243,\"\")","v":""},{"$f":"IF(Lyreco!G243>0,Lyreco!G243,\"\")","v":""},{"$f":"IF(Ocaña!G243>0,Ocaña!G243,\"\")","v":""},{"$f":"IF(Taine!G243>0,Taine!G243,\"\")","v":""},{"$f":"IF(Vistalegre!G243>0,Vistalegre!G243,\"\")","v":""},0,""]
[238,"Bloc de notas. Liso o cuadrícula. De 80-90 hojas aprox. Gramaje 60 gr/m2 mínimo.Tamaño A5 o 4º. (Enri)","Unidad",{"$f":" TEXT(MIN(DiaCash!D244,DisOfic!D244,Lablink!D244,Lyreco!D244,Ocaña!D244,Taine!D244,Vistalegre!D244),\"0,000\") & \" - \" & TEXT(MAX(DiaCash!D244,DisOfic!D244,Lablink!D244,Lyreco!D244,Ocaña!D244,Taine!D244,Vistalegre!D244),\"0,000\")","v":"0,470 - 0,900"},{"$f":" TEXT(MIN(DiaCash!E244,DisOfic!E244,Lyreco!E244,Ocaña!E244,Taine!E244,Vistalegre!E244),\"0,00\") & \" \" & C244","v":"1,00 Unidad"},null,{"$f":"IF(DiaCash!G244>0,DiaCash!G244,\"\")","v":""},{"$f":"IF(DisOfic!G244>0,DisOfic!G244,\"\")","v":""},{"$f":"IF(Lablink!$G244>0,Lablink!$G244,\"\")","v":""},{"$f":"IF(Lyreco!G244>0,Lyreco!G244,\"\")","v":""},{"$f":"IF(Ocaña!G244>0,Ocaña!G244,\"\")","v":""},{"$f":"IF(Taine!G244>0,Taine!G244,\"\")","v":""},{"$f":"IF(Vistalegre!G244>0,Vistalegre!G244,\"\")","v":""},0,""]
[239,"Bloc de notas. Liso o cuadrícula. De 80-90 hojas aprox. Gramaje 60 gr/m2 mínimo.Tamaño A6 u 8º.","Unidad",{"$f":" TEXT(MIN(DiaCash!D245,DisOfic!D245,Lablink!D245,Lyreco!D245,Ocaña!D245,Taine!D245,Vistalegre!D245),\"0,000\") & \" - \" & TEXT(MAX(DiaCash!D245,DisOfic!D245,Lablink!D245,Lyreco!D245,Ocaña!D245,Taine!D245,Vistalegre!D245),\"0,000\")","v":"0,260 - 0,450"},{"$f":" TEXT(MIN(DiaCash!E245,DisOfic!E245,Lyreco!E245,Ocaña!E245,Taine!E245,Vistalegre!E245),\"0,00\") & \" \" & C245","v":"1,00 Unidad"},null,{"$f":"IF(DiaCash!G245>0,DiaCash!G245,\"\")","v":""},{"$f":"IF(DisOfic!G245>0,DisOfic!G245,\"\")","v":""},{"$f":"IF(Lablink!$G245>0,Lablink!$G245,\"\")","v":""},{"$f":"IF(Lyreco!G245>0,Lyreco!G245,\"\")","v":""},{"$f":"IF(Ocaña!G245>0,Ocaña!G245,\"\")","v":""},{"$f":"IF(Taine!G245>0,Taine!G245,\"\")","v":""},{"$f":"IF(Vistalegre!G245>0,Vistalegre!G245,\"\")","v":""},0,""]
[240,"Bloc de notas. Liso o cuadrícula. De 80-90 hojas aprox. Gramaje 60 gr/m2 mínimo.Tamaño A6 u 8º. (Enri)","Unidad",{"$f":" TEXT(MIN(DiaCash!D246,DisOfic!D246,Lablink!D246,Lyreco!D246,Ocaña!D246,Taine!D246,Vistalegre!D246),\"0,000\") & \" - \" & TEXT(MAX(DiaCash!D246,DisOfic!D246,Lablink!D246,Lyreco!D246,Ocaña!D246,Taine!D246,Vistalegre!D246),\"0,000\")","v":"0,280 - 0,900"},{"$f":" TEXT(MIN(DiaCash!E246,DisOfic!E246,Lyreco!E246,Ocaña!E246,Taine!E246,Vistalegre!E246),\"0,00\") & \" \" & C246","v":"1,00 Unidad"},null,{"$f":"IF(DiaCash!G246>0,DiaCash!G246,\"\")","v":""},{"$f":"IF(DisOfic!G246>0,DisOfic!G246,\"\")","v":""},{"$f":"IF(Lablink!$G246>0,Lablink!$G246,\"\")","v":""},{"$f":"IF(Lyreco!G246>0,Lyreco!G246,\"\")","v":""},{"$f":"IF(Ocaña!G246>0,Ocaña!G246,\"\")","v":""},{"$f":"IF(Taine!G246>0,Taine!G246,\"\")","v":""},{"$f":"IF(Vistalegre!G246>0,Vistalegre!G246,\"\")","v":""},0,""]
[241,"Bloc de papel liso, para caballete (pizarra de papel) 70 gr/m2 mínimo . Medidas 650 x 900 mm aprox, (mínimo 25 hojas por bloc aprox.).","Unidad",{"$f":" TEXT(MIN(DiaCash!D247,DisOfic!D247,Lablink!D247,Lyreco!D247,Ocaña!D247,Taine!D247,Vistalegre!D247),\"0,000\") & \" - \" & TEXT(MAX(DiaCash!D247,DisOfic!D247,Lablink!D247,Lyreco!D247,Ocaña!D247,Taine!D247,Vistalegre!D247),\"0,000\")","v":"2,840 - 5,320"},{"$f":" TEXT(MIN(DiaCash!E247,DisOfic!E247,Lyreco!E247,Ocaña!E247,Taine!E247,Vistalegre!E247),\"0,00\") & \" \" & C247","v":"1,00 Unidad"},null,{"$f":"IF(DiaCash!G247>0,DiaCash!G247,\"\")","v":""},{"$f":"IF(DisOfic!G247>0,DisOfic!G247,\"\")","v":""},{"$f":"IF(Lablink!$G247>0,Lablink!$G247,\"\")","v":""},{"$f":"IF(Lyreco!G247>0,Lyreco!G247,\"\")","v":""},{"$f":"IF(Ocaña!G247>0,Ocaña!G247,\"\")","v":""},{"$f":"IF(Taine!G247>0,Taine!G247,\"\")","v":""},{"$f":"IF(Vistalegre!G247>0,Vistalegre!G247,\"\")","v":""},0,""]
[242,"Bloc de papel liso, para caballete (pizarra de papel) 70 gr/m2 mínimo . Medidas 650 x 900 mm aprox, (mínimo 25 hojas por bloc aprox.). (Enri)","Unidad",{"$f":" TEXT(MIN(DiaCash!D248,DisOfic!D248,Lablink!D248,Lyreco!D248,Ocaña!D248,Taine!D248,Vistalegre!D248),\"0,000\") & \" - \" & TEXT(MAX(DiaCash!D248,DisOfic!D248,Lablink!D248,Lyreco!D248,Ocaña!D248,Taine!D248,Vistalegre!D248),\"0,000\")","v":"2,170 - 5,500"},{"$f":" TEXT(MIN(DiaCash!E248,DisOfic!E248,Lyreco!E248,Ocaña!E248,Taine!E248,Vistalegre!E248),\"0,00\") & \" \" & C248","v":"1,00 Unidad"},null,{"$f":"IF(DiaCash!G248>0,DiaCash!G248,\"\")","v":""},{"$f":"IF(DisOfic!G248>0,DisOfic!G248,\"\")","v":""},{"$f":"IF(Lablink!$G248>0,Lablink!$G248,\"\")","v":""},{"$f":"IF(Lyreco!G248>0,Lyreco!G248,\"\")","v":""},{"$f":"IF(Ocaña!G248>0,Ocaña!G248,\"\")","v":""},{"$f":"IF(Taine!G248>0,Taine!G248,\"\")","v":""},{"$f":"IF(Vistalegre!G248>0,Vistalegre!G248,\"\")","v":""},0,""]
[243,"Cuaderno espiral cubierta cartón duro. Liso o cuadrícula. De 80-90 hojas aprox. Gramaje 60 gr/m2 mínimo.Tamaño A4 o folio.","Unidad",{"$f":" TEXT(MIN(DiaCash!D249,DisOfic!D249,Lablink!D249,Lyreco!D249,Ocaña!D249,Taine!D249,Vistalegre!D249),\"0,000\") & \" - \" & TEXT(MAX(DiaCash!D249,DisOfic!D249,Lablink!D249,Lyreco!D249,Ocaña!D249,Taine!D249,Vistalegre!D249),\"0,000\")","v":"0,810 - 1,090"},{"$f":" TEXT(MIN(DiaCash!E249,DisOfic!E249,Lyreco!E249,Ocaña!E249,Taine!E249,Vistalegre!E249),\"0,00\") & \" \" & C249","v":"1,00 Unidad"},null,{"$f":"IF(DiaCash!G249>0,DiaCash!G249,\"\")","v":""},{"$f":"IF(DisOfic!G249>0,DisOfic!G249,\"\")","v":""},{"$f":"IF(Lablink!$G249>0,Lablink!$G249,\"\")","v":""},{"$f":"IF(Lyreco!G249>0,Lyreco!G249,\"\")","v":""},{"$f":"IF(Ocaña!G249>0,Ocaña!G249,\"\")","v":""},{"$f":"IF(Taine!G249>0,Taine!G249,\"\")","v":""},{"$f":"IF(Vistalegre!G249>0,Vistalegre!G249,\"\")","v":""},0,""]
[244,"Cuaderno espiral cubierta cartón duro. Liso o cuadrícula. De 80-90 hojas aprox. Gramaje 60 gr/m2 mínimo.Tamaño A4 o folio. (Enri)","Unidad",{"$f":" TEXT(MIN(DiaCash!D250,DisOfic!D250,Lablink!D250,Lyreco!D250,Ocaña!D250,Taine!D250,Vistalegre!D250),\"0,000\") & \" - \" & TEXT(MAX(DiaCash!D250,DisOfic!D250,Lablink!D250,Lyreco!D250,Ocaña!D250,Taine!D250,Vistalegre!D250),\"0,000\")","v":"0,950 - 1,180"},{"$f":" TEXT(MIN(DiaCash!E250,DisOfic!E250,Lyreco!E250,Ocaña!E250,Taine!E250,Vistalegre!E250),\"0,00\") & \" \" & C250","v":"1,00 Unidad"},null,{"$f":"IF(DiaCash!G250>0,DiaCash!G250,\"\")","v":""},{"$f":"IF(DisOfic!G250>0,DisOfic!G250,\"\")","v":""},{"$f":"IF(Lablink!$G250>0,Lablink!$G250,\"\")","v":""},{"$f":"IF(Lyreco!G250>0,Lyreco!G250,\"\")","v":""},{"$f":"IF(Ocaña!G250>0,Ocaña!G250,\"\")","v":""},{"$f":"IF(Taine!G250>0,Taine!G250,\"\")","v":""},{"$f":"IF(Vistalegre!G250>0,Vistalegre!G250,\"\")","v":""},0,""]
[245,"Cuaderno espiral cubierta cartón duro. Liso o cuadrícula. De 80-90 hojas aprox. Gramaje 60 gr/m2 mínimo. Tamaño A5 o 4º.","Unidad",{"$f":" TEXT(MIN(DiaCash!D251,DisOfic!D251,Lablink!D251,Lyreco!D251,Ocaña!D251,Taine!D251,Vistalegre!D251),\"0,000\") & \" - \" & TEXT(MAX(DiaCash!D251,DisOfic!D251,Lablink!D251,Lyreco!D251,Ocaña!D251,Taine!D251,Vistalegre!D251),\"0,000\")","v":"0,502 - 0,812"},{"$f":" TEXT(MIN(DiaCash!E251,DisOfic!E251,Lyreco!E251,Ocaña!E251,Taine!E251,Vistalegre!E251),\"0,00\") & \" \" & C251","v":"1,00 Unidad"},null,{"$f":"IF(DiaCash!G251>0,DiaCash!G251,\"\")","v":""},{"$f":"IF(DisOfic!G251>0,DisOfic!G251,\"\")","v":""},{"$f":"IF(Lablink!$G251>0,Lablink!$G251,\"\")","v":""},{"$f":"IF(Lyreco!G251>0,Lyreco!G251,\"\")","v":""},{"$f":"IF(Ocaña!G251>0,Ocaña!G251,\"\")","v":""},{"$f":"IF(Taine!G251>0,Taine!G251,\"\")","v":""},{"$f":"IF(Vistalegre!G251>0,Vistalegre!G251,\"\")","v":""},0,""]
[246,"Cuaderno espiral cubierta cartón duro. Liso o cuadrícula. De 80-90 hojas aprox. Gramaje 60 gr/m2 mínimo. Tamaño A5 o 4º. (Enri)","Unidad",{"$f":" TEXT(MIN(DiaCash!D252,DisOfic!D252,Lablink!D252,Lyreco!D252,Ocaña!D252,Taine!D252,Vistalegre!D252),\"0,000\") & \" - \" & TEXT(MAX(DiaCash!D252,DisOfic!D252,Lablink!D252,Lyreco!D252,Ocaña!D252,Taine!D252,Vistalegre!D252),\"0,000\")","v":"0,630 - 1,000"},{"$f":" TEXT(MIN(DiaCash!E252,DisOfic!E252,Lyreco!E252,Ocaña!E252,Taine!E252,Vistalegre!E252),\"0,00\") & \" \" & C252","v":"1,00 Unidad"},null,{"$f":"IF(DiaCash!G252>0,DiaCash!G252,\"\")","v":""},{"$f":"IF(DisOfic!G252>0,DisOfic!G252,\"\")","v":""},{"$f":"IF(Lablink!$G252>0,Lablink!$G252,\"\")","v":""},{"$f":"IF(Lyreco!G252>0,Lyreco!G252,\"\")","v":""},{"$f":"IF(Ocaña!G252>0,Ocaña!G252,\"\")","v":""},{"$f":"IF(Taine!G252>0,Taine!G252,\"\")","v":""},{"$f":"IF(Vistalegre!G252>0,Vistalegre!G252,\"\")","v":""},0,""]
[247,"Cuaderno espiral cubierta cartón duro. Liso o cuadrícula. De 80-90 hojas aprox. Gramaje 60 gr/m2 mínimo.Tamaño A6 u 8º.","Unidad",{"$f":" TEXT(MIN(DiaCash!D253,DisOfic!D253,Lablink!D253,Lyreco!D253,Ocaña!D253,Taine!D253,Vistalegre!D253),\"0,000\") & \" - \" & TEXT(MAX(DiaCash!D253,DisOfic!D253,Lablink!D253,Lyreco!D253,Ocaña!D253,Taine!D253,Vistalegre!D253),\"0,000\")","v":"0,330 - 0,529"},{"$f":" TEXT(MIN(DiaCash!E253,DisOfic!E253,Lyreco!E253,Ocaña!E253,Taine!E253,Vistalegre!E253),\"0,00\") & \" \" & C253","v":"1,00 Unidad"},null,{"$f":"IF(DiaCash!G253>0,DiaCash!G253,\"\")","v":""},{"$f":"IF(DisOfic!G253>0,DisOfic!G253,\"\")","v":""},{"$f":"IF(Lablink!$G253>0,Lablink!$G253,\"\")","v":""},{"$f":"IF(Lyreco!G253>0,Lyreco!G253,\"\")","v":""},{"$f":"IF(Ocaña!G253>0,Ocaña!G253,\"\")","v":""},{"$f":"IF(Taine!G253>0,Taine!G253,\"\")","v":""},{"$f":"IF(Vistalegre!G253>0,Vistalegre!G253,\"\")","v":""},0,""]
[248,"Cuaderno espiral cubierta cartón duro. Liso o cuadrícula. De 80-90 hojas aprox. Gramaje 60 gr/m2 mínimo.Tamaño A6 u 8º. (Enri)","Unidad",{"$f":" TEXT(MIN(DiaCash!D254,DisOfic!D254,Lablink!D254,Lyreco!D254,Ocaña!D254,Taine!D254,Vistalegre!D254),\"0,000\") & \" - \" & TEXT(MAX(DiaCash!D254,DisOfic!D254,Lablink!D254,Lyreco!D254,Ocaña!D254,Taine!D254,Vistalegre!D254),\"0,000\")","v":"0,410 - 1,000"},{"$f":" TEXT(MIN(DiaCash!E254,DisOfic!E254,Lyreco!E254,Ocaña!E254,Taine!E254,Vistalegre!E254),\"0,00\") & \" \" & C254","v":"1,00 Unidad"},null,{"$f":"IF(DiaCash!G254>0,DiaCash!G254,\"\")","v":""},{"$f":"IF(DisOfic!G254>0,DisOfic!G254,\"\")","v":""},{"$f":"IF(Lablink!$G254>0,Lablink!$G254,\"\")","v":""},{"$f":"IF(Lyreco!G254>0,Lyreco!G254,\"\")","v":""},{"$f":"IF(Ocaña!G254>0,Ocaña!G254,\"\")","v":""},{"$f":"IF(Taine!G254>0,Taine!G254,\"\")","v":""},{"$f":"IF(Vistalegre!G254>0,Vistalegre!G254,\"\")","v":""},0,""]
[249,"Cuaderno espiral cubierta plastificada. Liso o cuadrícula. De 80-90 hojas aprox. Gramaje 60 gr/m2 mínimo.Tamaño A4 o folio.","Unidad",{"$f":" TEXT(MIN(DiaCash!D255,DisOfic!D255,Lablink!D255,Lyreco!D255,Ocaña!D255,Taine!D255,Vistalegre!D255),\"0,000\") & \" - \" & TEXT(MAX(DiaCash!D255,DisOfic!D255,Lablink!D255,Lyreco!D255,Ocaña!D255,Taine!D255,Vistalegre!D255),\"0,000\")","v":"0,710 - 1,200"},{"$f":" TEXT(MIN(DiaCash!E255,DisOfic!E255,Lyreco!E255,Ocaña!E255,Taine!E255,Vistalegre!E255),\"0,00\") & \" \" & C255","v":"1,00 Unidad"},null,{"$f":"IF(DiaCash!G255>0,DiaCash!G255,\"\")","v":""},{"$f":"IF(DisOfic!G255>0,DisOfic!G255,\"\")","v":""},{"$f":"IF(Lablink!$G255>0,Lablink!$G255,\"\")","v":""},{"$f":"IF(Lyreco!G255>0,Lyreco!G255,\"\")","v":""},{"$f":"IF(Ocaña!G255>0,Ocaña!G255,\"\")","v":""},{"$f":"IF(Taine!G255>0,Taine!G255,\"\")","v":""},{"$f":"IF(Vistalegre!G255>0,Vistalegre!G255,\"\")","v":""},0,""]
[250,"Cuaderno espiral cubierta plastificada. Liso o cuadrícula. De 80-90 hojas aprox. Gramaje 60 gr/m2 mínimo.Tamaño A4 o folio. (Enri)","Unidad",{"$f":" TEXT(MIN(DiaCash!D256,DisOfic!D256,Lablink!D256,Lyreco!D256,Ocaña!D256,Taine!D256,Vistalegre!D256),\"0,000\") & \" - \" & TEXT(MAX(DiaCash!D256,DisOfic!D256,Lablink!D256,Lyreco!D256,Ocaña!D256,Taine!D256,Vistalegre!D256),\"0,000\")","v":"0,720 - 1,500"},{"$f":" TEXT(MIN(DiaCash!E256,DisOfic!E256,Lyreco!E256,Ocaña!E256,Taine!E256,Vistalegre!E256),\"0,00\") & \" \" & C256","v":"1,00 Unidad"},null,{"$f":"IF(DiaCash!G256>0,DiaCash!G256,\"\")","v":""},{"$f":"IF(DisOfic!G256>0,DisOfic!G256,\"\")","v":""},{"$f":"IF(Lablink!$G256>0,Lablink!$G256,\"\")","v":""},{"$f":"IF(Lyreco!G256>0,Lyreco!G256,\"\")","v":""},{"$f":"IF(Ocaña!G256>0,Ocaña!G256,\"\")","v":""},{"$f":"IF(Taine!G256>0,Taine!G256,\"\")","v":""},{"$f":"IF(Vistalegre!G256>0,Vistalegre!G256,\"\")","v":""},0,""]
[251,"Cuaderno espiral cubierta plastificada. Liso o cuadrícula. De 80-90 hojas aprox. Gramaje 60 gr/m2 mínimo.Tamaño A5 o 4º.","Unidad",{"$f":" TEXT(MIN(DiaCash!D257,DisOfic!D257,Lablink!D257,Lyreco!D257,Ocaña!D257,Taine!D257,Vistalegre!D257),\"0,000\") & \" - \" & TEXT(MAX(DiaCash!D257,DisOfic!D257,Lablink!D257,Lyreco!D257,Ocaña!D257,Taine!D257,Vistalegre!D257),\"0,000\")","v":"0,560 - 0,800"},{"$f":" TEXT(MIN(DiaCash!E257,DisOfic!E257,Lyreco!E257,Ocaña!E257,Taine!E257,Vistalegre!E257),\"0,00\") & \" \" & C257","v":"1,00 Unidad"},null,{"$f":"IF(DiaCash!G257>0,DiaCash!G257,\"\")","v":""},{"$f":"IF(DisOfic!G257>0,DisOfic!G257,\"\")","v":""},{"$f":"IF(Lablink!$G257>0,Lablink!$G257,\"\")","v":""},{"$f":"IF(Lyreco!G257>0,Lyreco!G257,\"\")","v":""},{"$f":"IF(Ocaña!G257>0,Ocaña!G257,\"\")","v":""},{"$f":"IF(Taine!G257>0,Taine!G257,\"\")","v":""},{"$f":"IF(Vistalegre!G257>0,Vistalegre!G257,\"\")","v":""},0,""]
[252,"Cuaderno espiral cubierta plastificada. Liso o cuadrícula. De 80-90 hojas aprox. Gramaje 60 gr/m2 mínimo.Tamaño A5 o 4º. (Enri)","Unidad",{"$f":" TEXT(MIN(DiaCash!D258,DisOfic!D258,Lablink!D258,Lyreco!D258,Ocaña!D258,Taine!D258,Vistalegre!D258),\"0,000\") & \" - \" & TEXT(MAX(DiaCash!D258,DisOfic!D258,Lablink!D258,Lyreco!D258,Ocaña!D258,Taine!D258,Vistalegre!D258),\"0,000\")","v":"0,470 - 1,640"},{"$f":" TEXT(MIN(DiaCash!E258,DisOfic!E258,Lyreco!E258,Ocaña!E258,Taine!E258,Vistalegre!E258),\"0,00\") & \" \" & C258","v":"1,00 Unidad"},null,{"$f":"IF(DiaCash!G258>0,DiaCash!G258,\"\")","v":""},{"$f":"IF(DisOfic!G258>0,DisOfic!G258,\"\")","v":""},{"$f":"IF(Lablink!$G258>0,Lablink!$G258,\"\")","v":""},{"$f":"IF(Lyreco!G258>0,Lyreco!G258,\"\")","v":""},{"$f":"IF(Ocaña!G258>0,Ocaña!G258,\"\")","v":""},{"$f":"IF(Taine!G258>0,Taine!G258,\"\")","v":""},{"$f":"IF(Vistalegre!G258>0,Vistalegre!G258,\"\")","v":""},0,""]
[253,"Cuaderno espiral cubierta plastificada. Liso o cuadrícula. De 80-90 hojas aprox. Gramaje 60 gr/m2 mínimo.Tamaño A6 u 8º.","Unidad",{"$f":" TEXT(MIN(DiaCash!D259,DisOfic!D259,Lablink!D259,Lyreco!D259,Ocaña!D259,Taine!D259,Vistalegre!D259),\"0,000\") & \" - \" & TEXT(MAX(DiaCash!D259,DisOfic!D259,Lablink!D259,Lyreco!D259,Ocaña!D259,Taine!D259,Vistalegre!D259),\"0,000\")","v":"0,050 - 0,750"},{"$f":" TEXT(MIN(DiaCash!E259,DisOfic!E259,Lyreco!E259,Ocaña!E259,Taine!E259,Vistalegre!E259),\"0,00\") & \" \" & C259","v":"1,00 Unidad"},null,{"$f":"IF(DiaCash!G259>0,DiaCash!G259,\"\")","v":""},{"$f":"IF(DisOfic!G259>0,DisOfic!G259,\"\")","v":""},{"$f":"IF(Lablink!$G259>0,Lablink!$G259,\"\")","v":""},{"$f":"IF(Lyreco!G259>0,Lyreco!G259,\"\")","v":""},{"$f":"IF(Ocaña!G259>0,Ocaña!G259,\"\")","v":""},{"$f":"IF(Taine!G259>0,Taine!G259,\"\")","v":""},{"$f":"IF(Vistalegre!G259>0,Vistalegre!G259,\"\")","v":""},0,""]
[254,"Cuaderno espiral cubierta plastificada. Liso o cuadrícula. De 80-90 hojas aprox. Gramaje 60 gr/m2 mínimo.Tamaño A6 u 8º. (Enri)","Unidad",{"$f":" TEXT(MIN(DiaCash!D260,DisOfic!D260,Lablink!D260,Lyreco!D260,Ocaña!D260,Taine!D260,Vistalegre!D260),\"0,000\") & \" - \" & TEXT(MAX(DiaCash!D260,DisOfic!D260,Lablink!D260,Lyreco!D260,Ocaña!D260,Taine!D260,Vistalegre!D260),\"0,000\")","v":"0,480 - 0,990"},{"$f":" TEXT(MIN(DiaCash!E260,DisOfic!E260,Lyreco!E260,Ocaña!E260,Taine!E260,Vistalegre!E260),\"0,00\") & \" \" & C260","v":"1,00 Unidad"},null,{"$f":"IF(DiaCash!G260>0,DiaCash!G260,\"\")","v":""},{"$f":"IF(DisOfic!G260>0,DisOfic!G260,\"\")","v":""},{"$f":"IF(Lablink!$G260>0,Lablink!$G260,\"\")","v":""},{"$f":"IF(Lyreco!G260>0,Lyreco!G260,\"\")","v":""},{"$f":"IF(Ocaña!G260>0,Ocaña!G260,\"\")","v":""},{"$f":"IF(Taine!G260>0,Taine!G260,\"\")","v":""},{"$f":"IF(Vistalegre!G260>0,Vistalegre!G260,\"\")","v":""},0,""]
[255,"Cuaderno espiral cubierta plastificada. Liso o cuadrícula. De 80-90 hojas aprox. Gramaje 60 gr/m2 mínimo.Tamaño A7 u 16º.","Unidad",{"$f":" TEXT(MIN(DiaCash!D261,DisOfic!D261,Lablink!D261,Lyreco!D261,Ocaña!D261,Taine!D261,Vistalegre!D261),\"0,000\") & \" - \" & TEXT(MAX(DiaCash!D261,DisOfic!D261,Lablink!D261,Lyreco!D261,Ocaña!D261,Taine!D261,Vistalegre!D261),\"0,000\")","v":"0,350 - 0,500"},{"$f":" TEXT(MIN(DiaCash!E261,DisOfic!E261,Lyreco!E261,Ocaña!E261,Taine!E261,Vistalegre!E261),\"0,00\") & \" \" & C261","v":"1,00 Unidad"},null,{"$f":"IF(DiaCash!G261>0,DiaCash!G261,\"\")","v":""},{"$f":"IF(DisOfic!G261>0,DisOfic!G261,\"\")","v":""},{"$f":"IF(Lablink!$G261>0,Lablink!$G261,\"\")","v":""},{"$f":"IF(Lyreco!G261>0,Lyreco!G261,\"\")","v":""},{"$f":"IF(Ocaña!G261>0,Ocaña!G261,\"\")","v":""},{"$f":"IF(Taine!G261>0,Taine!G261,\"\")","v":""},{"$f":"IF(Vistalegre!G261>0,Vistalegre!G261,\"\")","v":""},0,""]
[256,"Cuaderno espiral cubierta plastificada. Liso o cuadrícula. De 80-90 hojas aprox. Gramaje 60 gr/m2 mínimo.Tamaño A7 u 16º. (Enri)","Unidad",{"$f":" TEXT(MIN(DiaCash!D262,DisOfic!D262,Lablink!D262,Lyreco!D262,Ocaña!D262,Taine!D262,Vistalegre!D262),\"0,000\") & \" - \" & TEXT(MAX(DiaCash!D262,DisOfic!D262,Lablink!D262,Lyreco!D262,Ocaña!D262,Taine!D262,Vistalegre!D262),\"0,000\")","v":"0,120 - 0,990"},{"$f":" TEXT(MIN(DiaCash!E262,DisOfic!E262,Lyreco!E262,Ocaña!E262,Taine!E262,Vistalegre!E262),\"0,00\") & \" \" & C262","v":"1,00 Unidad"},null,{"$f":"IF(DiaCash!G262>0,DiaCash!G262,\"\")","v":""},{"$f":"IF(DisOfic!G262>0,DisOfic!G262,\"\")","v":""},{"$f":"IF(Lablink!$G262>0,Lablink!$G262,\"\")","v":""},{"$f":"IF(Lyreco!G262>0,Lyreco!G262,\"\")","v":""},{"$f":"IF(Ocaña!G262>0,Ocaña!G262,\"\")","v":""},{"$f":"IF(Taine!G262>0,Taine!G262,\"\")","v":""},{"$f":"IF(Vistalegre!G262>0,Vistalegre!G262,\"\")","v":""},0,""]
[257,"Banderitas/Index autoadhesivas colores surtidos ","Taco 100 unidades",{"$f":" TEXT(MIN(DiaCash!D263,DisOfic!D263,Lablink!D263,Lyreco!D263,Ocaña!D263,Taine!D263,Vistalegre!D263),\"0,000\") & \" - \" & TEXT(MAX(DiaCash!D263,DisOfic!D263,Lablink!D263,Lyreco!D263,Ocaña!D263,Taine!D263,Vistalegre!D263),\"0,000\")","v":"0,090 - 0,100"},{"$f":" TEXT(MIN(DiaCash!E263,DisOfic!E263,Lyreco!E263,Ocaña!E263,Taine!E263,Vistalegre!E263),\"0,00\") & \" \" & C263","v":"1,00 Taco 100 unidades"},null,{"$f":"IF(DiaCash!G263>0,DiaCash!G263,\"\")","v":""},{"$f":"IF(DisOfic!G263>0,DisOfic!G263,\"\")","v":""},{"$f":"IF(Lablink!$G263>0,Lablink!$G263,\"\")","v":""},{"$f":"IF(Lyreco!G263>0,Lyreco!G263,\"\")","v":""},{"$f":"IF(Ocaña!G263>0,Ocaña!G263,\"\")","v":""},{"$f":"IF(Taine!G263>0,Taine!G263,\"\")","v":""},{"$f":"IF(Vistalegre!G263>0,Vistalegre!G263,\"\")","v":""},{"$f":"COUNTIF(G263:M263,\"=\" & O263)","v":0},""]
[258,"Banderitas/Index pack 5 mininotas neon Post-it","Taco 100 unidades",{"$f":" TEXT(MIN(DiaCash!D264,DisOfic!D264,Lablink!D264,Lyreco!D264,Ocaña!D264,Taine!D264,Vistalegre!D264),\"0,000\") & \" - \" & TEXT(MAX(DiaCash!D264,DisOfic!D264,Lablink!D264,Lyreco!D264,Ocaña!D264,Taine!D264,Vistalegre!D264),\"0,000\")","v":"0,380 - 0,700"},{"$f":" TEXT(MIN(DiaCash!E264,DisOfic!E264,Lyreco!E264,Ocaña!E264,Taine!E264,Vistalegre!E264),\"0,00\") & \" \" & C264","v":"1,00 Taco 100 unidades"},null,{"$f":"IF(DiaCash!G264>0,DiaCash!G264,\"\")","v":""},{"$f":"IF(DisOfic!G264>0,DisOfic!G264,\"\")","v":""},{"$f":"IF(Lablink!$G264>0,Lablink!$G264,\"\")","v":""},{"$f":"IF(Lyreco!G264>0,Lyreco!G264,\"\")","v":""},{"$f":"IF(Ocaña!G264>0,Ocaña!G264,\"\")","v":""},{"$f":"IF(Taine!G264>0,Taine!G264,\"\")","v":""},{"$f":"IF(Vistalegre!G264>0,Vistalegre!G264,\"\")","v":""},0,{"$f":"IF(MIN(G264:M264)=0,\"\",MIN(G264:M264))","v":""}]
[259,"Blocs de notas autoadhesivas amarillas. Medidas 38 x 51 mm, 100 hojas.","Taco 100 unidades",{"$f":" TEXT(MIN(DiaCash!D265,DisOfic!D265,Lablink!D265,Lyreco!D265,Ocaña!D265,Taine!D265,Vistalegre!D265),\"0,000\") & \" - \" & TEXT(MAX(DiaCash!D265,DisOfic!D265,Lablink!D265,Lyreco!D265,Ocaña!D265,Taine!D265,Vistalegre!D265),\"0,000\")","v":"0,049 - 0,082"},{"$f":" TEXT(MIN(DiaCash!E265,DisOfic!E265,Lyreco!E265,Ocaña!E265,Taine!E265,Vistalegre!E265),\"0,00\") & \" \" & C265","v":"1,00 Taco 100 unidades"},null,{"$f":"IF(DiaCash!G265>0,DiaCash!G265,\"\")","v":""},{"$f":"IF(DisOfic!G265>0,DisOfic!G265,\"\")","v":""},{"$f":"IF(Lablink!$G265>0,Lablink!$G265,\"\")","v":""},{"$f":"IF(Lyreco!G265>0,Lyreco!G265,\"\")","v":""},{"$f":"IF(Ocaña!G265>0,Ocaña!G265,\"\")","v":""},{"$f":"IF(Taine!G265>0,Taine!G265,\"\")","v":""},{"$f":"IF(Vistalegre!G265>0,Vistalegre!G265,\"\")","v":""},0,""]
[260,"Blocs de notas autoadhesivas amarillas. Medidas 38 x 51 mm, 100 hojas. (Post-it)","Taco 100 unidades",{"$f":" TEXT(MIN(DiaCash!D266,DisOfic!D266,Lablink!D266,Lyreco!D266,Ocaña!D266,Taine!D266,Vistalegre!D266),\"0,000\") & \" - \" & TEXT(MAX(DiaCash!D266,DisOfic!D266,Lablink!D266,Lyreco!D266,Ocaña!D266,Taine!D266,Vistalegre!D266),\"0,000\")","v":"0,070 - 0,600"},{"$f":" TEXT(MIN(DiaCash!E266,DisOfic!E266,Lyreco!E266,Ocaña!E266,Taine!E266,Vistalegre!E266),\"0,00\") & \" \" & C266","v":"1,00 Taco 100 unidades"},null,{"$f":"IF(DiaCash!G266>0,DiaCash!G266,\"\")","v":""},{"$f":"IF(DisOfic!G266>0,DisOfic!G266,\"\")","v":""},{"$f":"IF(Lablink!$G266>0,Lablink!$G266,\"\")","v":""},{"$f":"IF(Lyreco!G266>0,Lyreco!G266,\"\")","v":""},{"$f":"IF(Ocaña!G266>0,Ocaña!G266,\"\")","v":""},{"$f":"IF(Taine!G266>0,Taine!G266,\"\")","v":""},{"$f":"IF(Vistalegre!G266>0,Vistalegre!G266,\"\")","v":""},0,""]
[261,"Blocs de notas autoadhesivas amarillas. Medidas 76 x 76 mm, 100 hojas.","Taco 100 unidades",{"$f":" TEXT(MIN(DiaCash!D267,DisOfic!D267,Lablink!D267,Lyreco!D267,Ocaña!D267,Taine!D267,Vistalegre!D267),\"0,000\") & \" - \" & TEXT(MAX(DiaCash!D267,DisOfic!D267,Lablink!D267,Lyreco!D267,Ocaña!D267,Taine!D267,Vistalegre!D267),\"0,000\")","v":"0,110 - 0,179"},{"$f":" TEXT(MIN(DiaCash!E267,DisOfic!E267,Lyreco!E267,Ocaña!E267,Taine!E267,Vistalegre!E267),\"0,00\") & \" \" & C267","v":"1,00 Taco 100 unidades"},null,{"$f":"IF(DiaCash!G267>0,DiaCash!G267,\"\")","v":""},{"$f":"IF(DisOfic!G267>0,DisOfic!G267,\"\")","v":""},{"$f":"IF(Lablink!$G267>0,Lablink!$G267,\"\")","v":""},{"$f":"IF(Lyreco!G267>0,Lyreco!G267,\"\")","v":""},{"$f":"IF(Ocaña!G267>0,Ocaña!G267,\"\")","v":""},{"$f":"IF(Taine!G267>0,Taine!G267,\"\")","v":""},{"$f":"IF(Vistalegre!G267>0,Vistalegre!G267,\"\")","v":""},0,""]
[262,"Blocs de notas autoadhesivas de colores. Medidas 76 x 76 mm, 100 hojas. (Post-it)","Taco 100 unidades",{"$f":" TEXT(MIN(DiaCash!D268,DisOfic!D268,Lablink!D268,Lyreco!D268,Ocaña!D268,Taine!D268,Vistalegre!D268),\"0,000\") & \" - \" & TEXT(MAX(DiaCash!D268,DisOfic!D268,Lablink!D268,Lyreco!D268,Ocaña!D268,Taine!D268,Vistalegre!D268),\"0,000\")","v":"0,130 - 1,270"},{"$f":" TEXT(MIN(DiaCash!E268,DisOfic!E268,Lyreco!E268,Ocaña!E268,Taine!E268,Vistalegre!E268),\"0,00\") & \" \" & C268","v":"1,00 Taco 100 unidades"},null,{"$f":"IF(DiaCash!G268>0,DiaCash!G268,\"\")","v":""},{"$f":"IF(DisOfic!G268>0,DisOfic!G268,\"\")","v":""},{"$f":"IF(Lablink!$G268>0,Lablink!$G268,\"\")","v":""},{"$f":"IF(Lyreco!G268>0,Lyreco!G268,\"\")","v":""},{"$f":"IF(Ocaña!G268>0,Ocaña!G268,\"\")","v":""},{"$f":"IF(Taine!G268>0,Taine!G268,\"\")","v":""},{"$f":"IF(Vistalegre!G268>0,Vistalegre!G268,\"\")","v":""},0,""]
[263,"Blocs de notas autoadhesivas amarillas. Medidas 76 x 127 mm, 100 hojas.","Taco 100 unidades",{"$f":" TEXT(MIN(DiaCash!D269,DisOfic!D269,Lablink!D269,Lyreco!D269,Ocaña!D269,Taine!D269,Vistalegre!D269),\"0,000\") & \" - \" & TEXT(MAX(DiaCash!D269,DisOfic!D269,Lablink!D269,Lyreco!D269,Ocaña!D269,Taine!D269,Vistalegre!D269),\"0,000\")","v":"0,170 - 0,276"},{"$f":" TEXT(MIN(DiaCash!E269,DisOfic!E269,Lyreco!E269,Ocaña!E269,Taine!E269,Vistalegre!E269),\"0,00\") & \" \" & C269","v":"1,00 Taco 100 unidades"},null,{"$f":"IF(DiaCash!G269>0,DiaCash!G269,\"\")","v":""},{"$f":"IF(DisOfic!G269>0,DisOfic!G269,\"\")","v":""},{"$f":"IF(Lablink!$G269>0,Lablink!$G269,\"\")","v":""},{"$f":"IF(Lyreco!G269>0,Lyreco!G269,\"\")","v":""},{"$f":"IF(Ocaña!G269>0,Ocaña!G269,\"\")","v":""},{"$f":"IF(Taine!G269>0,Taine!G269,\"\")","v":""},{"$f":"IF(Vistalegre!G269>0,Vistalegre!G269,\"\")","v":""},0,""]
[264,"Blocs de notas autoadhesivas amarillas. Medidas 76 x 127 mm, 100 hojas. (Post-it)","Taco 100 unidades",{"$f":" TEXT(MIN(DiaCash!D270,DisOfic!D270,Lablink!D270,Lyreco!D270,Ocaña!D270,Taine!D270,Vistalegre!D270),\"0,000\") & \" - \" & TEXT(MAX(DiaCash!D270,DisOfic!D270,Lablink!D270,Lyreco!D270,Ocaña!D270,Taine!D270,Vistalegre!D270),\"0,000\")","v":"0,210 - 1,650"},{"$f":" TEXT(MIN(DiaCash!E270,DisOfic!E270,Lyreco!E270,Ocaña!E270,Taine!E270,Vistalegre!E270),\"0,00\") & \" \" & C270","v":"1,00 Taco 100 unidades"},null,{"$f":"IF(DiaCash!G270>0,DiaCash!G270,\"\")","v":""},{"$f":"IF(DisOfic!G270>0,DisOfic!G270,\"\")","v":""},{"$f":"IF(Lablink!$G270>0,Lablink!$G270,\"\")","v":""},{"$f":"IF(Lyreco!G270>0,Lyreco!G270,\"\")","v":""},{"$f":"IF(Ocaña!G270>0,Ocaña!G270,\"\")","v":""},{"$f":"IF(Taine!G270>0,Taine!G270,\"\")","v":""},{"$f":"IF(Vistalegre!G270>0,Vistalegre!G270,\"\")","v":""},0,""]
[265,"Etiquetas adhesivas. En formato  A4, número de etiquetas por hoja según el tamaño de etiqueta. ","Paquete 100 hojas",{"$f":" TEXT(MIN(DiaCash!D271,DisOfic!D271,Lablink!D271,Lyreco!D271,Ocaña!D271,Taine!D271,Vistalegre!D271),\"0,000\") & \" - \" & TEXT(MAX(DiaCash!D271,DisOfic!D271,Lablink!D271,Lyreco!D271,Ocaña!D271,Taine!D271,Vistalegre!D271),\"0,000\")","v":"3,220 - 4,394"},{"$f":" TEXT(MIN(DiaCash!E271,DisOfic!E271,Lyreco!E271,Ocaña!E271,Taine!E271,Vistalegre!E271),\"0,00\") & \" \" & C271","v":"1,00 Paquete 100 hojas"},null,{"$f":"IF(DiaCash!G271>0,DiaCash!G271,\"\")","v":""},{"$f":"IF(DisOfic!G271>0,DisOfic!G271,\"\")","v":""},{"$f":"IF(Lablink!$G271>0,Lablink!$G271,\"\")","v":""},{"$f":"IF(Lyreco!G271>0,Lyreco!G271,\"\")","v":""},{"$f":"IF(Ocaña!G271>0,Ocaña!G271,\"\")","v":""},{"$f":"IF(Taine!G271>0,Taine!G271,\"\")","v":""},{"$f":"IF(Vistalegre!G271>0,Vistalegre!G271,\"\")","v":""},0,""]
[266,"Etiquetas adhesivas. En formato  A4, número de etiquetas por hoja según el tamaño de\netiqueta. ","Paquete 25 hojas",{"$f":" TEXT(MIN(DiaCash!D272,DisOfic!D272,Lablink!D272,Lyreco!D272,Ocaña!D272,Taine!D272,Vistalegre!D272),\"0,000\") & \" - \" & TEXT(MAX(DiaCash!D272,DisOfic!D272,Lablink!D272,Lyreco!D272,Ocaña!D272,Taine!D272,Vistalegre!D272),\"0,000\")","v":"1,990 - 4,500"},{"$f":" TEXT(MIN(DiaCash!E272,DisOfic!E272,Lyreco!E272,Ocaña!E272,Taine!E272,Vistalegre!E272),\"0,00\") & \" \" & C272","v":"1,00 Paquete 25 hojas"},null,{"$f":"IF(DiaCash!G272>0,DiaCash!G272,\"\")","v":""},{"$f":"IF(DisOfic!G272>0,DisOfic!G272,\"\")","v":""},{"$f":"IF(Lablink!$G272>0,Lablink!$G272,\"\")","v":""},{"$f":"IF(Lyreco!G272>0,Lyreco!G272,\"\")","v":""},{"$f":"IF(Ocaña!G272>0,Ocaña!G272,\"\")","v":""},{"$f":"IF(Taine!G272>0,Taine!G272,\"\")","v":""},{"$f":"IF(Vistalegre!G272>0,Vistalegre!G272,\"\")","v":""},0,""]
[267,"Etiquetas adhesivas. En formato  A4, número de etiquetas por hoja según el tamaño de\netiqueta. ","Paquete 10 hojas",{"$f":" TEXT(MIN(DiaCash!D273,DisOfic!D273,Lablink!D273,Lyreco!D273,Ocaña!D273,Taine!D273,Vistalegre!D273),\"0,000\") & \" - \" & TEXT(MAX(DiaCash!D273,DisOfic!D273,Lablink!D273,Lyreco!D273,Ocaña!D273,Taine!D273,Vistalegre!D273),\"0,000\")","v":"0,890 - 1,750"},{"$f":" TEXT(MIN(DiaCash!E273,DisOfic!E273,Lyreco!E273,Ocaña!E273,Taine!E273,Vistalegre!E273),\"0,00\") & \" \" & C273","v":"1,00 Paquete 10 hojas"},null,{"$f":"IF(DiaCash!G273>0,DiaCash!G273,\"\")","v":""},{"$f":"IF(DisOfic!G273>0,DisOfic!G273,\"\")","v":""},{"$f":"IF(Lablink!$G273>0,Lablink!$G273,\"\")","v":""},{"$f":"IF(Lyreco!G273>0,Lyreco!G273,\"\")","v":""},{"$f":"IF(Ocaña!G273>0,Ocaña!G273,\"\")","v":""},{"$f":"IF(Taine!G273>0,Taine!G273,\"\")","v":""},{"$f":"IF(Vistalegre!G273>0,Vistalegre!G273,\"\")","v":""},0,""]
[268,"Carpeta de cartulina  por una cara plegada y solapa al pie. Tamaño mínimo A4.  Gramaje mínimo 170 gr/m2.","Unidad",{"$f":" TEXT(MIN(DiaCash!D274,DisOfic!D274,Lablink!D274,Lyreco!D274,Ocaña!D274,Taine!D274,Vistalegre!D274),\"0,000\") & \" - \" & TEXT(MAX(DiaCash!D274,DisOfic!D274,Lablink!D274,Lyreco!D274,Ocaña!D274,Taine!D274,Vistalegre!D274),\"0,000\")","v":"0,108 - 0,209"},{"$f":" TEXT(MIN(DiaCash!E274,DisOfic!E274,Lyreco!E274,Ocaña!E274,Taine!E274,Vistalegre!E274),\"0,00\") & \" \" & C274","v":"1,00 Unidad"},null,{"$f":"IF(DiaCash!G274>0,DiaCash!G274,\"\")","v":""},{"$f":"IF(DisOfic!G274>0,DisOfic!G274,\"\")","v":""},{"$f":"IF(Lablink!$G274>0,Lablink!$G274,\"\")","v":""},{"$f":"IF(Lyreco!G274>0,Lyreco!G274,\"\")","v":""},{"$f":"IF(Ocaña!G274>0,Ocaña!G274,\"\")","v":""},{"$f":"IF(Taine!G274>0,Taine!G274,\"\")","v":""},{"$f":"IF(Vistalegre!G274>0,Vistalegre!G274,\"\")","v":""},0,""]
[269,"Carpeta de cartulina  por una cara plegada y solapa al pie. Tamaño mínimo A4.  Gramaje mínimo  210  gr/m2.","Unidad",{"$f":" TEXT(MIN(DiaCash!D275,DisOfic!D275,Lablink!D275,Lyreco!D275,Ocaña!D275,Taine!D275,Vistalegre!D275),\"0,000\") & \" - \" & TEXT(MAX(DiaCash!D275,DisOfic!D275,Lablink!D275,Lyreco!D275,Ocaña!D275,Taine!D275,Vistalegre!D275),\"0,000\")","v":"0,108 - 0,360"},{"$f":" TEXT(MIN(DiaCash!E275,DisOfic!E275,Lyreco!E275,Ocaña!E275,Taine!E275,Vistalegre!E275),\"0,00\") & \" \" & C275","v":"1,00 Unidad"},null,{"$f":"IF(DiaCash!G275>0,DiaCash!G275,\"\")","v":""},{"$f":"IF(DisOfic!G275>0,DisOfic!G275,\"\")","v":""},{"$f":"IF(Lablink!$G275>0,Lablink!$G275,\"\")","v":""},{"$f":"IF(Lyreco!G275>0,Lyreco!G275,\"\")","v":""},{"$f":"IF(Ocaña!G275>0,Ocaña!G275,\"\")","v":""},{"$f":"IF(Taine!G275>0,Taine!G275,\"\")","v":""},{"$f":"IF(Vistalegre!G275>0,Vistalegre!G275,\"\")","v":""},0,""]
[270,"Carpeta de cartulina con dos bolsillos. Tamaño mínimo A4.  Gramaje mínimo 170 gr/m2.","Unidad",{"$f":" TEXT(MIN(DiaCash!D276,DisOfic!D276,Lablink!D276,Lyreco!D276,Ocaña!D276,Taine!D276,Vistalegre!D276),\"0,000\") & \" - \" & TEXT(MAX(DiaCash!D276,DisOfic!D276,Lablink!D276,Lyreco!D276,Ocaña!D276,Taine!D276,Vistalegre!D276),\"0,000\")","v":"0,258 - 0,650"},{"$f":" TEXT(MIN(DiaCash!E276,DisOfic!E276,Lyreco!E276,Ocaña!E276,Taine!E276,Vistalegre!E276),\"0,00\") & \" \" & C276","v":"1,00 Unidad"},null,{"$f":"IF(DiaCash!G276>0,DiaCash!G276,\"\")","v":""},{"$f":"IF(DisOfic!G276>0,DisOfic!G276,\"\")","v":""},{"$f":"IF(Lablink!$G276>0,Lablink!$G276,\"\")","v":""},{"$f":"IF(Lyreco!G276>0,Lyreco!G276,\"\")","v":""},{"$f":"IF(Ocaña!G276>0,Ocaña!G276,\"\")","v":""},{"$f":"IF(Taine!G276>0,Taine!G276,\"\")","v":""},{"$f":"IF(Vistalegre!G276>0,Vistalegre!G276,\"\")","v":""},0,""]
[271,"Carpeta de cartulina con dos bolsillos. Tamaño mínimo  A4 Gramaje mínimo  210  gr/m2.","Unidad",{"$f":" TEXT(MIN(DiaCash!D277,DisOfic!D277,Lablink!D277,Lyreco!D277,Ocaña!D277,Taine!D277,Vistalegre!D277),\"0,000\") & \" - \" & TEXT(MAX(DiaCash!D277,DisOfic!D277,Lablink!D277,Lyreco!D277,Ocaña!D277,Taine!D277,Vistalegre!D277),\"0,000\")","v":"0,258 - 1,190"},{"$f":" TEXT(MIN(DiaCash!E277,DisOfic!E277,Lyreco!E277,Ocaña!E277,Taine!E277,Vistalegre!E277),\"0,00\") & \" \" & C277","v":"1,00 Unidad"},null,{"$f":"IF(DiaCash!G277>0,DiaCash!G277,\"\")","v":""},{"$f":"IF(DisOfic!G277>0,DisOfic!G277,\"\")","v":""},{"$f":"IF(Lablink!$G277>0,Lablink!$G277,\"\")","v":""},{"$f":"IF(Lyreco!G277>0,Lyreco!G277,\"\")","v":""},{"$f":"IF(Ocaña!G277>0,Ocaña!G277,\"\")","v":""},{"$f":"IF(Taine!G277>0,Taine!G277,\"\")","v":""},{"$f":"IF(Vistalegre!G277>0,Vistalegre!G277,\"\")","v":""},0,""]
[272,"Carpeta de cartulina. Tamaño A4.  Gramaje mínimo 170 gr/m2.","Unidad",{"$f":" TEXT(MIN(DiaCash!D278,DisOfic!D278,Lablink!D278,Lyreco!D278,Ocaña!D278,Taine!D278,Vistalegre!D278),\"0,000\") & \" - \" & TEXT(MAX(DiaCash!D278,DisOfic!D278,Lablink!D278,Lyreco!D278,Ocaña!D278,Taine!D278,Vistalegre!D278),\"0,000\")","v":"0,060 - 0,080"},{"$f":" TEXT(MIN(DiaCash!E278,DisOfic!E278,Lyreco!E278,Ocaña!E278,Taine!E278,Vistalegre!E278),\"0,00\") & \" \" & C278","v":"1,00 Unidad"},null,{"$f":"IF(DiaCash!G278>0,DiaCash!G278,\"\")","v":""},{"$f":"IF(DisOfic!G278>0,DisOfic!G278,\"\")","v":""},{"$f":"IF(Lablink!$G278>0,Lablink!$G278,\"\")","v":""},{"$f":"IF(Lyreco!G278>0,Lyreco!G278,\"\")","v":""},{"$f":"IF(Ocaña!G278>0,Ocaña!G278,\"\")","v":""},{"$f":"IF(Taine!G278>0,Taine!G278,\"\")","v":""},{"$f":"IF(Vistalegre!G278>0,Vistalegre!G278,\"\")","v":""},0,""]
[273,"Carpeta de cartulina. Tamaño folio gramaje 210 gr/m2.","Unidad",{"$f":" TEXT(MIN(DiaCash!D279,DisOfic!D279,Lablink!D279,Lyreco!D279,Ocaña!D279,Taine!D279,Vistalegre!D279),\"0,000\") & \" - \" & TEXT(MAX(DiaCash!D279,DisOfic!D279,Lablink!D279,Lyreco!D279,Ocaña!D279,Taine!D279,Vistalegre!D279),\"0,000\")","v":"0,041 - 0,110"},{"$f":" TEXT(MIN(DiaCash!E279,DisOfic!E279,Lyreco!E279,Ocaña!E279,Taine!E279,Vistalegre!E279),\"0,00\") & \" \" & C279","v":"0,20 Unidad"},null,{"$f":"IF(DiaCash!G279>0,DiaCash!G279,\"\")","v":""},{"$f":"IF(DisOfic!G279>0,DisOfic!G279,\"\")","v":""},{"$f":"IF(Lablink!$G279>0,Lablink!$G279,\"\")","v":""},{"$f":"IF(Lyreco!G279>0,Lyreco!G279,\"\")","v":""},{"$f":"IF(Ocaña!G279>0,Ocaña!G279,\"\")","v":""},{"$f":"IF(Taine!G279>0,Taine!G279,\"\")","v":""},{"$f":"IF(Vistalegre!G279>0,Vistalegre!G279,\"\")","v":""},0,""]
[274,"Canutillos plásticos. Redondos y ovalados, de 6 mm.","Paquete 200",{"$f":" TEXT(MIN(DiaCash!D280,DisOfic!D280,Lablink!D280,Lyreco!D280,Ocaña!D280,Taine!D280,Vistalegre!D280),\"0,000\") & \" - \" & TEXT(MAX(DiaCash!D280,DisOfic!D280,Lablink!D280,Lyreco!D280,Ocaña!D280,Taine!D280,Vistalegre!D280),\"0,000\")","v":"3,120 - 3,739"},{"$f":" TEXT(MIN(DiaCash!E280,DisOfic!E280,Lyreco!E280,Ocaña!E280,Taine!E280,Vistalegre!E280),\"0,00\") & \" \" & C280","v":"0,50 Paquete 200"},null,{"$f":"IF(DiaCash!G280>0,DiaCash!G280,\"\")","v":""},{"$f":"IF(DisOfic!G280>0,DisOfic!G280,\"\")","v":""},{"$f":"IF(Lablink!$G280>0,Lablink!$G280,\"\")","v":""},{"$f":"IF(Lyreco!G280>0,Lyreco!G280,\"\")","v":""},{"$f":"IF(Ocaña!G280>0,Ocaña!G280,\"\")","v":""},{"$f":"IF(Taine!G280>0,Taine!G280,\"\")","v":""},{"$f":"IF(Vistalegre!G280>0,Vistalegre!G280,\"\")","v":""},0,""]
[275,"Canutillos plásticos. Redondos y ovalados, de 8 mm.","Paquete 100",{"$f":" TEXT(MIN(DiaCash!D281,DisOfic!D281,Lablink!D281,Lyreco!D281,Ocaña!D281,Taine!D281,Vistalegre!D281),\"0,000\") & \" - \" & TEXT(MAX(DiaCash!D281,DisOfic!D281,Lablink!D281,Lyreco!D281,Ocaña!D281,Taine!D281,Vistalegre!D281),\"0,000\")","v":"1,820 - 4,200"},{"$f":" TEXT(MIN(DiaCash!E281,DisOfic!E281,Lyreco!E281,Ocaña!E281,Taine!E281,Vistalegre!E281),\"0,00\") & \" \" & C281","v":"1,00 Paquete 100"},null,{"$f":"IF(DiaCash!G281>0,DiaCash!G281,\"\")","v":""},{"$f":"IF(DisOfic!G281>0,DisOfic!G281,\"\")","v":""},{"$f":"IF(Lablink!$G281>0,Lablink!$G281,\"\")","v":""},{"$f":"IF(Lyreco!G281>0,Lyreco!G281,\"\")","v":""},{"$f":"IF(Ocaña!G281>0,Ocaña!G281,\"\")","v":""},{"$f":"IF(Taine!G281>0,Taine!G281,\"\")","v":""},{"$f":"IF(Vistalegre!G281>0,Vistalegre!G281,\"\")","v":""},0,""]
[276,"Canutillos plásticos. Redondos y ovalados, de 10 mm.","Paquete 100",{"$f":" TEXT(MIN(DiaCash!D282,DisOfic!D282,Lablink!D282,Lyreco!D282,Ocaña!D282,Taine!D282,Vistalegre!D282),\"0,000\") & \" - \" & TEXT(MAX(DiaCash!D282,DisOfic!D282,Lablink!D282,Lyreco!D282,Ocaña!D282,Taine!D282,Vistalegre!D282),\"0,000\")","v":"2,160 - 4,840"},{"$f":" TEXT(MIN(DiaCash!E282,DisOfic!E282,Lyreco!E282,Ocaña!E282,Taine!E282,Vistalegre!E282),\"0,00\") & \" \" & C282","v":"1,00 Paquete 100"},null,{"$f":"IF(DiaCash!G282>0,DiaCash!G282,\"\")","v":""},{"$f":"IF(DisOfic!G282>0,DisOfic!G282,\"\")","v":""},{"$f":"IF(Lablink!$G282>0,Lablink!$G282,\"\")","v":""},{"$f":"IF(Lyreco!G282>0,Lyreco!G282,\"\")","v":""},{"$f":"IF(Ocaña!G282>0,Ocaña!G282,\"\")","v":""},{"$f":"IF(Taine!G282>0,Taine!G282,\"\")","v":""},{"$f":"IF(Vistalegre!G282>0,Vistalegre!G282,\"\")","v":""},0,""]
[277,"Canutillos plásticos. Redondos y ovalados, de 12 mm.","Paquete 100",{"$f":" TEXT(MIN(DiaCash!D283,DisOfic!D283,Lablink!D283,Lyreco!D283,Ocaña!D283,Taine!D283,Vistalegre!D283),\"0,000\") & \" - \" & TEXT(MAX(DiaCash!D283,DisOfic!D283,Lablink!D283,Lyreco!D283,Ocaña!D283,Taine!D283,Vistalegre!D283),\"0,000\")","v":"3,360 - 6,980"},{"$f":" TEXT(MIN(DiaCash!E283,DisOfic!E283,Lyreco!E283,Ocaña!E283,Taine!E283,Vistalegre!E283),\"0,00\") & \" \" & C283","v":"1,00 Paquete 100"},null,{"$f":"IF(DiaCash!G283>0,DiaCash!G283,\"\")","v":""},{"$f":"IF(DisOfic!G283>0,DisOfic!G283,\"\")","v":""},{"$f":"IF(Lablink!$G283>0,Lablink!$G283,\"\")","v":""},{"$f":"IF(Lyreco!G283>0,Lyreco!G283,\"\")","v":""},{"$f":"IF(Ocaña!G283>0,Ocaña!G283,\"\")","v":""},{"$f":"IF(Taine!G283>0,Taine!G283,\"\")","v":""},{"$f":"IF(Vistalegre!G283>0,Vistalegre!G283,\"\")","v":""},0,""]
[278,"Canutillos plásticos. Redondos y ovalados, de 14 mm.","Paquete 100",{"$f":" TEXT(MIN(DiaCash!D284,DisOfic!D284,Lablink!D284,Lyreco!D284,Ocaña!D284,Taine!D284,Vistalegre!D284),\"0,000\") & \" - \" & TEXT(MAX(DiaCash!D284,DisOfic!D284,Lablink!D284,Lyreco!D284,Ocaña!D284,Taine!D284,Vistalegre!D284),\"0,000\")","v":"3,570 - 5,380"},{"$f":" TEXT(MIN(DiaCash!E284,DisOfic!E284,Lyreco!E284,Ocaña!E284,Taine!E284,Vistalegre!E284),\"0,00\") & \" \" & C284","v":"1,00 Paquete 100"},null,{"$f":"IF(DiaCash!G284>0,DiaCash!G284,\"\")","v":""},{"$f":"IF(DisOfic!G284>0,DisOfic!G284,\"\")","v":""},{"$f":"IF(Lablink!$G284>0,Lablink!$G284,\"\")","v":""},{"$f":"IF(Lyreco!G284>0,Lyreco!G284,\"\")","v":""},{"$f":"IF(Ocaña!G284>0,Ocaña!G284,\"\")","v":""},{"$f":"IF(Taine!G284>0,Taine!G284,\"\")","v":""},{"$f":"IF(Vistalegre!G284>0,Vistalegre!G284,\"\")","v":""},0,""]
[279,"Canutillos plásticos. Redondos y ovalados, de 16 mm.","Paquete 100",{"$f":" TEXT(MIN(DiaCash!D285,DisOfic!D285,Lablink!D285,Lyreco!D285,Ocaña!D285,Taine!D285,Vistalegre!D285),\"0,000\") & \" - \" & TEXT(MAX(DiaCash!D285,DisOfic!D285,Lablink!D285,Lyreco!D285,Ocaña!D285,Taine!D285,Vistalegre!D285),\"0,000\")","v":"4,710 - 6,100"},{"$f":" TEXT(MIN(DiaCash!E285,DisOfic!E285,Lyreco!E285,Ocaña!E285,Taine!E285,Vistalegre!E285),\"0,00\") & \" \" & C285","v":"1,00 Paquete 100"},null,{"$f":"IF(DiaCash!G285>0,DiaCash!G285,\"\")","v":""},{"$f":"IF(DisOfic!G285>0,DisOfic!G285,\"\")","v":""},{"$f":"IF(Lablink!$G285>0,Lablink!$G285,\"\")","v":""},{"$f":"IF(Lyreco!G285>0,Lyreco!G285,\"\")","v":""},{"$f":"IF(Ocaña!G285>0,Ocaña!G285,\"\")","v":""},{"$f":"IF(Taine!G285>0,Taine!G285,\"\")","v":""},{"$f":"IF(Vistalegre!G285>0,Vistalegre!G285,\"\")","v":""},0,""]
[280,"Canutillos plásticos. Redondos y ovalados, de 18 mm.","Paquete 100",{"$f":" TEXT(MIN(DiaCash!D286,DisOfic!D286,Lablink!D286,Lyreco!D286,Ocaña!D286,Taine!D286,Vistalegre!D286),\"0,000\") & \" - \" & TEXT(MAX(DiaCash!D286,DisOfic!D286,Lablink!D286,Lyreco!D286,Ocaña!D286,Taine!D286,Vistalegre!D286),\"0,000\")","v":"5,430 - 7,370"},{"$f":" TEXT(MIN(DiaCash!E286,DisOfic!E286,Lyreco!E286,Ocaña!E286,Taine!E286,Vistalegre!E286),\"0,00\") & \" \" & C286","v":"1,00 Paquete 100"},null,{"$f":"IF(DiaCash!G286>0,DiaCash!G286,\"\")","v":""},{"$f":"IF(DisOfic!G286>0,DisOfic!G286,\"\")","v":""},{"$f":"IF(Lablink!$G286>0,Lablink!$G286,\"\")","v":""},{"$f":"IF(Lyreco!G286>0,Lyreco!G286,\"\")","v":""},{"$f":"IF(Ocaña!G286>0,Ocaña!G286,\"\")","v":""},{"$f":"IF(Taine!G286>0,Taine!G286,\"\")","v":""},{"$f":"IF(Vistalegre!G286>0,Vistalegre!G286,\"\")","v":""},0,""]
[281,"Canutillos plásticos. Redondos y ovalados, de 22 mm.","Paquete 50",{"$f":" TEXT(MIN(DiaCash!D287,DisOfic!D287,Lablink!D287,Lyreco!D287,Ocaña!D287,Taine!D287,Vistalegre!D287),\"0,000\") & \" - \" & TEXT(MAX(DiaCash!D287,DisOfic!D287,Lablink!D287,Lyreco!D287,Ocaña!D287,Taine!D287,Vistalegre!D287),\"0,000\")","v":"4,074 - 6,010"},{"$f":" TEXT(MIN(DiaCash!E287,DisOfic!E287,Lyreco!E287,Ocaña!E287,Taine!E287,Vistalegre!E287),\"0,00\") & \" \" & C287","v":"1,00 Paquete 50"},null,{"$f":"IF(DiaCash!G287>0,DiaCash!G287,\"\")","v":""},{"$f":"IF(DisOfic!G287>0,DisOfic!G287,\"\")","v":""},{"$f":"IF(Lablink!$G287>0,Lablink!$G287,\"\")","v":""},{"$f":"IF(Lyreco!G287>0,Lyreco!G287,\"\")","v":""},{"$f":"IF(Ocaña!G287>0,Ocaña!G287,\"\")","v":""},{"$f":"IF(Taine!G287>0,Taine!G287,\"\")","v":""},{"$f":"IF(Vistalegre!G287>0,Vistalegre!G287,\"\")","v":""},0,""]
[282,"Canutillos plásticos. Redondos y ovalados, de 25 mm.","Paquete 50",{"$f":" TEXT(MIN(DiaCash!D288,DisOfic!D288,Lablink!D288,Lyreco!D288,Ocaña!D288,Taine!D288,Vistalegre!D288),\"0,000\") & \" - \" & TEXT(MAX(DiaCash!D288,DisOfic!D288,Lablink!D288,Lyreco!D288,Ocaña!D288,Taine!D288,Vistalegre!D288),\"0,000\")","v":"4,790 - 6,950"},{"$f":" TEXT(MIN(DiaCash!E288,DisOfic!E288,Lyreco!E288,Ocaña!E288,Taine!E288,Vistalegre!E288),\"0,00\") & \" \" & C288","v":"1,00 Paquete 50"},null,{"$f":"IF(DiaCash!G288>0,DiaCash!G288,\"\")","v":""},{"$f":"IF(DisOfic!G288>0,DisOfic!G288,\"\")","v":""},{"$f":"IF(Lablink!$G288>0,Lablink!$G288,\"\")","v":""},{"$f":"IF(Lyreco!G288>0,Lyreco!G288,\"\")","v":""},{"$f":"IF(Ocaña!G288>0,Ocaña!G288,\"\")","v":""},{"$f":"IF(Taine!G288>0,Taine!G288,\"\")","v":""},{"$f":"IF(Vistalegre!G288>0,Vistalegre!G288,\"\")","v":""},0,""]
[283,"Canutillos plásticos. Redondos y ovalados, de 28 mm.","Paquete 50",{"$f":" TEXT(MIN(DiaCash!D289,DisOfic!D289,Lablink!D289,Lyreco!D289,Ocaña!D289,Taine!D289,Vistalegre!D289),\"0,000\") & \" - \" & TEXT(MAX(DiaCash!D289,DisOfic!D289,Lablink!D289,Lyreco!D289,Ocaña!D289,Taine!D289,Vistalegre!D289),\"0,000\")","v":"5,500 - 8,480"},{"$f":" TEXT(MIN(DiaCash!E289,DisOfic!E289,Lyreco!E289,Ocaña!E289,Taine!E289,Vistalegre!E289),\"0,00\") & \" \" & C289","v":"1,00 Paquete 50"},null,{"$f":"IF(DiaCash!G289>0,DiaCash!G289,\"\")","v":""},{"$f":"IF(DisOfic!G289>0,DisOfic!G289,\"\")","v":""},{"$f":"IF(Lablink!$G289>0,Lablink!$G289,\"\")","v":""},{"$f":"IF(Lyreco!G289>0,Lyreco!G289,\"\")","v":""},{"$f":"IF(Ocaña!G289>0,Ocaña!G289,\"\")","v":""},{"$f":"IF(Taine!G289>0,Taine!G289,\"\")","v":""},{"$f":"IF(Vistalegre!G289>0,Vistalegre!G289,\"\")","v":""},0,""]
[284,"Canutillos plásticos. Redondos y ovalados, de 32 mm.","Paquete 50",{"$f":" TEXT(MIN(DiaCash!D290,DisOfic!D290,Lablink!D290,Lyreco!D290,Ocaña!D290,Taine!D290,Vistalegre!D290),\"0,000\") & \" - \" & TEXT(MAX(DiaCash!D290,DisOfic!D290,Lablink!D290,Lyreco!D290,Ocaña!D290,Taine!D290,Vistalegre!D290),\"0,000\")","v":"6,460 - 8,170"},{"$f":" TEXT(MIN(DiaCash!E290,DisOfic!E290,Lyreco!E290,Ocaña!E290,Taine!E290,Vistalegre!E290),\"0,00\") & \" \" & C290","v":"1,00 Paquete 50"},null,{"$f":"IF(DiaCash!G290>0,DiaCash!G290,\"\")","v":""},{"$f":"IF(DisOfic!G290>0,DisOfic!G290,\"\")","v":""},{"$f":"IF(Lablink!$G290>0,Lablink!$G290,\"\")","v":""},{"$f":"IF(Lyreco!G290>0,Lyreco!G290,\"\")","v":""},{"$f":"IF(Ocaña!G290>0,Ocaña!G290,\"\")","v":""},{"$f":"IF(Taine!G290>0,Taine!G290,\"\")","v":""},{"$f":"IF(Vistalegre!G290>0,Vistalegre!G290,\"\")","v":""},0,""]
[285,"Canutillos plásticos. Redondos y ovalados, de 45 mm.","Paquete 25",{"$f":" TEXT(MIN(DiaCash!D291,DisOfic!D291,Lablink!D291,Lyreco!D291,Ocaña!D291,Taine!D291,Vistalegre!D291),\"0,000\") & \" - \" & TEXT(MAX(DiaCash!D291,DisOfic!D291,Lablink!D291,Lyreco!D291,Ocaña!D291,Taine!D291,Vistalegre!D291),\"0,000\")","v":"4,360 - 9,950"},{"$f":" TEXT(MIN(DiaCash!E291,DisOfic!E291,Lyreco!E291,Ocaña!E291,Taine!E291,Vistalegre!E291),\"0,00\") & \" \" & C291","v":"1,00 Paquete 25"},null,{"$f":"IF(DiaCash!G291>0,DiaCash!G291,\"\")","v":""},{"$f":"IF(DisOfic!G291>0,DisOfic!G291,\"\")","v":""},{"$f":"IF(Lablink!$G291>0,Lablink!$G291,\"\")","v":""},{"$f":"IF(Lyreco!G291>0,Lyreco!G291,\"\")","v":""},{"$f":"IF(Ocaña!G291>0,Ocaña!G291,\"\")","v":""},{"$f":"IF(Taine!G291>0,Taine!G291,\"\")","v":""},{"$f":"IF(Vistalegre!G291>0,Vistalegre!G291,\"\")","v":""},0,""]
[286,"Canutillos plásticos. Redondos y ovalados, de 51 mm.","Paquete 25",{"$f":" TEXT(MIN(DiaCash!D292,DisOfic!D292,Lablink!D292,Lyreco!D292,Ocaña!D292,Taine!D292,Vistalegre!D292),\"0,000\") & \" - \" & TEXT(MAX(DiaCash!D292,DisOfic!D292,Lablink!D292,Lyreco!D292,Ocaña!D292,Taine!D292,Vistalegre!D292),\"0,000\")","v":"5,010 - 10,813"},{"$f":" TEXT(MIN(DiaCash!E292,DisOfic!E292,Lyreco!E292,Ocaña!E292,Taine!E292,Vistalegre!E292),\"0,00\") & \" \" & C292","v":"1,00 Paquete 25"},null,{"$f":"IF(DiaCash!G292>0,DiaCash!G292,\"\")","v":""},{"$f":"IF(DisOfic!G292>0,DisOfic!G292,\"\")","v":""},{"$f":"IF(Lablink!$G292>0,Lablink!$G292,\"\")","v":""},{"$f":"IF(Lyreco!G292>0,Lyreco!G292,\"\")","v":""},{"$f":"IF(Ocaña!G292>0,Ocaña!G292,\"\")","v":""},{"$f":"IF(Taine!G292>0,Taine!G292,\"\")","v":""},{"$f":"IF(Vistalegre!G292>0,Vistalegre!G292,\"\")","v":""},0,""]
[287,"Espirales metálicas de encuadernación. Paso 5:1, de diámetro 8 mm.","Paquete 100",{"$f":" TEXT(MIN(DiaCash!D293,DisOfic!D293,Lablink!D293,Lyreco!D293,Ocaña!D293,Taine!D293,Vistalegre!D293),\"0,000\") & \" - \" & TEXT(MAX(DiaCash!D293,DisOfic!D293,Lablink!D293,Lyreco!D293,Ocaña!D293,Taine!D293,Vistalegre!D293),\"0,000\")","v":"3,060 - 4,770"},{"$f":" TEXT(MIN(DiaCash!E293,DisOfic!E293,Lyreco!E293,Ocaña!E293,Taine!E293,Vistalegre!E293),\"0,00\") & \" \" & C293","v":"1,00 Paquete 100"},null,{"$f":"IF(DiaCash!G293>0,DiaCash!G293,\"\")","v":""},{"$f":"IF(DisOfic!G293>0,DisOfic!G293,\"\")","v":""},{"$f":"IF(Lablink!$G293>0,Lablink!$G293,\"\")","v":""},{"$f":"IF(Lyreco!G293>0,Lyreco!G293,\"\")","v":""},{"$f":"IF(Ocaña!G293>0,Ocaña!G293,\"\")","v":""},{"$f":"IF(Taine!G293>0,Taine!G293,\"\")","v":""},{"$f":"IF(Vistalegre!G293>0,Vistalegre!G293,\"\")","v":""},0,""]
[288,"Espirales metálicas de encuadernación. Paso 5:1, de diámetro 10 mm.","Paquete 100",{"$f":" TEXT(MIN(DiaCash!D294,DisOfic!D294,Lablink!D294,Lyreco!D294,Ocaña!D294,Taine!D294,Vistalegre!D294),\"0,000\") & \" - \" & TEXT(MAX(DiaCash!D294,DisOfic!D294,Lablink!D294,Lyreco!D294,Ocaña!D294,Taine!D294,Vistalegre!D294),\"0,000\")","v":"3,800 - 5,590"},{"$f":" TEXT(MIN(DiaCash!E294,DisOfic!E294,Lyreco!E294,Ocaña!E294,Taine!E294,Vistalegre!E294),\"0,00\") & \" \" & C294","v":"1,00 Paquete 100"},null,{"$f":"IF(DiaCash!G294>0,DiaCash!G294,\"\")","v":""},{"$f":"IF(DisOfic!G294>0,DisOfic!G294,\"\")","v":""},{"$f":"IF(Lablink!$G294>0,Lablink!$G294,\"\")","v":""},{"$f":"IF(Lyreco!G294>0,Lyreco!G294,\"\")","v":""},{"$f":"IF(Ocaña!G294>0,Ocaña!G294,\"\")","v":""},{"$f":"IF(Taine!G294>0,Taine!G294,\"\")","v":""},{"$f":"IF(Vistalegre!G294>0,Vistalegre!G294,\"\")","v":""},0,""]
[289,"Espirales metálicas de encuadernación. Paso 5:1, de diámetro 12 mm.","Paquete 100",{"$f":" TEXT(MIN(DiaCash!D295,DisOfic!D295,Lablink!D295,Lyreco!D295,Ocaña!D295,Taine!D295,Vistalegre!D295),\"0,000\") & \" - \" & TEXT(MAX(DiaCash!D295,DisOfic!D295,Lablink!D295,Lyreco!D295,Ocaña!D295,Taine!D295,Vistalegre!D295),\"0,000\")","v":"4,590 - 7,220"},{"$f":" TEXT(MIN(DiaCash!E295,DisOfic!E295,Lyreco!E295,Ocaña!E295,Taine!E295,Vistalegre!E295),\"0,00\") & \" \" & C295","v":"1,00 Paquete 100"},null,{"$f":"IF(DiaCash!G295>0,DiaCash!G295,\"\")","v":""},{"$f":"IF(DisOfic!G295>0,DisOfic!G295,\"\")","v":""},{"$f":"IF(Lablink!$G295>0,Lablink!$G295,\"\")","v":""},{"$f":"IF(Lyreco!G295>0,Lyreco!G295,\"\")","v":""},{"$f":"IF(Ocaña!G295>0,Ocaña!G295,\"\")","v":""},{"$f":"IF(Taine!G295>0,Taine!G295,\"\")","v":""},{"$f":"IF(Vistalegre!G295>0,Vistalegre!G295,\"\")","v":""},0,""]
[290,"Espirales metálicas de encuadernación. Paso 5:1, de diámetro 14 mm.","Paquete 100",{"$f":" TEXT(MIN(DiaCash!D296,DisOfic!D296,Lablink!D296,Lyreco!D296,Ocaña!D296,Taine!D296,Vistalegre!D296),\"0,000\") & \" - \" & TEXT(MAX(DiaCash!D296,DisOfic!D296,Lablink!D296,Lyreco!D296,Ocaña!D296,Taine!D296,Vistalegre!D296),\"0,000\")","v":"5,270 - 8,190"},{"$f":" TEXT(MIN(DiaCash!E296,DisOfic!E296,Lyreco!E296,Ocaña!E296,Taine!E296,Vistalegre!E296),\"0,00\") & \" \" & C296","v":"1,00 Paquete 100"},null,{"$f":"IF(DiaCash!G296>0,DiaCash!G296,\"\")","v":""},{"$f":"IF(DisOfic!G296>0,DisOfic!G296,\"\")","v":""},{"$f":"IF(Lablink!$G296>0,Lablink!$G296,\"\")","v":""},{"$f":"IF(Lyreco!G296>0,Lyreco!G296,\"\")","v":""},{"$f":"IF(Ocaña!G296>0,Ocaña!G296,\"\")","v":""},{"$f":"IF(Taine!G296>0,Taine!G296,\"\")","v":""},{"$f":"IF(Vistalegre!G296>0,Vistalegre!G296,\"\")","v":""},0,""]
[291,"Espirales metálicas de encuadernación. Paso 5:1, de diámetro 16 mm.","Paquete 100",{"$f":" TEXT(MIN(DiaCash!D297,DisOfic!D297,Lablink!D297,Lyreco!D297,Ocaña!D297,Taine!D297,Vistalegre!D297),\"0,000\") & \" - \" & TEXT(MAX(DiaCash!D297,DisOfic!D297,Lablink!D297,Lyreco!D297,Ocaña!D297,Taine!D297,Vistalegre!D297),\"0,000\")","v":"7,040 - 11,090"},{"$f":" TEXT(MIN(DiaCash!E297,DisOfic!E297,Lyreco!E297,Ocaña!E297,Taine!E297,Vistalegre!E297),\"0,00\") & \" \" & C297","v":"1,00 Paquete 100"},null,{"$f":"IF(DiaCash!G297>0,DiaCash!G297,\"\")","v":""},{"$f":"IF(DisOfic!G297>0,DisOfic!G297,\"\")","v":""},{"$f":"IF(Lablink!$G297>0,Lablink!$G297,\"\")","v":""},{"$f":"IF(Lyreco!G297>0,Lyreco!G297,\"\")","v":""},{"$f":"IF(Ocaña!G297>0,Ocaña!G297,\"\")","v":""},{"$f":"IF(Taine!G297>0,Taine!G297,\"\")","v":""},{"$f":"IF(Vistalegre!G297>0,Vistalegre!G297,\"\")","v":""},0,""]
[292,"Espirales metálicas de encuadernación. Paso 5:1, de diámetro 18 mm.","Paquete 100",{"$f":" TEXT(MIN(DiaCash!D298,DisOfic!D298,Lablink!D298,Lyreco!D298,Ocaña!D298,Taine!D298,Vistalegre!D298),\"0,000\") & \" - \" & TEXT(MAX(DiaCash!D298,DisOfic!D298,Lablink!D298,Lyreco!D298,Ocaña!D298,Taine!D298,Vistalegre!D298),\"0,000\")","v":"7,980 - 12,320"},{"$f":" TEXT(MIN(DiaCash!E298,DisOfic!E298,Lyreco!E298,Ocaña!E298,Taine!E298,Vistalegre!E298),\"0,00\") & \" \" & C298","v":"1,00 Paquete 100"},null,{"$f":"IF(DiaCash!G298>0,DiaCash!G298,\"\")","v":""},{"$f":"IF(DisOfic!G298>0,DisOfic!G298,\"\")","v":""},{"$f":"IF(Lablink!$G298>0,Lablink!$G298,\"\")","v":""},{"$f":"IF(Lyreco!G298>0,Lyreco!G298,\"\")","v":""},{"$f":"IF(Ocaña!G298>0,Ocaña!G298,\"\")","v":""},{"$f":"IF(Taine!G298>0,Taine!G298,\"\")","v":""},{"$f":"IF(Vistalegre!G298>0,Vistalegre!G298,\"\")","v":""},0,""]
[293,"Espirales metálicas de encuadernación. Paso 5:1, de diámetro 20 mm.","Paquete 100",{"$f":" TEXT(MIN(DiaCash!D299,DisOfic!D299,Lablink!D299,Lyreco!D299,Ocaña!D299,Taine!D299,Vistalegre!D299),\"0,000\") & \" - \" & TEXT(MAX(DiaCash!D299,DisOfic!D299,Lablink!D299,Lyreco!D299,Ocaña!D299,Taine!D299,Vistalegre!D299),\"0,000\")","v":"8,700 - 13,500"},{"$f":" TEXT(MIN(DiaCash!E299,DisOfic!E299,Lyreco!E299,Ocaña!E299,Taine!E299,Vistalegre!E299),\"0,00\") & \" \" & C299","v":"1,00 Paquete 100"},null,{"$f":"IF(DiaCash!G299>0,DiaCash!G299,\"\")","v":""},{"$f":"IF(DisOfic!G299>0,DisOfic!G299,\"\")","v":""},{"$f":"IF(Lablink!$G299>0,Lablink!$G299,\"\")","v":""},{"$f":"IF(Lyreco!G299>0,Lyreco!G299,\"\")","v":""},{"$f":"IF(Ocaña!G299>0,Ocaña!G299,\"\")","v":""},{"$f":"IF(Taine!G299>0,Taine!G299,\"\")","v":""},{"$f":"IF(Vistalegre!G299>0,Vistalegre!G299,\"\")","v":""},0,""]
[294,"Espirales metálicas de encuadernación. Paso 5:1, de diámetro 22 mm.","Paquete 100",{"$f":" TEXT(MIN(DiaCash!D300,DisOfic!D300,Lablink!D300,Lyreco!D300,Ocaña!D300,Taine!D300,Vistalegre!D300),\"0,000\") & \" - \" & TEXT(MAX(DiaCash!D300,DisOfic!D300,Lablink!D300,Lyreco!D300,Ocaña!D300,Taine!D300,Vistalegre!D300),\"0,000\")","v":"4,910 - 17,770"},{"$f":" TEXT(MIN(DiaCash!E300,DisOfic!E300,Lyreco!E300,Ocaña!E300,Taine!E300,Vistalegre!E300),\"0,00\") & \" \" & C300","v":"1,00 Paquete 100"},null,{"$f":"IF(DiaCash!G300>0,DiaCash!G300,\"\")","v":""},{"$f":"IF(DisOfic!G300>0,DisOfic!G300,\"\")","v":""},{"$f":"IF(Lablink!$G300>0,Lablink!$G300,\"\")","v":""},{"$f":"IF(Lyreco!G300>0,Lyreco!G300,\"\")","v":""},{"$f":"IF(Ocaña!G300>0,Ocaña!G300,\"\")","v":""},{"$f":"IF(Taine!G300>0,Taine!G300,\"\")","v":""},{"$f":"IF(Vistalegre!G300>0,Vistalegre!G300,\"\")","v":""},0,""]
[295,"Espirales metálicas de encuadernación. Paso 5:1, de diámetro 24 mm.","Paquete 100",{"$f":" TEXT(MIN(DiaCash!D301,DisOfic!D301,Lablink!D301,Lyreco!D301,Ocaña!D301,Taine!D301,Vistalegre!D301),\"0,000\") & \" - \" & TEXT(MAX(DiaCash!D301,DisOfic!D301,Lablink!D301,Lyreco!D301,Ocaña!D301,Taine!D301,Vistalegre!D301),\"0,000\")","v":"5,350 - 19,430"},{"$f":" TEXT(MIN(DiaCash!E301,DisOfic!E301,Lyreco!E301,Ocaña!E301,Taine!E301,Vistalegre!E301),\"0,00\") & \" \" & C301","v":"1,00 Paquete 100"},null,{"$f":"IF(DiaCash!G301>0,DiaCash!G301,\"\")","v":""},{"$f":"IF(DisOfic!G301>0,DisOfic!G301,\"\")","v":""},{"$f":"IF(Lablink!$G301>0,Lablink!$G301,\"\")","v":""},{"$f":"IF(Lyreco!G301>0,Lyreco!G301,\"\")","v":""},{"$f":"IF(Ocaña!G301>0,Ocaña!G301,\"\")","v":""},{"$f":"IF(Taine!G301>0,Taine!G301,\"\")","v":""},{"$f":"IF(Vistalegre!G301>0,Vistalegre!G301,\"\")","v":""},0,""]
[296,"Espirales metálicas de encuadernación. Paso 5:1, de diámetro 28 mm.","Paquete 50",{"$f":" TEXT(MIN(DiaCash!D302,DisOfic!D302,Lablink!D302,Lyreco!D302,Ocaña!D302,Taine!D302,Vistalegre!D302),\"0,000\") & \" - \" & TEXT(MAX(DiaCash!D302,DisOfic!D302,Lablink!D302,Lyreco!D302,Ocaña!D302,Taine!D302,Vistalegre!D302),\"0,000\")","v":"7,670 - 9,410"},{"$f":" TEXT(MIN(DiaCash!E302,DisOfic!E302,Lyreco!E302,Ocaña!E302,Taine!E302,Vistalegre!E302),\"0,00\") & \" \" & C302","v":"1,00 Paquete 50"},null,{"$f":"IF(DiaCash!G302>0,DiaCash!G302,\"\")","v":""},{"$f":"IF(DisOfic!G302>0,DisOfic!G302,\"\")","v":""},{"$f":"IF(Lablink!$G302>0,Lablink!$G302,\"\")","v":""},{"$f":"IF(Lyreco!G302>0,Lyreco!G302,\"\")","v":""},{"$f":"IF(Ocaña!G302>0,Ocaña!G302,\"\")","v":""},{"$f":"IF(Taine!G302>0,Taine!G302,\"\")","v":""},{"$f":"IF(Vistalegre!G302>0,Vistalegre!G302,\"\")","v":""},0,""]
[297,"Espirales metálicas de encuadernación. Paso 5:1, de diámetro 30 mm. ","Paquete 50",{"$f":" TEXT(MIN(DiaCash!D303,DisOfic!D303,Lablink!D303,Lyreco!D303,Ocaña!D303,Taine!D303,Vistalegre!D303),\"0,000\") & \" - \" & TEXT(MAX(DiaCash!D303,DisOfic!D303,Lablink!D303,Lyreco!D303,Ocaña!D303,Taine!D303,Vistalegre!D303),\"0,000\")","v":"8,500 - 11,400"},{"$f":" TEXT(MIN(DiaCash!E303,DisOfic!E303,Lyreco!E303,Ocaña!E303,Taine!E303,Vistalegre!E303),\"0,00\") & \" \" & C303","v":"1,00 Paquete 50"},null,{"$f":"IF(DiaCash!G303>0,DiaCash!G303,\"\")","v":""},{"$f":"IF(DisOfic!G303>0,DisOfic!G303,\"\")","v":""},{"$f":"IF(Lablink!$G303>0,Lablink!$G303,\"\")","v":""},{"$f":"IF(Lyreco!G303>0,Lyreco!G303,\"\")","v":""},{"$f":"IF(Ocaña!G303>0,Ocaña!G303,\"\")","v":""},{"$f":"IF(Taine!G303>0,Taine!G303,\"\")","v":""},{"$f":"IF(Vistalegre!G303>0,Vistalegre!G303,\"\")","v":""},0,""]
[298,"Espirales metálicas de encuadernación. Paso 5:1, de diámetro 34 mm. ","Paquete 50",{"$f":" TEXT(MIN(DiaCash!D304,DisOfic!D304,Lablink!D304,Lyreco!D304,Ocaña!D304,Taine!D304,Vistalegre!D304),\"0,000\") & \" - \" & TEXT(MAX(DiaCash!D304,DisOfic!D304,Lablink!D304,Lyreco!D304,Ocaña!D304,Taine!D304,Vistalegre!D304),\"0,000\")","v":"8,490 - 13,150"},{"$f":" TEXT(MIN(DiaCash!E304,DisOfic!E304,Lyreco!E304,Ocaña!E304,Taine!E304,Vistalegre!E304),\"0,00\") & \" \" & C304","v":"1,00 Paquete 50"},null,{"$f":"IF(DiaCash!G304>0,DiaCash!G304,\"\")","v":""},{"$f":"IF(DisOfic!G304>0,DisOfic!G304,\"\")","v":""},{"$f":"IF(Lablink!$G304>0,Lablink!$G304,\"\")","v":""},{"$f":"IF(Lyreco!G304>0,Lyreco!G304,\"\")","v":""},{"$f":"IF(Ocaña!G304>0,Ocaña!G304,\"\")","v":""},{"$f":"IF(Taine!G304>0,Taine!G304,\"\")","v":""},{"$f":"IF(Vistalegre!G304>0,Vistalegre!G304,\"\")","v":""},0,""]
[299,"Espirales metálicas de encuadernación. Paso 5:1, de diámetro 38 mm. ","Paquete 50",{"$f":" TEXT(MIN(DiaCash!D305,DisOfic!D305,Lablink!D305,Lyreco!D305,Ocaña!D305,Taine!D305,Vistalegre!D305),\"0,000\") & \" - \" & TEXT(MAX(DiaCash!D305,DisOfic!D305,Lablink!D305,Lyreco!D305,Ocaña!D305,Taine!D305,Vistalegre!D305),\"0,000\")","v":"7,610 - 9,000"},{"$f":" TEXT(MIN(DiaCash!E305,DisOfic!E305,Lyreco!E305,Ocaña!E305,Taine!E305,Vistalegre!E305),\"0,00\") & \" \" & C305","v":"0,60 Paquete 50"},null,{"$f":"IF(DiaCash!G305>0,DiaCash!G305,\"\")","v":""},{"$f":"IF(DisOfic!G305>0,DisOfic!G305,\"\")","v":""},{"$f":"IF(Lablink!$G305>0,Lablink!$G305,\"\")","v":""},{"$f":"IF(Lyreco!G305>0,Lyreco!G305,\"\")","v":""},{"$f":"IF(Ocaña!G305>0,Ocaña!G305,\"\")","v":""},{"$f":"IF(Taine!G305>0,Taine!G305,\"\")","v":""},{"$f":"IF(Vistalegre!G305>0,Vistalegre!G305,\"\")","v":""},0,""]
[300,"Espirales metálicas de encuadernación. Paso 5:1, de diámetro 40 mm o superior.","Paquete 25",{"$f":" TEXT(MIN(DiaCash!D306,DisOfic!D306,Lablink!D306,Lyreco!D306,Ocaña!D306,Taine!D306,Vistalegre!D306),\"0,000\") & \" - \" & TEXT(MAX(DiaCash!D306,DisOfic!D306,Lablink!D306,Lyreco!D306,Ocaña!D306,Taine!D306,Vistalegre!D306),\"0,000\")","v":"6,120 - 14,100"},{"$f":" TEXT(MIN(DiaCash!E306,DisOfic!E306,Lyreco!E306,Ocaña!E306,Taine!E306,Vistalegre!E306),\"0,00\") & \" \" & C306","v":"1,00 Paquete 25"},null,{"$f":"IF(DiaCash!G306>0,DiaCash!G306,\"\")","v":""},{"$f":"IF(DisOfic!G306>0,DisOfic!G306,\"\")","v":""},{"$f":"IF(Lablink!$G306>0,Lablink!$G306,\"\")","v":""},{"$f":"IF(Lyreco!G306>0,Lyreco!G306,\"\")","v":""},{"$f":"IF(Ocaña!G306>0,Ocaña!G306,\"\")","v":""},{"$f":"IF(Taine!G306>0,Taine!G306,\"\")","v":""},{"$f":"IF(Vistalegre!G306>0,Vistalegre!G306,\"\")","v":""},0,""]
[301,"Cartulina. Tamaño A4. Gramaje 185 gr/m2 mínimo.","Paquete 50",{"$f":" TEXT(MIN(DiaCash!D307,DisOfic!D307,Lablink!D307,Lyreco!D307,Ocaña!D307,Taine!D307,Vistalegre!D307),\"0,000\") & \" - \" & TEXT(MAX(DiaCash!D307,DisOfic!D307,Lablink!D307,Lyreco!D307,Ocaña!D307,Taine!D307,Vistalegre!D307),\"0,000\")","v":"0,045 - 2,340"},{"$f":" TEXT(MIN(DiaCash!E307,DisOfic!E307,Lyreco!E307,Ocaña!E307,Taine!E307,Vistalegre!E307),\"0,00\") & \" \" & C307","v":"1,00 Paquete 50"},null,{"$f":"IF(DiaCash!G307>0,DiaCash!G307,\"\")","v":""},{"$f":"IF(DisOfic!G307>0,DisOfic!G307,\"\")","v":""},{"$f":"IF(Lablink!$G307>0,Lablink!$G307,\"\")","v":""},{"$f":"IF(Lyreco!G307>0,Lyreco!G307,\"\")","v":""},{"$f":"IF(Ocaña!G307>0,Ocaña!G307,\"\")","v":""},{"$f":"IF(Taine!G307>0,Taine!G307,\"\")","v":""},{"$f":"IF(Vistalegre!G307>0,Vistalegre!G307,\"\")","v":""},0,""]
[302,"Cartulina. Tamaño A4. Gramaje 220 gr/m2 mínimo.","Paquete 50",{"$f":" TEXT(MIN(DiaCash!D308,DisOfic!D308,Lablink!D308,Lyreco!D308,Ocaña!D308,Taine!D308,Vistalegre!D308),\"0,000\") & \" - \" & TEXT(MAX(DiaCash!D308,DisOfic!D308,Lablink!D308,Lyreco!D308,Ocaña!D308,Taine!D308,Vistalegre!D308),\"0,000\")","v":"0,105 - 13,990"},{"$f":" TEXT(MIN(DiaCash!E308,DisOfic!E308,Lyreco!E308,Ocaña!E308,Taine!E308,Vistalegre!E308),\"0,00\") & \" \" & C308","v":"1,00 Paquete 50"},null,{"$f":"IF(DiaCash!G308>0,DiaCash!G308,\"\")","v":""},{"$f":"IF(DisOfic!G308>0,DisOfic!G308,\"\")","v":""},{"$f":"IF(Lablink!$G308>0,Lablink!$G308,\"\")","v":""},{"$f":"IF(Lyreco!G308>0,Lyreco!G308,\"\")","v":""},{"$f":"IF(Ocaña!G308>0,Ocaña!G308,\"\")","v":""},{"$f":"IF(Taine!G308>0,Taine!G308,\"\")","v":""},{"$f":"IF(Vistalegre!G308>0,Vistalegre!G308,\"\")","v":""},0,""]
[303,"Cartulina. Tamaño A3. Gramaje 185 gr/m2 mínimo.","Paquete 25",{"$f":" TEXT(MIN(DiaCash!D309,DisOfic!D309,Lablink!D309,Lyreco!D309,Ocaña!D309,Taine!D309,Vistalegre!D309),\"0,000\") & \" - \" & TEXT(MAX(DiaCash!D309,DisOfic!D309,Lablink!D309,Lyreco!D309,Ocaña!D309,Taine!D309,Vistalegre!D309),\"0,000\")","v":"0,100 - 2,665"},{"$f":" TEXT(MIN(DiaCash!E309,DisOfic!E309,Lyreco!E309,Ocaña!E309,Taine!E309,Vistalegre!E309),\"0,00\") & \" \" & C309","v":"1,00 Paquete 25"},null,{"$f":"IF(DiaCash!G309>0,DiaCash!G309,\"\")","v":""},{"$f":"IF(DisOfic!G309>0,DisOfic!G309,\"\")","v":""},{"$f":"IF(Lablink!$G309>0,Lablink!$G309,\"\")","v":""},{"$f":"IF(Lyreco!G309>0,Lyreco!G309,\"\")","v":""},{"$f":"IF(Ocaña!G309>0,Ocaña!G309,\"\")","v":""},{"$f":"IF(Taine!G309>0,Taine!G309,\"\")","v":""},{"$f":"IF(Vistalegre!G309>0,Vistalegre!G309,\"\")","v":""},0,""]
[304,"Cartulina. Tamaño A3. Gramaje 220 gr/m2 mínimo.","Paquete 25",{"$f":" TEXT(MIN(DiaCash!D310,DisOfic!D310,Lablink!D310,Lyreco!D310,Ocaña!D310,Taine!D310,Vistalegre!D310),\"0,000\") & \" - \" & TEXT(MAX(DiaCash!D310,DisOfic!D310,Lablink!D310,Lyreco!D310,Ocaña!D310,Taine!D310,Vistalegre!D310),\"0,000\")","v":"0,367 - 17,000"},{"$f":" TEXT(MIN(DiaCash!E310,DisOfic!E310,Lyreco!E310,Ocaña!E310,Taine!E310,Vistalegre!E310),\"0,00\") & \" \" & C310","v":"1,00 Paquete 25"},null,{"$f":"IF(DiaCash!G310>0,DiaCash!G310,\"\")","v":""},{"$f":"IF(DisOfic!G310>0,DisOfic!G310,\"\")","v":""},{"$f":"IF(Lablink!$G310>0,Lablink!$G310,\"\")","v":""},{"$f":"IF(Lyreco!G310>0,Lyreco!G310,\"\")","v":""},{"$f":"IF(Ocaña!G310>0,Ocaña!G310,\"\")","v":""},{"$f":"IF(Taine!G310>0,Taine!G310,\"\")","v":""},{"$f":"IF(Vistalegre!G310>0,Vistalegre!G310,\"\")","v":""},0,""]
[305,"Pastener  metálico con compresor y correderas . ","Unidad",{"$f":" TEXT(MIN(DiaCash!D311,DisOfic!D311,Lablink!D311,Lyreco!D311,Ocaña!D311,Taine!D311,Vistalegre!D311),\"0,000\") & \" - \" & TEXT(MAX(DiaCash!D311,DisOfic!D311,Lablink!D311,Lyreco!D311,Ocaña!D311,Taine!D311,Vistalegre!D311),\"0,000\")","v":"0,020 - 0,040"},{"$f":" TEXT(MIN(DiaCash!E311,DisOfic!E311,Lyreco!E311,Ocaña!E311,Taine!E311,Vistalegre!E311),\"0,00\") & \" \" & C311","v":"1,00 Unidad"},null,{"$f":"IF(DiaCash!G311>0,DiaCash!G311,\"\")","v":""},{"$f":"IF(DisOfic!G311>0,DisOfic!G311,\"\")","v":""},{"$f":"IF(Lablink!$G311>0,Lablink!$G311,\"\")","v":""},{"$f":"IF(Lyreco!G311>0,Lyreco!G311,\"\")","v":""},{"$f":"IF(Ocaña!G311>0,Ocaña!G311,\"\")","v":""},{"$f":"IF(Taine!G311>0,Taine!G311,\"\")","v":""},{"$f":"IF(Vistalegre!G311>0,Vistalegre!G311,\"\")","v":""},0,""]
[306,"Cubiertas de plástico. Tamaño A4, espesor mínimo 180 micras.","Unidad",{"$f":" TEXT(MIN(DiaCash!D312,DisOfic!D312,Lablink!D312,Lyreco!D312,Ocaña!D312,Taine!D312,Vistalegre!D312),\"0,000\") & \" - \" & TEXT(MAX(DiaCash!D312,DisOfic!D312,Lablink!D312,Lyreco!D312,Ocaña!D312,Taine!D312,Vistalegre!D312),\"0,000\")","v":"0,030 - 0,050"},{"$f":" TEXT(MIN(DiaCash!E312,DisOfic!E312,Lyreco!E312,Ocaña!E312,Taine!E312,Vistalegre!E312),\"0,00\") & \" \" & C312","v":"1,00 Unidad"},null,{"$f":"IF(DiaCash!G312>0,DiaCash!G312,\"\")","v":""},{"$f":"IF(DisOfic!G312>0,DisOfic!G312,\"\")","v":""},{"$f":"IF(Lablink!$G312>0,Lablink!$G312,\"\")","v":""},{"$f":"IF(Lyreco!G312>0,Lyreco!G312,\"\")","v":""},{"$f":"IF(Ocaña!G312>0,Ocaña!G312,\"\")","v":""},{"$f":"IF(Taine!G312>0,Taine!G312,\"\")","v":""},{"$f":"IF(Vistalegre!G312>0,Vistalegre!G312,\"\")","v":""},0,""]
[307,"Cubiertas de plástico. Tamaño A3, espesor mínimo 180 micras.","Unidad",{"$f":" TEXT(MIN(DiaCash!D313,DisOfic!D313,Lablink!D313,Lyreco!D313,Ocaña!D313,Taine!D313,Vistalegre!D313),\"0,000\") & \" - \" & TEXT(MAX(DiaCash!D313,DisOfic!D313,Lablink!D313,Lyreco!D313,Ocaña!D313,Taine!D313,Vistalegre!D313),\"0,000\")","v":"0,071 - 0,109"},{"$f":" TEXT(MIN(DiaCash!E313,DisOfic!E313,Lyreco!E313,Ocaña!E313,Taine!E313,Vistalegre!E313),\"0,00\") & \" \" & C313","v":"1,00 Unidad"},null,{"$f":"IF(DiaCash!G313>0,DiaCash!G313,\"\")","v":""},{"$f":"IF(DisOfic!G313>0,DisOfic!G313,\"\")","v":""},{"$f":"IF(Lablink!$G313>0,Lablink!$G313,\"\")","v":""},{"$f":"IF(Lyreco!G313>0,Lyreco!G313,\"\")","v":""},{"$f":"IF(Ocaña!G313>0,Ocaña!G313,\"\")","v":""},{"$f":"IF(Taine!G313>0,Taine!G313,\"\")","v":""},{"$f":"IF(Vistalegre!G313>0,Vistalegre!G313,\"\")","v":""},0,""]
[308,"Bobina de rafia de plástico. (bobina 400 gr)","Unidad",{"$f":" TEXT(MIN(DiaCash!D314,DisOfic!D314,Lablink!D314,Lyreco!D314,Ocaña!D314,Taine!D314,Vistalegre!D314),\"0,000\") & \" - \" & TEXT(MAX(DiaCash!D314,DisOfic!D314,Lablink!D314,Lyreco!D314,Ocaña!D314,Taine!D314,Vistalegre!D314),\"0,000\")","v":"2,051 - 3,160"},{"$f":" TEXT(MIN(DiaCash!E314,DisOfic!E314,Lyreco!E314,Ocaña!E314,Taine!E314,Vistalegre!E314),\"0,00\") & \" \" & C314","v":"1,00 Unidad"},null,{"$f":"IF(DiaCash!G314>0,DiaCash!G314,\"\")","v":""},{"$f":"IF(DisOfic!G314>0,DisOfic!G314,\"\")","v":""},{"$f":"IF(Lablink!$G314>0,Lablink!$G314,\"\")","v":""},{"$f":"IF(Lyreco!G314>0,Lyreco!G314,\"\")","v":""},{"$f":"IF(Ocaña!G314>0,Ocaña!G314,\"\")","v":""},{"$f":"IF(Taine!G314>0,Taine!G314,\"\")","v":""},{"$f":"IF(Vistalegre!G314>0,Vistalegre!G314,\"\")","v":""},0,""]
[309,"Cinta balduque en rollo algodón 100% . Medidas 19mm x 14m aprox.","Unidad",{"$f":" TEXT(MIN(DiaCash!D315,DisOfic!D315,Lablink!D315,Lyreco!D315,Ocaña!D315,Taine!D315,Vistalegre!D315),\"0,000\") & \" - \" & TEXT(MAX(DiaCash!D315,DisOfic!D315,Lablink!D315,Lyreco!D315,Ocaña!D315,Taine!D315,Vistalegre!D315),\"0,000\")","v":"1,135 - 2,256"},{"$f":" TEXT(MIN(DiaCash!E315,DisOfic!E315,Lyreco!E315,Ocaña!E315,Taine!E315,Vistalegre!E315),\"0,00\") & \" \" & C315","v":"1,00 Unidad"},null,{"$f":"IF(DiaCash!G315>0,DiaCash!G315,\"\")","v":""},{"$f":"IF(DisOfic!G315>0,DisOfic!G315,\"\")","v":""},{"$f":"IF(Lablink!$G315>0,Lablink!$G315,\"\")","v":""},{"$f":"IF(Lyreco!G315>0,Lyreco!G315,\"\")","v":""},{"$f":"IF(Ocaña!G315>0,Ocaña!G315,\"\")","v":""},{"$f":"IF(Taine!G315>0,Taine!G315,\"\")","v":""},{"$f":"IF(Vistalegre!G315>0,Vistalegre!G315,\"\")","v":""},0,""]
[310,"Caja de embalaje cartón, canal sencillo, 4 solapas. Medidas 355x265x270 mm aprox.","Unidad",{"$f":" TEXT(MIN(DiaCash!D316,DisOfic!D316,Lablink!D316,Lyreco!D316,Ocaña!D316,Taine!D316,Vistalegre!D316),\"0,000\") & \" - \" & TEXT(MAX(DiaCash!D316,DisOfic!D316,Lablink!D316,Lyreco!D316,Ocaña!D316,Taine!D316,Vistalegre!D316),\"0,000\")","v":"0,420 - 0,770"},{"$f":" TEXT(MIN(DiaCash!E316,DisOfic!E316,Lyreco!E316,Ocaña!E316,Taine!E316,Vistalegre!E316),\"0,00\") & \" \" & C316","v":"1,00 Unidad"},null,{"$f":"IF(DiaCash!G316>0,DiaCash!G316,\"\")","v":""},{"$f":"IF(DisOfic!G316>0,DisOfic!G316,\"\")","v":""},{"$f":"IF(Lablink!$G316>0,Lablink!$G316,\"\")","v":""},{"$f":"IF(Lyreco!G316>0,Lyreco!G316,\"\")","v":""},{"$f":"IF(Ocaña!G316>0,Ocaña!G316,\"\")","v":""},{"$f":"IF(Taine!G316>0,Taine!G316,\"\")","v":""},{"$f":"IF(Vistalegre!G316>0,Vistalegre!G316,\"\")","v":""},0,""]
[311,"Caja de embalaje cartón, canal sencillo, 4 solapas. Medidas 400x325x420 mm aprox.","Unidad",{"$f":" TEXT(MIN(DiaCash!D317,DisOfic!D317,Lablink!D317,Lyreco!D317,Ocaña!D317,Taine!D317,Vistalegre!D317),\"0,000\") & \" - \" & TEXT(MAX(DiaCash!D317,DisOfic!D317,Lablink!D317,Lyreco!D317,Ocaña!D317,Taine!D317,Vistalegre!D317),\"0,000\")","v":"0,910 - 1,350"},{"$f":" TEXT(MIN(DiaCash!E317,DisOfic!E317,Lyreco!E317,Ocaña!E317,Taine!E317,Vistalegre!E317),\"0,00\") & \" \" & C317","v":"1,00 Unidad"},null,{"$f":"IF(DiaCash!G317>0,DiaCash!G317,\"\")","v":""},{"$f":"IF(DisOfic!G317>0,DisOfic!G317,\"\")","v":""},{"$f":"IF(Lablink!$G317>0,Lablink!$G317,\"\")","v":""},{"$f":"IF(Lyreco!G317>0,Lyreco!G317,\"\")","v":""},{"$f":"IF(Ocaña!G317>0,Ocaña!G317,\"\")","v":""},{"$f":"IF(Taine!G317>0,Taine!G317,\"\")","v":""},{"$f":"IF(Vistalegre!G317>0,Vistalegre!G317,\"\")","v":""},0,""]
[312,"Caja embalaje cartón, doble canal, 4 solapas. Medidas 400x400x400 mm aprox.","Unidad",{"$f":" TEXT(MIN(DiaCash!D318,DisOfic!D318,Lablink!D318,Lyreco!D318,Ocaña!D318,Taine!D318,Vistalegre!D318),\"0,000\") & \" - \" & TEXT(MAX(DiaCash!D318,DisOfic!D318,Lablink!D318,Lyreco!D318,Ocaña!D318,Taine!D318,Vistalegre!D318),\"0,000\")","v":"1,366 - 1,760"},{"$f":" TEXT(MIN(DiaCash!E318,DisOfic!E318,Lyreco!E318,Ocaña!E318,Taine!E318,Vistalegre!E318),\"0,00\") & \" \" & C318","v":"1,00 Unidad"},null,{"$f":"IF(DiaCash!G318>0,DiaCash!G318,\"\")","v":""},{"$f":"IF(DisOfic!G318>0,DisOfic!G318,\"\")","v":""},{"$f":"IF(Lablink!$G318>0,Lablink!$G318,\"\")","v":""},{"$f":"IF(Lyreco!G318>0,Lyreco!G318,\"\")","v":""},{"$f":"IF(Ocaña!G318>0,Ocaña!G318,\"\")","v":""},{"$f":"IF(Taine!G318>0,Taine!G318,\"\")","v":""},{"$f":"IF(Vistalegre!G318>0,Vistalegre!G318,\"\")","v":""},0,""]
[313,"Papel embalar. Medidas ancho 1 m.  Gramaje 70 gr/m2 mínimo.(bobina 25 kg)","Bobina 25 Kg",{"$f":" TEXT(MIN(DiaCash!D319,DisOfic!D319,Lablink!D319,Lyreco!D319,Ocaña!D319,Taine!D319,Vistalegre!D319),\"0,000\") & \" - \" & TEXT(MAX(DiaCash!D319,DisOfic!D319,Lablink!D319,Lyreco!D319,Ocaña!D319,Taine!D319,Vistalegre!D319),\"0,000\")","v":"48,260 - 59,334"},{"$f":" TEXT(MIN(DiaCash!E319,DisOfic!E319,Lyreco!E319,Ocaña!E319,Taine!E319,Vistalegre!E319),\"0,00\") & \" \" & C319","v":"1,00 Bobina 25 Kg"},null,{"$f":"IF(DiaCash!G319>0,DiaCash!G319,\"\")","v":""},{"$f":"IF(DisOfic!G319>0,DisOfic!G319,\"\")","v":""},{"$f":"IF(Lablink!$G319>0,Lablink!$G319,\"\")","v":""},{"$f":"IF(Lyreco!G319>0,Lyreco!G319,\"\")","v":""},{"$f":"IF(Ocaña!G319>0,Ocaña!G319,\"\")","v":""},{"$f":"IF(Taine!G319>0,Taine!G319,\"\")","v":""},{"$f":"IF(Vistalegre!G319>0,Vistalegre!G319,\"\")","v":""},0,""]
[314,"Papel embalar. Medidas ancho 1 m.  Gramaje 70 gr/m2 mínimo.(bobina 25 kg)","Bobina 25 Kg",{"$f":" TEXT(MIN(DiaCash!D320,DisOfic!D320,Lablink!D320,Lyreco!D320,Ocaña!D320,Taine!D320,Vistalegre!D320),\"0,000\") & \" - \" & TEXT(MAX(DiaCash!D320,DisOfic!D320,Lablink!D320,Lyreco!D320,Ocaña!D320,Taine!D320,Vistalegre!D320),\"0,000\")","v":"48,260 - 60,000"},{"$f":" TEXT(MIN(DiaCash!E320,DisOfic!E320,Lyreco!E320,Ocaña!E320,Taine!E320,Vistalegre!E320),\"0,00\") & \" \" & C320","v":"1,00 Bobina 25 Kg"},null,{"$f":"IF(DiaCash!G320>0,DiaCash!G320,\"\")","v":""},{"$f":"IF(DisOfic!G320>0,DisOfic!G320,\"\")","v":""},{"$f":"IF(Lablink!$G320>0,Lablink!$G320,\"\")","v":""},{"$f":"IF(Lyreco!G320>0,Lyreco!G320,\"\")","v":""},{"$f":"IF(Ocaña!G320>0,Ocaña!G320,\"\")","v":""},{"$f":"IF(Taine!G320>0,Taine!G320,\"\")","v":""},{"$f":"IF(Vistalegre!G320>0,Vistalegre!G320,\"\")","v":""},0,""]
[315,"Papel embalar. Medidas ancho 1 m.  Gramaje 70 gr/m2 mínimo.(bobina 55 kg)","Bobina 55 Kg",{"$f":" TEXT(MIN(DiaCash!D321,DisOfic!D321,Lablink!D321,Lyreco!D321,Ocaña!D321,Taine!D321,Vistalegre!D321),\"0,000\") & \" - \" & TEXT(MAX(DiaCash!D321,DisOfic!D321,Lablink!D321,Lyreco!D321,Ocaña!D321,Taine!D321,Vistalegre!D321),\"0,000\")","v":"88,400 - 118,951"},{"$f":" TEXT(MIN(DiaCash!E321,DisOfic!E321,Lyreco!E321,Ocaña!E321,Taine!E321,Vistalegre!E321),\"0,00\") & \" \" & C321","v":"1,00 Bobina 55 Kg"},null,{"$f":"IF(DiaCash!G321>0,DiaCash!G321,\"\")","v":""},{"$f":"IF(DisOfic!G321>0,DisOfic!G321,\"\")","v":""},{"$f":"IF(Lablink!$G321>0,Lablink!$G321,\"\")","v":""},{"$f":"IF(Lyreco!G321>0,Lyreco!G321,\"\")","v":""},{"$f":"IF(Ocaña!G321>0,Ocaña!G321,\"\")","v":""},{"$f":"IF(Taine!G321>0,Taine!G321,\"\")","v":""},{"$f":"IF(Vistalegre!G321>0,Vistalegre!G321,\"\")","v":""},0,""]
[316,"Papel embalar. Medidas ancho 1 m.  Gramaje 70 gr/m2 mínimo.(bobina 55 kg)","Bobina 55 Kg",{"$f":" TEXT(MIN(DiaCash!D322,DisOfic!D322,Lablink!D322,Lyreco!D322,Ocaña!D322,Taine!D322,Vistalegre!D322),\"0,000\") & \" - \" & TEXT(MAX(DiaCash!D322,DisOfic!D322,Lablink!D322,Lyreco!D322,Ocaña!D322,Taine!D322,Vistalegre!D322),\"0,000\")","v":"88,400 - 100,050"},{"$f":" TEXT(MIN(DiaCash!E322,DisOfic!E322,Lyreco!E322,Ocaña!E322,Taine!E322,Vistalegre!E322),\"0,00\") & \" \" & C322","v":"1,00 Bobina 55 Kg"},null,{"$f":"IF(DiaCash!G322>0,DiaCash!G322,\"\")","v":""},{"$f":"IF(DisOfic!G322>0,DisOfic!G322,\"\")","v":""},{"$f":"IF(Lablink!$G322>0,Lablink!$G322,\"\")","v":""},{"$f":"IF(Lyreco!G322>0,Lyreco!G322,\"\")","v":""},{"$f":"IF(Ocaña!G322>0,Ocaña!G322,\"\")","v":""},{"$f":"IF(Taine!G322>0,Taine!G322,\"\")","v":""},{"$f":"IF(Vistalegre!G322>0,Vistalegre!G322,\"\")","v":""},0,""]
[317,"Bolsa de correo interno de papel kraft. Tamaño 250 x 353 mm aprox.  Gramaje mínimo 100 gr/m2.","Caja 250 unidades",{"$f":" TEXT(MIN(DiaCash!D323,DisOfic!D323,Lablink!D323,Lyreco!D323,Ocaña!D323,Taine!D323,Vistalegre!D323),\"0,000\") & \" - \" & TEXT(MAX(DiaCash!D323,DisOfic!D323,Lablink!D323,Lyreco!D323,Ocaña!D323,Taine!D323,Vistalegre!D323),\"0,000\")","v":"16,030 - 30,750"},{"$f":" TEXT(MIN(DiaCash!E323,DisOfic!E323,Lyreco!E323,Ocaña!E323,Taine!E323,Vistalegre!E323),\"0,00\") & \" \" & C323","v":"0,40 Caja 250 unidades"},null,{"$f":"IF(DiaCash!G323>0,DiaCash!G323,\"\")","v":""},{"$f":"IF(DisOfic!G323>0,DisOfic!G323,\"\")","v":""},{"$f":"IF(Lablink!$G323>0,Lablink!$G323,\"\")","v":""},{"$f":"IF(Lyreco!G323>0,Lyreco!G323,\"\")","v":""},{"$f":"IF(Ocaña!G323>0,Ocaña!G323,\"\")","v":""},{"$f":"IF(Taine!G323>0,Taine!G323,\"\")","v":""},{"$f":"IF(Vistalegre!G323>0,Vistalegre!G323,\"\")","v":""},0,""]
[318,"Bolsa de papel kraft armado. Tamaño 310 x 410 mm aprox.  Gramaje mínimo 110 gr/m2.","Caja 100 unidades",{"$f":" TEXT(MIN(DiaCash!D324,DisOfic!D324,Lablink!D324,Lyreco!D324,Ocaña!D324,Taine!D324,Vistalegre!D324),\"0,000\") & \" - \" & TEXT(MAX(DiaCash!D324,DisOfic!D324,Lablink!D324,Lyreco!D324,Ocaña!D324,Taine!D324,Vistalegre!D324),\"0,000\")","v":"11,850 - 37,540"},{"$f":" TEXT(MIN(DiaCash!E324,DisOfic!E324,Lyreco!E324,Ocaña!E324,Taine!E324,Vistalegre!E324),\"0,00\") & \" \" & C324","v":"1,00 Caja 100 unidades"},null,{"$f":"IF(DiaCash!G324>0,DiaCash!G324,\"\")","v":""},{"$f":"IF(DisOfic!G324>0,DisOfic!G324,\"\")","v":""},{"$f":"IF(Lablink!$G324>0,Lablink!$G324,\"\")","v":""},{"$f":"IF(Lyreco!G324>0,Lyreco!G324,\"\")","v":""},{"$f":"IF(Ocaña!G324>0,Ocaña!G324,\"\")","v":""},{"$f":"IF(Taine!G324>0,Taine!G324,\"\")","v":""},{"$f":"IF(Vistalegre!G324>0,Vistalegre!G324,\"\")","v":""},0,""]
[319,"Sobre autopegue con ventana a la derecha o izquierda. Tamaño 115x225 mm aprox.  Gramaje mínimo 90 gr/m2.","Caja 500 unidades",{"$f":" TEXT(MIN(DiaCash!D325,DisOfic!D325,Lablink!D325,Lyreco!D325,Ocaña!D325,Taine!D325,Vistalegre!D325),\"0,000\") & \" - \" & TEXT(MAX(DiaCash!D325,DisOfic!D325,Lablink!D325,Lyreco!D325,Ocaña!D325,Taine!D325,Vistalegre!D325),\"0,000\")","v":"7,260 - 9,500"},{"$f":" TEXT(MIN(DiaCash!E325,DisOfic!E325,Lyreco!E325,Ocaña!E325,Taine!E325,Vistalegre!E325),\"0,00\") & \" \" & C325","v":"1,00 Caja 500 unidades"},null,{"$f":"IF(DiaCash!G325>0,DiaCash!G325,\"\")","v":""},{"$f":"IF(DisOfic!G325>0,DisOfic!G325,\"\")","v":""},{"$f":"IF(Lablink!$G325>0,Lablink!$G325,\"\")","v":""},{"$f":"IF(Lyreco!G325>0,Lyreco!G325,\"\")","v":""},{"$f":"IF(Ocaña!G325>0,Ocaña!G325,\"\")","v":""},{"$f":"IF(Taine!G325>0,Taine!G325,\"\")","v":""},{"$f":"IF(Vistalegre!G325>0,Vistalegre!G325,\"\")","v":""},0,""]
[320,"Sobre autopegue sin ventana. Tamaño 120x176 mm aprox.  Gramaje mínimo 90 gr/m2.","Caja 500 unidades",{"$f":" TEXT(MIN(DiaCash!D326,DisOfic!D326,Lablink!D326,Lyreco!D326,Ocaña!D326,Taine!D326,Vistalegre!D326),\"0,000\") & \" - \" & TEXT(MAX(DiaCash!D326,DisOfic!D326,Lablink!D326,Lyreco!D326,Ocaña!D326,Taine!D326,Vistalegre!D326),\"0,000\")","v":"7,500 - 9,000"},{"$f":" TEXT(MIN(DiaCash!E326,DisOfic!E326,Lyreco!E326,Ocaña!E326,Taine!E326,Vistalegre!E326),\"0,00\") & \" \" & C326","v":"1,00 Caja 500 unidades"},null,{"$f":"IF(DiaCash!G326>0,DiaCash!G326,\"\")","v":""},{"$f":"IF(DisOfic!G326>0,DisOfic!G326,\"\")","v":""},{"$f":"IF(Lablink!$G326>0,Lablink!$G326,\"\")","v":""},{"$f":"IF(Lyreco!G326>0,Lyreco!G326,\"\")","v":""},{"$f":"IF(Ocaña!G326>0,Ocaña!G326,\"\")","v":""},{"$f":"IF(Taine!G326>0,Taine!G326,\"\")","v":""},{"$f":"IF(Vistalegre!G326>0,Vistalegre!G326,\"\")","v":""},0,""]
[321,"Sobre autopegue sin ventana. Tamaño 115x225 mm aprox.  Gramaje mínimo 90 gr/m2.","Caja 500 unidades",{"$f":" TEXT(MIN(DiaCash!D327,DisOfic!D327,Lablink!D327,Lyreco!D327,Ocaña!D327,Taine!D327,Vistalegre!D327),\"0,000\") & \" - \" & TEXT(MAX(DiaCash!D327,DisOfic!D327,Lablink!D327,Lyreco!D327,Ocaña!D327,Taine!D327,Vistalegre!D327),\"0,000\")","v":"7,165 - 9,000"},{"$f":" TEXT(MIN(DiaCash!E327,DisOfic!E327,Lyreco!E327,Ocaña!E327,Taine!E327,Vistalegre!E327),\"0,00\") & \" \" & C327","v":"1,00 Caja 500 unidades"},null,{"$f":"IF(DiaCash!G327>0,DiaCash!G327,\"\")","v":""},{"$f":"IF(DisOfic!G327>0,DisOfic!G327,\"\")","v":""},{"$f":"IF(Lablink!$G327>0,Lablink!$G327,\"\")","v":""},{"$f":"IF(Lyreco!G327>0,Lyreco!G327,\"\")","v":""},{"$f":"IF(Ocaña!G327>0,Ocaña!G327,\"\")","v":""},{"$f":"IF(Taine!G327>0,Taine!G327,\"\")","v":""},{"$f":"IF(Vistalegre!G327>0,Vistalegre!G327,\"\")","v":""},{"$f":"COUNTIF(G327:M327,\"=\" & O327)","v":0},""]
[322,"Sobre autopegue sin ventana. Tamaño 176x231 mm aprox.  Gramaje mínimo 90 gr/m2.","Caja 500 unidades",{"$f":" TEXT(MIN(DiaCash!D328,DisOfic!D328,Lablink!D328,Lyreco!D328,Ocaña!D328,Taine!D328,Vistalegre!D328),\"0,000\") & \" - \" & TEXT(MAX(DiaCash!D328,DisOfic!D328,Lablink!D328,Lyreco!D328,Ocaña!D328,Taine!D328,Vistalegre!D328),\"0,000\")","v":"15,900 - 21,490"},{"$f":" TEXT(MIN(DiaCash!E328,DisOfic!E328,Lyreco!E328,Ocaña!E328,Taine!E328,Vistalegre!E328),\"0,00\") & \" \" & C328","v":"1,00 Caja 500 unidades"},null,{"$f":"IF(DiaCash!G328>0,DiaCash!G328,\"\")","v":""},{"$f":"IF(DisOfic!G328>0,DisOfic!G328,\"\")","v":""},{"$f":"IF(Lablink!$G328>0,Lablink!$G328,\"\")","v":""},{"$f":"IF(Lyreco!G328>0,Lyreco!G328,\"\")","v":""},{"$f":"IF(Ocaña!G328>0,Ocaña!G328,\"\")","v":""},{"$f":"IF(Taine!G328>0,Taine!G328,\"\")","v":""},{"$f":"IF(Vistalegre!G328>0,Vistalegre!G328,\"\")","v":""},0,{"$f":"IF(MIN(G328:M328)=0,\"\",MIN(G328:M328))","v":""}]
[323,"Sobre autopegue sin ventana. Tamaño 260x360 mm aprox.  Gramaje mínimo 90 gr/m2.","Caja 250 unidades",{"$f":" TEXT(MIN(DiaCash!D329,DisOfic!D329,Lablink!D329,Lyreco!D329,Ocaña!D329,Taine!D329,Vistalegre!D329),\"0,000\") & \" - \" & TEXT(MAX(DiaCash!D329,DisOfic!D329,Lablink!D329,Lyreco!D329,Ocaña!D329,Taine!D329,Vistalegre!D329),\"0,000\")","v":"15,000 - 18,500"},{"$f":" TEXT(MIN(DiaCash!E329,DisOfic!E329,Lyreco!E329,Ocaña!E329,Taine!E329,Vistalegre!E329),\"0,00\") & \" \" & C329","v":"1,00 Caja 250 unidades"},null,{"$f":"IF(DiaCash!G329>0,DiaCash!G329,\"\")","v":""},{"$f":"IF(DisOfic!G329>0,DisOfic!G329,\"\")","v":""},{"$f":"IF(Lablink!$G329>0,Lablink!$G329,\"\")","v":""},{"$f":"IF(Lyreco!G329>0,Lyreco!G329,\"\")","v":""},{"$f":"IF(Ocaña!G329>0,Ocaña!G329,\"\")","v":""},{"$f":"IF(Taine!G329>0,Taine!G329,\"\")","v":""},{"$f":"IF(Vistalegre!G329>0,Vistalegre!G329,\"\")","v":""},0,""]
[324,"Sobre bolsa burbuja. Tamaño 270 x 360 mm aprox.  Gramaje mínimo 110 gr/m2.","Paquete 10 unidades",{"$f":" TEXT(MIN(DiaCash!D330,DisOfic!D330,Lablink!D330,Lyreco!D330,Ocaña!D330,Taine!D330,Vistalegre!D330),\"0,000\") & \" - \" & TEXT(MAX(DiaCash!D330,DisOfic!D330,Lablink!D330,Lyreco!D330,Ocaña!D330,Taine!D330,Vistalegre!D330),\"0,000\")","v":"2,090 - 5,000"},{"$f":" TEXT(MIN(DiaCash!E330,DisOfic!E330,Lyreco!E330,Ocaña!E330,Taine!E330,Vistalegre!E330),\"0,00\") & \" \" & C330","v":"1,00 Paquete 10 unidades"},null,{"$f":"IF(DiaCash!G330>0,DiaCash!G330,\"\")","v":""},{"$f":"IF(DisOfic!G330>0,DisOfic!G330,\"\")","v":""},{"$f":"IF(Lablink!$G330>0,Lablink!$G330,\"\")","v":""},{"$f":"IF(Lyreco!G330>0,Lyreco!G330,\"\")","v":""},{"$f":"IF(Ocaña!G330>0,Ocaña!G330,\"\")","v":""},{"$f":"IF(Taine!G330>0,Taine!G330,\"\")","v":""},{"$f":"IF(Vistalegre!G330>0,Vistalegre!G330,\"\")","v":""},0,""]
[325,"Sobre bolsa fuelle papel kraft. Tamaño 280 x 410 x 30 mm aprox. Gramaje mínimo 110 gr/m2.","Caja 100 unidades",{"$f":" TEXT(MIN(DiaCash!D331,DisOfic!D331,Lablink!D331,Lyreco!D331,Ocaña!D331,Taine!D331,Vistalegre!D331),\"0,000\") & \" - \" & TEXT(MAX(DiaCash!D331,DisOfic!D331,Lablink!D331,Lyreco!D331,Ocaña!D331,Taine!D331,Vistalegre!D331),\"0,000\")","v":"20,004 - 26,600"},{"$f":" TEXT(MIN(DiaCash!E331,DisOfic!E331,Lyreco!E331,Ocaña!E331,Taine!E331,Vistalegre!E331),\"0,00\") & \" \" & C331","v":"0,50 Caja 100 unidades"},null,{"$f":"IF(DiaCash!G331>0,DiaCash!G331,\"\")","v":""},{"$f":"IF(DisOfic!G331>0,DisOfic!G331,\"\")","v":""},{"$f":"IF(Lablink!$G331>0,Lablink!$G331,\"\")","v":""},{"$f":"IF(Lyreco!G331>0,Lyreco!G331,\"\")","v":""},{"$f":"IF(Ocaña!G331>0,Ocaña!G331,\"\")","v":""},{"$f":"IF(Taine!G331>0,Taine!G331,\"\")","v":""},{"$f":"IF(Vistalegre!G331>0,Vistalegre!G331,\"\")","v":""},0,""]
[326,"Sobre plástico, cierre broche o velcro. Tamaño A4 / folio.","Unidad",{"$f":" TEXT(MIN(DiaCash!D332,DisOfic!D332,Lablink!D332,Lyreco!D332,Ocaña!D332,Taine!D332,Vistalegre!D332),\"0,000\") & \" - \" & TEXT(MAX(DiaCash!D332,DisOfic!D332,Lablink!D332,Lyreco!D332,Ocaña!D332,Taine!D332,Vistalegre!D332),\"0,000\")","v":"0,192 - 0,300"},{"$f":" TEXT(MIN(DiaCash!E332,DisOfic!E332,Lyreco!E332,Ocaña!E332,Taine!E332,Vistalegre!E332),\"0,00\") & \" \" & C332","v":"1,00 Unidad"},null,{"$f":"IF(DiaCash!G332>0,DiaCash!G332,\"\")","v":""},{"$f":"IF(DisOfic!G332>0,DisOfic!G332,\"\")","v":""},{"$f":"IF(Lablink!$G332>0,Lablink!$G332,\"\")","v":""},{"$f":"IF(Lyreco!G332>0,Lyreco!G332,\"\")","v":""},{"$f":"IF(Ocaña!G332>0,Ocaña!G332,\"\")","v":""},{"$f":"IF(Taine!G332>0,Taine!G332,\"\")","v":""},{"$f":"IF(Vistalegre!G332>0,Vistalegre!G332,\"\")","v":""},0,""]
[327,"Sobre plástico, cierre broche o velcro. Tamaño A3.","Unidad",{"$f":" TEXT(MIN(DiaCash!D333,DisOfic!D333,Lablink!D333,Lyreco!D333,Ocaña!D333,Taine!D333,Vistalegre!D333),\"0,000\") & \" - \" & TEXT(MAX(DiaCash!D333,DisOfic!D333,Lablink!D333,Lyreco!D333,Ocaña!D333,Taine!D333,Vistalegre!D333),\"0,000\")","v":"0,680 - 0,852"},{"$f":" TEXT(MIN(DiaCash!E333,DisOfic!E333,Lyreco!E333,Ocaña!E333,Taine!E333,Vistalegre!E333),\"0,00\") & \" \" & C333","v":"1,00 Unidad"},null,{"$f":"IF(DiaCash!G333>0,DiaCash!G333,\"\")","v":""},{"$f":"IF(DisOfic!G333>0,DisOfic!G333,\"\")","v":""},{"$f":"IF(Lablink!$G333>0,Lablink!$G333,\"\")","v":""},{"$f":"IF(Lyreco!G333>0,Lyreco!G333,\"\")","v":""},{"$f":"IF(Ocaña!G333>0,Ocaña!G333,\"\")","v":""},{"$f":"IF(Taine!G333>0,Taine!G333,\"\")","v":""},{"$f":"IF(Vistalegre!G333>0,Vistalegre!G333,\"\")","v":""},0,""]
[328,"Tubos planos cartón 4x46 cm (diam. X altura)","Unidad",{"$f":" TEXT(MIN(DiaCash!D334,DisOfic!D334,Lablink!D334,Lyreco!D334,Ocaña!D334,Taine!D334,Vistalegre!D334),\"0,000\") & \" - \" & TEXT(MAX(DiaCash!D334,DisOfic!D334,Lablink!D334,Lyreco!D334,Ocaña!D334,Taine!D334,Vistalegre!D334),\"0,000\")","v":"0,583 - 1,990"},{"$f":" TEXT(MIN(DiaCash!E334,DisOfic!E334,Lyreco!E334,Ocaña!E334,Taine!E334,Vistalegre!E334),\"0,00\") & \" \" & C334","v":"1,00 Unidad"},null,{"$f":"IF(DiaCash!G334>0,DiaCash!G334,\"\")","v":""},{"$f":"IF(DisOfic!G334>0,DisOfic!G334,\"\")","v":""},{"$f":"IF(Lablink!$G334>0,Lablink!$G334,\"\")","v":""},{"$f":"IF(Lyreco!G334>0,Lyreco!G334,\"\")","v":""},{"$f":"IF(Ocaña!G334>0,Ocaña!G334,\"\")","v":""},{"$f":"IF(Taine!G334>0,Taine!G334,\"\")","v":""},{"$f":"IF(Vistalegre!G334>0,Vistalegre!G334,\"\")","v":""},0,""]
[329,"Tubos planos cartón 60x64 cm (diam. X altura)","Unidad",{"$f":" TEXT(MIN(DiaCash!D335,DisOfic!D335,Lablink!D335,Lyreco!D335,Ocaña!D335,Taine!D335,Vistalegre!D335),\"0,000\") & \" - \" & TEXT(MAX(DiaCash!D335,DisOfic!D335,Lablink!D335,Lyreco!D335,Ocaña!D335,Taine!D335,Vistalegre!D335),\"0,000\")","v":"0,950 - 1,990"},{"$f":" TEXT(MIN(DiaCash!E335,DisOfic!E335,Lyreco!E335,Ocaña!E335,Taine!E335,Vistalegre!E335),\"0,00\") & \" \" & C335","v":"1,00 Unidad"},null,{"$f":"IF(DiaCash!G335>0,DiaCash!G335,\"\")","v":""},{"$f":"IF(DisOfic!G335>0,DisOfic!G335,\"\")","v":""},{"$f":"IF(Lablink!$G335>0,Lablink!$G335,\"\")","v":""},{"$f":"IF(Lyreco!G335>0,Lyreco!G335,\"\")","v":""},{"$f":"IF(Ocaña!G335>0,Ocaña!G335,\"\")","v":""},{"$f":"IF(Taine!G335>0,Taine!G335,\"\")","v":""},{"$f":"IF(Vistalegre!G335>0,Vistalegre!G335,\"\")","v":""},0,""]
[330,"Tubos envíos cartón 6x46 cm (diam. X altura)","Unidad",{"$f":" TEXT(MIN(DiaCash!D336,DisOfic!D336,Lablink!D336,Lyreco!D336,Ocaña!D336,Taine!D336,Vistalegre!D336),\"0,000\") & \" - \" & TEXT(MAX(DiaCash!D336,DisOfic!D336,Lablink!D336,Lyreco!D336,Ocaña!D336,Taine!D336,Vistalegre!D336),\"0,000\")","v":"0,809 - 1,590"},{"$f":" TEXT(MIN(DiaCash!E336,DisOfic!E336,Lyreco!E336,Ocaña!E336,Taine!E336,Vistalegre!E336),\"0,00\") & \" \" & C336","v":"1,00 Unidad"},null,{"$f":"IF(DiaCash!G336>0,DiaCash!G336,\"\")","v":""},{"$f":"IF(DisOfic!G336>0,DisOfic!G336,\"\")","v":""},{"$f":"IF(Lablink!$G336>0,Lablink!$G336,\"\")","v":""},{"$f":"IF(Lyreco!G336>0,Lyreco!G336,\"\")","v":""},{"$f":"IF(Ocaña!G336>0,Ocaña!G336,\"\")","v":""},{"$f":"IF(Taine!G336>0,Taine!G336,\"\")","v":""},{"$f":"IF(Vistalegre!G336>0,Vistalegre!G336,\"\")","v":""},0,""]
[331,"Rollo de papel para calculadora 57mm 65mts.","Unidad",{"$f":" TEXT(MIN(DiaCash!D337,DisOfic!D337,Lablink!D337,Lyreco!D337,Ocaña!D337,Taine!D337,Vistalegre!D337),\"0,000\") & \" - \" & TEXT(MAX(DiaCash!D337,DisOfic!D337,Lablink!D337,Lyreco!D337,Ocaña!D337,Taine!D337,Vistalegre!D337),\"0,000\")","v":"0,250 - 0,600"},{"$f":" TEXT(MIN(DiaCash!E337,DisOfic!E337,Lyreco!E337,Ocaña!E337,Taine!E337,Vistalegre!E337),\"0,00\") & \" \" & C337","v":"1,00 Unidad"},null,{"$f":"IF(DiaCash!G337>0,DiaCash!G337,\"\")","v":""},{"$f":"IF(DisOfic!G337>0,DisOfic!G337,\"\")","v":""},{"$f":"IF(Lablink!$G337>0,Lablink!$G337,\"\")","v":""},{"$f":"IF(Lyreco!G337>0,Lyreco!G337,\"\")","v":""},{"$f":"IF(Ocaña!G337>0,Ocaña!G337,\"\")","v":""},{"$f":"IF(Taine!G337>0,Taine!G337,\"\")","v":""},{"$f":"IF(Vistalegre!G337>0,Vistalegre!G337,\"\")","v":""},0,""]
[332,"Tablero de corcho para anuncios con marco de madera 60 x 90 cm (hxa) (Bi-Office)","Unidad",{"$f":" TEXT(MIN(DiaCash!D338,DisOfic!D338,Lablink!D338,Lyreco!D338,Ocaña!D338,Taine!D338,Vistalegre!D338),\"0,000\") & \" - \" & TEXT(MAX(DiaCash!D338,DisOfic!D338,Lablink!D338,Lyreco!D338,Ocaña!D338,Taine!D338,Vistalegre!D338),\"0,000\")","v":"4,480 - 6,500"},{"$f":" TEXT(MIN(DiaCash!E338,DisOfic!E338,Lyreco!E338,Ocaña!E338,Taine!E338,Vistalegre!E338),\"0,00\") & \" \" & C338","v":"1,00 Unidad"},null,{"$f":"IF(DiaCash!G338>0,DiaCash!G338,\"\")","v":""},{"$f":"IF(DisOfic!G338>0,DisOfic!G338,\"\")","v":""},{"$f":"IF(Lablink!$G338>0,Lablink!$G338,\"\")","v":""},{"$f":"IF(Lyreco!G338>0,Lyreco!G338,\"\")","v":""},{"$f":"IF(Ocaña!G338>0,Ocaña!G338,\"\")","v":""},{"$f":"IF(Taine!G338>0,Taine!G338,\"\")","v":""},{"$f":"IF(Vistalegre!G338>0,Vistalegre!G338,\"\")","v":""},0,""]
[333,"Caja de 5 Paquetes de papel A4 80gr./m2, para impresoras inkjet, láser y fotocopiadora","Caja de 5 Paquetes",{"$f":" TEXT(MIN(DiaCash!D339,DisOfic!D339,Lablink!D339,Lyreco!D339,Ocaña!D339,Taine!D339,Vistalegre!D339),\"0,000\") & \" - \" & TEXT(MAX(DiaCash!D339,DisOfic!D339,Lablink!D339,Lyreco!D339,Ocaña!D339,Taine!D339,Vistalegre!D339),\"0,000\")","v":"15,995 - 16,000"},{"$f":" TEXT(MIN(DiaCash!E339,DisOfic!E339,Lyreco!E339,Ocaña!E339,Taine!E339,Vistalegre!E339),\"0,00\") & \" \" & C339","v":"1,00 Caja de 5 Paquetes"},null,{"$f":"IF(DiaCash!G339>0,DiaCash!G339,\"\")","v":""},{"$f":"IF(DisOfic!G339>0,DisOfic!G339,\"\")","v":""},{"$f":"IF(Lablink!$G339>0,Lablink!$G339,\"\")","v":""},{"$f":"IF(Lyreco!G339>0,Lyreco!G339,\"\")","v":""},{"$f":"IF(Ocaña!G339>0,Ocaña!G339,\"\")","v":""},{"$f":"IF(Taine!G339>0,Taine!G339,\"\")","v":""},{"$f":"IF(Vistalegre!G339>0,Vistalegre!G339,\"\")","v":""},0,""]
[334,"Caja de 5 Paquetes de papel A4 80gr./m2, para impresoras inkjet, láser y fotocopiadora (Navigator)","Caja de 5 Paquetes",{"$f":" TEXT(MIN(DiaCash!D340,DisOfic!D340,Lablink!D340,Lyreco!D340,Ocaña!D340,Taine!D340,Vistalegre!D340),\"0,000\") & \" - \" & TEXT(MAX(DiaCash!D340,DisOfic!D340,Lablink!D340,Lyreco!D340,Ocaña!D340,Taine!D340,Vistalegre!D340),\"0,000\")","v":"20,995 - 21,000"},{"$f":" TEXT(MIN(DiaCash!E340,DisOfic!E340,Lyreco!E340,Ocaña!E340,Taine!E340,Vistalegre!E340),\"0,00\") & \" \" & C340","v":"1,00 Caja de 5 Paquetes"},null,{"$f":"IF(DiaCash!G340>0,DiaCash!G340,\"\")","v":""},{"$f":"IF(DisOfic!G340>0,DisOfic!G340,\"\")","v":""},{"$f":"IF(Lablink!$G340>0,Lablink!$G340,\"\")","v":""},{"$f":"IF(Lyreco!G340>0,Lyreco!G340,\"\")","v":""},{"$f":"IF(Ocaña!G340>0,Ocaña!G340,\"\")","v":""},{"$f":"IF(Taine!G340>0,Taine!G340,\"\")","v":""},{"$f":"IF(Vistalegre!G340>0,Vistalegre!G340,\"\")","v":""},0,""]
[335,"Paquete de papel A3 80gr./m2, para impresoras inkjet, láser y fotocopiadora ","Paquete 500 hojas",{"$f":" TEXT(MIN(DiaCash!D341,DisOfic!D341,Lablink!D341,Lyreco!D341,Ocaña!D341,Taine!D341,Vistalegre!D341),\"0,000\") & \" - \" & TEXT(MAX(DiaCash!D341,DisOfic!D341,Lablink!D341,Lyreco!D341,Ocaña!D341,Taine!D341,Vistalegre!D341),\"0,000\")","v":"7,000 - 7,000"},{"$f":" TEXT(MIN(DiaCash!E341,DisOfic!E341,Lyreco!E341,Ocaña!E341,Taine!E341,Vistalegre!E341),\"0,00\") & \" \" & C341","v":"1,00 Paquete 500 hojas"},null,{"$f":"IF(DiaCash!G341>0,DiaCash!G341,\"\")","v":""},{"$f":"IF(DisOfic!G341>0,DisOfic!G341,\"\")","v":""},{"$f":"IF(Lablink!$G341>0,Lablink!$G341,\"\")","v":""},{"$f":"IF(Lyreco!G341>0,Lyreco!G341,\"\")","v":""},{"$f":"IF(Ocaña!G341>0,Ocaña!G341,\"\")","v":""},{"$f":"IF(Taine!G341>0,Taine!G341,\"\")","v":""},{"$f":"IF(Vistalegre!G341>0,Vistalegre!G341,\"\")","v":""},0,""]
[336,"Paquete de papel A3 80gr./m2, para impresoras inkjet, láser y fotocopiadora (Navigator)","Paquete 500 hojas",{"$f":" TEXT(MIN(DiaCash!D342,DisOfic!D342,Lablink!D342,Lyreco!D342,Ocaña!D342,Taine!D342,Vistalegre!D342),\"0,000\") & \" - \" & TEXT(MAX(DiaCash!D342,DisOfic!D342,Lablink!D342,Lyreco!D342,Ocaña!D342,Taine!D342,Vistalegre!D342),\"0,000\")","v":"7,600 - 7,600"},{"$f":" TEXT(MIN(DiaCash!E342,DisOfic!E342,Lyreco!E342,Ocaña!E342,Taine!E342,Vistalegre!E342),\"0,00\") & \" \" & C342","v":"1,00 Paquete 500 hojas"},null,{"$f":"IF(DiaCash!G342>0,DiaCash!G342,\"\")","v":""},{"$f":"IF(DisOfic!G342>0,DisOfic!G342,\"\")","v":""},{"$f":"IF(Lablink!$G342>0,Lablink!$G342,\"\")","v":""},{"$f":"IF(Lyreco!G342>0,Lyreco!G342,\"\")","v":""},{"$f":"IF(Ocaña!G342>0,Ocaña!G342,\"\")","v":""},{"$f":"IF(Taine!G342>0,Taine!G342,\"\")","v":""},{"$f":"IF(Vistalegre!G342>0,Vistalegre!G342,\"\")","v":""},0,""]
[337,"Paquete de papel A4 80gr./m2 colores pastel, intensos y fluorescentes, impresoas inkjet, láser y fotocopiadora (Clairefontaine)","Paquete 500 hojas",{"$f":" TEXT(MIN(DiaCash!D343,DisOfic!D343,Lablink!D343,Lyreco!D343,Ocaña!D343,Taine!D343,Vistalegre!D343),\"0,000\") & \" - \" & TEXT(MAX(DiaCash!D343,DisOfic!D343,Lablink!D343,Lyreco!D343,Ocaña!D343,Taine!D343,Vistalegre!D343),\"0,000\")","v":"7,000 - 7,000"},{"$f":" TEXT(MIN(DiaCash!E343,DisOfic!E343,Lyreco!E343,Ocaña!E343,Taine!E343,Vistalegre!E343),\"0,00\") & \" \" & C343","v":"1,00 Paquete 500 hojas"},null,{"$f":"IF(DiaCash!G343>0,DiaCash!G343,\"\")","v":""},{"$f":"IF(DisOfic!G343>0,DisOfic!G343,\"\")","v":""},{"$f":"IF(Lablink!$G343>0,Lablink!$G343,\"\")","v":""},{"$f":"IF(Lyreco!G343>0,Lyreco!G343,\"\")","v":""},{"$f":"IF(Ocaña!G343>0,Ocaña!G343,\"\")","v":""},{"$f":"IF(Taine!G343>0,Taine!G343,\"\")","v":""},{"$f":"IF(Vistalegre!G343>0,Vistalegre!G343,\"\")","v":""},0,""]
[338,"Paquete de papel A4 80gr./m2 colores intensos y fluorescentes, impresoas inkjet, láser y fotocopiadora (Clairefontaine)","Paquete 500 hojas",{"$f":" TEXT(MIN(DiaCash!D344,DisOfic!D344,Lablink!D344,Lyreco!D344,Ocaña!D344,Taine!D344,Vistalegre!D344),\"0,000\") & \" - \" & TEXT(MAX(DiaCash!D344,DisOfic!D344,Lablink!D344,Lyreco!D344,Ocaña!D344,Taine!D344,Vistalegre!D344),\"0,000\")","v":"7,000 - 7,000"},{"$f":" TEXT(MIN(DiaCash!E344,DisOfic!E344,Lyreco!E344,Ocaña!E344,Taine!E344,Vistalegre!E344),\"0,00\") & \" \" & C344","v":"1,00 Paquete 500 hojas"},null,{"$f":"IF(DiaCash!G344>0,DiaCash!G344,\"\")","v":""},{"$f":"IF(DisOfic!G344>0,DisOfic!G344,\"\")","v":""},{"$f":"IF(Lablink!$G344>0,Lablink!$G344,\"\")","v":""},{"$f":"IF(Lyreco!G344>0,Lyreco!G344,\"\")","v":""},{"$f":"IF(Ocaña!G344>0,Ocaña!G344,\"\")","v":""},{"$f":"IF(Taine!G344>0,Taine!G344,\"\")","v":""},{"$f":"IF(Vistalegre!G344>0,Vistalegre!G344,\"\")","v":""},0,""]
[339,"Caja de 5 Paquetes de papel A4 ecológico 75gr/m2 (Navigator Eco-Logical)","Caja de 5 Paquetes",{"$f":" TEXT(MIN(DiaCash!D345,DisOfic!D345,Lablink!D345,Lyreco!D345,Ocaña!D345,Taine!D345,Vistalegre!D345),\"0,000\") & \" - \" & TEXT(MAX(DiaCash!D345,DisOfic!D345,Lablink!D345,Lyreco!D345,Ocaña!D345,Taine!D345,Vistalegre!D345),\"0,000\")","v":"20,745 - 20,750"},{"$f":" TEXT(MIN(DiaCash!E345,DisOfic!E345,Lyreco!E345,Ocaña!E345,Taine!E345,Vistalegre!E345),\"0,00\") & \" \" & C345","v":"1,00 Caja de 5 Paquetes"},null,{"$f":"IF(DiaCash!G345>0,DiaCash!G345,\"\")","v":""},{"$f":"IF(DisOfic!G345>0,DisOfic!G345,\"\")","v":""},{"$f":"IF(Lablink!$G345>0,Lablink!$G345,\"\")","v":""},{"$f":"IF(Lyreco!G345>0,Lyreco!G345,\"\")","v":""},{"$f":"IF(Ocaña!G345>0,Ocaña!G345,\"\")","v":""},{"$f":"IF(Taine!G345>0,Taine!G345,\"\")","v":""},{"$f":"IF(Vistalegre!G345>0,Vistalegre!G345,\"\")","v":""},0,""]
[340,"Caja de 5 Paquetes de papel A4 Blanco 90 gr/m2 ","Caja de 5 Paquetes",{"$f":" TEXT(MIN(DiaCash!D346,DisOfic!D346,Lablink!D346,Lyreco!D346,Ocaña!D346,Taine!D346,Vistalegre!D346),\"0,000\") & \" - \" & TEXT(MAX(DiaCash!D346,DisOfic!D346,Lablink!D346,Lyreco!D346,Ocaña!D346,Taine!D346,Vistalegre!D346),\"0,000\")","v":"23,995 - 24,000"},{"$f":" TEXT(MIN(DiaCash!E346,DisOfic!E346,Lyreco!E346,Ocaña!E346,Taine!E346,Vistalegre!E346),\"0,00\") & \" \" & C346","v":"1,00 Caja de 5 Paquetes"},null,{"$f":"IF(DiaCash!G346>0,DiaCash!G346,\"\")","v":""},{"$f":"IF(DisOfic!G346>0,DisOfic!G346,\"\")","v":""},{"$f":"IF(Lablink!$G346>0,Lablink!$G346,\"\")","v":""},{"$f":"IF(Lyreco!G346>0,Lyreco!G346,\"\")","v":""},{"$f":"IF(Ocaña!G346>0,Ocaña!G346,\"\")","v":""},{"$f":"IF(Taine!G346>0,Taine!G346,\"\")","v":""},{"$f":"IF(Vistalegre!G346>0,Vistalegre!G346,\"\")","v":""},0,""]
[341,"Caja de 5 Paquetes de papel A4 Blanco 90 gr/m2 (Navigator)","Caja de 5 Paquetes",{"$f":" TEXT(MIN(DiaCash!D347,DisOfic!D347,Lablink!D347,Lyreco!D347,Ocaña!D347,Taine!D347,Vistalegre!D347),\"0,000\") & \" - \" & TEXT(MAX(DiaCash!D347,DisOfic!D347,Lablink!D347,Lyreco!D347,Ocaña!D347,Taine!D347,Vistalegre!D347),\"0,000\")","v":"27,495 - 27,500"},{"$f":" TEXT(MIN(DiaCash!E347,DisOfic!E347,Lyreco!E347,Ocaña!E347,Taine!E347,Vistalegre!E347),\"0,00\") & \" \" & C347","v":"1,00 Caja de 5 Paquetes"},null,{"$f":"IF(DiaCash!G347>0,DiaCash!G347,\"\")","v":""},{"$f":"IF(DisOfic!G347>0,DisOfic!G347,\"\")","v":""},{"$f":"IF(Lablink!$G347>0,Lablink!$G347,\"\")","v":""},{"$f":"IF(Lyreco!G347>0,Lyreco!G347,\"\")","v":""},{"$f":"IF(Ocaña!G347>0,Ocaña!G347,\"\")","v":""},{"$f":"IF(Taine!G347>0,Taine!G347,\"\")","v":""},{"$f":"IF(Vistalegre!G347>0,Vistalegre!G347,\"\")","v":""},0,""]
[342,"Caja de 5 Paquetes de papel A4 80gr./m2, para impresoras inkjet, láser y fotocopiadora reciclado","Caja de 5 Paquetes",{"$f":" TEXT(MIN(DiaCash!D348,DisOfic!D348,Lablink!D348,Lyreco!D348,Ocaña!D348,Taine!D348,Vistalegre!D348),\"0,000\") & \" - \" & TEXT(MAX(DiaCash!D348,DisOfic!D348,Lablink!D348,Lyreco!D348,Ocaña!D348,Taine!D348,Vistalegre!D348),\"0,000\")","v":"18,995 - 19,000"},{"$f":" TEXT(MIN(DiaCash!E348,DisOfic!E348,Lyreco!E348,Ocaña!E348,Taine!E348,Vistalegre!E348),\"0,00\") & \" \" & C348","v":"1,00 Caja de 5 Paquetes"},null,{"$f":"IF(DiaCash!G348>0,DiaCash!G348,\"\")","v":""},{"$f":"IF(DisOfic!G348>0,DisOfic!G348,\"\")","v":""},{"$f":"IF(Lablink!$G348>0,Lablink!$G348,\"\")","v":""},{"$f":"IF(Lyreco!G348>0,Lyreco!G348,\"\")","v":""},{"$f":"IF(Ocaña!G348>0,Ocaña!G348,\"\")","v":""},{"$f":"IF(Taine!G348>0,Taine!G348,\"\")","v":""},{"$f":"IF(Vistalegre!G348>0,Vistalegre!G348,\"\")","v":""},0,""]
[343,"Paquete de papel verjurado A4 90 gr/m2 blanco (Apli)","Paquete 100 hojas",{"$f":" TEXT(MIN(DiaCash!D349,DisOfic!D349,Lablink!D349,Lyreco!D349,Ocaña!D349,Taine!D349,Vistalegre!D349),\"0,000\") & \" - \" & TEXT(MAX(DiaCash!D349,DisOfic!D349,Lablink!D349,Lyreco!D349,Ocaña!D349,Taine!D349,Vistalegre!D349),\"0,000\")","v":"5,900 - 5,900"},{"$f":" TEXT(MIN(DiaCash!E349,DisOfic!E349,Lyreco!E349,Ocaña!E349,Taine!E349,Vistalegre!E349),\"0,00\") & \" \" & C349","v":"1,00 Paquete 100 hojas"},null,{"$f":"IF(DiaCash!G349>0,DiaCash!G349,\"\")","v":""},{"$f":"IF(DisOfic!G349>0,DisOfic!G349,\"\")","v":""},{"$f":"IF(Lablink!$G349>0,Lablink!$G349,\"\")","v":""},{"$f":"IF(Lyreco!G349>0,Lyreco!G349,\"\")","v":""},{"$f":"IF(Ocaña!G349>0,Ocaña!G349,\"\")","v":""},{"$f":"IF(Taine!G349>0,Taine!G349,\"\")","v":""},{"$f":"IF(Vistalegre!G349>0,Vistalegre!G349,\"\")","v":""},0,""]
[344,"Paquete de papel verjurado A4 100 color crema 90 gr/m2 (Apli)","Paquete 100 hojas",{"$f":" TEXT(MIN(DiaCash!D350,DisOfic!D350,Lablink!D350,Lyreco!D350,Ocaña!D350,Taine!D350,Vistalegre!D350),\"0,000\") & \" - \" & TEXT(MAX(DiaCash!D350,DisOfic!D350,Lablink!D350,Lyreco!D350,Ocaña!D350,Taine!D350,Vistalegre!D350),\"0,000\")","v":"5,900 - 5,900"},{"$f":" TEXT(MIN(DiaCash!E350,DisOfic!E350,Lyreco!E350,Ocaña!E350,Taine!E350,Vistalegre!E350),\"0,00\") & \" \" & C350","v":"1,00 Paquete 100 hojas"},null,{"$f":"IF(DiaCash!G350>0,DiaCash!G350,\"\")","v":""},{"$f":"IF(DisOfic!G350>0,DisOfic!G350,\"\")","v":""},{"$f":"IF(Lablink!$G350>0,Lablink!$G350,\"\")","v":""},{"$f":"IF(Lyreco!G350>0,Lyreco!G350,\"\")","v":""},{"$f":"IF(Ocaña!G350>0,Ocaña!G350,\"\")","v":""},{"$f":"IF(Taine!G350>0,Taine!G350,\"\")","v":""},{"$f":"IF(Vistalegre!G350>0,Vistalegre!G350,\"\")","v":""},0,""]
[350,"Boligrado Pentel BK-77 Superb (boligrado de punta fina 0.7 mm y tinta base de aceite)","12 unidades",{"$f":" TEXT(MIN(DiaCash!D351,DisOfic!D351,Lablink!D351,Lyreco!D351,Ocaña!D351,Taine!D351,Vistalegre!D351),\"0,000\") & \" - \" & TEXT(MAX(DiaCash!D351,DisOfic!D351,Lablink!D351,Lyreco!D351,Ocaña!D351,Taine!D351,Vistalegre!D351),\"0,000\")","v":"0,770 - 27,800"},"Envase de 12",null,{"$f":"IF(DiaCash!G351>0,DiaCash!G351,\"\")","v":""},{"$f":"IF(DisOfic!G351>0,DisOfic!G351,\"\")","v":""},{"$f":"IF(Lablink!$G351>0,Lablink!$G351,\"\")","v":""},{"$f":"IF(Lyreco!G351>0,Lyreco!G351,\"\")","v":""},{"$f":"IF(Ocaña!G351>0,Ocaña!G351,\"\")","v":""},{"$f":"IF(Taine!G351>0,Taine!G351,\"\")","v":""},{"$f":"IF(Vistalegre!G351>0,Vistalegre!G351,\"\")","v":""},0,""]
[351,"50 tapas encuadernar gofrado A4 Negro","50 unidades",{"$f":" TEXT(MIN(DiaCash!D352,DisOfic!D352,Lablink!D352,Lyreco!D352,Ocaña!D352,Taine!D352,Vistalegre!D352),\"0,000\") & \" - \" & TEXT(MAX(DiaCash!D352,DisOfic!D352,Lablink!D352,Lyreco!D352,Ocaña!D352,Taine!D352,Vistalegre!D352),\"0,000\")","v":"7,750 - 13,100"},"Paquete de 50",null,{"$f":"IF(DiaCash!G352>0,DiaCash!G352,\"\")","v":""},{"$f":"IF(DisOfic!G352>0,DisOfic!G352,\"\")","v":""},{"$f":"IF(Lablink!$G352>0,Lablink!$G352,\"\")","v":""},{"$f":"IF(Lyreco!G352>0,Lyreco!G352,\"\")","v":""},{"$f":"IF(Ocaña!G352>0,Ocaña!G352,\"\")","v":""},{"$f":"IF(Taine!G352>0,Taine!G352,\"\")","v":""},{"$f":"IF(Vistalegre!G352>0,Vistalegre!G352,\"\")","v":""},0,""]
[352,"Cinta doble cara 19x33 mm","Unidad",{"$f":" TEXT(MIN(DiaCash!D353,DisOfic!D353,Lablink!D353,Lyreco!D353,Ocaña!D353,Taine!D353,Vistalegre!D353),\"0,000\") & \" - \" & TEXT(MAX(DiaCash!D353,DisOfic!D353,Lablink!D353,Lyreco!D353,Ocaña!D353,Taine!D353,Vistalegre!D353),\"0,000\")","v":"1,750 - 21,830"},"Unidad",null,{"$f":"IF(DiaCash!G353>0,DiaCash!G353,\"\")","v":""},{"$f":"IF(DisOfic!G353>0,DisOfic!G353,\"\")","v":""},{"$f":"IF(Lablink!$G353>0,Lablink!$G353,\"\")","v":""},{"$f":"IF(Lyreco!G353>0,Lyreco!G353,\"\")","v":""},{"$f":"IF(Ocaña!G353>0,Ocaña!G353,\"\")","v":""},{"$f":"IF(Taine!G353>0,Taine!G353,\"\")","v":""},{"$f":"IF(Vistalegre!G353>0,Vistalegre!G353,\"\")","v":""},0,""]
[353,"Bolsas para plastificar carnet tamaño 60x90 mm y grosor 200 micras.","100 unidades",{"$f":" TEXT(MIN(DiaCash!D354,DisOfic!D354,Lablink!D354,Lyreco!D354,Ocaña!D354,Taine!D354,Vistalegre!D354),\"0,000\") & \" - \" & TEXT(MAX(DiaCash!D354,DisOfic!D354,Lablink!D354,Lyreco!D354,Ocaña!D354,Taine!D354,Vistalegre!D354),\"0,000\")","v":"3,430 - 5,000"},"100 unidades",null,{"$f":"IF(DiaCash!G354>0,DiaCash!G354,\"\")","v":""},{"$f":"IF(DisOfic!G354>0,DisOfic!G354,\"\")","v":""},{"$f":"IF(Lablink!$G354>0,Lablink!$G354,\"\")","v":""},{"$f":"IF(Lyreco!G354>0,Lyreco!G354,\"\")","v":""},{"$f":"IF(Ocaña!G354>0,Ocaña!G354,\"\")","v":""},{"$f":"IF(Taine!G354>0,Taine!G354,\"\")","v":""},{"$f":"IF(Vistalegre!G354>0,Vistalegre!G354,\"\")","v":""},0,""]
[354,"Bolsas para plastificar tamaño A3 grosor 125 micras","100 unidades",{"$f":" TEXT(MIN(DiaCash!D355,DisOfic!D355,Lablink!D355,Lyreco!D355,Ocaña!D355,Taine!D355,Vistalegre!D355),\"0,000\") & \" - \" & TEXT(MAX(DiaCash!D355,DisOfic!D355,Lablink!D355,Lyreco!D355,Ocaña!D355,Taine!D355,Vistalegre!D355),\"0,000\")","v":"12,600 - 33,750"},"Paquete de 100",null,{"$f":"IF(DiaCash!G355>0,DiaCash!G355,\"\")","v":""},{"$f":"IF(DisOfic!G355>0,DisOfic!G355,\"\")","v":""},{"$f":"IF(Lablink!$G355>0,Lablink!$G355,\"\")","v":""},{"$f":"IF(Lyreco!G355>0,Lyreco!G355,\"\")","v":""},{"$f":"IF(Ocaña!G355>0,Ocaña!G355,\"\")","v":""},{"$f":"IF(Taine!G355>0,Taine!G355,\"\")","v":""},{"$f":"IF(Vistalegre!G355>0,Vistalegre!G355,\"\")","v":""},0,""]
[355,"Sobres de tamaño 229x324 con tira de silicona","250 unidades",{"$f":" TEXT(MIN(DiaCash!D356,DisOfic!D356,Lablink!D356,Lyreco!D356,Ocaña!D356,Taine!D356,Vistalegre!D356),\"0,000\") & \" - \" & TEXT(MAX(DiaCash!D356,DisOfic!D356,Lablink!D356,Lyreco!D356,Ocaña!D356,Taine!D356,Vistalegre!D356),\"0,000\")","v":"11,000 - 52,000"},"Paquete de 250 ",null,{"$f":"IF(DiaCash!G356>0,DiaCash!G356,\"\")","v":""},{"$f":"IF(DisOfic!G356>0,DisOfic!G356,\"\")","v":""},{"$f":"IF(Lablink!$G356>0,Lablink!$G356,\"\")","v":""},{"$f":"IF(Lyreco!G356>0,Lyreco!G356,\"\")","v":""},{"$f":"IF(Ocaña!G356>0,Ocaña!G356,\"\")","v":""},{"$f":"IF(Taine!G356>0,Taine!G356,\"\")","v":""},{"$f":"IF(Vistalegre!G356>0,Vistalegre!G356,\"\")","v":""},0,""]
[356,"Minas Super Polymer 0.35 HB","12 unidades",{"$f":" TEXT(MIN(DiaCash!D357,DisOfic!D357,Lablink!D357,Lyreco!D357,Ocaña!D357,Taine!D357,Vistalegre!D357),\"0,000\") & \" - \" & TEXT(MAX(DiaCash!D357,DisOfic!D357,Lablink!D357,Lyreco!D357,Ocaña!D357,Taine!D357,Vistalegre!D357),\"0,000\")","v":"0,750 - 2,350"},"Envase de 12",null,{"$f":"IF(DiaCash!G357>0,DiaCash!G357,\"\")","v":""},{"$f":"IF(DisOfic!G357>0,DisOfic!G357,\"\")","v":""},{"$f":"IF(Lablink!$G357>0,Lablink!$G357,\"\")","v":""},{"$f":"IF(Lyreco!G357>0,Lyreco!G357,\"\")","v":""},{"$f":"IF(Ocaña!G357>0,Ocaña!G357,\"\")","v":""},{"$f":"IF(Taine!G357>0,Taine!G357,\"\")","v":""},{"$f":"IF(Vistalegre!G357>0,Vistalegre!G357,\"\")","v":""},0,""]
[357,"Minas Super Polymer 0.35 2H","12 unidades",{"$f":" TEXT(MIN(DiaCash!D358,DisOfic!D358,Lablink!D358,Lyreco!D358,Ocaña!D358,Taine!D358,Vistalegre!D358),\"0,000\") & \" - \" & TEXT(MAX(DiaCash!D358,DisOfic!D358,Lablink!D358,Lyreco!D358,Ocaña!D358,Taine!D358,Vistalegre!D358),\"0,000\")","v":"0,810 - 2,350"},"Envase de 12",null,{"$f":"IF(DiaCash!G358>0,DiaCash!G358,\"\")","v":""},{"$f":"IF(DisOfic!G358>0,DisOfic!G358,\"\")","v":""},{"$f":"IF(Lablink!$G358>0,Lablink!$G358,\"\")","v":""},{"$f":"IF(Lyreco!G358>0,Lyreco!G358,\"\")","v":""},{"$f":"IF(Ocaña!G358>0,Ocaña!G358,\"\")","v":""},{"$f":"IF(Taine!G358>0,Taine!G358,\"\")","v":""},{"$f":"IF(Vistalegre!G358>0,Vistalegre!G358,\"\")","v":""},0,""]
[358,"Cuaderno Cuadros A4 160H (marca SAM, Enri, tec)","Unidad",{"$f":" TEXT(MIN(DiaCash!D359,DisOfic!D359,Lablink!D359,Lyreco!D359,Ocaña!D359,Taine!D359,Vistalegre!D359),\"0,000\") & \" - \" & TEXT(MAX(DiaCash!D359,DisOfic!D359,Lablink!D359,Lyreco!D359,Ocaña!D359,Taine!D359,Vistalegre!D359),\"0,000\")","v":"1,990 - 5,830"},"Unidad",null,{"$f":"IF(DiaCash!G359>0,DiaCash!G359,\"\")","v":""},{"$f":"IF(DisOfic!G359>0,DisOfic!G359,\"\")","v":""},{"$f":"IF(Lablink!$G359>0,Lablink!$G359,\"\")","v":""},{"$f":"IF(Lyreco!G359>0,Lyreco!G359,\"\")","v":""},{"$f":"IF(Ocaña!G359>0,Ocaña!G359,\"\")","v":""},{"$f":"IF(Taine!G359>0,Taine!G359,\"\")","v":""},{"$f":"IF(Vistalegre!G359>0,Vistalegre!G359,\"\")","v":""},0,""]
[359,"Fichas rayadas 160x220 (paquete de 100 hojas) ","100 unidades",{"$f":" TEXT(MIN(DiaCash!D360,DisOfic!D360,Lablink!D360,Lyreco!D360,Ocaña!D360,Taine!D360,Vistalegre!D360),\"0,000\") & \" - \" & TEXT(MAX(DiaCash!D360,DisOfic!D360,Lablink!D360,Lyreco!D360,Ocaña!D360,Taine!D360,Vistalegre!D360),\"0,000\")","v":"1,650 - 10,050"},"Paquete de 100",null,{"$f":"IF(DiaCash!G360>0,DiaCash!G360,\"\")","v":""},{"$f":"IF(DisOfic!G360>0,DisOfic!G360,\"\")","v":""},{"$f":"IF(Lablink!$G360>0,Lablink!$G360,\"\")","v":""},{"$f":"IF(Lyreco!G360>0,Lyreco!G360,\"\")","v":""},{"$f":"IF(Ocaña!G360>0,Ocaña!G360,\"\")","v":""},{"$f":"IF(Taine!G360>0,Taine!G360,\"\")","v":""},{"$f":"IF(Vistalegre!G360>0,Vistalegre!G360,\"\")","v":""},0,""]
[360,"Portablocks con pinza y solapa","Unidad",{"$f":" TEXT(MIN(DiaCash!D361,DisOfic!D361,Lablink!D361,Lyreco!D361,Ocaña!D361,Taine!D361,Vistalegre!D361),\"0,000\") & \" - \" & TEXT(MAX(DiaCash!D361,DisOfic!D361,Lablink!D361,Lyreco!D361,Ocaña!D361,Taine!D361,Vistalegre!D361),\"0,000\")","v":"1,250 - 7,720"},"Unidad",null,{"$f":"IF(DiaCash!G361>0,DiaCash!G361,\"\")","v":""},{"$f":"IF(DisOfic!G361>0,DisOfic!G361,\"\")","v":""},{"$f":"IF(Lablink!$G361>0,Lablink!$G361,\"\")","v":""},{"$f":"IF(Lyreco!G361>0,Lyreco!G361,\"\")","v":""},{"$f":"IF(Ocaña!G361>0,Ocaña!G361,\"\")","v":""},{"$f":"IF(Taine!G361>0,Taine!G361,\"\")","v":""},{"$f":"IF(Vistalegre!G361>0,Vistalegre!G361,\"\")","v":""},0,""]
[361,"Pack 100 Fundas multitaladro folio PP Cristal","100 unidades",{"$f":" TEXT(MIN(DiaCash!D362,DisOfic!D362,Lablink!D362,Lyreco!D362,Ocaña!D362,Taine!D362,Vistalegre!D362),\"0,000\") & \" - \" & TEXT(MAX(DiaCash!D362,DisOfic!D362,Lablink!D362,Lyreco!D362,Ocaña!D362,Taine!D362,Vistalegre!D362),\"0,000\")","v":"3,200 - 25,070"},"Paquete de 100",null,{"$f":"IF(DiaCash!G362>0,DiaCash!G362,\"\")","v":""},{"$f":"IF(DisOfic!G362>0,DisOfic!G362,\"\")","v":""},{"$f":"IF(Lablink!$G362>0,Lablink!$G362,\"\")","v":""},{"$f":"IF(Lyreco!G362>0,Lyreco!G362,\"\")","v":""},{"$f":"IF(Ocaña!G362>0,Ocaña!G362,\"\")","v":""},{"$f":"IF(Taine!G362>0,Taine!G362,\"\")","v":""},{"$f":"IF(Vistalegre!G362>0,Vistalegre!G362,\"\")","v":""},0,""]
[362,"Sobre burbuja/acolchado tamaño 350x470 mm ","10 unidades",{"$f":" TEXT(MIN(DiaCash!D363,DisOfic!D363,Lablink!D363,Lyreco!D363,Ocaña!D363,Taine!D363,Vistalegre!D363),\"0,000\") & \" - \" & TEXT(MAX(DiaCash!D363,DisOfic!D363,Lablink!D363,Lyreco!D363,Ocaña!D363,Taine!D363,Vistalegre!D363),\"0,000\")","v":"4,691 - 13,240"},"Paquete de 10",null,{"$f":"IF(DiaCash!G363>0,DiaCash!G363,\"\")","v":""},{"$f":"IF(DisOfic!G363>0,DisOfic!G363,\"\")","v":""},{"$f":"IF(Lablink!$G363>0,Lablink!$G363,\"\")","v":""},{"$f":"IF(Lyreco!G363>0,Lyreco!G363,\"\")","v":""},{"$f":"IF(Ocaña!G363>0,Ocaña!G363,\"\")","v":""},{"$f":"IF(Taine!G363>0,Taine!G363,\"\")","v":""},{"$f":"IF(Vistalegre!G363>0,Vistalegre!G363,\"\")","v":""},0,""]
[363,"Sobre burbuja/acolchado tamaño 300x445 mm ","10 unidades",{"$f":" TEXT(MIN(DiaCash!D364,DisOfic!D364,Lablink!D364,Lyreco!D364,Ocaña!D364,Taine!D364,Vistalegre!D364),\"0,000\") & \" - \" & TEXT(MAX(DiaCash!D364,DisOfic!D364,Lablink!D364,Lyreco!D364,Ocaña!D364,Taine!D364,Vistalegre!D364),\"0,000\")","v":"3,550 - 11,570"},"Paquete de 10",null,{"$f":"IF(DiaCash!G364>0,DiaCash!G364,\"\")","v":""},{"$f":"IF(DisOfic!G364>0,DisOfic!G364,\"\")","v":""},{"$f":"IF(Lablink!$G364>0,Lablink!$G364,\"\")","v":""},{"$f":"IF(Lyreco!G364>0,Lyreco!G364,\"\")","v":""},{"$f":"IF(Ocaña!G364>0,Ocaña!G364,\"\")","v":""},{"$f":"IF(Taine!G364>0,Taine!G364,\"\")","v":""},{"$f":"IF(Vistalegre!G364>0,Vistalegre!G364,\"\")","v":""},0,""]
[364,"Sobre burbuja/acolchado tamaño 120x215 mm","10 unidades",{"$f":" TEXT(MIN(DiaCash!D365,DisOfic!D365,Lablink!D365,Lyreco!D365,Ocaña!D365,Taine!D365,Vistalegre!D365),\"0,000\") & \" - \" & TEXT(MAX(DiaCash!D365,DisOfic!D365,Lablink!D365,Lyreco!D365,Ocaña!D365,Taine!D365,Vistalegre!D365),\"0,000\")","v":"1,132 - 2,670"},"Paquete de 10",null,{"$f":"IF(DiaCash!G365>0,DiaCash!G365,\"\")","v":""},{"$f":"IF(DisOfic!G365>0,DisOfic!G365,\"\")","v":""},{"$f":"IF(Lablink!$G365>0,Lablink!$G365,\"\")","v":""},{"$f":"IF(Lyreco!G365>0,Lyreco!G365,\"\")","v":""},{"$f":"IF(Ocaña!G365>0,Ocaña!G365,\"\")","v":""},{"$f":"IF(Taine!G365>0,Taine!G365,\"\")","v":""},{"$f":"IF(Vistalegre!G365>0,Vistalegre!G365,\"\")","v":""},0,""]
[365,"Sobre burbuja/acolchado tamaño 220x340 mm","10 Unidades",{"$f":" TEXT(MIN(DiaCash!D366,DisOfic!D366,Lablink!D366,Lyreco!D366,Ocaña!D366,Taine!D366,Vistalegre!D366),\"0,000\") & \" - \" & TEXT(MAX(DiaCash!D366,DisOfic!D366,Lablink!D366,Lyreco!D366,Ocaña!D366,Taine!D366,Vistalegre!D366),\"0,000\")","v":"2,491 - 6,270"},"Paquete de 10",null,{"$f":"IF(DiaCash!G366>0,DiaCash!G366,\"\")","v":""},{"$f":"IF(DisOfic!G366>0,DisOfic!G366,\"\")","v":""},{"$f":"IF(Lablink!$G366>0,Lablink!$G366,\"\")","v":""},{"$f":"IF(Lyreco!G366>0,Lyreco!G366,\"\")","v":""},{"$f":"IF(Ocaña!G366>0,Ocaña!G366,\"\")","v":""},{"$f":"IF(Taine!G366>0,Taine!G366,\"\")","v":""},{"$f":"IF(Vistalegre!G366>0,Vistalegre!G366,\"\")","v":""},0,""]
[366,"Sobre burbuja/acolchado tamaño 220x265 mm ","10 unidades",{"$f":" TEXT(MIN(DiaCash!D367,DisOfic!D367,Lablink!D367,Lyreco!D367,Ocaña!D367,Taine!D367,Vistalegre!D367),\"0,000\") & \" - \" & TEXT(MAX(DiaCash!D367,DisOfic!D367,Lablink!D367,Lyreco!D367,Ocaña!D367,Taine!D367,Vistalegre!D367),\"0,000\")","v":"1,941 - 6,260"},"Paquete de 10",null,{"$f":"IF(DiaCash!G367>0,DiaCash!G367,\"\")","v":""},{"$f":"IF(DisOfic!G367>0,DisOfic!G367,\"\")","v":""},{"$f":"IF(Lablink!$G367>0,Lablink!$G367,\"\")","v":""},{"$f":"IF(Lyreco!G367>0,Lyreco!G367,\"\")","v":""},{"$f":"IF(Ocaña!G367>0,Ocaña!G367,\"\")","v":""},{"$f":"IF(Taine!G367>0,Taine!G367,\"\")","v":""},{"$f":"IF(Vistalegre!G367>0,Vistalegre!G367,\"\")","v":""},0,""]
[367,"Carpeta Polipropileno A4 Gomas Solapas","Unidad",{"$f":" TEXT(MIN(DiaCash!D368,DisOfic!D368,Lablink!D368,Lyreco!D368,Ocaña!D368,Taine!D368,Vistalegre!D368),\"0,000\") & \" - \" & TEXT(MAX(DiaCash!D368,DisOfic!D368,Lablink!D368,Lyreco!D368,Ocaña!D368,Taine!D368,Vistalegre!D368),\"0,000\")","v":"0,650 - 1,580"},"Unidad",null,{"$f":"IF(DiaCash!G368>0,DiaCash!G368,\"\")","v":""},{"$f":"IF(DisOfic!G368>0,DisOfic!G368,\"\")","v":""},{"$f":"IF(Lablink!$G368>0,Lablink!$G368,\"\")","v":""},{"$f":"IF(Lyreco!G368>0,Lyreco!G368,\"\")","v":""},{"$f":"IF(Ocaña!G368>0,Ocaña!G368,\"\")","v":""},{"$f":"IF(Taine!G368>0,Taine!G368,\"\")","v":""},{"$f":"IF(Vistalegre!G368>0,Vistalegre!G368,\"\")","v":""},0,""]
[368,"Roller Pilot V-5 Azul","Unidad",{"$f":" TEXT(MIN(DiaCash!D369,DisOfic!D369,Lablink!D369,Lyreco!D369,Ocaña!D369,Taine!D369,Vistalegre!D369),\"0,000\") & \" - \" & TEXT(MAX(DiaCash!D369,DisOfic!D369,Lablink!D369,Lyreco!D369,Ocaña!D369,Taine!D369,Vistalegre!D369),\"0,000\")","v":"1,060 - 2,270"},"Unidad",null,{"$f":"IF(DiaCash!G369>0,DiaCash!G369,\"\")","v":""},{"$f":"IF(DisOfic!G369>0,DisOfic!G369,\"\")","v":""},{"$f":"IF(Lablink!$G369>0,Lablink!$G369,\"\")","v":""},{"$f":"IF(Lyreco!G369>0,Lyreco!G369,\"\")","v":""},{"$f":"IF(Ocaña!G369>0,Ocaña!G369,\"\")","v":""},{"$f":"IF(Taine!G369>0,Taine!G369,\"\")","v":""},{"$f":"IF(Vistalegre!G369>0,Vistalegre!G369,\"\")","v":""},0,""]
[369,"Roller Pilot V-5 Negro","Unidad",{"$f":" TEXT(MIN(DiaCash!D370,DisOfic!D370,Lablink!D370,Lyreco!D370,Ocaña!D370,Taine!D370,Vistalegre!D370),\"0,000\") & \" - \" & TEXT(MAX(DiaCash!D370,DisOfic!D370,Lablink!D370,Lyreco!D370,Ocaña!D370,Taine!D370,Vistalegre!D370),\"0,000\")","v":"1,060 - 2,270"},"Unidad",null,{"$f":"IF(DiaCash!G370>0,DiaCash!G370,\"\")","v":""},{"$f":"IF(DisOfic!G370>0,DisOfic!G370,\"\")","v":""},{"$f":"IF(Lablink!$G370>0,Lablink!$G370,\"\")","v":""},{"$f":"IF(Lyreco!G370>0,Lyreco!G370,\"\")","v":""},{"$f":"IF(Ocaña!G370>0,Ocaña!G370,\"\")","v":""},{"$f":"IF(Taine!G370>0,Taine!G370,\"\")","v":""},{"$f":"IF(Vistalegre!G370>0,Vistalegre!G370,\"\")","v":""},0,""]
[370,"Roller Pilot V-5 Rojo","Unidad",{"$f":" TEXT(MIN(DiaCash!D371,DisOfic!D371,Lablink!D371,Lyreco!D371,Ocaña!D371,Taine!D371,Vistalegre!D371),\"0,000\") & \" - \" & TEXT(MAX(DiaCash!D371,DisOfic!D371,Lablink!D371,Lyreco!D371,Ocaña!D371,Taine!D371,Vistalegre!D371),\"0,000\")","v":"1,060 - 2,270"},"Unidad",null,{"$f":"IF(DiaCash!G371>0,DiaCash!G371,\"\")","v":""},{"$f":"IF(DisOfic!G371>0,DisOfic!G371,\"\")","v":""},{"$f":"IF(Lablink!$G371>0,Lablink!$G371,\"\")","v":""},{"$f":"IF(Lyreco!G371>0,Lyreco!G371,\"\")","v":""},{"$f":"IF(Ocaña!G371>0,Ocaña!G371,\"\")","v":""},{"$f":"IF(Taine!G371>0,Taine!G371,\"\")","v":""},{"$f":"IF(Vistalegre!G371>0,Vistalegre!G371,\"\")","v":""},0,""]
[371,"Sobres blancos para entrega de títulos en mano 30 x 42 cm. ","250 unidades",{"$f":" TEXT(MIN(DiaCash!D372,DisOfic!D372,Lablink!D372,Lyreco!D372,Ocaña!D372,Taine!D372,Vistalegre!D372),\"0,000\") & \" - \" & TEXT(MAX(DiaCash!D372,DisOfic!D372,Lablink!D372,Lyreco!D372,Ocaña!D372,Taine!D372,Vistalegre!D372),\"0,000\")","v":"17,130 - 42,270"},"250 unidades",null,{"$f":"IF(DiaCash!G372>0,DiaCash!G372,\"\")","v":""},{"$f":"IF(DisOfic!G372>0,DisOfic!G372,\"\")","v":""},{"$f":"IF(Lablink!$G372>0,Lablink!$G372,\"\")","v":""},{"$f":"IF(Lyreco!G372>0,Lyreco!G372,\"\")","v":""},{"$f":"IF(Ocaña!G372>0,Ocaña!G372,\"\")","v":""},{"$f":"IF(Taine!G372>0,Taine!G372,\"\")","v":""},{"$f":"IF(Vistalegre!G372>0,Vistalegre!G372,\"\")","v":""},0,""]
[372,"Dosier flexible con pinza A4 60 hojas     ","Unidad",{"$f":" TEXT(MIN(DiaCash!D373,DisOfic!D373,Lablink!D373,Lyreco!D373,Ocaña!D373,Taine!D373,Vistalegre!D373),\"0,000\") & \" - \" & TEXT(MAX(DiaCash!D373,DisOfic!D373,Lablink!D373,Lyreco!D373,Ocaña!D373,Taine!D373,Vistalegre!D373),\"0,000\")","v":"0,780 - 3,320"},"Unidad",null,{"$f":"IF(DiaCash!G373>0,DiaCash!G373,\"\")","v":""},{"$f":"IF(DisOfic!G373>0,DisOfic!G373,\"\")","v":""},{"$f":"IF(Lablink!$G373>0,Lablink!$G373,\"\")","v":""},{"$f":"IF(Lyreco!G373>0,Lyreco!G373,\"\")","v":""},{"$f":"IF(Ocaña!G373>0,Ocaña!G373,\"\")","v":""},{"$f":"IF(Taine!G373>0,Taine!G373,\"\")","v":""},{"$f":"IF(Vistalegre!G373>0,Vistalegre!G373,\"\")","v":""},0,""]
[373,"Dosier flexible con pinza A4 30 hojas     ","Unidad",{"$f":" TEXT(MIN(DiaCash!D374,DisOfic!D374,Lablink!D374,Lyreco!D374,Ocaña!D374,Taine!D374,Vistalegre!D374),\"0,000\") & \" - \" & TEXT(MAX(DiaCash!D374,DisOfic!D374,Lablink!D374,Lyreco!D374,Ocaña!D374,Taine!D374,Vistalegre!D374),\"0,000\")","v":"0,720 - 2,530"},"Unidad",null,{"$f":"IF(DiaCash!G374>0,DiaCash!G374,\"\")","v":""},{"$f":"IF(DisOfic!G374>0,DisOfic!G374,\"\")","v":""},{"$f":"IF(Lablink!$G374>0,Lablink!$G374,\"\")","v":""},{"$f":"IF(Lyreco!G374>0,Lyreco!G374,\"\")","v":""},{"$f":"IF(Ocaña!G374>0,Ocaña!G374,\"\")","v":""},{"$f":"IF(Taine!G374>0,Taine!G374,\"\")","v":""},{"$f":"IF(Vistalegre!G374>0,Vistalegre!G374,\"\")","v":""},0,""]
[374,"Rollos de papel térmico para las máquinas CIGES 8x8 cm","8 unidades",{"$f":" TEXT(MIN(DiaCash!D375,DisOfic!D375,Lablink!D375,Lyreco!D375,Ocaña!D375,Taine!D375,Vistalegre!D375),\"0,000\") & \" - \" & TEXT(MAX(DiaCash!D375,DisOfic!D375,Lablink!D375,Lyreco!D375,Ocaña!D375,Taine!D375,Vistalegre!D375),\"0,000\")","v":"7,790 - 14,670"},"Paquete de 8",null,{"$f":"IF(DiaCash!G375>0,DiaCash!G375,\"\")","v":""},{"$f":"IF(DisOfic!G375>0,DisOfic!G375,\"\")","v":""},{"$f":"IF(Lablink!$G375>0,Lablink!$G375,\"\")","v":""},{"$f":"IF(Lyreco!G375>0,Lyreco!G375,\"\")","v":""},{"$f":"IF(Ocaña!G375>0,Ocaña!G375,\"\")","v":""},{"$f":"IF(Taine!G375>0,Taine!G375,\"\")","v":""},{"$f":"IF(Vistalegre!G375>0,Vistalegre!G375,\"\")","v":""},0,""]
[null,null,"Nº Total de productos incluidos en el pedido",null,null,{"$f":"COUNTIF(F7:F375,\">0\")","v":0},{"$f":"IF($F376>0,IF(SUM(G7:G375)<DiaCash!$D$3,\"Excluido\",IF(SUM(G7:G375)=0,\"\",SUM(G7:G375))),0)","v":0},{"$f":"IF($F376>0,IF(SUM(H7:H375)<DisOfic!$D$3,\"Excluido\",IF(SUM(H7:H375)=0,\"\",SUM(H7:H375))),0)","v":0},{"$f":"IF($F376>0,IF(SUM(I7:I375)<Lablink!$D$3,\"Excluido\",IF(SUM(I7:I375)=0,\"\",SUM(I7:I375))),0)","v":0},{"$f":"IF($F376>0,IF(SUM(J7:J375)<Lyreco!$D$3,\"Excluido\",IF(SUM(J7:J375)=0,\"\",SUM(J7:J375))),0)","v":0},{"$f":"IF($F376>0,IF(SUM(K7:K375)<Ocaña!$D$3,\"Excluido\",IF(SUM(K7:K375)=0,\"\",SUM(K7:K375))),0)","v":0},{"$f":"IF($F376>0,IF(SUM(L7:L375)<Taine!$D$3,\"Excluido\",IF(SUM(L7:L375)=0,\"\",SUM(L7:L375))),0)","v":0},{"$f":"IF($F376>0,IF(SUM(M7:M375)<Vistalegre!$D$3,\"Excluido\",IF(SUM(M7:M375)=0,\"\",SUM(M7:M375))),0)","v":0},{"$f":"SUM(N7:N375)","v":0}]
[null,"Nº de productos que puede servir cada empresa (Rojo si no los puede servir todos)",null,null,null,null,{"$f":"COUNTIF(G7:G375,\">0\")","v":0},0,0,0,0,0,0]
[]
[null,"Importe de los productos incluidos en este pedido y en los que cada empresa ofrece el mejor precio. OJO, cuando hay mas de una empresa que ofrece el precio más bajo, el producto se incluye en todas las que ofrecen ese precio y será el usuario el que decida en que empresa incluir ese producto",null,null,null,null,{"$f":"DiaCash!I376","v":0},{"$f":"DisOfic!I376","v":0},{"$f":"Lablink!I376","v":0},{"$f":"Lyreco!I376","v":0},{"$f":"Ocaña!I376","v":0},{"$f":"Taine!I376","v":0},{"$f":"Vistalegre!I376","v":0}]
[null,"Nº de productos en los que cada empresa ofrece el mejor precio",null,null,null,null,{"$f":"DiaCash!I377","v":0},{"$f":"DisOfic!I377","v":0},{"$f":"Lablink!I377","v":0},{"$f":"Lyreco!I377","v":0},{"$f":"Ocaña!I377","v":0},{"$f":"Taine!I377","v":0},{"$f":"Vistalegre!I377","v":0}]

{"sheet":"PedidoOptimizado","index":1,"n_rows":6,"n_cols":7,"rows_kept":6,"cut":false,"hidden":false,"merged":[[1,1,1,5],[3,1,3,3]]}
[]
[]
[]
[null,"Resumen de Pedido OPTIMIZADO COMPRANDO CADA PRODUCTO AL MEJOR PRECIO"]
["(A)","(B)",{"$f":" \"(\" & \"C\" & \")\"","v":"(C)"},"(D)","(E)","(F)","(G)"]
["Codigo ","Descripcion Productos","Unidad Precio",{"$f":" \"Nº de  (\" & \"C\" & \") solicitadas\"","v":"Nº de  (C) solicitadas"},{"$f":" \"Precio de (\" & \"C\" & \")\"","v":"Precio de (C)"},"Total\n(D * E)","Empresas "]

{"sheet":"PedirTodoUnaEmpresa","index":2,"n_rows":9,"n_cols":6,"rows_kept":9,"cut":false,"hidden":false,"merged":[[0,1,0,2]]}
[null,"Resumen de Pedido PARA COMPRAR TODO A UN MISMO PROVEEDOR"]
[null,null,"Empresa","Coste Total","Núm Productos","Pedido Mínimo"]
[null,"El importe del pedido es inferior al importe mínimo que sirve la Empresa","DiaCash",{"$f":"IF(E3=SOLICITUD!F376,SOLICITUD!G376,\"\")","v":0},{"$f":"SOLICITUD!G377","v":0},{"$f":"DiaCash!D3","v":0}]
[null,"Empresa/s que ofrecen el mejor precio para el conjunto del pedido","DisOfic",{"$f":"IF(E4=SOLICITUD!$F$376,SOLICITUD!H376,\"\")","v":0},{"$f":"SOLICITUD!H377","v":0},{"$f":"DisOfic!D3","v":0}]
[null,null,"Lablink",{"$f":"IF(E5=SOLICITUD!$F$376,SOLICITUD!I376,\"\")","v":0},{"$f":"SOLICITUD!I377","v":0},{"$f":"Lablink!D3","v":5}]
[null,null,"Lyreco",{"$f":"IF(E6=SOLICITUD!$F$376,SOLICITUD!J376,\"\")","v":0},{"$f":"SOLICITUD!J377","v":0},{"$f":"Lyreco!D3","v":0}]
[null,null,"Ocaña",{"$f":"IF(E7=SOLICITUD!$F$376,SOLICITUD!K376,\"\")","v":0},{"$f":"SOLICITUD!K377","v":0},{"$f":"Ocaña!D3","v":0}]
[null,null,"Taine",{"$f":"IF(E8=SOLICITUD!$F$376,SOLICITUD!L376,\"\")","v":0},{"$f":"SOLICITUD!L377","v":0},{"$f":"Taine!D3","v":35}]
[null,null,"Vistalegre",{"$f":"IF(E9=SOLICITUD!$F$376,SOLICITUD!M376,\"\")","v":0},{"$f":"SOLICITUD!M377","v":0},{"$f":"Vistalegre!D3","v":30}]

{"sheet":"DiaCash","index":3,"n_rows":377,"n_cols":9,"rows_kept":377,"cut":false,"hidden":false,"merged":[]}
[]
[]
[null,"DIA CASH, S.L. B18283036","Importe pedido mínimo:",0]
[]
[null,"LOTES 1, 2 Y 3 (Granada, Ceuta y Melilla respectivamente)"]
["Referencia","Descripción del artículo","Precio Referido a:","Precio (IVA excluido)","Ud.Mínima Servicio","Cantidad Solicitada","Precio Total","Menor Precio","Seleccionable?"]
[1,"Lapiceros de Grafito. Dureza Hb 2 ","Enavse 12 unidades",0.39600000000000002,1,{"$f":"SOLICITUD!F7","v":0},{"$f":"IF(F7>0,IF(E7=\"Excluido\",\"Excluido1\",IF(F7>0,IF(F7<E7,\"Excluido2\",D7*F7),0)),0)","v":0},{"$f":"MIN(DiaCash!G7,DisOfic!G7,Lablink!G7,Lyreco!G7,Ocaña!G7,Taine!G7,Vistalegre!G7)","v":0},{"$f":"IF(G7<=H7,G7,0)","v":0}]
[2,"Lapiceros de Grafito. Dureza Hb, 2 (Staedtler)","Enavse 12 unidades",3,1,{"$f":"SOLICITUD!F8","v":0},{"$f":"IF(F8>0,IF(E8=\"Excluido\",\"Excluido1\",IF(F8>0,IF(F8<E8,\"Excluido2\",D8*F8),0)),0)","v":0},{"$f":"MIN(DiaCash!G8,DisOfic!G8,Lablink!G8,Lyreco!G8,Ocaña!G8,Taine!G8,Vistalegre!G8)","v":0},{"$f":"IF(G8<=H8,G8,0)","v":0}]
[3,"Minas de Grafito. Calibre 0,5 mm, diferentes durezas (Staedtler, Faber-Castell)","Envase 12 unidades",7.1999999999999993,1,{"$f":"SOLICITUD!F9","v":0},0,{"$f":"MIN(DiaCash!G9,DisOfic!G9,Lablink!G9,Lyreco!G9,Ocaña!G9,Taine!G9,Vistalegre!G9)","v":0},0]
[4,"Minas de Grafito. Calibre 0,7 mm, diferentes durezas (Staedtler, Faber-Castell)","Envase 12 unidades",3.96,1,{"$f":"SOLICITUD!F10","v":0},0,{"$f":"MIN(DiaCash!G10,DisOfic!G10,Lablink!G10,Lyreco!G10,Ocaña!G10,Taine!G10,Vistalegre!G10)","v":0},0]
[5,"Portaminas Recargable de Puntera Retráctil, Pulsador y Clip, 0,5 mm.","Unidad",0.25,1,{"$f":"SOLICITUD!F11","v":0},0,{"$f":"MIN(DiaCash!G11,DisOfic!G11,Lablink!G11,Lyreco!G11,Ocaña!G11,Taine!G11,Vistalegre!G11)","v":0},0]
[6,"Portaminas Recargable de Puntera Retráctil, Pulsador y Clip, 0,7 mm.","Unidad",0.17,1,{"$f":"SOLICITUD!F12","v":0},0,{"$f":"MIN(DiaCash!G12,DisOfic!G12,Lablink!G12,Lyreco!G12,Ocaña!G12,Taine!G12,Vistalegre!G12)","v":0},0]
[7,"Portaminas Recargable de Puntera Retráctil, Pulsador y Clip, 0,5 mm. (Staedtler, Faber Castell)","Unidad",0.74,1,{"$f":"SOLICITUD!F13","v":0},0,{"$f":"MIN(DiaCash!G13,DisOfic!G13,Lablink!G13,Lyreco!G13,Ocaña!G13,Taine!G13,Vistalegre!G13)","v":0},0]
[8,"Portaminas Recargable de Puntera Retráctil, Pulsador y Clip, 0,7 mm. (Staedtler, Faber Castell)","Unidad",0.74,1,{"$f":"SOLICITUD!F14","v":0},0,{"$f":"MIN(DiaCash!G14,DisOfic!G14,Lablink!G14,Lyreco!G14,Ocaña!G14,Taine!G14,Vistalegre!G14)","v":0},0]
[9,"Lapiz Bicolor azul/rojo ","Envase 12 unidades",2.16,1,{"$f":"SOLICITUD!F15","v":0},0,{"$f":"MIN(DiaCash!G15,DisOfic!G15,Lablink!G15,Lyreco!G15,Ocaña!G15,Taine!G15,Vistalegre!G15)","v":0},0]
[10,"Lapiz Bicolor azul/rojo  (Faber-Castell)","Envase 12 unidades",3.84,1,{"$f":"SOLICITUD!F16","v":0},0,{"$f":"MIN(DiaCash!G16,DisOfic!G16,Lablink!G16,Lyreco!G16,Ocaña!G16,Taine!G16,Vistalegre!G16)","v":0},0]
[11,"Afila Lapiceros doble entrada metálico","Unidad",0.25,1,{"$f":"SOLICITUD!F17","v":0},0,{"$f":"MIN(DiaCash!G17,DisOfic!G17,Lablink!G17,Lyreco!G17,Ocaña!G17,Taine!G17,Vistalegre!G17)","v":0},0]
[12,"Afila Lapiceros doble entrada metálico (Faibo)","Unidad",1,1,{"$f":"SOLICITUD!F18","v":0},0,{"$f":"MIN(DiaCash!G18,DisOfic!G18,Lablink!G18,Lyreco!G18,Ocaña!G18,Taine!G18,Vistalegre!G18)","v":0},0]
[13,"Afila Lapiceros una entrada metálico","Unidad",0.08,1,{"$f":"SOLICITUD!F19","v":0},0,{"$f":"MIN(DiaCash!G19,DisOfic!G19,Lablink!G19,Lyreco!G19,Ocaña!G19,Taine!G19,Vistalegre!G19)","v":0},0]
[14,"Afila Lapiceros una entrada metálico (Faibo)","Unidad",0.4,1,{"$f":"SOLICITUD!F20","v":0},0,{"$f":"MIN(DiaCash!G20,DisOfic!G20,Lablink!G20,Lyreco!G20,Ocaña!G20,Taine!G20,Vistalegre!G20)","v":0},0]
[15,"Bolígrafo con capuchón, tinta a base de aceite, ancho de escritura 0,42 mm, escritura fina (Bic)","Unidad",0.18,1,{"$f":"SOLICITUD!F21","v":0},0,{"$f":"MIN(DiaCash!G21,DisOfic!G21,Lablink!G21,Lyreco!G21,Ocaña!G21,Taine!G21,Vistalegre!G21)","v":0},0]
[16,"Bolígrafo borrable (Pilot)","Unidad",1.4,1,{"$f":"SOLICITUD!F22","v":0},0,{"$f":"MIN(DiaCash!G22,DisOfic!G22,Lablink!G22,Lyreco!G22,Ocaña!G22,Taine!G22,Vistalegre!G22)","v":0},0]
[17,"Bolígrafo con capuchón, tinta a base de aceite, ancho de escritura 1,0mm, escritura normal, colores","Unidad",0.06,1,{"$f":"SOLICITUD!F23","v":0},0,{"$f":"MIN(DiaCash!G23,DisOfic!G23,Lablink!G23,Lyreco!G23,Ocaña!G23,Taine!G23,Vistalegre!G23)","v":0},0]
[18,"Bolígrafo con capuchón, tinta a base de aceite, ancho de escritura 1,0mm, escritura normal, colores (Bic)","Unidad",0.18,1,{"$f":"SOLICITUD!F24","v":0},0,{"$f":"MIN(DiaCash!G24,DisOfic!G24,Lablink!G24,Lyreco!G24,Ocaña!G24,Taine!G24,Vistalegre!G24)","v":0},0]
[19,"Bolígrafo con capuchón, tinta a base de aceite, ancho de escritura 0,5mm, escritura fina, colores (Bic)","Unidad",0.18,1,{"$f":"SOLICITUD!F25","v":0},0,{"$f":"MIN(DiaCash!G25,DisOfic!G25,Lablink!G25,Lyreco!G25,Ocaña!G25,Taine!G25,Vistalegre!G25)","v":0},0]
[20,"Bolígrafo uso común capuchón tinta gel, colores (Bic, Pilot)","Unidad",0.92,1,{"$f":"SOLICITUD!F26","v":0},0,{"$f":"MIN(DiaCash!G26,DisOfic!G26,Lablink!G26,Lyreco!G26,Ocaña!G26,Taine!G26,Vistalegre!G26)","v":0},0]
[21,"Bolígrafo uso común capuchón, tinta base de aceite (Pilot)","Unidad",0.65,1,{"$f":"SOLICITUD!F27","v":0},0,{"$f":"MIN(DiaCash!G27,DisOfic!G27,Lablink!G27,Lyreco!G27,Ocaña!G27,Taine!G27,Vistalegre!G27)","v":0},0]
[22,"Bolígrafo retráctil tinta gel  ","Unidad",0.21,1,{"$f":"SOLICITUD!F28","v":0},0,{"$f":"MIN(DiaCash!G28,DisOfic!G28,Lablink!G28,Lyreco!G28,Ocaña!G28,Taine!G28,Vistalegre!G28)","v":0},0]
[23,"Bolígrafo retráctil tinta gel  (Pilot)","Unidad",0.75,1,{"$f":"SOLICITUD!F29","v":0},0,{"$f":"MIN(DiaCash!G29,DisOfic!G29,Lablink!G29,Lyreco!G29,Ocaña!G29,Taine!G29,Vistalegre!G29)","v":0},0]
[24,"Pluma desechable (Pilot)","Unidad",1.63,1,{"$f":"SOLICITUD!F30","v":0},0,{"$f":"MIN(DiaCash!G30,DisOfic!G30,Lablink!G30,Lyreco!G30,Ocaña!G30,Taine!G30,Vistalegre!G30)","v":0},0]
[25,"Marcadores Fluorescentes. Ancho de Trazo entre 2 Y 5 mm","Unidad",0.16,1,{"$f":"SOLICITUD!F31","v":0},0,{"$f":"MIN(DiaCash!G31,DisOfic!G31,Lablink!G31,Lyreco!G31,Ocaña!G31,Taine!G31,Vistalegre!G31)","v":0},0]
[26,"Marcadores Fluorescentes. Ancho de Trazo entre 2 Y 5 mm (Faber Castell, Stabilo)","Unidad",0.31,1,{"$f":"SOLICITUD!F32","v":0},0,{"$f":"MIN(DiaCash!G32,DisOfic!G32,Lablink!G32,Lyreco!G32,Ocaña!G32,Taine!G32,Vistalegre!G32)","v":0},0]
[27,"Roller Retráctil Tinta Gel. Trazo entre 0,4 Y 0,7 mm.","Unidad",0.44,1,{"$f":"SOLICITUD!F33","v":0},0,{"$f":"MIN(DiaCash!G33,DisOfic!G33,Lablink!G33,Lyreco!G33,Ocaña!G33,Taine!G33,Vistalegre!G33)","v":0},0]
[28,"Roller Retráctil Tinta Gel. Trazo entre 0,4 Y 0,7 mm. (Pilot)","Unidad",0.74,1,{"$f":"SOLICITUD!F34","v":0},0,{"$f":"MIN(DiaCash!G34,DisOfic!G34,Lablink!G34,Lyreco!G34,Ocaña!G34,Taine!G34,Vistalegre!G34)","v":0},0]
[29,"Roller Tinta Gel con capuchón. Trazo entre  0,4 Y 0,7 mm.","Unidad",0.41,1,{"$f":"SOLICITUD!F35","v":0},0,{"$f":"MIN(DiaCash!G35,DisOfic!G35,Lablink!G35,Lyreco!G35,Ocaña!G35,Taine!G35,Vistalegre!G35)","v":0},0]
[30,"Roller Tinta Gel con capuchón. Trazo entre  0,4 Y 0,7 mm. (Pilot)","Unidad",1.3,1,{"$f":"SOLICITUD!F36","v":0},0,{"$f":"MIN(DiaCash!G36,DisOfic!G36,Lablink!G36,Lyreco!G36,Ocaña!G36,Taine!G36,Vistalegre!G36)","v":0},0]
[31,"Roller Tinta Líquida con capuchón. Trazo entre 0,5 Y 0,7 mm.","Unidad",0.23,1,{"$f":"SOLICITUD!F37","v":0},0,{"$f":"MIN(DiaCash!G37,DisOfic!G37,Lablink!G37,Lyreco!G37,Ocaña!G37,Taine!G37,Vistalegre!G37)","v":0},0]
[32,"Roller Tinta Líquida con capuchón. Trazo entre 0,5 Y 0,7 mm. (Pilot)","Unidad",0.86,1,{"$f":"SOLICITUD!F38","v":0},0,{"$f":"MIN(DiaCash!G38,DisOfic!G38,Lablink!G38,Lyreco!G38,Ocaña!G38,Taine!G38,Vistalegre!G38)","v":0},0]
[33,"Rotulador Punta Fibra. Trazo entre 0,4 Y 1 mm.","Unidad",0.17,1,{"$f":"SOLICITUD!F39","v":0},0,{"$f":"MIN(DiaCash!G39,DisOfic!G39,Lablink!G39,Lyreco!G39,Ocaña!G39,Taine!G39,Vistalegre!G39)","v":0},0]
[34,"Rotulador Punta Fibra. Trazo entre 0,4 Y 1 mm. (Edding)","Unidad",0.31,1,{"$f":"SOLICITUD!F40","v":0},0,{"$f":"MIN(DiaCash!G40,DisOfic!G40,Lablink!G40,Lyreco!G40,Ocaña!G40,Taine!G40,Vistalegre!G40)","v":0},0]
[35,"Rotulador indeleble punta 0,6 mm (Staedtler)","Unidad",0.86,1,{"$f":"SOLICITUD!F41","v":0},0,{"$f":"MIN(DiaCash!G41,DisOfic!G41,Lablink!G41,Lyreco!G41,Ocaña!G41,Taine!G41,Vistalegre!G41)","v":0},0]
[36,"Rotulador Permanente. Trazo entre 0,7 Y 2 mm Punta Cónica","Unidad",0.27,1,{"$f":"SOLICITUD!F42","v":0},0,{"$f":"MIN(DiaCash!G42,DisOfic!G42,Lablink!G42,Lyreco!G42,Ocaña!G42,Taine!G42,Vistalegre!G42)","v":0},0]
[37,"Rotulador Permanente. Trazo entre 0,7 Y 2 mm Punta Cónica (Edding)","Unidad",1.0900000000000001,1,{"$f":"SOLICITUD!F43","v":0},0,{"$f":"MIN(DiaCash!G43,DisOfic!G43,Lablink!G43,Lyreco!G43,Ocaña!G43,Taine!G43,Vistalegre!G43)","v":0},0]
[38,"Rotulador Permanente. Trazo entre 1,5-3 mm  Punta Cómica (Edding)","Unidad",1.5,1,{"$f":"SOLICITUD!F44","v":0},0,{"$f":"MIN(DiaCash!G44,DisOfic!G44,Lablink!G44,Lyreco!G44,Ocaña!G44,Taine!G44,Vistalegre!G44)","v":0},0]
[39,"Rotulador Permanente. Trazo entre 2 Y 7 mm Punta Cónica","Unidad",0.25,1,{"$f":"SOLICITUD!F45","v":0},0,{"$f":"MIN(DiaCash!G45,DisOfic!G45,Lablink!G45,Lyreco!G45,Ocaña!G45,Taine!G45,Vistalegre!G45)","v":0},0]
[40,"Rotulador Permanente. Trazo entre 2 Y 7 mm Punta Cónica (Edding)","Unidad",1.0900000000000001,1,{"$f":"SOLICITUD!F46","v":0},0,{"$f":"MIN(DiaCash!G46,DisOfic!G46,Lablink!G46,Lyreco!G46,Ocaña!G46,Taine!G46,Vistalegre!G46)","v":0},0]
[41,"Rotulador Permanente. Trazo entre 2 Y 7 mm Punta Biselada","Unidad",0.37,1,{"$f":"SOLICITUD!F47","v":0},0,{"$f":"MIN(DiaCash!G47,DisOfic!G47,Lablink!G47,Lyreco!G47,Ocaña!G47,Taine!G47,Vistalegre!G47)","v":0},0]
[42,"Rotulador Permanente. Trazo entre 2 Y 7 mm Punta Biselada (Edding)","Unidad",1.35,1,{"$f":"SOLICITUD!F48","v":0},0,{"$f":"MIN(DiaCash!G48,DisOfic!G48,Lablink!G48,Lyreco!G48,Ocaña!G48,Taine!G48,Vistalegre!G48)","v":0},0]
[43,"Rotulador Permanente. Trazo entre 8 Y 16 mm Punta Biselada","Unidad",1.2,1,{"$f":"SOLICITUD!F49","v":0},0,{"$f":"MIN(DiaCash!G49,DisOfic!G49,Lablink!G49,Lyreco!G49,Ocaña!G49,Taine!G49,Vistalegre!G49)","v":0},0]
[44,"Rotulador Permanente. Trazo entre 8 Y 16 mm Punta Biselada (Edding)","Unidad",2.6,1,{"$f":"SOLICITUD!F50","v":0},0,{"$f":"MIN(DiaCash!G50,DisOfic!G50,Lablink!G50,Lyreco!G50,Ocaña!G50,Taine!G50,Vistalegre!G50)","v":0},0]
[45,"Rotulador Borrable de Punta Biselada para Pizarra Blanca. Trazo Entre 2 Y 5 mm","Unidad",0.33,1,{"$f":"SOLICITUD!F51","v":0},0,{"$f":"MIN(DiaCash!G51,DisOfic!G51,Lablink!G51,Lyreco!G51,Ocaña!G51,Taine!G51,Vistalegre!G51)","v":0},0]
[46,"Rotulador Borrable de Punta Biselada para Pizarra Blanca. Trazo Entre 2 Y 5 mm (Bic)","Unidad",0.9,1,{"$f":"SOLICITUD!F52","v":0},0,{"$f":"MIN(DiaCash!G52,DisOfic!G52,Lablink!G52,Lyreco!G52,Ocaña!G52,Taine!G52,Vistalegre!G52)","v":0},0]
[47,"Rotulador Borrable de Punta Conica para Pizarra Blanca. Trazo Entre 1 Y 4 mm","Unidad",0.2,1,{"$f":"SOLICITUD!F53","v":0},0,{"$f":"MIN(DiaCash!G53,DisOfic!G53,Lablink!G53,Lyreco!G53,Ocaña!G53,Taine!G53,Vistalegre!G53)","v":0},0]
[48,"Rotulador Borrable de Punta Conica para Pizarra Blanca. Trazo Entre 1 Y 4 mm (Bic)","Unidad",0.44,1,{"$f":"SOLICITUD!F54","v":0},0,{"$f":"MIN(DiaCash!G54,DisOfic!G54,Lablink!G54,Lyreco!G54,Ocaña!G54,Taine!G54,Vistalegre!G54)","v":0},0]
[49,"Borrador para Pizarra Blanca","Unidad",1.05,1,{"$f":"SOLICITUD!F55","v":0},0,{"$f":"MIN(DiaCash!G55,DisOfic!G55,Lablink!G55,Lyreco!G55,Ocaña!G55,Taine!G55,Vistalegre!G55)","v":0},0]
[50,"Recambios Borrador de Pizarra Blanca ","Envase 10 unidades",1.1000000000000001,1,{"$f":"SOLICITUD!F56","v":0},0,{"$f":"MIN(DiaCash!G56,DisOfic!G56,Lablink!G56,Lyreco!G56,Ocaña!G56,Taine!G56,Vistalegre!G56)","v":0},0]
[51,"Puntero laser rojo (Trust)","Unidad",15,1,{"$f":"SOLICITUD!F57","v":0},0,{"$f":"MIN(DiaCash!G57,DisOfic!G57,Lablink!G57,Lyreco!G57,Ocaña!G57,Taine!G57,Vistalegre!G57)","v":0},0]
[52,"Pizarra blanca magnética esmaltada. Marco aluminio/plástico 60x90 cm (hxa) (Nobo)","Unidad",20,1,{"$f":"SOLICITUD!F58","v":0},0,{"$f":"MIN(DiaCash!G58,DisOfic!G58,Lablink!G58,Lyreco!G58,Ocaña!G58,Taine!G58,Vistalegre!G58)","v":0},0]
[53,"Pizarra blanca magnética esmaltada. Marco aluminio/plástico 90x120 cm (hxa) (Nobo)","Unidad",40,1,{"$f":"SOLICITUD!F59","v":0},0,{"$f":"MIN(DiaCash!G59,DisOfic!G59,Lablink!G59,Lyreco!G59,Ocaña!G59,Taine!G59,Vistalegre!G59)","v":0},0]
[54,"Pizarra blanca magnética esmaltada. Marco aluminio/plástico 100x150 cm (hxa) (Nobo)","Unidad",80,1,{"$f":"SOLICITUD!F60","v":0},0,{"$f":"MIN(DiaCash!G60,DisOfic!G60,Lablink!G60,Lyreco!G60,Ocaña!G60,Taine!G60,Vistalegre!G60)","v":0},0]
[55,"Pizarra caballete con superficie lacada magnética. Marco y bandeja portamarcadores en aluminio. Brazos laterales magnéticos que triplican la superficie de lectura. Pies telescópicos con altura regulable. Para usar con o sin block de papel 1000x700 mm (hxa) (Bi-Office)","Unidad",110,1,{"$f":"SOLICITUD!F61","v":0},0,{"$f":"MIN(DiaCash!G61,DisOfic!G61,Lablink!G61,Lyreco!G61,Ocaña!G61,Taine!G61,Vistalegre!G61)","v":0},0]
[56,"Cinta Correctora con dispensador desechable tipo Roller. Anchos \nde 4,2 A 6 mm. Largos de 8,5 A 12 Mts.","Unidad",0.4,1,{"$f":"SOLICITUD!F62","v":0},0,{"$f":"MIN(DiaCash!G62,DisOfic!G62,Lablink!G62,Lyreco!G62,Ocaña!G62,Taine!G62,Vistalegre!G62)","v":0},0]
[57,"Cinta Correctora con dispensador desechable tipo Roller. Anchos \nde 4,2 A 6 mm. Largos de 8,5 A 12 Mts. (Pritt Roller)","Unidad",1.23,1,{"$f":"SOLICITUD!F63","v":0},0,{"$f":"MIN(DiaCash!G63,DisOfic!G63,Lablink!G63,Lyreco!G63,Ocaña!G63,Taine!G63,Vistalegre!G63)","v":0},0]
[58,"Corrector Líquido de secado rápido con pincel aplicador 20 Ml","Unidad",0.27,1,{"$f":"SOLICITUD!F64","v":0},0,{"$f":"MIN(DiaCash!G64,DisOfic!G64,Lablink!G64,Lyreco!G64,Ocaña!G64,Taine!G64,Vistalegre!G64)","v":0},0]
[59,"Corrector Líquido de secado rápido con pincel aplicador 20 Ml (Tippex)","Unidad",0.9,1,{"$f":"SOLICITUD!F65","v":0},0,{"$f":"MIN(DiaCash!G65,DisOfic!G65,Lablink!G65,Lyreco!G65,Ocaña!G65,Taine!G65,Vistalegre!G65)","v":0},0]
[60,"Lápiz corrector con capuchón ajustable punta metálica secado rápido, de 7 a 12 ml (Pritt)","Unidad",1.17,1,{"$f":"SOLICITUD!F66","v":0},0,{"$f":"MIN(DiaCash!G66,DisOfic!G66,Lablink!G66,Lyreco!G66,Ocaña!G66,Taine!G66,Vistalegre!G66)","v":0},0]
[61,"Goma para borrar grafito","Unidad",0.05,1,{"$f":"SOLICITUD!F67","v":0},0,{"$f":"MIN(DiaCash!G67,DisOfic!G67,Lablink!G67,Lyreco!G67,Ocaña!G67,Taine!G67,Vistalegre!G67)","v":0},0]
[62,"Atril de sobremesa ajustable. Tamaño A4 y mayor","Unidad",7.5,1,{"$f":"SOLICITUD!F68","v":0},0,{"$f":"MIN(DiaCash!G68,DisOfic!G68,Lablink!G68,Lyreco!G68,Ocaña!G68,Taine!G68,Vistalegre!G68)","v":0},0]
[63,"Bandeja Apilable Sobremesa Plástico . Tamaño minimo apx. 24X34 cms.","Unidad",1,1,{"$f":"SOLICITUD!F69","v":0},0,{"$f":"MIN(DiaCash!G69,DisOfic!G69,Lablink!G69,Lyreco!G69,Ocaña!G69,Taine!G69,Vistalegre!G69)","v":0},0]
[64,"Bandeja Apilable Sobremesa Acero Cromado. Tamaño minimo apx. 24X34 cms.","Unidad",2.0499999999999998,1,{"$f":"SOLICITUD!F70","v":0},0,{"$f":"MIN(DiaCash!G70,DisOfic!G70,Lablink!G70,Lyreco!G70,Ocaña!G70,Taine!G70,Vistalegre!G70)","v":0},0]
[65,"Cubilete para lápices ","Unidad",0.52,1,{"$f":"SOLICITUD!F71","v":0},0,{"$f":"MIN(DiaCash!G71,DisOfic!G71,Lablink!G71,Lyreco!G71,Ocaña!G71,Taine!G71,Vistalegre!G71)","v":0},0]
[66,"Regla de Plástico milimetrada transparente 40 cm","Unidad",0.23,1,{"$f":"SOLICITUD!F72","v":0},{"$f":"IF(F72>0,IF(E72=\"Excluido\",\"Excluido1\",IF(F72>0,IF(F72<E72,\"Excluido2\",D72*F72),0)),0)","v":0},{"$f":"MIN(DiaCash!G72,DisOfic!G72,Lablink!G72,Lyreco!G72,Ocaña!G72,Taine!G72,Vistalegre!G72)","v":0},{"$f":"IF(G72<=H72,G72,0)","v":0}]
[67,"Regla de Plástico milimetrada transparente 40 cm (Staedtler, Faber-Castell)","Unidad",1,1,{"$f":"SOLICITUD!F73","v":0},0,{"$f":"MIN(DiaCash!G73,DisOfic!G73,Lablink!G73,Lyreco!G73,Ocaña!G73,Taine!G73,Vistalegre!G73)","v":0},0]
[68,"Escuadra y Cartabon transparente 30 ó 40 cm ","Unidad",2,1,{"$f":"SOLICITUD!F74","v":0},0,{"$f":"MIN(DiaCash!G74,DisOfic!G74,Lablink!G74,Lyreco!G74,Ocaña!G74,Taine!G74,Vistalegre!G74)","v":0},0]
[69,"Escuadra y Cartabon transparente 30 ó 40 cm (Staedtler, Faber-Castell)","Unidad",4.07,1,{"$f":"SOLICITUD!F75","v":0},0,{"$f":"MIN(DiaCash!G75,DisOfic!G75,Lablink!G75,Lyreco!G75,Ocaña!G75,Taine!G75,Vistalegre!G75)","v":0},0]
[70,"Abrecartas Acero Inoxidable 170 mm aprox.","Unidad",1.07,1,{"$f":"SOLICITUD!F76","v":0},0,{"$f":"MIN(DiaCash!G76,DisOfic!G76,Lablink!G76,Lyreco!G76,Ocaña!G76,Taine!G76,Vistalegre!G76)","v":0},0]
[71,"Bloque Calendario 82X116 mm, Papel de 60 gr/m2 mínimo","Unidad",0.65,1,{"$f":"SOLICITUD!F77","v":0},0,{"$f":"MIN(DiaCash!G77,DisOfic!G77,Lablink!G77,Lyreco!G77,Ocaña!G77,Taine!G77,Vistalegre!G77)","v":0},0]
[72,"Base para Bloque Calendario en baquelita","Unidad",0.9,1,{"$f":"SOLICITUD!F78","v":0},0,{"$f":"MIN(DiaCash!G78,DisOfic!G78,Lablink!G78,Lyreco!G78,Ocaña!G78,Taine!G78,Vistalegre!G78)","v":0},0]
[73,"Chincheta metálica ","Envase 100 Unidades",0.35,1,{"$f":"SOLICITUD!F79","v":0},0,{"$f":"MIN(DiaCash!G79,DisOfic!G79,Lablink!G79,Lyreco!G79,Ocaña!G79,Taine!G79,Vistalegre!G79)","v":0},0]
[74,"Chincheta señalizadoras colores (Apli)","Envase 50 unidades",0.5,1,{"$f":"SOLICITUD!F80","v":0},0,{"$f":"MIN(DiaCash!G80,DisOfic!G80,Lablink!G80,Lyreco!G80,Ocaña!G80,Taine!G80,Vistalegre!G80)","v":0},0]
[75,"Portarrollos para Cinta Adhesiva Hasta 25 mm de ancho y hasta 33 mts de largo","Unidad",1.25,1,{"$f":"SOLICITUD!F81","v":0},0,{"$f":"MIN(DiaCash!G81,DisOfic!G81,Lablink!G81,Lyreco!G81,Ocaña!G81,Taine!G81,Vistalegre!G81)","v":0},0]
[76,"Portarrollos para Cinta Adhesiva Hasta 25 mm de ancho y hasta 33 mts de largo (Scotch)","Unidad",2.81,1,{"$f":"SOLICITUD!F82","v":0},0,{"$f":"MIN(DiaCash!G82,DisOfic!G82,Lablink!G82,Lyreco!G82,Ocaña!G82,Taine!G82,Vistalegre!G82)","v":0},0]
[77,"Portarrollos para Cinta Adhesiva Hasta 25 mm de ancho y hasta 66 mts de largo","Unidad",2.9,1,{"$f":"SOLICITUD!F83","v":0},0,{"$f":"MIN(DiaCash!G83,DisOfic!G83,Lablink!G83,Lyreco!G83,Ocaña!G83,Taine!G83,Vistalegre!G83)","v":0},0]
[78,"Portarrollos para Cinta Adhesiva Hasta 25 mm de ancho y hasta 66 mts de largo (Scotch)","Unidad",5,1,{"$f":"SOLICITUD!F84","v":0},0,{"$f":"MIN(DiaCash!G84,DisOfic!G84,Lablink!G84,Lyreco!G84,Ocaña!G84,Taine!G84,Vistalegre!G84)","v":0},0]
[79,"Cinta Adhesiva Transparente 12 mm X 33 mts.","Unidad",0.16,1,{"$f":"SOLICITUD!F85","v":0},0,{"$f":"MIN(DiaCash!G85,DisOfic!G85,Lablink!G85,Lyreco!G85,Ocaña!G85,Taine!G85,Vistalegre!G85)","v":0},0]
[80,"Cinta Adhesiva Transparente 19 mm X 33 mts.","Unidad",0.2,1,{"$f":"SOLICITUD!F86","v":0},0,{"$f":"MIN(DiaCash!G86,DisOfic!G86,Lablink!G86,Lyreco!G86,Ocaña!G86,Taine!G86,Vistalegre!G86)","v":0},0]
[81,"Cinta Adhesiva Transparente 19 mm X 66 mts.","Unidad",0.36,1,{"$f":"SOLICITUD!F87","v":0},0,{"$f":"MIN(DiaCash!G87,DisOfic!G87,Lablink!G87,Lyreco!G87,Ocaña!G87,Taine!G87,Vistalegre!G87)","v":0},0]
[82,"Cinta Adhesiva Invisible 19 mm x 33 mts.","Unidad",0.4,1,{"$f":"SOLICITUD!F88","v":0},0,{"$f":"MIN(DiaCash!G88,DisOfic!G88,Lablink!G88,Lyreco!G88,Ocaña!G88,Taine!G88,Vistalegre!G88)","v":0},0]
[83,"Cinta Adhesiva Invisible 12 mm x 33 mts. (Scotch Magic)","Unidad",1.35,1,{"$f":"SOLICITUD!F89","v":0},0,{"$f":"MIN(DiaCash!G89,DisOfic!G89,Lablink!G89,Lyreco!G89,Ocaña!G89,Taine!G89,Vistalegre!G89)","v":0},0]
[84,"Cinta Adhesiva Invisible 19 mm x 33 mts. (Scotch Magic)","Unidad",1.64,1,{"$f":"SOLICITUD!F90","v":0},0,{"$f":"MIN(DiaCash!G90,DisOfic!G90,Lablink!G90,Lyreco!G90,Ocaña!G90,Taine!G90,Vistalegre!G90)","v":0},0]
[85,"Cinta Adhesiva Transparente 19 mm X 66 mts. (Scotch)","Unidad",1,1,{"$f":"SOLICITUD!F91","v":0},0,{"$f":"MIN(DiaCash!G91,DisOfic!G91,Lablink!G91,Lyreco!G91,Ocaña!G91,Taine!G91,Vistalegre!G91)","v":0},0]
[86,"Precintadora Manual hasta 50 mm de ancho","Unidad",5,1,{"$f":"SOLICITUD!F92","v":0},0,{"$f":"MIN(DiaCash!G92,DisOfic!G92,Lablink!G92,Lyreco!G92,Ocaña!G92,Taine!G92,Vistalegre!G92)","v":0},0]
[87,"Cinta Adhesiva para embalaje (Precinto) 48-55 mm x 66 mts mínimo","Unidad",0.59,1,{"$f":"SOLICITUD!F93","v":0},0,{"$f":"MIN(DiaCash!G93,DisOfic!G93,Lablink!G93,Lyreco!G93,Ocaña!G93,Taine!G93,Vistalegre!G93)","v":0},0]
[88,"Cinta Adhesiva para embalaje (Precinto) 50 mm x 76 mts mínimo","Unidad",0.9,1,{"$f":"SOLICITUD!F94","v":0},0,{"$f":"MIN(DiaCash!G94,DisOfic!G94,Lablink!G94,Lyreco!G94,Ocaña!G94,Taine!G94,Vistalegre!G94)","v":0},0]
[89,"Clips Mariposa metálicos niquelados. Número 20. 50 mm","Envase 25 unidades",0.9,1,{"$f":"SOLICITUD!F95","v":0},0,{"$f":"MIN(DiaCash!G95,DisOfic!G95,Lablink!G95,Lyreco!G95,Ocaña!G95,Taine!G95,Vistalegre!G95)","v":0},0]
[90,"Clips Mariposa  metálicos niquelados. Número 10. 40 mm","Envase 50 unidades",0.7,1,{"$f":"SOLICITUD!F96","v":0},0,{"$f":"MIN(DiaCash!G96,DisOfic!G96,Lablink!G96,Lyreco!G96,Ocaña!G96,Taine!G96,Vistalegre!G96)","v":0},0]
[91,"Clips Labiados redondos metálicos pulidos. Número 1. 20 mm","Envase 100 unidades",0.18,1,{"$f":"SOLICITUD!F97","v":0},0,{"$f":"MIN(DiaCash!G97,DisOfic!G97,Lablink!G97,Lyreco!G97,Ocaña!G97,Taine!G97,Vistalegre!G97)","v":0},0]
[92,"Clips Labiados redondos metálicos pulidos. Número 1,5. 25 mm","Envase 100 unidades",0.2,1,{"$f":"SOLICITUD!F98","v":0},0,{"$f":"MIN(DiaCash!G98,DisOfic!G98,Lablink!G98,Lyreco!G98,Ocaña!G98,Taine!G98,Vistalegre!G98)","v":0},0]
[93,"Clips Labiados redondos metálicos pulidos. Número 2. 32 mm","Envase 100 unidades",0.2,1,{"$f":"SOLICITUD!F99","v":0},0,{"$f":"MIN(DiaCash!G99,DisOfic!G99,Lablink!G99,Lyreco!G99,Ocaña!G99,Taine!G99,Vistalegre!G99)","v":0},0]
[94,"Clips Labiados redondos metálicos pulidos. Número 3. 40 mm","Envase 100 unidades",0.32,1,{"$f":"SOLICITUD!F100","v":0},0,{"$f":"MIN(DiaCash!G100,DisOfic!G100,Lablink!G100,Lyreco!G100,Ocaña!G100,Taine!G100,Vistalegre!G100)","v":0},0]
[95,"Pinza doble clip negra 19 mm ","Envase 12 unidades",0.24,1,{"$f":"SOLICITUD!F101","v":0},0,{"$f":"MIN(DiaCash!G101,DisOfic!G101,Lablink!G101,Lyreco!G101,Ocaña!G101,Taine!G101,Vistalegre!G101)","v":0},0]
[96,"Pinza doble clip negra 25 mm ","Envase 12 unidades",0.6,1,{"$f":"SOLICITUD!F102","v":0},0,{"$f":"MIN(DiaCash!G102,DisOfic!G102,Lablink!G102,Lyreco!G102,Ocaña!G102,Taine!G102,Vistalegre!G102)","v":0},0]
[97,"Pinza doble clip negra 32 mm ","Envase 12 unidades",0.7,1,{"$f":"SOLICITUD!F103","v":0},0,{"$f":"MIN(DiaCash!G103,DisOfic!G103,Lablink!G103,Lyreco!G103,Ocaña!G103,Taine!G103,Vistalegre!G103)","v":0},0]
[98,"Pinza doble clip negra 40 mm ","Envase 12 unidades",0.9,1,{"$f":"SOLICITUD!F104","v":0},0,{"$f":"MIN(DiaCash!G104,DisOfic!G104,Lablink!G104,Lyreco!G104,Ocaña!G104,Taine!G104,Vistalegre!G104)","v":0},0]
[99,"Pinza doble clip negra 50 mm ","Envase 12 unidades",1.7,1,{"$f":"SOLICITUD!F105","v":0},0,{"$f":"MIN(DiaCash!G105,DisOfic!G105,Lablink!G105,Lyreco!G105,Ocaña!G105,Taine!G105,Vistalegre!G105)","v":0},0]
[100,"Porta clips imantado con rodillo","Unidad",0.9,1,{"$f":"SOLICITUD!F106","v":0},0,{"$f":"MIN(DiaCash!G106,DisOfic!G106,Lablink!G106,Lyreco!G106,Ocaña!G106,Taine!G106,Vistalegre!G106)","v":0},0]
[101,"Porta clips imantado redondo","Unidad",0.9,1,{"$f":"SOLICITUD!F107","v":0},0,{"$f":"MIN(DiaCash!G107,DisOfic!G107,Lablink!G107,Lyreco!G107,Ocaña!G107,Taine!G107,Vistalegre!G107)","v":0},0]
[102,"Cutter hoja 18 mm.","Unidad",0.45,1,{"$f":"SOLICITUD!F108","v":0},0,{"$f":"MIN(DiaCash!G108,DisOfic!G108,Lablink!G108,Lyreco!G108,Ocaña!G108,Taine!G108,Vistalegre!G108)","v":0},0]
[103,"Cutter hoja 9 mm.","Unidad",0.25,1,{"$f":"SOLICITUD!F109","v":0},0,{"$f":"MIN(DiaCash!G109,DisOfic!G109,Lablink!G109,Lyreco!G109,Ocaña!G109,Taine!G109,Vistalegre!G109)","v":0},0]
[104,"Recambios para Cutter 18 mm","Envase 10 Unidades",1.03,1,{"$f":"SOLICITUD!F110","v":0},0,{"$f":"MIN(DiaCash!G110,DisOfic!G110,Lablink!G110,Lyreco!G110,Ocaña!G110,Taine!G110,Vistalegre!G110)","v":0},0]
[105,"Recambios para Cutter 9 mm","Envase 10 Unidades",0.53,1,{"$f":"SOLICITUD!F111","v":0},0,{"$f":"MIN(DiaCash!G111,DisOfic!G111,Lablink!G111,Lyreco!G111,Ocaña!G111,Taine!G111,Vistalegre!G111)","v":0},0]
[106,"Gomas Elásticas tamaños de 80 A 100 mm","Envase 100 gr.",0.5,1,{"$f":"SOLICITUD!F112","v":0},0,{"$f":"MIN(DiaCash!G112,DisOfic!G112,Lablink!G112,Lyreco!G112,Ocaña!G112,Taine!G112,Vistalegre!G112)","v":0},0]
[107,"Gomas Elásticas tamaños Hasta 60 mm","Envase 100 gr.",0.5,1,{"$f":"SOLICITUD!F113","v":0},0,{"$f":"MIN(DiaCash!G113,DisOfic!G113,Lablink!G113,Lyreco!G113,Ocaña!G113,Taine!G113,Vistalegre!G113)","v":0},0]
[108,"Pegamento en Barra (Barra 20 gr)","Unidad",0.2,1,{"$f":"SOLICITUD!F114","v":0},0,{"$f":"MIN(DiaCash!G114,DisOfic!G114,Lablink!G114,Lyreco!G114,Ocaña!G114,Taine!G114,Vistalegre!G114)","v":0},0]
[109,"Pegamento en Barra (Barra 20 gr) (Pritt)","Unidad",0.99,1,{"$f":"SOLICITUD!F115","v":0},0,{"$f":"MIN(DiaCash!G115,DisOfic!G115,Lablink!G115,Lyreco!G115,Ocaña!G115,Taine!G115,Vistalegre!G115)","v":0},0]
[110,"Pegamento en Barra (Barra 40 gr)","Unidad",0.3,1,{"$f":"SOLICITUD!F116","v":0},0,{"$f":"MIN(DiaCash!G116,DisOfic!G116,Lablink!G116,Lyreco!G116,Ocaña!G116,Taine!G116,Vistalegre!G116)","v":0},0]
[111,"Pegamento en Barra (Barra 40 gr) (Pritt)","Unidad",1.43,1,{"$f":"SOLICITUD!F117","v":0},0,{"$f":"MIN(DiaCash!G117,DisOfic!G117,Lablink!G117,Lyreco!G117,Ocaña!G117,Taine!G117,Vistalegre!G117)","v":0},0]
[112,"Pegamento Instantáneo Cianocrilato (Tubo 3 gr)","Unidad",0.66,1,{"$f":"SOLICITUD!F118","v":0},0,{"$f":"MIN(DiaCash!G118,DisOfic!G118,Lablink!G118,Lyreco!G118,Ocaña!G118,Taine!G118,Vistalegre!G118)","v":0},0]
[113,"Pegamento Instantáneo Cianocrilato (Tubo 3 gr) (Loctite)","Unidad",2.06,1,{"$f":"SOLICITUD!F119","v":0},0,{"$f":"MIN(DiaCash!G119,DisOfic!G119,Lablink!G119,Lyreco!G119,Ocaña!G119,Taine!G119,Vistalegre!G119)","v":0},0]
[114,"Pegamento Instantáneo Cianocrilato Con Pincel Aplicador (5 gr)","Unidad",2.6,1,{"$f":"SOLICITUD!F120","v":0},0,{"$f":"MIN(DiaCash!G120,DisOfic!G120,Lablink!G120,Lyreco!G120,Ocaña!G120,Taine!G120,Vistalegre!G120)","v":0},0]
[115,"Pegamento Instantáneo Cianocrilato Con Pincel Aplicador (5 gr) (Loctite)","Unidad",3.21,1,{"$f":"SOLICITUD!F121","v":0},0,{"$f":"MIN(DiaCash!G121,DisOfic!G121,Lablink!G121,Lyreco!G121,Ocaña!G121,Taine!G121,Vistalegre!G121)","v":0},0]
[116,"Pegamento Universal (Tubo 35 gr)","Unidad",1.04,1,{"$f":"SOLICITUD!F122","v":0},0,{"$f":"MIN(DiaCash!G122,DisOfic!G122,Lablink!G122,Lyreco!G122,Ocaña!G122,Taine!G122,Vistalegre!G122)","v":0},0]
[117,"Pegamento Universal (Tubo 35 gr) (Imedio)","Unidad",1.9,1,{"$f":"SOLICITUD!F123","v":0},0,{"$f":"MIN(DiaCash!G123,DisOfic!G123,Lablink!G123,Lyreco!G123,Ocaña!G123,Taine!G123,Vistalegre!G123)","v":0},0]
[118,"Tijera hoja acero inoxidable. Mango ergonomico. Longitud 150 mm","Unidad",0.64,1,{"$f":"SOLICITUD!F124","v":0},0,{"$f":"MIN(DiaCash!G124,DisOfic!G124,Lablink!G124,Lyreco!G124,Ocaña!G124,Taine!G124,Vistalegre!G124)","v":0},0]
[119,"Tijera hoja acero Inoxidable. Mango ergonomico. Longitud 210 mm","Unidad",0.6,1,{"$f":"SOLICITUD!F125","v":0},0,{"$f":"MIN(DiaCash!G125,DisOfic!G125,Lablink!G125,Lyreco!G125,Ocaña!G125,Taine!G125,Vistalegre!G125)","v":0},0]
[120,"Tijera hoja acero inoxidable. 150 mm Longitud. (Westcott)","Unidad",3.4,1,{"$f":"SOLICITUD!F126","v":0},0,{"$f":"MIN(DiaCash!G126,DisOfic!G126,Lablink!G126,Lyreco!G126,Ocaña!G126,Taine!G126,Vistalegre!G126)","v":0},0]
[121,"Tijera hoja acero inoxidable. 210 mm Longitud. (Westcott)","Unidad",4.4000000000000004,1,{"$f":"SOLICITUD!F127","v":0},0,{"$f":"MIN(DiaCash!G127,DisOfic!G127,Lablink!G127,Lyreco!G127,Ocaña!G127,Taine!G127,Vistalegre!G127)","v":0},0]
[122,"Calculadora sobremesa de oficina","Unidad",4.1900000000000004,1,{"$f":"SOLICITUD!F128","v":0},0,{"$f":"MIN(DiaCash!G128,DisOfic!G128,Lablink!G128,Lyreco!G128,Ocaña!G128,Taine!G128,Vistalegre!G128)","v":0},0]
[123,"Calculadora sobremesa de oficina (Casio)","Unidad",11.99,1,{"$f":"SOLICITUD!F129","v":0},0,{"$f":"MIN(DiaCash!G129,DisOfic!G129,Lablink!G129,Lyreco!G129,Ocaña!G129,Taine!G129,Vistalegre!G129)","v":0},0]
[124,"Calculadora científica 12 dígitos (Casio)","Unidad",6.5,1,{"$f":"SOLICITUD!F130","v":0},0,{"$f":"MIN(DiaCash!G130,DisOfic!G130,Lablink!G130,Lyreco!G130,Ocaña!G130,Taine!G130,Vistalegre!G130)","v":0},0]
[125,"Grapadora sobremesa metálica. Capacidad mínima 30 hojas de papel 80 gr/m2","Unidad",6.46,1,{"$f":"SOLICITUD!F131","v":0},0,{"$f":"MIN(DiaCash!G131,DisOfic!G131,Lablink!G131,Lyreco!G131,Ocaña!G131,Taine!G131,Vistalegre!G131)","v":0},0]
[126,"Grapadora sobremesa metálica. Capacidad mínima 30 hojas de papel 80 gr/m2 (Petrus)","Unidad",14.69,1,{"$f":"SOLICITUD!F132","v":0},0,{"$f":"MIN(DiaCash!G132,DisOfic!G132,Lablink!G132,Lyreco!G132,Ocaña!G132,Taine!G132,Vistalegre!G132)","v":0},0]
[127,"Grapadora sobremesa . Capacidad mínima 20 hojas de papel 80 gr/m2","Unidad",1.63,1,{"$f":"SOLICITUD!F133","v":0},0,{"$f":"MIN(DiaCash!G133,DisOfic!G133,Lablink!G133,Lyreco!G133,Ocaña!G133,Taine!G133,Vistalegre!G133)","v":0},0]
[128,"Grapadora Tenaza Metalica. Capacidad mínima 40 hojas de papel 80 gr/m2","Unidad",12.15,1,{"$f":"SOLICITUD!F134","v":0},0,{"$f":"MIN(DiaCash!G134,DisOfic!G134,Lablink!G134,Lyreco!G134,Ocaña!G134,Taine!G134,Vistalegre!G134)","v":0},0]
[129,"Grapadora Tenaza Metalica. Capacidad mínima 40 hojas de papel 80 gr/m2 (Petrus)","Unidad",20,1,{"$f":"SOLICITUD!F135","v":0},0,{"$f":"MIN(DiaCash!G135,DisOfic!G135,Lablink!G135,Lyreco!G135,Ocaña!G135,Taine!G135,Vistalegre!G135)","v":0},0]
[130,"Grapadora Tenaza. Capacidad mínima 20 hojas de papel 80 gr/m2","Unidad",3,1,{"$f":"SOLICITUD!F136","v":0},{"$f":"IF(F136>0,IF(E136=\"Excluido\",\"Excluido1\",IF(F136>0,IF(F136<E136,\"Excluido2\",D136*F136),0)),0)","v":0},{"$f":"MIN(DiaCash!G136,DisOfic!G136,Lablink!G136,Lyreco!G136,Ocaña!G136,Taine!G136,Vistalegre!G136)","v":0},{"$f":"IF(G136<=H136,G136,0)","v":0}]
[131,"Grapas Cobreadas o Galvanizadas 22/6 o equivalente","Envase 1000 unidades",0.15,1,{"$f":"SOLICITUD!F137","v":0},0,{"$f":"MIN(DiaCash!G137,DisOfic!G137,Lablink!G137,Lyreco!G137,Ocaña!G137,Taine!G137,Vistalegre!G137)","v":0},0]
[132,"Grapas Cobreadas o Galvanizadas 22/6 o equivalente (Petrus)","Envase 1000 unidades",0.35,1,{"$f":"SOLICITUD!F138","v":0},0,{"$f":"MIN(DiaCash!G138,DisOfic!G138,Lablink!G138,Lyreco!G138,Ocaña!G138,Taine!G138,Vistalegre!G138)","v":0},0]
[133,"Grapas Cobreadas o Galvanizadas 24/6 o equivalente","Envase 1000 unidades",0.15,1,{"$f":"SOLICITUD!F139","v":0},0,{"$f":"MIN(DiaCash!G139,DisOfic!G139,Lablink!G139,Lyreco!G139,Ocaña!G139,Taine!G139,Vistalegre!G139)","v":0},0]
[134,"Grapas Cobreadas o Galvanizadas 24/6 o equivalente (Petrus)","Envase 1000 unidades",0.35,1,{"$f":"SOLICITUD!F140","v":0},0,{"$f":"MIN(DiaCash!G140,DisOfic!G140,Lablink!G140,Lyreco!G140,Ocaña!G140,Taine!G140,Vistalegre!G140)","v":0},0]
[135,"Grapas Cobreadas o Galvanizadas 23/6 o equivalente","Envase 1000 unidades",0.33,1,{"$f":"SOLICITUD!F141","v":0},0,{"$f":"MIN(DiaCash!G141,DisOfic!G141,Lablink!G141,Lyreco!G141,Ocaña!G141,Taine!G141,Vistalegre!G141)","v":0},0]
[136,"Grapas Cobreadas o Galvanizadas 23/6 o equivalente (Petrus)","Envase 1000 unidades",0.35,1,{"$f":"SOLICITUD!F142","v":0},0,{"$f":"MIN(DiaCash!G142,DisOfic!G142,Lablink!G142,Lyreco!G142,Ocaña!G142,Taine!G142,Vistalegre!G142)","v":0},0]
[137,"Grapas Cobreadas o Galvanizadas 23/8 o equivalente","Envase 1000 unidades",0.55000000000000004,1,{"$f":"SOLICITUD!F143","v":0},0,{"$f":"MIN(DiaCash!G143,DisOfic!G143,Lablink!G143,Lyreco!G143,Ocaña!G143,Taine!G143,Vistalegre!G143)","v":0},0]
[138,"Grapas Cobreadas o Galvanizadas 23/8 o equivalente (Petrus)","Envase 1000 unidades",0.8,1,{"$f":"SOLICITUD!F144","v":0},0,{"$f":"MIN(DiaCash!G144,DisOfic!G144,Lablink!G144,Lyreco!G144,Ocaña!G144,Taine!G144,Vistalegre!G144)","v":0},0]
[139,"Grapas Cobreadas o Galvanizadas 23/10 o equivalente","Envase 1000 unidades",0.52500000000000002,1,{"$f":"SOLICITUD!F145","v":0},0,{"$f":"MIN(DiaCash!G145,DisOfic!G145,Lablink!G145,Lyreco!G145,Ocaña!G145,Taine!G145,Vistalegre!G145)","v":0},0]
[140,"Grapas Cobreadas o Galvanizadas 23/10 o equivalente (Petrus)","Envase 1000 unidades",0.8,1,{"$f":"SOLICITUD!F146","v":0},0,{"$f":"MIN(DiaCash!G146,DisOfic!G146,Lablink!G146,Lyreco!G146,Ocaña!G146,Taine!G146,Vistalegre!G146)","v":0},0]
[141,"Grapas Cobreadas o Galvanizadas 23/12 o equivalente","Envase 1000 unidades",1.04,1,{"$f":"SOLICITUD!F147","v":0},0,{"$f":"MIN(DiaCash!G147,DisOfic!G147,Lablink!G147,Lyreco!G147,Ocaña!G147,Taine!G147,Vistalegre!G147)","v":0},0]
[142,"Grapas Cobreadas o Galvanizadas 23/12 o equivalente (Petrus)","Envase 1000 unidades",2,1,{"$f":"SOLICITUD!F148","v":0},0,{"$f":"MIN(DiaCash!G148,DisOfic!G148,Lablink!G148,Lyreco!G148,Ocaña!G148,Taine!G148,Vistalegre!G148)","v":0},0]
[143,"Grapas Cobreadas o Galvanizadas 23/13 o equivalente","Envase 1000 unidades",1.21,1,{"$f":"SOLICITUD!F149","v":0},0,{"$f":"MIN(DiaCash!G149,DisOfic!G149,Lablink!G149,Lyreco!G149,Ocaña!G149,Taine!G149,Vistalegre!G149)","v":0},0]
[144,"Grapas Cobreadas o Galvanizadas 23/13 o equivalente (Petrus)","Envase 1000 unidades",1.37,1,{"$f":"SOLICITUD!F150","v":0},0,{"$f":"MIN(DiaCash!G150,DisOfic!G150,Lablink!G150,Lyreco!G150,Ocaña!G150,Taine!G150,Vistalegre!G150)","v":0},0]
[145,"Grapas Cobreadas o Galvanizadas 23/15 o equivalente","Envase 1000 unidades",1.1299999999999999,1,{"$f":"SOLICITUD!F151","v":0},0,{"$f":"MIN(DiaCash!G151,DisOfic!G151,Lablink!G151,Lyreco!G151,Ocaña!G151,Taine!G151,Vistalegre!G151)","v":0},0]
[146,"Grapas Cobreadas o Galvanizadas 23/15 o equivalente (Petrus)","Envase 1000 unidades",1.58,1,{"$f":"SOLICITUD!F152","v":0},0,{"$f":"MIN(DiaCash!G152,DisOfic!G152,Lablink!G152,Lyreco!G152,Ocaña!G152,Taine!G152,Vistalegre!G152)","v":0},0]
[147,"Grapas Cobreadas o Galvanizadas 23/17 o equivalente","Envase 1000 unidades",1.8,1,{"$f":"SOLICITUD!F153","v":0},0,{"$f":"MIN(DiaCash!G153,DisOfic!G153,Lablink!G153,Lyreco!G153,Ocaña!G153,Taine!G153,Vistalegre!G153)","v":0},0]
[148,"Grapas Cobreadas o Galvanizadas 23/17 o equivalente (Petrus)","Envase 1000 unidades",1.8,1,{"$f":"SOLICITUD!F154","v":0},0,{"$f":"MIN(DiaCash!G154,DisOfic!G154,Lablink!G154,Lyreco!G154,Ocaña!G154,Taine!G154,Vistalegre!G154)","v":0},0]
[149,"Grapas Cobreadas o Galvanizadas 23/20 o equivalente","Envase 1000 unidades",2.04,1,{"$f":"SOLICITUD!F155","v":0},0,{"$f":"MIN(DiaCash!G155,DisOfic!G155,Lablink!G155,Lyreco!G155,Ocaña!G155,Taine!G155,Vistalegre!G155)","v":0},0]
[150,"Grapas Cobreadas o Galvanizadas 23/20 o equivalente (Petrus)","Envase 1000 unidades",2.04,1,{"$f":"SOLICITUD!F156","v":0},0,{"$f":"MIN(DiaCash!G156,DisOfic!G156,Lablink!G156,Lyreco!G156,Ocaña!G156,Taine!G156,Vistalegre!G156)","v":0},0]
[151,"Grapas Cobreadas o Galvanizadas 23/24 o equivalente","Envase 1000 unidades",2.52,1,{"$f":"SOLICITUD!F157","v":0},0,{"$f":"MIN(DiaCash!G157,DisOfic!G157,Lablink!G157,Lyreco!G157,Ocaña!G157,Taine!G157,Vistalegre!G157)","v":0},0]
[152,"Grapas Cobreadas o Galvanizadas 23/24 o equivalente (Petrus)","Envase 1000 unidades",2.52,1,{"$f":"SOLICITUD!F158","v":0},0,{"$f":"MIN(DiaCash!G158,DisOfic!G158,Lablink!G158,Lyreco!G158,Ocaña!G158,Taine!G158,Vistalegre!G158)","v":0},0]
[153,"Grapas Galvanizadas 26/6 o equivalente","Envase 1000 unidades",0.23,1,{"$f":"SOLICITUD!F159","v":0},0,{"$f":"MIN(DiaCash!G159,DisOfic!G159,Lablink!G159,Lyreco!G159,Ocaña!G159,Taine!G159,Vistalegre!G159)","v":0},0]
[154,"Grapas Galvanizadas 26/6 o equivalente (Petrus)","Envase 1000 unidades",0.56000000000000005,1,{"$f":"SOLICITUD!F160","v":0},0,{"$f":"MIN(DiaCash!G160,DisOfic!G160,Lablink!G160,Lyreco!G160,Ocaña!G160,Taine!G160,Vistalegre!G160)","v":0},0]
[155,"Grapas Galvanizadas 26/8 o equivalente","Envase 5000 unidades",2.36,1,{"$f":"SOLICITUD!F161","v":0},0,{"$f":"MIN(DiaCash!G161,DisOfic!G161,Lablink!G161,Lyreco!G161,Ocaña!G161,Taine!G161,Vistalegre!G161)","v":0},0]
[156,"Grapas Galvanizadas 26/8 o equivalente (Petrus)","Envase 5000 unidades",2.36,1,{"$f":"SOLICITUD!F162","v":0},0,{"$f":"MIN(DiaCash!G162,DisOfic!G162,Lablink!G162,Lyreco!G162,Ocaña!G162,Taine!G162,Vistalegre!G162)","v":0},0]
[157,"Quita Grapas tipo pinza cuerpo metálico","Unidad",0.28000000000000003,1,{"$f":"SOLICITUD!F163","v":0},0,{"$f":"MIN(DiaCash!G163,DisOfic!G163,Lablink!G163,Lyreco!G163,Ocaña!G163,Taine!G163,Vistalegre!G163)","v":0},0]
[158,"Quita Grapas tipo pinza cuerpo metálico (Petrus, Novus)","Unidad",1.79,1,{"$f":"SOLICITUD!F164","v":0},0,{"$f":"MIN(DiaCash!G164,DisOfic!G164,Lablink!G164,Lyreco!G164,Ocaña!G164,Taine!G164,Vistalegre!G164)","v":0},0]
[159,"Perforadora  para papel 4 punzones. Capacidad Minima 30 hojas de 80gr/m2. Guia de posicicionamiento y deposito desperdicios. Distancia entre taladros 80mm","Unidad",2.11,1,{"$f":"SOLICITUD!F165","v":0},0,{"$f":"MIN(DiaCash!G165,DisOfic!G165,Lablink!G165,Lyreco!G165,Ocaña!G165,Taine!G165,Vistalegre!G165)","v":0},0]
[160,"Perforadora  para papel 4 punzones. Capacidad Minima 30 hojas de 80gr/m2. Guia de posicicionamiento y deposito desperdicios. Distancia entre taladros 80mm (Petrus)","Unidad",39.29,1,{"$f":"SOLICITUD!F166","v":0},0,{"$f":"MIN(DiaCash!G166,DisOfic!G166,Lablink!G166,Lyreco!G166,Ocaña!G166,Taine!G166,Vistalegre!G166)","v":0},0]
[161,"Perforadora  para papel 2 Punzones. Capacidad mínima 20 hojas de 80gr/m2. Guia de posicicionamiento y deposito desperdicios. Distancia entre taladros 80mm ","Unidad",2.89,1,{"$f":"SOLICITUD!F167","v":0},0,{"$f":"MIN(DiaCash!G167,DisOfic!G167,Lablink!G167,Lyreco!G167,Ocaña!G167,Taine!G167,Vistalegre!G167)","v":0},0]
[162,"Perforadora  para papel 2 Punzones. Capacidad mínima 20 hojas de 80gr/m2. Guia de posicicionamiento y deposito desperdicios. Distancia entre taladros 80mm (Petrus)","Unidad",7.99,1,{"$f":"SOLICITUD!F168","v":0},0,{"$f":"MIN(DiaCash!G168,DisOfic!G168,Lablink!G168,Lyreco!G168,Ocaña!G168,Taine!G168,Vistalegre!G168)","v":0},0]
[163,"Perforadora  para papel 2 Punzones. Capacidad mínima 60 hojas de 80gr/m2. Guia de Posicicionamiento y deposito desperdicios. Distancia entre taladros 80mm","Unidad",13.15,1,{"$f":"SOLICITUD!F169","v":0},0,{"$f":"MIN(DiaCash!G169,DisOfic!G169,Lablink!G169,Lyreco!G169,Ocaña!G169,Taine!G169,Vistalegre!G169)","v":0},0]
[164,"Perforadora  para papel 2 Punzones. Capacidad mínima 60 hojas de 80gr/m2. Guia de Posicicionamiento y deposito desperdicios. Distancia entre taladros 80mm (Petrus)","Unidad",13.15,1,{"$f":"SOLICITUD!F170","v":0},0,{"$f":"MIN(DiaCash!G170,DisOfic!G170,Lablink!G170,Lyreco!G170,Ocaña!G170,Taine!G170,Vistalegre!G170)","v":0},0]
[165,"Papelera metálica rejilla cuadrada o redonda. Mínimo:  30cm altura X 25cm diámetro","Unidad",2.8,1,{"$f":"SOLICITUD!F171","v":0},0,{"$f":"MIN(DiaCash!G171,DisOfic!G171,Lablink!G171,Lyreco!G171,Ocaña!G171,Taine!G171,Vistalegre!G171)","v":0},0]
[166,"Fechador de entintaje automático. Con placa de texto altura mínima de impresión de 4 mm.","Unidad",20.37,1,{"$f":"SOLICITUD!F172","v":0},0,{"$f":"MIN(DiaCash!G172,DisOfic!G172,Lablink!G172,Lyreco!G172,Ocaña!G172,Taine!G172,Vistalegre!G172)","v":0},0]
[167,"Numerador automático de 6 dígitos con armazón metálico y ruedas. Altura de impresión mínima de 4, 5 mm.","Unidad",33.590000000000003,1,{"$f":"SOLICITUD!F173","v":0},0,{"$f":"MIN(DiaCash!G173,DisOfic!G173,Lablink!G173,Lyreco!G173,Ocaña!G173,Taine!G173,Vistalegre!G173)","v":0},0]
[168,"Sello de caucho circular grabado. Tamaño área para texto de hasta 50 mm  de diámetro.","Unidad",10.199999999999999,1,{"$f":"SOLICITUD!F174","v":0},0,{"$f":"MIN(DiaCash!G174,DisOfic!G174,Lablink!G174,Lyreco!G174,Ocaña!G174,Taine!G174,Vistalegre!G174)","v":0},0]
[169,"Sello de caucho rectangular grabado. Tamaño área para texto de hasta 50x50 mm.","Unidad",7.2,1,{"$f":"SOLICITUD!F175","v":0},0,{"$f":"MIN(DiaCash!G175,DisOfic!G175,Lablink!G175,Lyreco!G175,Ocaña!G175,Taine!G175,Vistalegre!G175)","v":0},0]
[170,"Sello de caucho rectangular grabado. Tamaño área para texto de hasta 80x80 mm.","Unidad",13.2,1,{"$f":"SOLICITUD!F176","v":0},0,{"$f":"MIN(DiaCash!G176,DisOfic!G176,Lablink!G176,Lyreco!G176,Ocaña!G176,Taine!G176,Vistalegre!G176)","v":0},0]
[171,"Sello de Caucho Autoentintado Rectangular hasta 45X18 mm ","Unidad",11.7,1,{"$f":"SOLICITUD!F177","v":0},0,{"$f":"MIN(DiaCash!G177,DisOfic!G177,Lablink!G177,Lyreco!G177,Ocaña!G177,Taine!G177,Vistalegre!G177)","v":0},0]
[172,"Sello de Caucho Autoentintado Rectangular de 46X19 hasta 70X30 mm","Unidad",18,1,{"$f":"SOLICITUD!F178","v":0},0,{"$f":"MIN(DiaCash!G178,DisOfic!G178,Lablink!G178,Lyreco!G178,Ocaña!G178,Taine!G178,Vistalegre!G178)","v":0},0]
[173,"Sello de Caucho Autoentintado Redondo hasta 30 mm","Unidad",20,1,{"$f":"SOLICITUD!F179","v":0},0,{"$f":"MIN(DiaCash!G179,DisOfic!G179,Lablink!G179,Lyreco!G179,Ocaña!G179,Taine!G179,Vistalegre!G179)","v":0},0]
[174,"Sello de Caucho Autoentintado Redondo de 31 a 50 mm","Unidad",25,1,{"$f":"SOLICITUD!F180","v":0},0,{"$f":"MIN(DiaCash!G180,DisOfic!G180,Lablink!G180,Lyreco!G180,Ocaña!G180,Taine!G180,Vistalegre!G180)","v":0},0]
[175,"Sello de Caucho Autoentintado Cuadrado hasta 30 mm","Unidad",16,1,{"$f":"SOLICITUD!F181","v":0},0,{"$f":"MIN(DiaCash!G181,DisOfic!G181,Lablink!G181,Lyreco!G181,Ocaña!G181,Taine!G181,Vistalegre!G181)","v":0},0]
[176,"Sello de Caucho Autoentintado Cuadrado de 31 a 50 mm","Unidad",18,1,{"$f":"SOLICITUD!F182","v":0},0,{"$f":"MIN(DiaCash!G182,DisOfic!G182,Lablink!G182,Lyreco!G182,Ocaña!G182,Taine!G182,Vistalegre!G182)","v":0},0]
[177,"Tampón para sellos.N1, 90 X160 mm.","Unidad",2.82,1,{"$f":"SOLICITUD!F183","v":0},0,{"$f":"MIN(DiaCash!G183,DisOfic!G183,Lablink!G183,Lyreco!G183,Ocaña!G183,Taine!G183,Vistalegre!G183)","v":0},0]
[178,"Tampón para sellos.N2, 70 X110 mm.","Unidad",0.68,1,{"$f":"SOLICITUD!F184","v":0},0,{"$f":"MIN(DiaCash!G184,DisOfic!G184,Lablink!G184,Lyreco!G184,Ocaña!G184,Taine!G184,Vistalegre!G184)","v":0},0]
[179,"Tinta de sellar para tampón.(30 ML)","Unidad",0.25,1,{"$f":"SOLICITUD!F185","v":0},0,{"$f":"MIN(DiaCash!G185,DisOfic!G185,Lablink!G185,Lyreco!G185,Ocaña!G185,Taine!G185,Vistalegre!G185)","v":0},0]
[180,"Almohadilla para sello autoentintado. Hasta 30X50 mm","Unidad",1.1000000000000001,1,{"$f":"SOLICITUD!F186","v":0},0,{"$f":"MIN(DiaCash!G186,DisOfic!G186,Lablink!G186,Lyreco!G186,Ocaña!G186,Taine!G186,Vistalegre!G186)","v":0},0]
[181,"Almohadilla para sello autoentintado. Hasta 70X30 mm","Unidad",2,1,{"$f":"SOLICITUD!F187","v":0},0,{"$f":"MIN(DiaCash!G187,DisOfic!G187,Lablink!G187,Lyreco!G187,Ocaña!G187,Taine!G187,Vistalegre!G187)","v":0},0]
[182,"Portasellos de sobremesa 6 plazas","Unidad",2.98,1,{"$f":"SOLICITUD!F188","v":0},0,{"$f":"MIN(DiaCash!G188,DisOfic!G188,Lablink!G188,Lyreco!G188,Ocaña!G188,Taine!G188,Vistalegre!G188)","v":0},0]
[183,"Portasellos de sobremesa 8 plazas","Unidad",2.0299999999999998,1,{"$f":"SOLICITUD!F189","v":0},0,{"$f":"MIN(DiaCash!G189,DisOfic!G189,Lablink!G189,Lyreco!G189,Ocaña!G189,Taine!G189,Vistalegre!G189)","v":0},0]
[184,"Portasellos de sobremesa 10 plazas","Unidad",2.0299999999999998,1,{"$f":"SOLICITUD!F190","v":0},0,{"$f":"MIN(DiaCash!G190,DisOfic!G190,Lablink!G190,Lyreco!G190,Ocaña!G190,Taine!G190,Vistalegre!G190)","v":0},0]
[185,"Archivador de palanca a-z sin caja. Cartón forrado en plástico . Con cantonera metálica. Dos anillas. Lomo de  75 mm. Tamaño A4.","Unidad",0.88,1,{"$f":"SOLICITUD!F191","v":0},0,{"$f":"MIN(DiaCash!G191,DisOfic!G191,Lablink!G191,Lyreco!G191,Ocaña!G191,Taine!G191,Vistalegre!G191)","v":0},0]
[186,"Archivador de palanca a-z sin caja. Cartón forrado en plástico . Con cantonera metálica. Dos anillas. Lomo de  75 mm. Tamaño folio.","Unidad",0.88,1,{"$f":"SOLICITUD!F192","v":0},0,{"$f":"MIN(DiaCash!G192,DisOfic!G192,Lablink!G192,Lyreco!G192,Ocaña!G192,Taine!G192,Vistalegre!G192)","v":0},0]
[187,"Archivador de palanca a-z sin caja.Cartón jaspeado. Con cantonera metálica. Dos anillas. Lomo de  75 mm. Tamaño A4.","Unidad",0.74,1,{"$f":"SOLICITUD!F193","v":0},0,{"$f":"MIN(DiaCash!G193,DisOfic!G193,Lablink!G193,Lyreco!G193,Ocaña!G193,Taine!G193,Vistalegre!G193)","v":0},0]
[188,"Archivador de palanca a-z sin caja.Cartón jaspeado. Con cantonera metálica. Dos anillas. Lomo de  75 mm. Tamaño folio.","Unidad",0.74,1,{"$f":"SOLICITUD!F194","v":0},0,{"$f":"MIN(DiaCash!G194,DisOfic!G194,Lablink!G194,Lyreco!G194,Ocaña!G194,Taine!G194,Vistalegre!G194)","v":0},0]
[189,"Caja de cartón color blanco para archivo definitivo. Tamaño folio  Lomo 100 mm aprox.","Unidad",0.21,1,{"$f":"SOLICITUD!F195","v":0},0,{"$f":"MIN(DiaCash!G195,DisOfic!G195,Lablink!G195,Lyreco!G195,Ocaña!G195,Taine!G195,Vistalegre!G195)","v":0},0]
[190,"Caja de cartón color blanco para archivo definitivo. Tamaño folio prolongado Lomo 115 mm aprox.","Unidad",0.26,1,{"$f":"SOLICITUD!F196","v":0},0,{"$f":"MIN(DiaCash!G196,DisOfic!G196,Lablink!G196,Lyreco!G196,Ocaña!G196,Taine!G196,Vistalegre!G196)","v":0},0]
[191,"Caja de cartón color blanco para archivo definitivo. Tamaño folio prolongado. Lomo 100 mm aprox.","Unidad",0.26,1,{"$f":"SOLICITUD!F197","v":0},0,{"$f":"MIN(DiaCash!G197,DisOfic!G197,Lablink!G197,Lyreco!G197,Ocaña!G197,Taine!G197,Vistalegre!G197)","v":0},0]
[192,"Caja para archivador de palanca a-z. Misma calidad y dimensiones compatibles con el archivador de palanca a-z. Tamaño A4. Lomo de  75 mm.","Unidad",0.25,1,{"$f":"SOLICITUD!F198","v":0},0,{"$f":"MIN(DiaCash!G198,DisOfic!G198,Lablink!G198,Lyreco!G198,Ocaña!G198,Taine!G198,Vistalegre!G198)","v":0},0]
[193,"Caja para archivador de palanca a-z. Misma calidad y dimensiones compatibles con el archivador de palanca a-z. Tamaño folio. Lomo de  75 mm.","Unidad",0.25,1,{"$f":"SOLICITUD!F199","v":0},0,{"$f":"MIN(DiaCash!G199,DisOfic!G199,Lablink!G199,Lyreco!G199,Ocaña!G199,Taine!G199,Vistalegre!G199)","v":0},0]
[194,"Archivador de 2 anillas 25 mm. Fabricado en cartón forrado en plástico tanto en el exterior como en el interior. Dos anillas. Lomo de 40 mm. Tamaño A4.","Unidad",2,1,{"$f":"SOLICITUD!F200","v":0},{"$f":"IF(F200>0,IF(E200=\"Excluido\",\"Excluido1\",IF(F200>0,IF(F200<E200,\"Excluido2\",D200*F200),0)),0)","v":0},{"$f":"MIN(DiaCash!G200,DisOfic!G200,Lablink!G200,Lyreco!G200,Ocaña!G200,Taine!G200,Vistalegre!G200)","v":0},{"$f":"IF(G200<=H200,G200,0)","v":0}]
[195,"Archivador de 2 anillas 25 mm. Fabricado en cartón forrado en plástico tanto en el exterior como en el interior. Dos anillas. Lomo de 40 mm. Tamaño folio.","Unidad",2.2000000000000002,1,{"$f":"SOLICITUD!F201","v":0},0,{"$f":"MIN(DiaCash!G201,DisOfic!G201,Lablink!G201,Lyreco!G201,Ocaña!G201,Taine!G201,Vistalegre!G201)","v":0},0]
[196,"Archivador de 4 anillas 25 mm. Fabricado en cartón forrado en plástico tanto en el exterior como en el interior. Lomo de 40 mm. Tamaño A4.","Unidad",2,1,{"$f":"SOLICITUD!F202","v":0},0,{"$f":"MIN(DiaCash!G202,DisOfic!G202,Lablink!G202,Lyreco!G202,Ocaña!G202,Taine!G202,Vistalegre!G202)","v":0},0]
[197,"Archivador de 4 anillas 25 mm. Fabricado en cartón forrado en plástico tanto en el exterior como en el interior. Lomo de 40 mm. Tamaño folio.","Unidad",2.2000000000000002,1,{"$f":"SOLICITUD!F203","v":0},0,{"$f":"MIN(DiaCash!G203,DisOfic!G203,Lablink!G203,Lyreco!G203,Ocaña!G203,Taine!G203,Vistalegre!G203)","v":0},0]
[198,"Archivador de 4 anillas 40 mm. Fabricado en cartón forrado en plástico tanto en el exterior como en el interior. Lomo de 60 mm. Tamaño A4.","Unidad",2.2000000000000002,1,{"$f":"SOLICITUD!F204","v":0},0,{"$f":"MIN(DiaCash!G204,DisOfic!G204,Lablink!G204,Lyreco!G204,Ocaña!G204,Taine!G204,Vistalegre!G204)","v":0},0]
[199,"Archivador de 4 anillas 40 mm. Fabricado en cartón forrado en plástico tanto en el exterior como en el interior. Lomo de 60 mm. Tamaño folio.","Unidad",2.4,1,{"$f":"SOLICITUD!F205","v":0},0,{"$f":"MIN(DiaCash!G205,DisOfic!G205,Lablink!G205,Lyreco!G205,Ocaña!G205,Taine!G205,Vistalegre!G205)","v":0},0]
[200,"Separadores de plástico tamaño folio 5 pestañas 2 o 4 perforaciones","Unidad",0.27,1,{"$f":"SOLICITUD!F206","v":0},0,{"$f":"MIN(DiaCash!G206,DisOfic!G206,Lablink!G206,Lyreco!G206,Ocaña!G206,Taine!G206,Vistalegre!G206)","v":0},0]
[201,"Carpeta clasificadora forrada, con fuelle-acordeón. Índice alfabético (a-z) o numérico (1-31) . Tamaño folio. 12 departamentos mínimo.","Unidad",3.75,1,{"$f":"SOLICITUD!F207","v":0},0,{"$f":"MIN(DiaCash!G207,DisOfic!G207,Lablink!G207,Lyreco!G207,Ocaña!G207,Taine!G207,Vistalegre!G207)","v":0},0]
[202,"Carpeta clasificadora forrada, con fuelle-acordeón. Índice alfabético (a-z) o numérico (1-31) . Tamaño folio. 20 departamentos mínimo.","Unidad",5.24,1,{"$f":"SOLICITUD!F208","v":0},0,{"$f":"MIN(DiaCash!G208,DisOfic!G208,Lablink!G208,Lyreco!G208,Ocaña!G208,Taine!G208,Vistalegre!G208)","v":0},0]
[203,"Carpeta colgante de armario  . Tamaño A4.  Visor vertical o lateral rígido 13 cm. Varilla de plástico o metálica. Medida entre ejes 330 mm.  Cartón de 230 gr/m2 mínimo.  Lomo en 15 mm .","Unidad",0.59,1,{"$f":"SOLICITUD!F209","v":0},0,{"$f":"MIN(DiaCash!G209,DisOfic!G209,Lablink!G209,Lyreco!G209,Ocaña!G209,Taine!G209,Vistalegre!G209)","v":0},0]
[204,"Carpeta colgante de armario  . Tamaño A4. Visor vertical o lateral rígido 13 cm. Varilla de plástico o metálica.  Medida entre ejes 330 mm . Cartón de 230gr/m2 mínimo. Lomo en 30mm.","Unidad",0.59,1,{"$f":"SOLICITUD!F210","v":0},0,{"$f":"MIN(DiaCash!G210,DisOfic!G210,Lablink!G210,Lyreco!G210,Ocaña!G210,Taine!G210,Vistalegre!G210)","v":0},0]
[205,"Carpeta colgante de armario  . Tamaño A4.  Visor vertical o lateral rígido 13 cm. Varilla de plástico o metálica. Medida entre ejes 330 mm . Cartón de 230 gr/m2 mínimo. Lomo en v.","Unidad",0.32,1,{"$f":"SOLICITUD!F211","v":0},0,{"$f":"MIN(DiaCash!G211,DisOfic!G211,Lablink!G211,Lyreco!G211,Ocaña!G211,Taine!G211,Vistalegre!G211)","v":0},0]
[206,"Carpeta colgante de armario  . Tamaño folio. Visor vertical o lateral rígido de 13 cm. Medida entre ejes 365 mm.  Cartón de 230gr/m2 mínimo. Lomo en v.","Unidad",0.3,1,{"$f":"SOLICITUD!F212","v":0},0,{"$f":"MIN(DiaCash!G212,DisOfic!G212,Lablink!G212,Lyreco!G212,Ocaña!G212,Taine!G212,Vistalegre!G212)","v":0},0]
[207,"Carpeta colgante de cajón . Tamaño A4. Visor horizontal o superior .Varilla de plástico o metálica. Medida entre ejes 330 mm. Cartón kraft de 230gr/m2 mínimo.Lomo 15 mm ","Unidad",0.45,1,{"$f":"SOLICITUD!F213","v":0},0,{"$f":"MIN(DiaCash!G213,DisOfic!G213,Lablink!G213,Lyreco!G213,Ocaña!G213,Taine!G213,Vistalegre!G213)","v":0},0]
[208,"Carpeta colgante de cajón . Tamaño folio. Visor horizontal o superior .Varilla de plástico o metálica. Medida entre ejes 365 mm.  Cartón de 230gr/m2 mínimo. Lomo 15 mm","Unidad",0.67,1,{"$f":"SOLICITUD!F214","v":0},0,{"$f":"MIN(DiaCash!G214,DisOfic!G214,Lablink!G214,Lyreco!G214,Ocaña!G214,Taine!G214,Vistalegre!G214)","v":0},0]
[209,"Carpeta colgante de cajón . Tamaño folio. Visor horizontal o superior .Varilla de plástico o metálica. Medida entre ejes 365 mm. Cartón de 230gr/m2 mínimo. Lomo en 30 mm","Unidad",0.5,1,{"$f":"SOLICITUD!F215","v":0},0,{"$f":"MIN(DiaCash!G215,DisOfic!G215,Lablink!G215,Lyreco!G215,Ocaña!G215,Taine!G215,Vistalegre!G215)","v":0},0]
[210,"Carpeta colgante de cajón . Tamaño A4.Visor horizontal o superior .Varilla de plástico o metálica. Medida entre ejes 330 mm. Cartón kraft de 230gr/m2 mínimo. Lomo en v.","Unidad",0.28999999999999998,1,{"$f":"SOLICITUD!F216","v":0},0,{"$f":"MIN(DiaCash!G216,DisOfic!G216,Lablink!G216,Lyreco!G216,Ocaña!G216,Taine!G216,Vistalegre!G216)","v":0},0]
[211,"Carpeta colgante de cajón . Tamaño folio prolongado. Visor horizontal o superior. Varilla de plástico o metálica.  Medida entre ejes 390 mm. Cartón kraft de 230gr/m2 mínimo. Lomo en v.","Unidad",0.32,1,{"$f":"SOLICITUD!F217","v":0},0,{"$f":"MIN(DiaCash!G217,DisOfic!G217,Lablink!G217,Lyreco!G217,Ocaña!G217,Taine!G217,Vistalegre!G217)","v":0},0]
[212,"Carpeta de cartulina con gomas y 3 solapas. Gramaje de 380 gr/m2 mínimo Medidas 320 x 240 mm aprox.","Unidad",0.36,1,{"$f":"SOLICITUD!F218","v":0},0,{"$f":"MIN(DiaCash!G218,DisOfic!G218,Lablink!G218,Lyreco!G218,Ocaña!G218,Taine!G218,Vistalegre!G218)","v":0},0]
[213,"Carpeta proyectos. Cartón gomas montadas. Lomo 50 mm.","Unidad",1.39,1,{"$f":"SOLICITUD!F219","v":0},0,{"$f":"MIN(DiaCash!G219,DisOfic!G219,Lablink!G219,Lyreco!G219,Ocaña!G219,Taine!G219,Vistalegre!G219)","v":0},0]
[214,"Carpeta proyectos. Cartón gomas montadas. Lomo 90 mm.","Unidad",1.54,1,{"$f":"SOLICITUD!F220","v":0},0,{"$f":"MIN(DiaCash!G220,DisOfic!G220,Lablink!G220,Lyreco!G220,Ocaña!G220,Taine!G220,Vistalegre!G220)","v":0},0]
[215,"Carpetas de fundas. Cubiertas en plástico semirrígido opaco. Fundas interiores soldadas al lomo. Número de fundas interiores: 10.","Unidad",0.89,1,{"$f":"SOLICITUD!F221","v":0},0,{"$f":"MIN(DiaCash!G221,DisOfic!G221,Lablink!G221,Lyreco!G221,Ocaña!G221,Taine!G221,Vistalegre!G221)","v":0},0]
[216,"Carpetas de fundas. Cubiertas en plástico semirrígido opaco. Fundas interiores soldadas al lomo. Número de fundas interiores: 20.","Unidad",1.27,1,{"$f":"SOLICITUD!F222","v":0},0,{"$f":"MIN(DiaCash!G222,DisOfic!G222,Lablink!G222,Lyreco!G222,Ocaña!G222,Taine!G222,Vistalegre!G222)","v":0},0]
[217,"Carpetas de fundas. Cubiertas en plástico semirrígido opaco. Fundas interiores soldadas al lomo. Número de fundas interiores: 30.","Unidad",1.67,1,{"$f":"SOLICITUD!F223","v":0},0,{"$f":"MIN(DiaCash!G223,DisOfic!G223,Lablink!G223,Lyreco!G223,Ocaña!G223,Taine!G223,Vistalegre!G223)","v":0},0]
[218,"Carpetas de fundas. Cubiertas en plástico semirrígido opaco. Fundas interiores soldadas al lomo. Número de fundas interiores: 40.","Unidad",2.0299999999999998,1,{"$f":"SOLICITUD!F224","v":0},0,{"$f":"MIN(DiaCash!G224,DisOfic!G224,Lablink!G224,Lyreco!G224,Ocaña!G224,Taine!G224,Vistalegre!G224)","v":0},0]
[219,"Carpetas de fundas. Cubiertas en plástico semirrígido opaco. Fundas interiores soldadas al lomo. Número de fundas interiores: 60.","Unidad",2.41,1,{"$f":"SOLICITUD!F225","v":0},0,{"$f":"MIN(DiaCash!G225,DisOfic!G225,Lablink!G225,Lyreco!G225,Ocaña!G225,Taine!G225,Vistalegre!G225)","v":0},0]
[220,"Índice plástico varios colores. Juego de solapas tipo 1 a 10 de plástico mínimo de 120 micras . Tamaño  A4 o superior.","Unidad",0.57999999999999996,1,{"$f":"SOLICITUD!F226","v":0},0,{"$f":"MIN(DiaCash!G226,DisOfic!G226,Lablink!G226,Lyreco!G226,Ocaña!G226,Taine!G226,Vistalegre!G226)","v":0},0]
[221,"Índice plástico varios colores. Juego de solapas tipo A a Z de plástico espesor mínimo de 120 micras . Tamaño  A4 o superior.","Unidad",0.99,1,{"$f":"SOLICITUD!F227","v":0},0,{"$f":"MIN(DiaCash!G227,DisOfic!G227,Lablink!G227,Lyreco!G227,Ocaña!G227,Taine!G227,Vistalegre!G227)","v":0},0]
[222,"Subcarpeta cartulina. Gramaje 170 gr/m2 mínimo. Tamaño A4.","Unidad",0.05,1,{"$f":"SOLICITUD!F228","v":0},0,{"$f":"MIN(DiaCash!G228,DisOfic!G228,Lablink!G228,Lyreco!G228,Ocaña!G228,Taine!G228,Vistalegre!G228)","v":0},0]
[223,"Subcarpeta cartulina. Gramaje 170 gr/m2 mínimo. Tamaño folio.","Unidad",0.05,1,{"$f":"SOLICITUD!F229","v":0},0,{"$f":"MIN(DiaCash!G229,DisOfic!G229,Lablink!G229,Lyreco!G229,Ocaña!G229,Taine!G229,Vistalegre!G229)","v":0},0]
[224,"Subcarpeta cartulina. Gramaje 210 gr/m2 mínimo. Tamaño A4.","Unidad",0.11,1,{"$f":"SOLICITUD!F230","v":0},0,{"$f":"MIN(DiaCash!G230,DisOfic!G230,Lablink!G230,Lyreco!G230,Ocaña!G230,Taine!G230,Vistalegre!G230)","v":0},0]
[225,"Subcarpeta cartulina. Gramaje 210 gr/m2 mínimo. Tamaño folio.","Unidad",0.1,1,{"$f":"SOLICITUD!F231","v":0},0,{"$f":"MIN(DiaCash!G231,DisOfic!G231,Lablink!G231,Lyreco!G231,Ocaña!G231,Taine!G231,Vistalegre!G231)","v":0},0]
[226,"Tubo portaplanos de plástico","Unidad",0.14000000000000001,1,{"$f":"SOLICITUD!F232","v":0},0,{"$f":"MIN(DiaCash!G232,DisOfic!G232,Lablink!G232,Lyreco!G232,Ocaña!G232,Taine!G232,Vistalegre!G232)","v":0},0]
[227,"Visores plásticos (rígido o flexible con/sin efecto lupa, visión superior o lateral, con/sin etiquetas ).","Unidad",9.9000000000000005E-2,1,{"$f":"SOLICITUD!F233","v":0},0,{"$f":"MIN(DiaCash!G233,DisOfic!G233,Lablink!G233,Lyreco!G233,Ocaña!G233,Taine!G233,Vistalegre!G233)","v":0},0]
[228,"Dossier con fastener. Portada transparente, contraportada opaca.  Fastener metálico. Tamaño A4.","Unidad",0.21,1,{"$f":"SOLICITUD!F234","v":0},0,{"$f":"MIN(DiaCash!G234,DisOfic!G234,Lablink!G234,Lyreco!G234,Ocaña!G234,Taine!G234,Vistalegre!G234)","v":0},0]
[229,"Dossier con fastener. Portada transparente, contraportada opaca.  Fastener metálico. Tamaño folio.","Unidad",0.34,1,{"$f":"SOLICITUD!F235","v":0},0,{"$f":"MIN(DiaCash!G235,DisOfic!G235,Lablink!G235,Lyreco!G235,Ocaña!G235,Taine!G235,Vistalegre!G235)","v":0},0]
[230,"Dossier uñero en plástico. Apertura superior y lateral. Tamaño folio","Envase 100 unidades",5,1,{"$f":"SOLICITUD!F236","v":0},0,{"$f":"MIN(DiaCash!G236,DisOfic!G236,Lablink!G236,Lyreco!G236,Ocaña!G236,Taine!G236,Vistalegre!G236)","v":0},0]
[231,"Funda plástico transparente antiestática multitaladro. Tamaño A4. Grosor de 60 micras mínimo.","Envase 100 unidades",3,1,{"$f":"SOLICITUD!F237","v":0},0,{"$f":"MIN(DiaCash!G237,DisOfic!G237,Lablink!G237,Lyreco!G237,Ocaña!G237,Taine!G237,Vistalegre!G237)","v":0},0]
[232,"Funda plástico transparente antiestática multitaladro. Tamaño folio. Grosor de 60 micras mínimo.","Envase 100 unidades",3,1,{"$f":"SOLICITUD!F238","v":0},0,{"$f":"MIN(DiaCash!G238,DisOfic!G238,Lablink!G238,Lyreco!G238,Ocaña!G238,Taine!G238,Vistalegre!G238)","v":0},0]
[233,"Bolsas para plastificar tamaño A4. 80 micras mínimo","Envase 100 unidades",8,1,{"$f":"SOLICITUD!F239","v":0},0,{"$f":"MIN(DiaCash!G239,DisOfic!G239,Lablink!G239,Lyreco!G239,Ocaña!G239,Taine!G239,Vistalegre!G239)","v":0},0]
[234,"Portafirmas fabricado en plástico color negro, tapas acolchadas  con refuerzo en base y escalonados . Medidas 335 x 245 mm aprox. Con 18 departamentos mínimo de doble cartulina y lomo tipo fuelle.","Unidad",20,1,{"$f":"SOLICITUD!F240","v":0},0,{"$f":"MIN(DiaCash!G240,DisOfic!G240,Lablink!G240,Lyreco!G240,Ocaña!G240,Taine!G240,Vistalegre!G240)","v":0},0]
[235,"Bloc de notas. Liso o cuadrícula. De 80-90 hojas aprox. Gramaje 60 gr/m2 mínimo.Tamaño A4 o folio.","Unidad",0.61,1,{"$f":"SOLICITUD!F241","v":0},0,{"$f":"MIN(DiaCash!G241,DisOfic!G241,Lablink!G241,Lyreco!G241,Ocaña!G241,Taine!G241,Vistalegre!G241)","v":0},0]
[236,"Bloc de notas. Liso o cuadrícula. De 80-90 hojas aprox. Gramaje 60 gr/m2 mínimo.Tamaño A4 o folio. (Enri)","Unidad",1.1200000000000001,1,{"$f":"SOLICITUD!F242","v":0},0,{"$f":"MIN(DiaCash!G242,DisOfic!G242,Lablink!G242,Lyreco!G242,Ocaña!G242,Taine!G242,Vistalegre!G242)","v":0},0]
[237,"Bloc de notas. Liso o cuadrícula. De 80-90 hojas aprox. Gramaje 60 gr/m2 mínimo.Tamaño A5 o 4º.","Unidad",0.35,1,{"$f":"SOLICITUD!F243","v":0},0,{"$f":"MIN(DiaCash!G243,DisOfic!G243,Lablink!G243,Lyreco!G243,Ocaña!G243,Taine!G243,Vistalegre!G243)","v":0},0]
[238,"Bloc de notas. Liso o cuadrícula. De 80-90 hojas aprox. Gramaje 60 gr/m2 mínimo.Tamaño A5 o 4º. (Enri)","Unidad",0.9,1,{"$f":"SOLICITUD!F244","v":0},0,{"$f":"MIN(DiaCash!G244,DisOfic!G244,Lablink!G244,Lyreco!G244,Ocaña!G244,Taine!G244,Vistalegre!G244)","v":0},0]
[239,"Bloc de notas. Liso o cuadrícula. De 80-90 hojas aprox. Gramaje 60 gr/m2 mínimo.Tamaño A6 u 8º.","Unidad",0.44,1,{"$f":"SOLICITUD!F245","v":0},0,{"$f":"MIN(DiaCash!G245,DisOfic!G245,Lablink!G245,Lyreco!G245,Ocaña!G245,Taine!G245,Vistalegre!G245)","v":0},0]
[240,"Bloc de notas. Liso o cuadrícula. De 80-90 hojas aprox. Gramaje 60 gr/m2 mínimo.Tamaño A6 u 8º. (Enri)","Unidad",0.9,1,{"$f":"SOLICITUD!F246","v":0},0,{"$f":"MIN(DiaCash!G246,DisOfic!G246,Lablink!G246,Lyreco!G246,Ocaña!G246,Taine!G246,Vistalegre!G246)","v":0},0]
[241,"Bloc de papel liso, para caballete (pizarra de papel) 70 gr/m2 mínimo . Medidas 650 x 900 mm aprox, (mínimo 25 hojas por bloc aprox.).","Unidad",2.84,1,{"$f":"SOLICITUD!F247","v":0},0,{"$f":"MIN(DiaCash!G247,DisOfic!G247,Lablink!G247,Lyreco!G247,Ocaña!G247,Taine!G247,Vistalegre!G247)","v":0},0]
[242,"Bloc de papel liso, para caballete (pizarra de papel) 70 gr/m2 mínimo . Medidas 650 x 900 mm aprox, (mínimo 25 hojas por bloc aprox.). (Enri)","Unidad",3.19,1,{"$f":"SOLICITUD!F248","v":0},0,{"$f":"MIN(DiaCash!G248,DisOfic!G248,Lablink!G248,Lyreco!G248,Ocaña!G248,Taine!G248,Vistalegre!G248)","v":0},0]
[243,"Cuaderno espiral cubierta cartón duro. Liso o cuadrícula. De 80-90 hojas aprox. Gramaje 60 gr/m2 mínimo.Tamaño A4 o folio.","Unidad",0.81,1,{"$f":"SOLICITUD!F249","v":0},0,{"$f":"MIN(DiaCash!G249,DisOfic!G249,Lablink!G249,Lyreco!G249,Ocaña!G249,Taine!G249,Vistalegre!G249)","v":0},0]
[244,"Cuaderno espiral cubierta cartón duro. Liso o cuadrícula. De 80-90 hojas aprox. Gramaje 60 gr/m2 mínimo.Tamaño A4 o folio. (Enri)","Unidad",1.18,1,{"$f":"SOLICITUD!F250","v":0},0,{"$f":"MIN(DiaCash!G250,DisOfic!G250,Lablink!G250,Lyreco!G250,Ocaña!G250,Taine!G250,Vistalegre!G250)","v":0},0]
[245,"Cuaderno espiral cubierta cartón duro. Liso o cuadrícula. De 80-90 hojas aprox. Gramaje 60 gr/m2 mínimo. Tamaño A5 o 4º.","Unidad",0.51,1,{"$f":"SOLICITUD!F251","v":0},0,{"$f":"MIN(DiaCash!G251,DisOfic!G251,Lablink!G251,Lyreco!G251,Ocaña!G251,Taine!G251,Vistalegre!G251)","v":0},0]
[246,"Cuaderno espiral cubierta cartón duro. Liso o cuadrícula. De 80-90 hojas aprox. Gramaje 60 gr/m2 mínimo. Tamaño A5 o 4º. (Enri)","Unidad",1,1,{"$f":"SOLICITUD!F252","v":0},0,{"$f":"MIN(DiaCash!G252,DisOfic!G252,Lablink!G252,Lyreco!G252,Ocaña!G252,Taine!G252,Vistalegre!G252)","v":0},0]
[247,"Cuaderno espiral cubierta cartón duro. Liso o cuadrícula. De 80-90 hojas aprox. Gramaje 60 gr/m2 mínimo.Tamaño A6 u 8º.","Unidad",0.51,1,{"$f":"SOLICITUD!F253","v":0},0,{"$f":"MIN(DiaCash!G253,DisOfic!G253,Lablink!G253,Lyreco!G253,Ocaña!G253,Taine!G253,Vistalegre!G253)","v":0},0]
[248,"Cuaderno espiral cubierta cartón duro. Liso o cuadrícula. De 80-90 hojas aprox. Gramaje 60 gr/m2 mínimo.Tamaño A6 u 8º. (Enri)","Unidad",1,1,{"$f":"SOLICITUD!F254","v":0},0,{"$f":"MIN(DiaCash!G254,DisOfic!G254,Lablink!G254,Lyreco!G254,Ocaña!G254,Taine!G254,Vistalegre!G254)","v":0},0]
[249,"Cuaderno espiral cubierta plastificada. Liso o cuadrícula. De 80-90 hojas aprox. Gramaje 60 gr/m2 mínimo.Tamaño A4 o folio.","Unidad",0.95,1,{"$f":"SOLICITUD!F255","v":0},0,{"$f":"MIN(DiaCash!G255,DisOfic!G255,Lablink!G255,Lyreco!G255,Ocaña!G255,Taine!G255,Vistalegre!G255)","v":0},0]
[250,"Cuaderno espiral cubierta plastificada. Liso o cuadrícula. De 80-90 hojas aprox. Gramaje 60 gr/m2 mínimo.Tamaño A4 o folio. (Enri)","Unidad",1.5,1,{"$f":"SOLICITUD!F256","v":0},0,{"$f":"MIN(DiaCash!G256,DisOfic!G256,Lablink!G256,Lyreco!G256,Ocaña!G256,Taine!G256,Vistalegre!G256)","v":0},0]
[251,"Cuaderno espiral cubierta plastificada. Liso o cuadrícula. De 80-90 hojas aprox. Gramaje 60 gr/m2 mínimo.Tamaño A5 o 4º.","Unidad",0.8,1,{"$f":"SOLICITUD!F257","v":0},0,{"$f":"MIN(DiaCash!G257,DisOfic!G257,Lablink!G257,Lyreco!G257,Ocaña!G257,Taine!G257,Vistalegre!G257)","v":0},0]
[252,"Cuaderno espiral cubierta plastificada. Liso o cuadrícula. De 80-90 hojas aprox. Gramaje 60 gr/m2 mínimo.Tamaño A5 o 4º. (Enri)","Unidad",1,1,{"$f":"SOLICITUD!F258","v":0},0,{"$f":"MIN(DiaCash!G258,DisOfic!G258,Lablink!G258,Lyreco!G258,Ocaña!G258,Taine!G258,Vistalegre!G258)","v":0},0]
[253,"Cuaderno espiral cubierta plastificada. Liso o cuadrícula. De 80-90 hojas aprox. Gramaje 60 gr/m2 mínimo.Tamaño A6 u 8º.","Unidad",0.05,1,{"$f":"SOLICITUD!F259","v":0},0,{"$f":"MIN(DiaCash!G259,DisOfic!G259,Lablink!G259,Lyreco!G259,Ocaña!G259,Taine!G259,Vistalegre!G259)","v":0},0]
[254,"Cuaderno espiral cubierta plastificada. Liso o cuadrícula. De 80-90 hojas aprox. Gramaje 60 gr/m2 mínimo.Tamaño A6 u 8º. (Enri)","Unidad",0.7,1,{"$f":"SOLICITUD!F260","v":0},0,{"$f":"MIN(DiaCash!G260,DisOfic!G260,Lablink!G260,Lyreco!G260,Ocaña!G260,Taine!G260,Vistalegre!G260)","v":0},0]
[255,"Cuaderno espiral cubierta plastificada. Liso o cuadrícula. De 80-90 hojas aprox. Gramaje 60 gr/m2 mínimo.Tamaño A7 u 16º.","Unidad",0.5,1,{"$f":"SOLICITUD!F261","v":0},0,{"$f":"MIN(DiaCash!G261,DisOfic!G261,Lablink!G261,Lyreco!G261,Ocaña!G261,Taine!G261,Vistalegre!G261)","v":0},0]
[256,"Cuaderno espiral cubierta plastificada. Liso o cuadrícula. De 80-90 hojas aprox. Gramaje 60 gr/m2 mínimo.Tamaño A7 u 16º. (Enri)","Unidad",0.12,1,{"$f":"SOLICITUD!F262","v":0},0,{"$f":"MIN(DiaCash!G262,DisOfic!G262,Lablink!G262,Lyreco!G262,Ocaña!G262,Taine!G262,Vistalegre!G262)","v":0},0]
[257,"Banderitas/Index autoadhesivas colores surtidos ","Taco 100 unidades",0.1,1,{"$f":"SOLICITUD!F263","v":0},0,{"$f":"MIN(DiaCash!G263,DisOfic!G263,Lablink!G263,Lyreco!G263,Ocaña!G263,Taine!G263,Vistalegre!G263)","v":0},0]
[258,"Banderitas/Index pack 5 mininotas neon Post-it","Taco 100 unidades",0.7,1,{"$f":"SOLICITUD!F264","v":0},{"$f":"IF(F264>0,IF(E264=\"Excluido\",\"Excluido1\",IF(F264>0,IF(F264<E264,\"Excluido2\",D264*F264),0)),0)","v":0},{"$f":"MIN(DiaCash!G264,DisOfic!G264,Lablink!G264,Lyreco!G264,Ocaña!G264,Taine!G264,Vistalegre!G264)","v":0},{"$f":"IF(G264<=H264,G264,0)","v":0}]
[259,"Blocs de notas autoadhesivas amarillas. Medidas 38 x 51 mm, 100 hojas.","Taco 100 unidades",8.2000000000000003E-2,1,{"$f":"SOLICITUD!F265","v":0},0,{"$f":"MIN(DiaCash!G265,DisOfic!G265,Lablink!G265,Lyreco!G265,Ocaña!G265,Taine!G265,Vistalegre!G265)","v":0},0]
[260,"Blocs de notas autoadhesivas amarillas. Medidas 38 x 51 mm, 100 hojas. (Post-it)","Taco 100 unidades",0.6,1,{"$f":"SOLICITUD!F266","v":0},0,{"$f":"MIN(DiaCash!G266,DisOfic!G266,Lablink!G266,Lyreco!G266,Ocaña!G266,Taine!G266,Vistalegre!G266)","v":0},0]
[261,"Blocs de notas autoadhesivas amarillas. Medidas 76 x 76 mm, 100 hojas.","Taco 100 unidades",0.17,1,{"$f":"SOLICITUD!F267","v":0},0,{"$f":"MIN(DiaCash!G267,DisOfic!G267,Lablink!G267,Lyreco!G267,Ocaña!G267,Taine!G267,Vistalegre!G267)","v":0},0]
[262,"Blocs de notas autoadhesivas de colores. Medidas 76 x 76 mm, 100 hojas. (Post-it)","Taco 100 unidades",0.76,1,{"$f":"SOLICITUD!F268","v":0},0,{"$f":"MIN(DiaCash!G268,DisOfic!G268,Lablink!G268,Lyreco!G268,Ocaña!G268,Taine!G268,Vistalegre!G268)","v":0},0]
[263,"Blocs de notas autoadhesivas amarillas. Medidas 76 x 127 mm, 100 hojas.","Taco 100 unidades",0.27,1,{"$f":"SOLICITUD!F269","v":0},0,{"$f":"MIN(DiaCash!G269,DisOfic!G269,Lablink!G269,Lyreco!G269,Ocaña!G269,Taine!G269,Vistalegre!G269)","v":0},0]
[264,"Blocs de notas autoadhesivas amarillas. Medidas 76 x 127 mm, 100 hojas. (Post-it)","Taco 100 unidades",1.01,1,{"$f":"SOLICITUD!F270","v":0},0,{"$f":"MIN(DiaCash!G270,DisOfic!G270,Lablink!G270,Lyreco!G270,Ocaña!G270,Taine!G270,Vistalegre!G270)","v":0},0]
[265,"Etiquetas adhesivas. En formato  A4, número de etiquetas por hoja según el tamaño de etiqueta. ","Paquete 100 hojas",3.48,1,{"$f":"SOLICITUD!F271","v":0},0,{"$f":"MIN(DiaCash!G271,DisOfic!G271,Lablink!G271,Lyreco!G271,Ocaña!G271,Taine!G271,Vistalegre!G271)","v":0},0]
[266,"Etiquetas adhesivas. En formato  A4, número de etiquetas por hoja según el tamaño de\netiqueta. ","Paquete 25 hojas",1.99,1,{"$f":"SOLICITUD!F272","v":0},0,{"$f":"MIN(DiaCash!G272,DisOfic!G272,Lablink!G272,Lyreco!G272,Ocaña!G272,Taine!G272,Vistalegre!G272)","v":0},0]
[267,"Etiquetas adhesivas. En formato  A4, número de etiquetas por hoja según el tamaño de\netiqueta. ","Paquete 10 hojas",0.89,1,{"$f":"SOLICITUD!F273","v":0},0,{"$f":"MIN(DiaCash!G273,DisOfic!G273,Lablink!G273,Lyreco!G273,Ocaña!G273,Taine!G273,Vistalegre!G273)","v":0},0]
[268,"Carpeta de cartulina  por una cara plegada y solapa al pie. Tamaño mínimo A4.  Gramaje mínimo 170 gr/m2.","Unidad",0.17,1,{"$f":"SOLICITUD!F274","v":0},0,{"$f":"MIN(DiaCash!G274,DisOfic!G274,Lablink!G274,Lyreco!G274,Ocaña!G274,Taine!G274,Vistalegre!G274)","v":0},0]
[269,"Carpeta de cartulina  por una cara plegada y solapa al pie. Tamaño mínimo A4.  Gramaje mínimo  210  gr/m2.","Unidad",0.36,1,{"$f":"SOLICITUD!F275","v":0},0,{"$f":"MIN(DiaCash!G275,DisOfic!G275,Lablink!G275,Lyreco!G275,Ocaña!G275,Taine!G275,Vistalegre!G275)","v":0},0]
[270,"Carpeta de cartulina con dos bolsillos. Tamaño mínimo A4.  Gramaje mínimo 170 gr/m2.","Unidad",0.34,1,{"$f":"SOLICITUD!F276","v":0},0,{"$f":"MIN(DiaCash!G276,DisOfic!G276,Lablink!G276,Lyreco!G276,Ocaña!G276,Taine!G276,Vistalegre!G276)","v":0},0]
[271,"Carpeta de cartulina con dos bolsillos. Tamaño mínimo  A4 Gramaje mínimo  210  gr/m2.","Unidad",1.19,1,{"$f":"SOLICITUD!F277","v":0},0,{"$f":"MIN(DiaCash!G277,DisOfic!G277,Lablink!G277,Lyreco!G277,Ocaña!G277,Taine!G277,Vistalegre!G277)","v":0},0]
[272,"Carpeta de cartulina. Tamaño A4.  Gramaje mínimo 170 gr/m2.","Unidad",0.06,1,{"$f":"SOLICITUD!F278","v":0},0,{"$f":"MIN(DiaCash!G278,DisOfic!G278,Lablink!G278,Lyreco!G278,Ocaña!G278,Taine!G278,Vistalegre!G278)","v":0},0]
[273,"Carpeta de cartulina. Tamaño folio gramaje 210 gr/m2.","Unidad",0.11,1,{"$f":"SOLICITUD!F279","v":0},0,{"$f":"MIN(DiaCash!G279,DisOfic!G279,Lablink!G279,Lyreco!G279,Ocaña!G279,Taine!G279,Vistalegre!G279)","v":0},0]
[274,"Canutillos plásticos. Redondos y ovalados, de 6 mm.","Paquete 200",3.2,1,{"$f":"SOLICITUD!F280","v":0},0,{"$f":"MIN(DiaCash!G280,DisOfic!G280,Lablink!G280,Lyreco!G280,Ocaña!G280,Taine!G280,Vistalegre!G280)","v":0},0]
[275,"Canutillos plásticos. Redondos y ovalados, de 8 mm.","Paquete 100",4.2,1,{"$f":"SOLICITUD!F281","v":0},0,{"$f":"MIN(DiaCash!G281,DisOfic!G281,Lablink!G281,Lyreco!G281,Ocaña!G281,Taine!G281,Vistalegre!G281)","v":0},0]
[276,"Canutillos plásticos. Redondos y ovalados, de 10 mm.","Paquete 100",4.84,1,{"$f":"SOLICITUD!F282","v":0},0,{"$f":"MIN(DiaCash!G282,DisOfic!G282,Lablink!G282,Lyreco!G282,Ocaña!G282,Taine!G282,Vistalegre!G282)","v":0},0]
[277,"Canutillos plásticos. Redondos y ovalados, de 12 mm.","Paquete 100",6.76,1,{"$f":"SOLICITUD!F283","v":0},0,{"$f":"MIN(DiaCash!G283,DisOfic!G283,Lablink!G283,Lyreco!G283,Ocaña!G283,Taine!G283,Vistalegre!G283)","v":0},0]
[278,"Canutillos plásticos. Redondos y ovalados, de 14 mm.","Paquete 100",5.37,1,{"$f":"SOLICITUD!F284","v":0},0,{"$f":"MIN(DiaCash!G284,DisOfic!G284,Lablink!G284,Lyreco!G284,Ocaña!G284,Taine!G284,Vistalegre!G284)","v":0},0]
[279,"Canutillos plásticos. Redondos y ovalados, de 16 mm.","Paquete 100",6.1,1,{"$f":"SOLICITUD!F285","v":0},0,{"$f":"MIN(DiaCash!G285,DisOfic!G285,Lablink!G285,Lyreco!G285,Ocaña!G285,Taine!G285,Vistalegre!G285)","v":0},0]
[280,"Canutillos plásticos. Redondos y ovalados, de 18 mm.","Paquete 100",7.36,1,{"$f":"SOLICITUD!F286","v":0},0,{"$f":"MIN(DiaCash!G286,DisOfic!G286,Lablink!G286,Lyreco!G286,Ocaña!G286,Taine!G286,Vistalegre!G286)","v":0},0]
[281,"Canutillos plásticos. Redondos y ovalados, de 22 mm.","Paquete 50",4.51,1,{"$f":"SOLICITUD!F287","v":0},0,{"$f":"MIN(DiaCash!G287,DisOfic!G287,Lablink!G287,Lyreco!G287,Ocaña!G287,Taine!G287,Vistalegre!G287)","v":0},0]
[282,"Canutillos plásticos. Redondos y ovalados, de 25 mm.","Paquete 50",5.49,1,{"$f":"SOLICITUD!F288","v":0},0,{"$f":"MIN(DiaCash!G288,DisOfic!G288,Lablink!G288,Lyreco!G288,Ocaña!G288,Taine!G288,Vistalegre!G288)","v":0},0]
[283,"Canutillos plásticos. Redondos y ovalados, de 28 mm.","Paquete 50",5.5,1,{"$f":"SOLICITUD!F289","v":0},0,{"$f":"MIN(DiaCash!G289,DisOfic!G289,Lablink!G289,Lyreco!G289,Ocaña!G289,Taine!G289,Vistalegre!G289)","v":0},0]
[284,"Canutillos plásticos. Redondos y ovalados, de 32 mm.","Paquete 50",6.46,1,{"$f":"SOLICITUD!F290","v":0},0,{"$f":"MIN(DiaCash!G290,DisOfic!G290,Lablink!G290,Lyreco!G290,Ocaña!G290,Taine!G290,Vistalegre!G290)","v":0},0]
[285,"Canutillos plásticos. Redondos y ovalados, de 45 mm.","Paquete 25",5.73,1,{"$f":"SOLICITUD!F291","v":0},0,{"$f":"MIN(DiaCash!G291,DisOfic!G291,Lablink!G291,Lyreco!G291,Ocaña!G291,Taine!G291,Vistalegre!G291)","v":0},0]
[286,"Canutillos plásticos. Redondos y ovalados, de 51 mm.","Paquete 25",7.9,1,{"$f":"SOLICITUD!F292","v":0},0,{"$f":"MIN(DiaCash!G292,DisOfic!G292,Lablink!G292,Lyreco!G292,Ocaña!G292,Taine!G292,Vistalegre!G292)","v":0},0]
[287,"Espirales metálicas de encuadernación. Paso 5:1, de diámetro 8 mm.","Paquete 100",3.06,1,{"$f":"SOLICITUD!F293","v":0},0,{"$f":"MIN(DiaCash!G293,DisOfic!G293,Lablink!G293,Lyreco!G293,Ocaña!G293,Taine!G293,Vistalegre!G293)","v":0},0]
[288,"Espirales metálicas de encuadernación. Paso 5:1, de diámetro 10 mm.","Paquete 100",3.8,1,{"$f":"SOLICITUD!F294","v":0},0,{"$f":"MIN(DiaCash!G294,DisOfic!G294,Lablink!G294,Lyreco!G294,Ocaña!G294,Taine!G294,Vistalegre!G294)","v":0},0]
[289,"Espirales metálicas de encuadernación. Paso 5:1, de diámetro 12 mm.","Paquete 100",4.59,1,{"$f":"SOLICITUD!F295","v":0},0,{"$f":"MIN(DiaCash!G295,DisOfic!G295,Lablink!G295,Lyreco!G295,Ocaña!G295,Taine!G295,Vistalegre!G295)","v":0},0]
[290,"Espirales metálicas de encuadernación. Paso 5:1, de diámetro 14 mm.","Paquete 100",5.27,1,{"$f":"SOLICITUD!F296","v":0},0,{"$f":"MIN(DiaCash!G296,DisOfic!G296,Lablink!G296,Lyreco!G296,Ocaña!G296,Taine!G296,Vistalegre!G296)","v":0},0]
[291,"Espirales metálicas de encuadernación. Paso 5:1, de diámetro 16 mm.","Paquete 100",7.04,1,{"$f":"SOLICITUD!F297","v":0},0,{"$f":"MIN(DiaCash!G297,DisOfic!G297,Lablink!G297,Lyreco!G297,Ocaña!G297,Taine!G297,Vistalegre!G297)","v":0},0]
[292,"Espirales metálicas de encuadernación. Paso 5:1, de diámetro 18 mm.","Paquete 100",7.98,1,{"$f":"SOLICITUD!F298","v":0},0,{"$f":"MIN(DiaCash!G298,DisOfic!G298,Lablink!G298,Lyreco!G298,Ocaña!G298,Taine!G298,Vistalegre!G298)","v":0},0]
[293,"Espirales metálicas de encuadernación. Paso 5:1, de diámetro 20 mm.","Paquete 100",8.6999999999999993,1,{"$f":"SOLICITUD!F299","v":0},0,{"$f":"MIN(DiaCash!G299,DisOfic!G299,Lablink!G299,Lyreco!G299,Ocaña!G299,Taine!G299,Vistalegre!G299)","v":0},0]
[294,"Espirales metálicas de encuadernación. Paso 5:1, de diámetro 22 mm.","Paquete 100",4.91,1,{"$f":"SOLICITUD!F300","v":0},0,{"$f":"MIN(DiaCash!G300,DisOfic!G300,Lablink!G300,Lyreco!G300,Ocaña!G300,Taine!G300,Vistalegre!G300)","v":0},0]
[295,"Espirales metálicas de encuadernación. Paso 5:1, de diámetro 24 mm.","Paquete 100",5.35,1,{"$f":"SOLICITUD!F301","v":0},0,{"$f":"MIN(DiaCash!G301,DisOfic!G301,Lablink!G301,Lyreco!G301,Ocaña!G301,Taine!G301,Vistalegre!G301)","v":0},0]
[296,"Espirales metálicas de encuadernación. Paso 5:1, de diámetro 28 mm.","Paquete 50",8.7100000000000009,1,{"$f":"SOLICITUD!F302","v":0},0,{"$f":"MIN(DiaCash!G302,DisOfic!G302,Lablink!G302,Lyreco!G302,Ocaña!G302,Taine!G302,Vistalegre!G302)","v":0},0]
[297,"Espirales metálicas de encuadernación. Paso 5:1, de diámetro 30 mm. ","Paquete 50",8.7100000000000009,1,{"$f":"SOLICITUD!F303","v":0},0,{"$f":"MIN(DiaCash!G303,DisOfic!G303,Lablink!G303,Lyreco!G303,Ocaña!G303,Taine!G303,Vistalegre!G303)","v":0},0]
[298,"Espirales metálicas de encuadernación. Paso 5:1, de diámetro 34 mm. ","Paquete 50",8.49,1,{"$f":"SOLICITUD!F304","v":0},0,{"$f":"MIN(DiaCash!G304,DisOfic!G304,Lablink!G304,Lyreco!G304,Ocaña!G304,Taine!G304,Vistalegre!G304)","v":0},0]
[299,"Espirales metálicas de encuadernación. Paso 5:1, de diámetro 38 mm. ","Paquete 50",9,1,{"$f":"SOLICITUD!F305","v":0},0,{"$f":"MIN(DiaCash!G305,DisOfic!G305,Lablink!G305,Lyreco!G305,Ocaña!G305,Taine!G305,Vistalegre!G305)","v":0},0]
[300,"Espirales metálicas de encuadernación. Paso 5:1, de diámetro 40 mm o superior.","Paquete 25",8.51,1,{"$f":"SOLICITUD!F306","v":0},0,{"$f":"MIN(DiaCash!G306,DisOfic!G306,Lablink!G306,Lyreco!G306,Ocaña!G306,Taine!G306,Vistalegre!G306)","v":0},0]
[301,"Cartulina. Tamaño A4. Gramaje 185 gr/m2 mínimo.","Paquete 50",4.7E-2,1,{"$f":"SOLICITUD!F307","v":0},0,{"$f":"MIN(DiaCash!G307,DisOfic!G307,Lablink!G307,Lyreco!G307,Ocaña!G307,Taine!G307,Vistalegre!G307)","v":0},0]
[302,"Cartulina. Tamaño A4. Gramaje 220 gr/m2 mínimo.","Paquete 50",0.31,1,{"$f":"SOLICITUD!F308","v":0},0,{"$f":"MIN(DiaCash!G308,DisOfic!G308,Lablink!G308,Lyreco!G308,Ocaña!G308,Taine!G308,Vistalegre!G308)","v":0},0]
[303,"Cartulina. Tamaño A3. Gramaje 185 gr/m2 mínimo.","Paquete 25",0.1,1,{"$f":"SOLICITUD!F309","v":0},0,{"$f":"MIN(DiaCash!G309,DisOfic!G309,Lablink!G309,Lyreco!G309,Ocaña!G309,Taine!G309,Vistalegre!G309)","v":0},0]
[304,"Cartulina. Tamaño A3. Gramaje 220 gr/m2 mínimo.","Paquete 25",0.6,1,{"$f":"SOLICITUD!F310","v":0},0,{"$f":"MIN(DiaCash!G310,DisOfic!G310,Lablink!G310,Lyreco!G310,Ocaña!G310,Taine!G310,Vistalegre!G310)","v":0},0]
[305,"Pastener  metálico con compresor y correderas . ","Unidad",0.03,1,{"$f":"SOLICITUD!F311","v":0},0,{"$f":"MIN(DiaCash!G311,DisOfic!G311,Lablink!G311,Lyreco!G311,Ocaña!G311,Taine!G311,Vistalegre!G311)","v":0},0]
[306,"Cubiertas de plástico. Tamaño A4, espesor mínimo 180 micras.","Unidad",0.04,1,{"$f":"SOLICITUD!F312","v":0},0,{"$f":"MIN(DiaCash!G312,DisOfic!G312,Lablink!G312,Lyreco!G312,Ocaña!G312,Taine!G312,Vistalegre!G312)","v":0},0]
[307,"Cubiertas de plástico. Tamaño A3, espesor mínimo 180 micras.","Unidad",0.08,1,{"$f":"SOLICITUD!F313","v":0},0,{"$f":"MIN(DiaCash!G313,DisOfic!G313,Lablink!G313,Lyreco!G313,Ocaña!G313,Taine!G313,Vistalegre!G313)","v":0},0]
[308,"Bobina de rafia de plástico. (bobina 400 gr)","Unidad",3,1,{"$f":"SOLICITUD!F314","v":0},0,{"$f":"MIN(DiaCash!G314,DisOfic!G314,Lablink!G314,Lyreco!G314,Ocaña!G314,Taine!G314,Vistalegre!G314)","v":0},0]
[309,"Cinta balduque en rollo algodón 100% . Medidas 19mm x 14m aprox.","Unidad",2.25,1,{"$f":"SOLICITUD!F315","v":0},0,{"$f":"MIN(DiaCash!G315,DisOfic!G315,Lablink!G315,Lyreco!G315,Ocaña!G315,Taine!G315,Vistalegre!G315)","v":0},0]
[310,"Caja de embalaje cartón, canal sencillo, 4 solapas. Medidas 355x265x270 mm aprox.","Unidad",0.7,1,{"$f":"SOLICITUD!F316","v":0},0,{"$f":"MIN(DiaCash!G316,DisOfic!G316,Lablink!G316,Lyreco!G316,Ocaña!G316,Taine!G316,Vistalegre!G316)","v":0},0]
[311,"Caja de embalaje cartón, canal sencillo, 4 solapas. Medidas 400x325x420 mm aprox.","Unidad",1.3,1,{"$f":"SOLICITUD!F317","v":0},0,{"$f":"MIN(DiaCash!G317,DisOfic!G317,Lablink!G317,Lyreco!G317,Ocaña!G317,Taine!G317,Vistalegre!G317)","v":0},0]
[312,"Caja embalaje cartón, doble canal, 4 solapas. Medidas 400x400x400 mm aprox.","Unidad",1.7,1,{"$f":"SOLICITUD!F318","v":0},0,{"$f":"MIN(DiaCash!G318,DisOfic!G318,Lablink!G318,Lyreco!G318,Ocaña!G318,Taine!G318,Vistalegre!G318)","v":0},0]
[313,"Papel embalar. Medidas ancho 1 m.  Gramaje 70 gr/m2 mínimo.(bobina 25 kg)","Bobina 25 Kg",52,1,{"$f":"SOLICITUD!F319","v":0},0,{"$f":"MIN(DiaCash!G319,DisOfic!G319,Lablink!G319,Lyreco!G319,Ocaña!G319,Taine!G319,Vistalegre!G319)","v":0},0]
[314,"Papel embalar. Medidas ancho 1 m.  Gramaje 70 gr/m2 mínimo.(bobina 25 kg)","Bobina 25 Kg",52,1,{"$f":"SOLICITUD!F320","v":0},0,{"$f":"MIN(DiaCash!G320,DisOfic!G320,Lablink!G320,Lyreco!G320,Ocaña!G320,Taine!G320,Vistalegre!G320)","v":0},0]
[315,"Papel embalar. Medidas ancho 1 m.  Gramaje 70 gr/m2 mínimo.(bobina 55 kg)","Bobina 55 Kg",100,1,{"$f":"SOLICITUD!F321","v":0},0,{"$f":"MIN(DiaCash!G321,DisOfic!G321,Lablink!G321,Lyreco!G321,Ocaña!G321,Taine!G321,Vistalegre!G321)","v":0},0]
[316,"Papel embalar. Medidas ancho 1 m.  Gramaje 70 gr/m2 mínimo.(bobina 55 kg)","Bobina 55 Kg",100,1,{"$f":"SOLICITUD!F322","v":0},0,{"$f":"MIN(DiaCash!G322,DisOfic!G322,Lablink!G322,Lyreco!G322,Ocaña!G322,Taine!G322,Vistalegre!G322)","v":0},0]
[317,"Bolsa de correo interno de papel kraft. Tamaño 250 x 353 mm aprox.  Gramaje mínimo 100 gr/m2.","Caja 250 unidades",30,1,{"$f":"SOLICITUD!F323","v":0},0,{"$f":"MIN(DiaCash!G323,DisOfic!G323,Lablink!G323,Lyreco!G323,Ocaña!G323,Taine!G323,Vistalegre!G323)","v":0},0]
[318,"Bolsa de papel kraft armado. Tamaño 310 x 410 mm aprox.  Gramaje mínimo 110 gr/m2.","Caja 100 unidades",22,1,{"$f":"SOLICITUD!F324","v":0},0,{"$f":"MIN(DiaCash!G324,DisOfic!G324,Lablink!G324,Lyreco!G324,Ocaña!G324,Taine!G324,Vistalegre!G324)","v":0},0]
[319,"Sobre autopegue con ventana a la derecha o izquierda. Tamaño 115x225 mm aprox.  Gramaje mínimo 90 gr/m2.","Caja 500 unidades",7.5,1,{"$f":"SOLICITUD!F325","v":0},0,{"$f":"MIN(DiaCash!G325,DisOfic!G325,Lablink!G325,Lyreco!G325,Ocaña!G325,Taine!G325,Vistalegre!G325)","v":0},0]
[320,"Sobre autopegue sin ventana. Tamaño 120x176 mm aprox.  Gramaje mínimo 90 gr/m2.","Caja 500 unidades",7.5,1,{"$f":"SOLICITUD!F326","v":0},0,{"$f":"MIN(DiaCash!G326,DisOfic!G326,Lablink!G326,Lyreco!G326,Ocaña!G326,Taine!G326,Vistalegre!G326)","v":0},0]
[321,"Sobre autopegue sin ventana. Tamaño 115x225 mm aprox.  Gramaje mínimo 90 gr/m2.","Caja 500 unidades",7.5,1,{"$f":"SOLICITUD!F327","v":0},0,{"$f":"MIN(DiaCash!G327,DisOfic!G327,Lablink!G327,Lyreco!G327,Ocaña!G327,Taine!G327,Vistalegre!G327)","v":0},0]
[322,"Sobre autopegue sin ventana. Tamaño 176x231 mm aprox.  Gramaje mínimo 90 gr/m2.","Caja 500 unidades",17,1,{"$f":"SOLICITUD!F328","v":0},{"$f":"IF(F328>0,IF(E328=\"Excluido\",\"Excluido1\",IF(F328>0,IF(F328<E328,\"Excluido2\",D328*F328),0)),0)","v":0},{"$f":"MIN(DiaCash!G328,DisOfic!G328,Lablink!G328,Lyreco!G328,Ocaña!G328,Taine!G328,Vistalegre!G328)","v":0},{"$f":"IF(G328<=H328,G328,0)","v":0}]
[323,"Sobre autopegue sin ventana. Tamaño 260x360 mm aprox.  Gramaje mínimo 90 gr/m2.","Caja 250 unidades",15,1,{"$f":"SOLICITUD!F329","v":0},0,{"$f":"MIN(DiaCash!G329,DisOfic!G329,Lablink!G329,Lyreco!G329,Ocaña!G329,Taine!G329,Vistalegre!G329)","v":0},0]
[324,"Sobre bolsa burbuja. Tamaño 270 x 360 mm aprox.  Gramaje mínimo 110 gr/m2.","Paquete 10 unidades",5,1,{"$f":"SOLICITUD!F330","v":0},0,{"$f":"MIN(DiaCash!G330,DisOfic!G330,Lablink!G330,Lyreco!G330,Ocaña!G330,Taine!G330,Vistalegre!G330)","v":0},0]
[325,"Sobre bolsa fuelle papel kraft. Tamaño 280 x 410 x 30 mm aprox. Gramaje mínimo 110 gr/m2.","Caja 100 unidades",26.6,1,{"$f":"SOLICITUD!F331","v":0},0,{"$f":"MIN(DiaCash!G331,DisOfic!G331,Lablink!G331,Lyreco!G331,Ocaña!G331,Taine!G331,Vistalegre!G331)","v":0},0]
[326,"Sobre plástico, cierre broche o velcro. Tamaño A4 / folio.","Unidad",0.28999999999999998,1,{"$f":"SOLICITUD!F332","v":0},0,{"$f":"MIN(DiaCash!G332,DisOfic!G332,Lablink!G332,Lyreco!G332,Ocaña!G332,Taine!G332,Vistalegre!G332)","v":0},0]
[327,"Sobre plástico, cierre broche o velcro. Tamaño A3.","Unidad",0.85,1,{"$f":"SOLICITUD!F333","v":0},0,{"$f":"MIN(DiaCash!G333,DisOfic!G333,Lablink!G333,Lyreco!G333,Ocaña!G333,Taine!G333,Vistalegre!G333)","v":0},0]
[328,"Tubos planos cartón 4x46 cm (diam. X altura)","Unidad",1.99,1,{"$f":"SOLICITUD!F334","v":0},0,{"$f":"MIN(DiaCash!G334,DisOfic!G334,Lablink!G334,Lyreco!G334,Ocaña!G334,Taine!G334,Vistalegre!G334)","v":0},0]
[329,"Tubos planos cartón 60x64 cm (diam. X altura)","Unidad",1.99,1,{"$f":"SOLICITUD!F335","v":0},0,{"$f":"MIN(DiaCash!G335,DisOfic!G335,Lablink!G335,Lyreco!G335,Ocaña!G335,Taine!G335,Vistalegre!G335)","v":0},0]
[330,"Tubos envíos cartón 6x46 cm (diam. X altura)","Unidad",1.27,1,{"$f":"SOLICITUD!F336","v":0},0,{"$f":"MIN(DiaCash!G336,DisOfic!G336,Lablink!G336,Lyreco!G336,Ocaña!G336,Taine!G336,Vistalegre!G336)","v":0},0]
[331,"Rollo de papel para calculadora 57mm 65mts.","Unidad",0.25,1,{"$f":"SOLICITUD!F337","v":0},0,{"$f":"MIN(DiaCash!G337,DisOfic!G337,Lablink!G337,Lyreco!G337,Ocaña!G337,Taine!G337,Vistalegre!G337)","v":0},0]
[332,"Tablero de corcho para anuncios con marco de madera 60 x 90 cm (hxa) (Bi-Office)","Unidad",6.5,1,{"$f":"SOLICITUD!F338","v":0},0,{"$f":"MIN(DiaCash!G338,DisOfic!G338,Lablink!G338,Lyreco!G338,Ocaña!G338,Taine!G338,Vistalegre!G338)","v":0},0]
[333,"Caja de 5 Paquetes de papel A4 80gr./m2, para impresoras inkjet, láser y fotocopiadora","Caja de 5 Paquetes",16,1,{"$f":"SOLICITUD!F339","v":0},0,{"$f":"MIN(DiaCash!G339,DisOfic!G339,Lablink!G339,Lyreco!G339,Ocaña!G339,Taine!G339,Vistalegre!G339)","v":0},0]
[334,"Caja de 5 Paquetes de papel A4 80gr./m2, para impresoras inkjet, láser y fotocopiadora (Navigator)","Caja de 5 Paquetes",21,1,{"$f":"SOLICITUD!F340","v":0},0,{"$f":"MIN(DiaCash!G340,DisOfic!G340,Lablink!G340,Lyreco!G340,Ocaña!G340,Taine!G340,Vistalegre!G340)","v":0},0]
[335,"Paquete de papel A3 80gr./m2, para impresoras inkjet, láser y fotocopiadora ","Paquete 500 hojas",7,1,{"$f":"SOLICITUD!F341","v":0},0,{"$f":"MIN(DiaCash!G341,DisOfic!G341,Lablink!G341,Lyreco!G341,Ocaña!G341,Taine!G341,Vistalegre!G341)","v":0},0]
[336,"Paquete de papel A3 80gr./m2, para impresoras inkjet, láser y fotocopiadora (Navigator)","Paquete 500 hojas",7.6,1,{"$f":"SOLICITUD!F342","v":0},0,{"$f":"MIN(DiaCash!G342,DisOfic!G342,Lablink!G342,Lyreco!G342,Ocaña!G342,Taine!G342,Vistalegre!G342)","v":0},0]
[337,"Paquete de papel A4 80gr./m2 colores pastel, intensos y fluorescentes, impresoas inkjet, láser y fotocopiadora (Clairefontaine)","Paquete 500 hojas",7,1,{"$f":"SOLICITUD!F343","v":0},0,{"$f":"MIN(DiaCash!G343,DisOfic!G343,Lablink!G343,Lyreco!G343,Ocaña!G343,Taine!G343,Vistalegre!G343)","v":0},0]
[338,"Paquete de papel A4 80gr./m2 colores intensos y fluorescentes, impresoas inkjet, láser y fotocopiadora (Clairefontaine)","Paquete 500 hojas",7,1,{"$f":"SOLICITUD!F344","v":0},0,{"$f":"MIN(DiaCash!G344,DisOfic!G344,Lablink!G344,Lyreco!G344,Ocaña!G344,Taine!G344,Vistalegre!G344)","v":0},0]
[339,"Caja de 5 Paquetes de papel A4 ecológico 75gr/m2 (Navigator Eco-Logical)","Caja de 5 Paquetes",20.75,1,{"$f":"SOLICITUD!F345","v":0},0,{"$f":"MIN(DiaCash!G345,DisOfic!G345,Lablink!G345,Lyreco!G345,Ocaña!G345,Taine!G345,Vistalegre!G345)","v":0},0]
[340,"Caja de 5 Paquetes de papel A4 Blanco 90 gr/m2 ","Caja de 5 Paquetes",24,1,{"$f":"SOLICITUD!F346","v":0},0,{"$f":"MIN(DiaCash!G346,DisOfic!G346,Lablink!G346,Lyreco!G346,Ocaña!G346,Taine!G346,Vistalegre!G346)","v":0},0]
[341,"Caja de 5 Paquetes de papel A4 Blanco 90 gr/m2 (Navigator)","Caja de 5 Paquetes",27.5,1,{"$f":"SOLICITUD!F347","v":0},0,{"$f":"MIN(DiaCash!G347,DisOfic!G347,Lablink!G347,Lyreco!G347,Ocaña!G347,Taine!G347,Vistalegre!G347)","v":0},0]
[342,"Caja de 5 Paquetes de papel A4 80gr./m2, para impresoras inkjet, láser y fotocopiadora reciclado","Caja de 5 Paquetes",19,1,{"$f":"SOLICITUD!F348","v":0},0,{"$f":"MIN(DiaCash!G348,DisOfic!G348,Lablink!G348,Lyreco!G348,Ocaña!G348,Taine!G348,Vistalegre!G348)","v":0},0]
[343,"Paquete de papel verjurado A4 90 gr/m2 blanco (Apli)","Paquete 100 hojas",5.9,1,{"$f":"SOLICITUD!F349","v":0},0,{"$f":"MIN(DiaCash!G349,DisOfic!G349,Lablink!G349,Lyreco!G349,Ocaña!G349,Taine!G349,Vistalegre!G349)","v":0},0]
[344,"Paquete de papel verjurado A4 100 color crema 90 gr/m2 (Apli)","Paquete 100 hojas",5.9,1,{"$f":"SOLICITUD!F350","v":0},0,{"$f":"MIN(DiaCash!G350,DisOfic!G350,Lablink!G350,Lyreco!G350,Ocaña!G350,Taine!G350,Vistalegre!G350)","v":0},0]
[350,"Boligrado Pentel BK-77 Superb (boligrado de punta fina 0.7 mm y tinta base de aceite)","12 unidades",27.8,1,{"$f":"SOLICITUD!F351","v":0},{"$f":"IF(F351>0,IF(E351=\"Excluido\",\"Excluido1\",IF(F351>0,IF(F351<E351,\"Excluido2\",D351*F351),0)),0)","v":0},{"$f":"MIN(DiaCash!G351,DisOfic!G351,Lablink!G351,Lyreco!G351,Ocaña!G351,Taine!G351,Vistalegre!G351)","v":0},{"$f":"IF(G351<=H351,G351,0)","v":0}]
[351,"50 tapas encuadernar gofrado A4 Negro","50 unidades",13.1,1,{"$f":"SOLICITUD!F352","v":0},0,{"$f":"MIN(DiaCash!G352,DisOfic!G352,Lablink!G352,Lyreco!G352,Ocaña!G352,Taine!G352,Vistalegre!G352)","v":0},0]
[352,"Cinta doble cara 19x33 mm","Unidad",21.83,1,{"$f":"SOLICITUD!F353","v":0},0,{"$f":"MIN(DiaCash!G353,DisOfic!G353,Lablink!G353,Lyreco!G353,Ocaña!G353,Taine!G353,Vistalegre!G353)","v":0},0]
[353,"Bolsas para plastificar carnet tamaño 60x90 mm y grosor 200 micras.","100 unidades",5,1,{"$f":"SOLICITUD!F354","v":0},0,{"$f":"MIN(DiaCash!G354,DisOfic!G354,Lablink!G354,Lyreco!G354,Ocaña!G354,Taine!G354,Vistalegre!G354)","v":0},0]
[354,"Bolsas para plastificar tamaño A3 grosor 125 micras","100 unidades",28.33,1,{"$f":"SOLICITUD!F355","v":0},0,{"$f":"MIN(DiaCash!G355,DisOfic!G355,Lablink!G355,Lyreco!G355,Ocaña!G355,Taine!G355,Vistalegre!G355)","v":0},0]
[355,"Sobres de tamaño 229x324 con tira de silicona","250 unidades",52,1,{"$f":"SOLICITUD!F356","v":0},0,{"$f":"MIN(DiaCash!G356,DisOfic!G356,Lablink!G356,Lyreco!G356,Ocaña!G356,Taine!G356,Vistalegre!G356)","v":0},0]
[356,"Minas Super Polymer 0.35 HB","12 unidades",2.35,1,{"$f":"SOLICITUD!F357","v":0},0,{"$f":"MIN(DiaCash!G357,DisOfic!G357,Lablink!G357,Lyreco!G357,Ocaña!G357,Taine!G357,Vistalegre!G357)","v":0},0]
[357,"Minas Super Polymer 0.35 2H","12 unidades",2.35,1,{"$f":"SOLICITUD!F358","v":0},0,{"$f":"MIN(DiaCash!G358,DisOfic!G358,Lablink!G358,Lyreco!G358,Ocaña!G358,Taine!G358,Vistalegre!G358)","v":0},0]
[358,"Cuaderno Cuadros A4 160H (marca SAM, Enri, tec)","Unidad",5.83,1,{"$f":"SOLICITUD!F359","v":0},0,{"$f":"MIN(DiaCash!G359,DisOfic!G359,Lablink!G359,Lyreco!G359,Ocaña!G359,Taine!G359,Vistalegre!G359)","v":0},0]
[359,"Fichas rayadas 160x220 (paquete de 100 hojas) ","-",null,"-",{"$f":"SOLICITUD!F360","v":0},0,{"$f":"MIN(DiaCash!G360,DisOfic!G360,Lablink!G360,Lyreco!G360,Ocaña!G360,Taine!G360,Vistalegre!G360)","v":0},0]
[360,"Portablocks con pinza y solapa","Unidad",7.72,1,{"$f":"SOLICITUD!F361","v":0},0,{"$f":"MIN(DiaCash!G361,DisOfic!G361,Lablink!G361,Lyreco!G361,Ocaña!G361,Taine!G361,Vistalegre!G361)","v":0},0]
[361,"Pack 100 Fundas multitaladro folio PP Cristal","100 unidades",10.65,1,{"$f":"SOLICITUD!F362","v":0},0,{"$f":"MIN(DiaCash!G362,DisOfic!G362,Lablink!G362,Lyreco!G362,Ocaña!G362,Taine!G362,Vistalegre!G362)","v":0},0]
[362,"Sobre burbuja/acolchado tamaño 350x470 mm ","-",13.24,"-",{"$f":"SOLICITUD!F363","v":0},0,{"$f":"MIN(DiaCash!G363,DisOfic!G363,Lablink!G363,Lyreco!G363,Ocaña!G363,Taine!G363,Vistalegre!G363)","v":0},0]
[363,"Sobre burbuja/acolchado tamaño 300x445 mm ","10 unidades",11.57,1,{"$f":"SOLICITUD!F364","v":0},0,{"$f":"MIN(DiaCash!G364,DisOfic!G364,Lablink!G364,Lyreco!G364,Ocaña!G364,Taine!G364,Vistalegre!G364)","v":0},0]
[364,"Sobre burbuja/acolchado tamaño 120x215 mm","10 unidades",2.67,1,{"$f":"SOLICITUD!F365","v":0},0,{"$f":"MIN(DiaCash!G365,DisOfic!G365,Lablink!G365,Lyreco!G365,Ocaña!G365,Taine!G365,Vistalegre!G365)","v":0},0]
[365,"Sobre burbuja/acolchado tamaño 220x340 mm","10 Unidades",6.27,1,{"$f":"SOLICITUD!F366","v":0},0,{"$f":"MIN(DiaCash!G366,DisOfic!G366,Lablink!G366,Lyreco!G366,Ocaña!G366,Taine!G366,Vistalegre!G366)","v":0},0]
[366,"Sobre burbuja/acolchado tamaño 220x265 mm ","-",6.26,"-",{"$f":"SOLICITUD!F367","v":0},0,{"$f":"MIN(DiaCash!G367,DisOfic!G367,Lablink!G367,Lyreco!G367,Ocaña!G367,Taine!G367,Vistalegre!G367)","v":0},0]
[367,"Carpeta Polipropileno A4 Gomas Solapas","Unidad",1.58,1,{"$f":"SOLICITUD!F368","v":0},0,{"$f":"MIN(DiaCash!G368,DisOfic!G368,Lablink!G368,Lyreco!G368,Ocaña!G368,Taine!G368,Vistalegre!G368)","v":0},0]
[368,"Roller Pilot V-5 Azul","Unidad",2.27,1,{"$f":"SOLICITUD!F369","v":0},0,{"$f":"MIN(DiaCash!G369,DisOfic!G369,Lablink!G369,Lyreco!G369,Ocaña!G369,Taine!G369,Vistalegre!G369)","v":0},0]
[369,"Roller Pilot V-5 Negro","Unidad",2.27,1,{"$f":"SOLICITUD!F370","v":0},0,{"$f":"MIN(DiaCash!G370,DisOfic!G370,Lablink!G370,Lyreco!G370,Ocaña!G370,Taine!G370,Vistalegre!G370)","v":0},0]
[370,"Roller Pilot V-5 Rojo","Unidad",2.27,1,{"$f":"SOLICITUD!F371","v":0},0,{"$f":"MIN(DiaCash!G371,DisOfic!G371,Lablink!G371,Lyreco!G371,Ocaña!G371,Taine!G371,Vistalegre!G371)","v":0},0]
[371,"Sobres blancos para entrega de títulos en mano 30 x 42 cm. ","-",null,"-",{"$f":"SOLICITUD!F372","v":0},0,{"$f":"MIN(DiaCash!G372,DisOfic!G372,Lablink!G372,Lyreco!G372,Ocaña!G372,Taine!G372,Vistalegre!G372)","v":0},0]
[372,"Dosier flexible con pinza A4 60 hojas     ","Unidad",3.32,1,{"$f":"SOLICITUD!F373","v":0},0,{"$f":"MIN(DiaCash!G373,DisOfic!G373,Lablink!G373,Lyreco!G373,Ocaña!G373,Taine!G373,Vistalegre!G373)","v":0},0]
[373,"Dosier flexible con pinza A4 30 hojas     ","Unidad",2.5299999999999998,1,{"$f":"SOLICITUD!F374","v":0},0,{"$f":"MIN(DiaCash!G374,DisOfic!G374,Lablink!G374,Lyreco!G374,Ocaña!G374,Taine!G374,Vistalegre!G374)","v":0},0]
[374,"Rollos de papel térmico para las máquinas CIGES 8x8 cm","8 unidades",14.67,1,{"$f":"SOLICITUD!F375","v":0},0,{"$f":"MIN(DiaCash!G375,DisOfic!G375,Lablink!G375,Lyreco!G375,Ocaña!G375,Taine!G375,Vistalegre!G375)","v":0},0]
[null,null,null,null,null,null,null,null,{"$f":"SUM(I7:I375)","v":0}]
[null,null,null,null,null,null,null,null,{"$f":"COUNTIF(I7:I375,\">0\")","v":0}]

{"sheet":"DisOfic","index":4,"n_rows":377,"n_cols":9,"rows_kept":377,"cut":false,"hidden":false,"merged":[]}
[]
[]
[null,"GRUPO DISOFIC, S.L.U.","Importe pedido mínimo:",0]
[]
[null,"LOTES 1, 2 Y 3 (Granada, Ceuta y Melilla respectivamente)"]
["Referencia","Descripción del artículo","Precio Referido a:","Precio (IVA excluido)","Ud.Mínima Servicio","Cantidad Solicitada","Precio Total","Menor Precio","Seleccionable?"]
[1,"Lapiceros de Grafito. Dureza Hb 2 ","Enavse 12 unidades",0.98,1,{"$f":"SOLICITUD!F7","v":0},{"$f":"IF(E7=\"Excluido\",\"Excluido1\",IF(F7>0,IF(F7<E7,\"Excluido2\",D7*F7),0))","v":0},{"$f":"MIN(DiaCash!G7,DisOfic!G7,Lablink!G7,Lyreco!G7,Ocaña!G7,Taine!G7,Vistalegre!G7)","v":0},{"$f":"IF(G7<=H7,G7,0)","v":0}]
[2,"Lapiceros de Grafito. Dureza Hb, 2 (Staedtler)","Enavse 12 unidades",4.2,1,{"$f":"SOLICITUD!F8","v":0},{"$f":"IF(E8=\"Excluido\",\"Excluido1\",IF(F8>0,IF(F8<E8,\"Excluido2\",D8*F8),0))","v":0},{"$f":"MIN(DiaCash!G8,DisOfic!G8,Lablink!G8,Lyreco!G8,Ocaña!G8,Taine!G8,Vistalegre!G8)","v":0},{"$f":"IF(G8<=H8,G8,0)","v":0}]
[3,"Minas de Grafito. Calibre 0,5 mm, diferentes durezas (Staedtler, Faber-Castell)","Envase 12 unidades",9.24,1,{"$f":"SOLICITUD!F9","v":0},0,{"$f":"MIN(DiaCash!G9,DisOfic!G9,Lablink!G9,Lyreco!G9,Ocaña!G9,Taine!G9,Vistalegre!G9)","v":0},0]
[4,"Minas de Grafito. Calibre 0,7 mm, diferentes durezas (Staedtler, Faber-Castell)","Envase 12 unidades",9.36,1,{"$f":"SOLICITUD!F10","v":0},0,{"$f":"MIN(DiaCash!G10,DisOfic!G10,Lablink!G10,Lyreco!G10,Ocaña!G10,Taine!G10,Vistalegre!G10)","v":0},0]
[5,"Portaminas Recargable de Puntera Retráctil, Pulsador y Clip, 0,5 mm.","Unidad",0.15,1,{"$f":"SOLICITUD!F11","v":0},0,{"$f":"MIN(DiaCash!G11,DisOfic!G11,Lablink!G11,Lyreco!G11,Ocaña!G11,Taine!G11,Vistalegre!G11)","v":0},0]
[6,"Portaminas Recargable de Puntera Retráctil, Pulsador y Clip, 0,7 mm.","Unidad",0.15,1,{"$f":"SOLICITUD!F12","v":0},0,{"$f":"MIN(DiaCash!G12,DisOfic!G12,Lablink!G12,Lyreco!G12,Ocaña!G12,Taine!G12,Vistalegre!G12)","v":0},0]
[7,"Portaminas Recargable de Puntera Retráctil, Pulsador y Clip, 0,5 mm. (Staedtler, Faber Castell)","Unidad",1.07,1,{"$f":"SOLICITUD!F13","v":0},0,{"$f":"MIN(DiaCash!G13,DisOfic!G13,Lablink!G13,Lyreco!G13,Ocaña!G13,Taine!G13,Vistalegre!G13)","v":0},0]
[8,"Portaminas Recargable de Puntera Retráctil, Pulsador y Clip, 0,7 mm. (Staedtler, Faber Castell)","Unidad",2,1,{"$f":"SOLICITUD!F14","v":0},0,{"$f":"MIN(DiaCash!G14,DisOfic!G14,Lablink!G14,Lyreco!G14,Ocaña!G14,Taine!G14,Vistalegre!G14)","v":0},0]
[9,"Lapiz Bicolor azul/rojo ","Envase 12 unidades",4,1,{"$f":"SOLICITUD!F15","v":0},0,{"$f":"MIN(DiaCash!G15,DisOfic!G15,Lablink!G15,Lyreco!G15,Ocaña!G15,Taine!G15,Vistalegre!G15)","v":0},0]
[10,"Lapiz Bicolor azul/rojo  (Faber-Castell)","Envase 12 unidades",5.84,1,{"$f":"SOLICITUD!F16","v":0},0,{"$f":"MIN(DiaCash!G16,DisOfic!G16,Lablink!G16,Lyreco!G16,Ocaña!G16,Taine!G16,Vistalegre!G16)","v":0},0]
[11,"Afila Lapiceros doble entrada metálico","Unidad",0.25,1,{"$f":"SOLICITUD!F17","v":0},0,{"$f":"MIN(DiaCash!G17,DisOfic!G17,Lablink!G17,Lyreco!G17,Ocaña!G17,Taine!G17,Vistalegre!G17)","v":0},0]
[12,"Afila Lapiceros doble entrada metálico (Faibo)","Unidad",0.25,1,{"$f":"SOLICITUD!F18","v":0},0,{"$f":"MIN(DiaCash!G18,DisOfic!G18,Lablink!G18,Lyreco!G18,Ocaña!G18,Taine!G18,Vistalegre!G18)","v":0},0]
[13,"Afila Lapiceros una entrada metálico","Unidad",0.12,1,{"$f":"SOLICITUD!F19","v":0},0,{"$f":"MIN(DiaCash!G19,DisOfic!G19,Lablink!G19,Lyreco!G19,Ocaña!G19,Taine!G19,Vistalegre!G19)","v":0},0]
[14,"Afila Lapiceros una entrada metálico (Faibo)","Unidad",0.16,1,{"$f":"SOLICITUD!F20","v":0},0,{"$f":"MIN(DiaCash!G20,DisOfic!G20,Lablink!G20,Lyreco!G20,Ocaña!G20,Taine!G20,Vistalegre!G20)","v":0},0]
[15,"Bolígrafo con capuchón, tinta a base de aceite, ancho de escritura 0,42 mm, escritura fina (Bic)","Unidad",0.24,1,{"$f":"SOLICITUD!F21","v":0},0,{"$f":"MIN(DiaCash!G21,DisOfic!G21,Lablink!G21,Lyreco!G21,Ocaña!G21,Taine!G21,Vistalegre!G21)","v":0},0]
[16,"Bolígrafo borrable (Pilot)","Unidad",1.75,1,{"$f":"SOLICITUD!F22","v":0},0,{"$f":"MIN(DiaCash!G22,DisOfic!G22,Lablink!G22,Lyreco!G22,Ocaña!G22,Taine!G22,Vistalegre!G22)","v":0},0]
[17,"Bolígrafo con capuchón, tinta a base de aceite, ancho de escritura 1,0mm, escritura normal, colores","Unidad",0.05,1,{"$f":"SOLICITUD!F23","v":0},0,{"$f":"MIN(DiaCash!G23,DisOfic!G23,Lablink!G23,Lyreco!G23,Ocaña!G23,Taine!G23,Vistalegre!G23)","v":0},0]
[18,"Bolígrafo con capuchón, tinta a base de aceite, ancho de escritura 1,0mm, escritura normal, colores (Bic)","Unidad",0.2,1,{"$f":"SOLICITUD!F24","v":0},0,{"$f":"MIN(DiaCash!G24,DisOfic!G24,Lablink!G24,Lyreco!G24,Ocaña!G24,Taine!G24,Vistalegre!G24)","v":0},0]
[19,"Bolígrafo con capuchón, tinta a base de aceite, ancho de escritura 0,5mm, escritura fina, colores (Bic)","Unidad",0.24,1,{"$f":"SOLICITUD!F25","v":0},0,{"$f":"MIN(DiaCash!G25,DisOfic!G25,Lablink!G25,Lyreco!G25,Ocaña!G25,Taine!G25,Vistalegre!G25)","v":0},0]
[20,"Bolígrafo uso común capuchón tinta gel, colores (Bic, Pilot)","Unidad",0.59,1,{"$f":"SOLICITUD!F26","v":0},0,{"$f":"MIN(DiaCash!G26,DisOfic!G26,Lablink!G26,Lyreco!G26,Ocaña!G26,Taine!G26,Vistalegre!G26)","v":0},0]
[21,"Bolígrafo uso común capuchón, tinta base de aceite (Pilot)","Unidad",0.88,1,{"$f":"SOLICITUD!F27","v":0},0,{"$f":"MIN(DiaCash!G27,DisOfic!G27,Lablink!G27,Lyreco!G27,Ocaña!G27,Taine!G27,Vistalegre!G27)","v":0},0]
[22,"Bolígrafo retráctil tinta gel  ","Unidad",0.21,1,{"$f":"SOLICITUD!F28","v":0},0,{"$f":"MIN(DiaCash!G28,DisOfic!G28,Lablink!G28,Lyreco!G28,Ocaña!G28,Taine!G28,Vistalegre!G28)","v":0},0]
[23,"Bolígrafo retráctil tinta gel  (Pilot)","Unidad",1.23,1,{"$f":"SOLICITUD!F29","v":0},0,{"$f":"MIN(DiaCash!G29,DisOfic!G29,Lablink!G29,Lyreco!G29,Ocaña!G29,Taine!G29,Vistalegre!G29)","v":0},0]
[24,"Pluma desechable (Pilot)","Unidad",2.0499999999999998,1,{"$f":"SOLICITUD!F30","v":0},0,{"$f":"MIN(DiaCash!G30,DisOfic!G30,Lablink!G30,Lyreco!G30,Ocaña!G30,Taine!G30,Vistalegre!G30)","v":0},0]
[25,"Marcadores Fluorescentes. Ancho de Trazo entre 2 Y 5 mm","Unidad",0.2,1,{"$f":"SOLICITUD!F31","v":0},0,{"$f":"MIN(DiaCash!G31,DisOfic!G31,Lablink!G31,Lyreco!G31,Ocaña!G31,Taine!G31,Vistalegre!G31)","v":0},0]
[26,"Marcadores Fluorescentes. Ancho de Trazo entre 2 Y 5 mm (Faber Castell, Stabilo)","Unidad",0.39,1,{"$f":"SOLICITUD!F32","v":0},0,{"$f":"MIN(DiaCash!G32,DisOfic!G32,Lablink!G32,Lyreco!G32,Ocaña!G32,Taine!G32,Vistalegre!G32)","v":0},0]
[27,"Roller Retráctil Tinta Gel. Trazo entre 0,4 Y 0,7 mm.","Unidad",0.39,1,{"$f":"SOLICITUD!F33","v":0},0,{"$f":"MIN(DiaCash!G33,DisOfic!G33,Lablink!G33,Lyreco!G33,Ocaña!G33,Taine!G33,Vistalegre!G33)","v":0},0]
[28,"Roller Retráctil Tinta Gel. Trazo entre 0,4 Y 0,7 mm. (Pilot)","Unidad",0.47,1,{"$f":"SOLICITUD!F34","v":0},0,{"$f":"MIN(DiaCash!G34,DisOfic!G34,Lablink!G34,Lyreco!G34,Ocaña!G34,Taine!G34,Vistalegre!G34)","v":0},0]
[29,"Roller Tinta Gel con capuchón. Trazo entre  0,4 Y 0,7 mm.","Unidad",0.11,1,{"$f":"SOLICITUD!F35","v":0},0,{"$f":"MIN(DiaCash!G35,DisOfic!G35,Lablink!G35,Lyreco!G35,Ocaña!G35,Taine!G35,Vistalegre!G35)","v":0},0]
[30,"Roller Tinta Gel con capuchón. Trazo entre  0,4 Y 0,7 mm. (Pilot)","Unidad",1.1000000000000001,1,{"$f":"SOLICITUD!F36","v":0},0,{"$f":"MIN(DiaCash!G36,DisOfic!G36,Lablink!G36,Lyreco!G36,Ocaña!G36,Taine!G36,Vistalegre!G36)","v":0},0]
[31,"Roller Tinta Líquida con capuchón. Trazo entre 0,5 Y 0,7 mm.","Unidad",0.23,1,{"$f":"SOLICITUD!F37","v":0},0,{"$f":"MIN(DiaCash!G37,DisOfic!G37,Lablink!G37,Lyreco!G37,Ocaña!G37,Taine!G37,Vistalegre!G37)","v":0},0]
[32,"Roller Tinta Líquida con capuchón. Trazo entre 0,5 Y 0,7 mm. (Pilot)","Unidad",1.43,1,{"$f":"SOLICITUD!F38","v":0},0,{"$f":"MIN(DiaCash!G38,DisOfic!G38,Lablink!G38,Lyreco!G38,Ocaña!G38,Taine!G38,Vistalegre!G38)","v":0},0]
[33,"Rotulador Punta Fibra. Trazo entre 0,4 Y 1 mm.","Unidad",0.1,1,{"$f":"SOLICITUD!F39","v":0},0,{"$f":"MIN(DiaCash!G39,DisOfic!G39,Lablink!G39,Lyreco!G39,Ocaña!G39,Taine!G39,Vistalegre!G39)","v":0},0]
[34,"Rotulador Punta Fibra. Trazo entre 0,4 Y 1 mm. (Edding)","Unidad",0.51,1,{"$f":"SOLICITUD!F40","v":0},0,{"$f":"MIN(DiaCash!G40,DisOfic!G40,Lablink!G40,Lyreco!G40,Ocaña!G40,Taine!G40,Vistalegre!G40)","v":0},0]
[35,"Rotulador indeleble punta 0,6 mm (Staedtler)","Unidad",1,1,{"$f":"SOLICITUD!F41","v":0},0,{"$f":"MIN(DiaCash!G41,DisOfic!G41,Lablink!G41,Lyreco!G41,Ocaña!G41,Taine!G41,Vistalegre!G41)","v":0},0]
[36,"Rotulador Permanente. Trazo entre 0,7 Y 2 mm Punta Cónica","Unidad",0.14000000000000001,1,{"$f":"SOLICITUD!F42","v":0},0,{"$f":"MIN(DiaCash!G42,DisOfic!G42,Lablink!G42,Lyreco!G42,Ocaña!G42,Taine!G42,Vistalegre!G42)","v":0},0]
[37,"Rotulador Permanente. Trazo entre 0,7 Y 2 mm Punta Cónica (Edding)","Unidad",1.5,1,{"$f":"SOLICITUD!F43","v":0},0,{"$f":"MIN(DiaCash!G43,DisOfic!G43,Lablink!G43,Lyreco!G43,Ocaña!G43,Taine!G43,Vistalegre!G43)","v":0},0]
[38,"Rotulador Permanente. Trazo entre 1,5-3 mm  Punta Cómica (Edding)","Unidad",1.78,1,{"$f":"SOLICITUD!F44","v":0},0,{"$f":"MIN(DiaCash!G44,DisOfic!G44,Lablink!G44,Lyreco!G44,Ocaña!G44,Taine!G44,Vistalegre!G44)","v":0},0]
[39,"Rotulador Permanente. Trazo entre 2 Y 7 mm Punta Cónica","Unidad",0.23,1,{"$f":"SOLICITUD!F45","v":0},0,{"$f":"MIN(DiaCash!G45,DisOfic!G45,Lablink!G45,Lyreco!G45,Ocaña!G45,Taine!G45,Vistalegre!G45)","v":0},0]
[40,"Rotulador Permanente. Trazo entre 2 Y 7 mm Punta Cónica (Edding)","Unidad",1.6,1,{"$f":"SOLICITUD!F46","v":0},0,{"$f":"MIN(DiaCash!G46,DisOfic!G46,Lablink!G46,Lyreco!G46,Ocaña!G46,Taine!G46,Vistalegre!G46)","v":0},0]
[41,"Rotulador Permanente. Trazo entre 2 Y 7 mm Punta Biselada","Unidad",0.52,1,{"$f":"SOLICITUD!F47","v":0},0,{"$f":"MIN(DiaCash!G47,DisOfic!G47,Lablink!G47,Lyreco!G47,Ocaña!G47,Taine!G47,Vistalegre!G47)","v":0},0]
[42,"Rotulador Permanente. Trazo entre 2 Y 7 mm Punta Biselada (Edding)","Unidad",1.4,1,{"$f":"SOLICITUD!F48","v":0},0,{"$f":"MIN(DiaCash!G48,DisOfic!G48,Lablink!G48,Lyreco!G48,Ocaña!G48,Taine!G48,Vistalegre!G48)","v":0},0]
[43,"Rotulador Permanente. Trazo entre 8 Y 16 mm Punta Biselada","Unidad",1.2,1,{"$f":"SOLICITUD!F49","v":0},0,{"$f":"MIN(DiaCash!G49,DisOfic!G49,Lablink!G49,Lyreco!G49,Ocaña!G49,Taine!G49,Vistalegre!G49)","v":0},0]
[44,"Rotulador Permanente. Trazo entre 8 Y 16 mm Punta Biselada (Edding)","Unidad",4.03,1,{"$f":"SOLICITUD!F50","v":0},0,{"$f":"MIN(DiaCash!G50,DisOfic!G50,Lablink!G50,Lyreco!G50,Ocaña!G50,Taine!G50,Vistalegre!G50)","v":0},0]
[45,"Rotulador Borrable de Punta Biselada para Pizarra Blanca. Trazo Entre 2 Y 5 mm","Unidad",0.18,1,{"$f":"SOLICITUD!F51","v":0},0,{"$f":"MIN(DiaCash!G51,DisOfic!G51,Lablink!G51,Lyreco!G51,Ocaña!G51,Taine!G51,Vistalegre!G51)","v":0},0]
[46,"Rotulador Borrable de Punta Biselada para Pizarra Blanca. Trazo Entre 2 Y 5 mm (Bic)","Unidad",0.76,1,{"$f":"SOLICITUD!F52","v":0},0,{"$f":"MIN(DiaCash!G52,DisOfic!G52,Lablink!G52,Lyreco!G52,Ocaña!G52,Taine!G52,Vistalegre!G52)","v":0},0]
[47,"Rotulador Borrable de Punta Conica para Pizarra Blanca. Trazo Entre 1 Y 4 mm","Unidad",0.31,1,{"$f":"SOLICITUD!F53","v":0},0,{"$f":"MIN(DiaCash!G53,DisOfic!G53,Lablink!G53,Lyreco!G53,Ocaña!G53,Taine!G53,Vistalegre!G53)","v":0},0]
[48,"Rotulador Borrable de Punta Conica para Pizarra Blanca. Trazo Entre 1 Y 4 mm (Bic)","Unidad",0.86,1,{"$f":"SOLICITUD!F54","v":0},0,{"$f":"MIN(DiaCash!G54,DisOfic!G54,Lablink!G54,Lyreco!G54,Ocaña!G54,Taine!G54,Vistalegre!G54)","v":0},0]
[49,"Borrador para Pizarra Blanca","Unidad",1.69,1,{"$f":"SOLICITUD!F55","v":0},0,{"$f":"MIN(DiaCash!G55,DisOfic!G55,Lablink!G55,Lyreco!G55,Ocaña!G55,Taine!G55,Vistalegre!G55)","v":0},0]
[50,"Recambios Borrador de Pizarra Blanca ","Envase 10 unidades",1.36,0.5,{"$f":"SOLICITUD!F56","v":0},0,{"$f":"MIN(DiaCash!G56,DisOfic!G56,Lablink!G56,Lyreco!G56,Ocaña!G56,Taine!G56,Vistalegre!G56)","v":0},0]
[51,"Puntero laser rojo (Trust)","Unidad",21.5,1,{"$f":"SOLICITUD!F57","v":0},0,{"$f":"MIN(DiaCash!G57,DisOfic!G57,Lablink!G57,Lyreco!G57,Ocaña!G57,Taine!G57,Vistalegre!G57)","v":0},0]
[52,"Pizarra blanca magnética esmaltada. Marco aluminio/plástico 60x90 cm (hxa) (Nobo)","Unidad",18.75,1,{"$f":"SOLICITUD!F58","v":0},0,{"$f":"MIN(DiaCash!G58,DisOfic!G58,Lablink!G58,Lyreco!G58,Ocaña!G58,Taine!G58,Vistalegre!G58)","v":0},0]
[53,"Pizarra blanca magnética esmaltada. Marco aluminio/plástico 90x120 cm (hxa) (Nobo)","Unidad",33.369999999999997,1,{"$f":"SOLICITUD!F59","v":0},0,{"$f":"MIN(DiaCash!G59,DisOfic!G59,Lablink!G59,Lyreco!G59,Ocaña!G59,Taine!G59,Vistalegre!G59)","v":0},0]
[54,"Pizarra blanca magnética esmaltada. Marco aluminio/plástico 100x150 cm (hxa) (Nobo)","Unidad",54.2,1,{"$f":"SOLICITUD!F60","v":0},0,{"$f":"MIN(DiaCash!G60,DisOfic!G60,Lablink!G60,Lyreco!G60,Ocaña!G60,Taine!G60,Vistalegre!G60)","v":0},0]
[55,"Pizarra caballete con superficie lacada magnética. Marco y bandeja portamarcadores en aluminio. Brazos laterales magnéticos que triplican la superficie de lectura. Pies telescópicos con altura regulable. Para usar con o sin block de papel 1000x700 mm (hxa) (Bi-Office)","Unidad",53,1,{"$f":"SOLICITUD!F61","v":0},0,{"$f":"MIN(DiaCash!G61,DisOfic!G61,Lablink!G61,Lyreco!G61,Ocaña!G61,Taine!G61,Vistalegre!G61)","v":0},0]
[56,"Cinta Correctora con dispensador desechable tipo Roller. Anchos \nde 4,2 A 6 mm. Largos de 8,5 A 12 Mts.","Unidad",0.56999999999999995,1,{"$f":"SOLICITUD!F62","v":0},0,{"$f":"MIN(DiaCash!G62,DisOfic!G62,Lablink!G62,Lyreco!G62,Ocaña!G62,Taine!G62,Vistalegre!G62)","v":0},0]
[57,"Cinta Correctora con dispensador desechable tipo Roller. Anchos \nde 4,2 A 6 mm. Largos de 8,5 A 12 Mts. (Pritt Roller)","Unidad",1.9,1,{"$f":"SOLICITUD!F63","v":0},0,{"$f":"MIN(DiaCash!G63,DisOfic!G63,Lablink!G63,Lyreco!G63,Ocaña!G63,Taine!G63,Vistalegre!G63)","v":0},0]
[58,"Corrector Líquido de secado rápido con pincel aplicador 20 Ml","Unidad",0.3,1,{"$f":"SOLICITUD!F64","v":0},0,{"$f":"MIN(DiaCash!G64,DisOfic!G64,Lablink!G64,Lyreco!G64,Ocaña!G64,Taine!G64,Vistalegre!G64)","v":0},0]
[59,"Corrector Líquido de secado rápido con pincel aplicador 20 Ml (Tippex)","Unidad",1.5,1,{"$f":"SOLICITUD!F65","v":0},0,{"$f":"MIN(DiaCash!G65,DisOfic!G65,Lablink!G65,Lyreco!G65,Ocaña!G65,Taine!G65,Vistalegre!G65)","v":0},0]
[60,"Lápiz corrector con capuchón ajustable punta metálica secado rápido, de 7 a 12 ml (Pritt)","Unidad",2,1,{"$f":"SOLICITUD!F66","v":0},0,{"$f":"MIN(DiaCash!G66,DisOfic!G66,Lablink!G66,Lyreco!G66,Ocaña!G66,Taine!G66,Vistalegre!G66)","v":0},0]
[61,"Goma para borrar grafito","Unidad",7.0000000000000007E-2,1,{"$f":"SOLICITUD!F67","v":0},0,{"$f":"MIN(DiaCash!G67,DisOfic!G67,Lablink!G67,Lyreco!G67,Ocaña!G67,Taine!G67,Vistalegre!G67)","v":0},0]
[62,"Atril de sobremesa ajustable. Tamaño A4 y mayor","Unidad",10.119999999999999,1,{"$f":"SOLICITUD!F68","v":0},0,{"$f":"MIN(DiaCash!G68,DisOfic!G68,Lablink!G68,Lyreco!G68,Ocaña!G68,Taine!G68,Vistalegre!G68)","v":0},0]
[63,"Bandeja Apilable Sobremesa Plástico . Tamaño minimo apx. 24X34 cms.","Unidad",1.03,1,{"$f":"SOLICITUD!F69","v":0},0,{"$f":"MIN(DiaCash!G69,DisOfic!G69,Lablink!G69,Lyreco!G69,Ocaña!G69,Taine!G69,Vistalegre!G69)","v":0},0]
[64,"Bandeja Apilable Sobremesa Acero Cromado. Tamaño minimo apx. 24X34 cms.","Unidad",3.69,1,{"$f":"SOLICITUD!F70","v":0},0,{"$f":"MIN(DiaCash!G70,DisOfic!G70,Lablink!G70,Lyreco!G70,Ocaña!G70,Taine!G70,Vistalegre!G70)","v":0},0]
[65,"Cubilete para lápices ","Unidad",0.65,1,{"$f":"SOLICITUD!F71","v":0},0,{"$f":"MIN(DiaCash!G71,DisOfic!G71,Lablink!G71,Lyreco!G71,Ocaña!G71,Taine!G71,Vistalegre!G71)","v":0},0]
[66,"Regla de Plástico milimetrada transparente 40 cm","Unidad",0.28999999999999998,1,{"$f":"SOLICITUD!F72","v":0},{"$f":"IF(E72=\"Excluido\",\"Excluido1\",IF(F72>0,IF(F72<E72,\"Excluido2\",D72*F72),0))","v":0},{"$f":"MIN(DiaCash!G72,DisOfic!G72,Lablink!G72,Lyreco!G72,Ocaña!G72,Taine!G72,Vistalegre!G72)","v":0},{"$f":"IF(G72<=H72,G72,0)","v":0}]
[67,"Regla de Plástico milimetrada transparente 40 cm (Staedtler, Faber-Castell)","Unidad",1,1,{"$f":"SOLICITUD!F73","v":0},0,{"$f":"MIN(DiaCash!G73,DisOfic!G73,Lablink!G73,Lyreco!G73,Ocaña!G73,Taine!G73,Vistalegre!G73)","v":0},0]
[68,"Escuadra y Cartabon transparente 30 ó 40 cm ","Unidad",2.4,1,{"$f":"SOLICITUD!F74","v":0},0,{"$f":"MIN(DiaCash!G74,DisOfic!G74,Lablink!G74,Lyreco!G74,Ocaña!G74,Taine!G74,Vistalegre!G74)","v":0},0]
[69,"Escuadra y Cartabon transparente 30 ó 40 cm (Staedtler, Faber-Castell)","Unidad",4.4800000000000004,1,{"$f":"SOLICITUD!F75","v":0},0,{"$f":"MIN(DiaCash!G75,DisOfic!G75,Lablink!G75,Lyreco!G75,Ocaña!G75,Taine!G75,Vistalegre!G75)","v":0},0]
[70,"Abrecartas Acero Inoxidable 170 mm aprox.","Unidad",0.49,1,{"$f":"SOLICITUD!F76","v":0},0,{"$f":"MIN(DiaCash!G76,DisOfic!G76,Lablink!G76,Lyreco!G76,Ocaña!G76,Taine!G76,Vistalegre!G76)","v":0},0]
[71,"Bloque Calendario 82X116 mm, Papel de 60 gr/m2 mínimo","Unidad",0.65,1,{"$f":"SOLICITUD!F77","v":0},0,{"$f":"MIN(DiaCash!G77,DisOfic!G77,Lablink!G77,Lyreco!G77,Ocaña!G77,Taine!G77,Vistalegre!G77)","v":0},0]
[72,"Base para Bloque Calendario en baquelita","Unidad",1.05,1,{"$f":"SOLICITUD!F78","v":0},0,{"$f":"MIN(DiaCash!G78,DisOfic!G78,Lablink!G78,Lyreco!G78,Ocaña!G78,Taine!G78,Vistalegre!G78)","v":0},0]
[73,"Chincheta metálica ","Envase 100 Unidades",0.2,1,{"$f":"SOLICITUD!F79","v":0},0,{"$f":"MIN(DiaCash!G79,DisOfic!G79,Lablink!G79,Lyreco!G79,Ocaña!G79,Taine!G79,Vistalegre!G79)","v":0},0]
[74,"Chincheta señalizadoras colores (Apli)","Envase 50 unidades",0.18,2,{"$f":"SOLICITUD!F80","v":0},0,{"$f":"MIN(DiaCash!G80,DisOfic!G80,Lablink!G80,Lyreco!G80,Ocaña!G80,Taine!G80,Vistalegre!G80)","v":0},0]
[75,"Portarrollos para Cinta Adhesiva Hasta 25 mm de ancho y hasta 33 mts de largo","Unidad",1.43,1,{"$f":"SOLICITUD!F81","v":0},0,{"$f":"MIN(DiaCash!G81,DisOfic!G81,Lablink!G81,Lyreco!G81,Ocaña!G81,Taine!G81,Vistalegre!G81)","v":0},0]
[76,"Portarrollos para Cinta Adhesiva Hasta 25 mm de ancho y hasta 33 mts de largo (Scotch)","Unidad",3.5,1,{"$f":"SOLICITUD!F82","v":0},0,{"$f":"MIN(DiaCash!G82,DisOfic!G82,Lablink!G82,Lyreco!G82,Ocaña!G82,Taine!G82,Vistalegre!G82)","v":0},0]
[77,"Portarrollos para Cinta Adhesiva Hasta 25 mm de ancho y hasta 66 mts de largo","Unidad",2.65,1,{"$f":"SOLICITUD!F83","v":0},0,{"$f":"MIN(DiaCash!G83,DisOfic!G83,Lablink!G83,Lyreco!G83,Ocaña!G83,Taine!G83,Vistalegre!G83)","v":0},0]
[78,"Portarrollos para Cinta Adhesiva Hasta 25 mm de ancho y hasta 66 mts de largo (Scotch)","Unidad",6.5,1,{"$f":"SOLICITUD!F84","v":0},0,{"$f":"MIN(DiaCash!G84,DisOfic!G84,Lablink!G84,Lyreco!G84,Ocaña!G84,Taine!G84,Vistalegre!G84)","v":0},0]
[79,"Cinta Adhesiva Transparente 12 mm X 33 mts.","Unidad",0.25,1,{"$f":"SOLICITUD!F85","v":0},0,{"$f":"MIN(DiaCash!G85,DisOfic!G85,Lablink!G85,Lyreco!G85,Ocaña!G85,Taine!G85,Vistalegre!G85)","v":0},0]
[80,"Cinta Adhesiva Transparente 19 mm X 33 mts.","Unidad",0.11,1,{"$f":"SOLICITUD!F86","v":0},0,{"$f":"MIN(DiaCash!G86,DisOfic!G86,Lablink!G86,Lyreco!G86,Ocaña!G86,Taine!G86,Vistalegre!G86)","v":0},0]
[81,"Cinta Adhesiva Transparente 19 mm X 66 mts.","Unidad",0.6,1,{"$f":"SOLICITUD!F87","v":0},0,{"$f":"MIN(DiaCash!G87,DisOfic!G87,Lablink!G87,Lyreco!G87,Ocaña!G87,Taine!G87,Vistalegre!G87)","v":0},0]
[82,"Cinta Adhesiva Invisible 19 mm x 33 mts.","Unidad",0.35,1,{"$f":"SOLICITUD!F88","v":0},0,{"$f":"MIN(DiaCash!G88,DisOfic!G88,Lablink!G88,Lyreco!G88,Ocaña!G88,Taine!G88,Vistalegre!G88)","v":0},0]
[83,"Cinta Adhesiva Invisible 12 mm x 33 mts. (Scotch Magic)","Unidad",1.9,1,{"$f":"SOLICITUD!F89","v":0},0,{"$f":"MIN(DiaCash!G89,DisOfic!G89,Lablink!G89,Lyreco!G89,Ocaña!G89,Taine!G89,Vistalegre!G89)","v":0},0]
[84,"Cinta Adhesiva Invisible 19 mm x 33 mts. (Scotch Magic)","Unidad",2,1,{"$f":"SOLICITUD!F90","v":0},0,{"$f":"MIN(DiaCash!G90,DisOfic!G90,Lablink!G90,Lyreco!G90,Ocaña!G90,Taine!G90,Vistalegre!G90)","v":0},0]
[85,"Cinta Adhesiva Transparente 19 mm X 66 mts. (Scotch)","Unidad",1.5,1,{"$f":"SOLICITUD!F91","v":0},0,{"$f":"MIN(DiaCash!G91,DisOfic!G91,Lablink!G91,Lyreco!G91,Ocaña!G91,Taine!G91,Vistalegre!G91)","v":0},0]
[86,"Precintadora Manual hasta 50 mm de ancho","Unidad",3.62,1,{"$f":"SOLICITUD!F92","v":0},0,{"$f":"MIN(DiaCash!G92,DisOfic!G92,Lablink!G92,Lyreco!G92,Ocaña!G92,Taine!G92,Vistalegre!G92)","v":0},0]
[87,"Cinta Adhesiva para embalaje (Precinto) 48-55 mm x 66 mts mínimo","Unidad",0.56999999999999995,1,{"$f":"SOLICITUD!F93","v":0},0,{"$f":"MIN(DiaCash!G93,DisOfic!G93,Lablink!G93,Lyreco!G93,Ocaña!G93,Taine!G93,Vistalegre!G93)","v":0},0]
[88,"Cinta Adhesiva para embalaje (Precinto) 50 mm x 76 mts mínimo","Unidad",0.9,1,{"$f":"SOLICITUD!F94","v":0},0,{"$f":"MIN(DiaCash!G94,DisOfic!G94,Lablink!G94,Lyreco!G94,Ocaña!G94,Taine!G94,Vistalegre!G94)","v":0},0]
[89,"Clips Mariposa metálicos niquelados. Número 20. 50 mm","Envase 25 unidades",0.97,1,{"$f":"SOLICITUD!F95","v":0},0,{"$f":"MIN(DiaCash!G95,DisOfic!G95,Lablink!G95,Lyreco!G95,Ocaña!G95,Taine!G95,Vistalegre!G95)","v":0},0]
[90,"Clips Mariposa  metálicos niquelados. Número 10. 40 mm","Envase 50 unidades",1.1299999999999999,1,{"$f":"SOLICITUD!F96","v":0},0,{"$f":"MIN(DiaCash!G96,DisOfic!G96,Lablink!G96,Lyreco!G96,Ocaña!G96,Taine!G96,Vistalegre!G96)","v":0},0]
[91,"Clips Labiados redondos metálicos pulidos. Número 1. 20 mm","Envase 100 unidades",0.18,1,{"$f":"SOLICITUD!F97","v":0},0,{"$f":"MIN(DiaCash!G97,DisOfic!G97,Lablink!G97,Lyreco!G97,Ocaña!G97,Taine!G97,Vistalegre!G97)","v":0},0]
[92,"Clips Labiados redondos metálicos pulidos. Número 1,5. 25 mm","Envase 100 unidades",0.17,1,{"$f":"SOLICITUD!F98","v":0},0,{"$f":"MIN(DiaCash!G98,DisOfic!G98,Lablink!G98,Lyreco!G98,Ocaña!G98,Taine!G98,Vistalegre!G98)","v":0},0]
[93,"Clips Labiados redondos metálicos pulidos. Número 2. 32 mm","Envase 100 unidades",0.15,1,{"$f":"SOLICITUD!F99","v":0},0,{"$f":"MIN(DiaCash!G99,DisOfic!G99,Lablink!G99,Lyreco!G99,Ocaña!G99,Taine!G99,Vistalegre!G99)","v":0},0]
[94,"Clips Labiados redondos metálicos pulidos. Número 3. 40 mm","Envase 100 unidades",0.42,1,{"$f":"SOLICITUD!F100","v":0},0,{"$f":"MIN(DiaCash!G100,DisOfic!G100,Lablink!G100,Lyreco!G100,Ocaña!G100,Taine!G100,Vistalegre!G100)","v":0},0]
[95,"Pinza doble clip negra 19 mm ","Envase 12 unidades",0.23,1,{"$f":"SOLICITUD!F101","v":0},0,{"$f":"MIN(DiaCash!G101,DisOfic!G101,Lablink!G101,Lyreco!G101,Ocaña!G101,Taine!G101,Vistalegre!G101)","v":0},0]
[96,"Pinza doble clip negra 25 mm ","Envase 12 unidades",0.38,1,{"$f":"SOLICITUD!F102","v":0},0,{"$f":"MIN(DiaCash!G102,DisOfic!G102,Lablink!G102,Lyreco!G102,Ocaña!G102,Taine!G102,Vistalegre!G102)","v":0},0]
[97,"Pinza doble clip negra 32 mm ","Envase 12 unidades",0.52,1,{"$f":"SOLICITUD!F103","v":0},0,{"$f":"MIN(DiaCash!G103,DisOfic!G103,Lablink!G103,Lyreco!G103,Ocaña!G103,Taine!G103,Vistalegre!G103)","v":0},0]
[98,"Pinza doble clip negra 40 mm ","Envase 12 unidades",0.9,1,{"$f":"SOLICITUD!F104","v":0},0,{"$f":"MIN(DiaCash!G104,DisOfic!G104,Lablink!G104,Lyreco!G104,Ocaña!G104,Taine!G104,Vistalegre!G104)","v":0},0]
[99,"Pinza doble clip negra 50 mm ","Envase 12 unidades",1.28,1,{"$f":"SOLICITUD!F105","v":0},0,{"$f":"MIN(DiaCash!G105,DisOfic!G105,Lablink!G105,Lyreco!G105,Ocaña!G105,Taine!G105,Vistalegre!G105)","v":0},0]
[100,"Porta clips imantado con rodillo","Unidad",0.9,1,{"$f":"SOLICITUD!F106","v":0},0,{"$f":"MIN(DiaCash!G106,DisOfic!G106,Lablink!G106,Lyreco!G106,Ocaña!G106,Taine!G106,Vistalegre!G106)","v":0},0]
[101,"Porta clips imantado redondo","Unidad",3.6,1,{"$f":"SOLICITUD!F107","v":0},0,{"$f":"MIN(DiaCash!G107,DisOfic!G107,Lablink!G107,Lyreco!G107,Ocaña!G107,Taine!G107,Vistalegre!G107)","v":0},0]
[102,"Cutter hoja 18 mm.","Unidad",0.23,1,{"$f":"SOLICITUD!F108","v":0},0,{"$f":"MIN(DiaCash!G108,DisOfic!G108,Lablink!G108,Lyreco!G108,Ocaña!G108,Taine!G108,Vistalegre!G108)","v":0},0]
[103,"Cutter hoja 9 mm.","Unidad",0.13,1,{"$f":"SOLICITUD!F109","v":0},0,{"$f":"MIN(DiaCash!G109,DisOfic!G109,Lablink!G109,Lyreco!G109,Ocaña!G109,Taine!G109,Vistalegre!G109)","v":0},0]
[104,"Recambios para Cutter 18 mm","Envase 10 Unidades",0.3,1,{"$f":"SOLICITUD!F110","v":0},0,{"$f":"MIN(DiaCash!G110,DisOfic!G110,Lablink!G110,Lyreco!G110,Ocaña!G110,Taine!G110,Vistalegre!G110)","v":0},0]
[105,"Recambios para Cutter 9 mm","Envase 10 Unidades",0.17,1,{"$f":"SOLICITUD!F111","v":0},0,{"$f":"MIN(DiaCash!G111,DisOfic!G111,Lablink!G111,Lyreco!G111,Ocaña!G111,Taine!G111,Vistalegre!G111)","v":0},0]
[106,"Gomas Elásticas tamaños de 80 A 100 mm","Envase 100 gr.",0.52,1,{"$f":"SOLICITUD!F112","v":0},0,{"$f":"MIN(DiaCash!G112,DisOfic!G112,Lablink!G112,Lyreco!G112,Ocaña!G112,Taine!G112,Vistalegre!G112)","v":0},0]
[107,"Gomas Elásticas tamaños Hasta 60 mm","Envase 100 gr.",0.48,1,{"$f":"SOLICITUD!F113","v":0},0,{"$f":"MIN(DiaCash!G113,DisOfic!G113,Lablink!G113,Lyreco!G113,Ocaña!G113,Taine!G113,Vistalegre!G113)","v":0},0]
[108,"Pegamento en Barra (Barra 20 gr)","Unidad",0.28999999999999998,1,{"$f":"SOLICITUD!F114","v":0},0,{"$f":"MIN(DiaCash!G114,DisOfic!G114,Lablink!G114,Lyreco!G114,Ocaña!G114,Taine!G114,Vistalegre!G114)","v":0},0]
[109,"Pegamento en Barra (Barra 20 gr) (Pritt)","Unidad",1.3,1,{"$f":"SOLICITUD!F115","v":0},0,{"$f":"MIN(DiaCash!G115,DisOfic!G115,Lablink!G115,Lyreco!G115,Ocaña!G115,Taine!G115,Vistalegre!G115)","v":0},0]
[110,"Pegamento en Barra (Barra 40 gr)","Unidad",0.51,1,{"$f":"SOLICITUD!F116","v":0},0,{"$f":"MIN(DiaCash!G116,DisOfic!G116,Lablink!G116,Lyreco!G116,Ocaña!G116,Taine!G116,Vistalegre!G116)","v":0},0]
[111,"Pegamento en Barra (Barra 40 gr) (Pritt)","Unidad",1.96,1,{"$f":"SOLICITUD!F117","v":0},0,{"$f":"MIN(DiaCash!G117,DisOfic!G117,Lablink!G117,Lyreco!G117,Ocaña!G117,Taine!G117,Vistalegre!G117)","v":0},0]
[112,"Pegamento Instantáneo Cianocrilato (Tubo 3 gr)","Unidad",0.48,1,{"$f":"SOLICITUD!F118","v":0},0,{"$f":"MIN(DiaCash!G118,DisOfic!G118,Lablink!G118,Lyreco!G118,Ocaña!G118,Taine!G118,Vistalegre!G118)","v":0},0]
[113,"Pegamento Instantáneo Cianocrilato (Tubo 3 gr) (Loctite)","Unidad",2.65,1,{"$f":"SOLICITUD!F119","v":0},0,{"$f":"MIN(DiaCash!G119,DisOfic!G119,Lablink!G119,Lyreco!G119,Ocaña!G119,Taine!G119,Vistalegre!G119)","v":0},0]
[114,"Pegamento Instantáneo Cianocrilato Con Pincel Aplicador (5 gr)","Unidad",2.6,1,{"$f":"SOLICITUD!F120","v":0},0,{"$f":"MIN(DiaCash!G120,DisOfic!G120,Lablink!G120,Lyreco!G120,Ocaña!G120,Taine!G120,Vistalegre!G120)","v":0},0]
[115,"Pegamento Instantáneo Cianocrilato Con Pincel Aplicador (5 gr) (Loctite)","Unidad",4,1,{"$f":"SOLICITUD!F121","v":0},0,{"$f":"MIN(DiaCash!G121,DisOfic!G121,Lablink!G121,Lyreco!G121,Ocaña!G121,Taine!G121,Vistalegre!G121)","v":0},0]
[116,"Pegamento Universal (Tubo 35 gr)","Unidad",1.04,1,{"$f":"SOLICITUD!F122","v":0},0,{"$f":"MIN(DiaCash!G122,DisOfic!G122,Lablink!G122,Lyreco!G122,Ocaña!G122,Taine!G122,Vistalegre!G122)","v":0},0]
[117,"Pegamento Universal (Tubo 35 gr) (Imedio)","Unidad",1.72,1,{"$f":"SOLICITUD!F123","v":0},0,{"$f":"MIN(DiaCash!G123,DisOfic!G123,Lablink!G123,Lyreco!G123,Ocaña!G123,Taine!G123,Vistalegre!G123)","v":0},0]
[118,"Tijera hoja acero inoxidable. Mango ergonomico. Longitud 150 mm","Unidad",0.43,1,{"$f":"SOLICITUD!F124","v":0},0,{"$f":"MIN(DiaCash!G124,DisOfic!G124,Lablink!G124,Lyreco!G124,Ocaña!G124,Taine!G124,Vistalegre!G124)","v":0},0]
[119,"Tijera hoja acero Inoxidable. Mango ergonomico. Longitud 210 mm","Unidad",0.68,1,{"$f":"SOLICITUD!F125","v":0},0,{"$f":"MIN(DiaCash!G125,DisOfic!G125,Lablink!G125,Lyreco!G125,Ocaña!G125,Taine!G125,Vistalegre!G125)","v":0},0]
[120,"Tijera hoja acero inoxidable. 150 mm Longitud. (Westcott)","Unidad",2.5,1,{"$f":"SOLICITUD!F126","v":0},0,{"$f":"MIN(DiaCash!G126,DisOfic!G126,Lablink!G126,Lyreco!G126,Ocaña!G126,Taine!G126,Vistalegre!G126)","v":0},0]
[121,"Tijera hoja acero inoxidable. 210 mm Longitud. (Westcott)","Unidad",2.8,1,{"$f":"SOLICITUD!F127","v":0},0,{"$f":"MIN(DiaCash!G127,DisOfic!G127,Lablink!G127,Lyreco!G127,Ocaña!G127,Taine!G127,Vistalegre!G127)","v":0},0]
[122,"Calculadora sobremesa de oficina","Unidad",4.7300000000000004,1,{"$f":"SOLICITUD!F128","v":0},0,{"$f":"MIN(DiaCash!G128,DisOfic!G128,Lablink!G128,Lyreco!G128,Ocaña!G128,Taine!G128,Vistalegre!G128)","v":0},0]
[123,"Calculadora sobremesa de oficina (Casio)","Unidad",12,1,{"$f":"SOLICITUD!F129","v":0},0,{"$f":"MIN(DiaCash!G129,DisOfic!G129,Lablink!G129,Lyreco!G129,Ocaña!G129,Taine!G129,Vistalegre!G129)","v":0},0]
[124,"Calculadora científica 12 dígitos (Casio)","Unidad",15,1,{"$f":"SOLICITUD!F130","v":0},0,{"$f":"MIN(DiaCash!G130,DisOfic!G130,Lablink!G130,Lyreco!G130,Ocaña!G130,Taine!G130,Vistalegre!G130)","v":0},0]
[125,"Grapadora sobremesa metálica. Capacidad mínima 30 hojas de papel 80 gr/m2","Unidad",5.77,1,{"$f":"SOLICITUD!F131","v":0},0,{"$f":"MIN(DiaCash!G131,DisOfic!G131,Lablink!G131,Lyreco!G131,Ocaña!G131,Taine!G131,Vistalegre!G131)","v":0},0]
[126,"Grapadora sobremesa metálica. Capacidad mínima 30 hojas de papel 80 gr/m2 (Petrus)","Unidad",9.0500000000000007,1,{"$f":"SOLICITUD!F132","v":0},0,{"$f":"MIN(DiaCash!G132,DisOfic!G132,Lablink!G132,Lyreco!G132,Ocaña!G132,Taine!G132,Vistalegre!G132)","v":0},0]
[127,"Grapadora sobremesa . Capacidad mínima 20 hojas de papel 80 gr/m2","Unidad",1.84,1,{"$f":"SOLICITUD!F133","v":0},0,{"$f":"MIN(DiaCash!G133,DisOfic!G133,Lablink!G133,Lyreco!G133,Ocaña!G133,Taine!G133,Vistalegre!G133)","v":0},0]
[128,"Grapadora Tenaza Metalica. Capacidad mínima 40 hojas de papel 80 gr/m2","Unidad",10.07,1,{"$f":"SOLICITUD!F134","v":0},0,{"$f":"MIN(DiaCash!G134,DisOfic!G134,Lablink!G134,Lyreco!G134,Ocaña!G134,Taine!G134,Vistalegre!G134)","v":0},0]
[129,"Grapadora Tenaza Metalica. Capacidad mínima 40 hojas de papel 80 gr/m2 (Petrus)","Unidad",14.68,1,{"$f":"SOLICITUD!F135","v":0},0,{"$f":"MIN(DiaCash!G135,DisOfic!G135,Lablink!G135,Lyreco!G135,Ocaña!G135,Taine!G135,Vistalegre!G135)","v":0},0]
[130,"Grapadora Tenaza. Capacidad mínima 20 hojas de papel 80 gr/m2","Unidad",5,1,{"$f":"SOLICITUD!F136","v":0},{"$f":"IF(E136=\"Excluido\",\"Excluido1\",IF(F136>0,IF(F136<E136,\"Excluido2\",D136*F136),0))","v":0},{"$f":"MIN(DiaCash!G136,DisOfic!G136,Lablink!G136,Lyreco!G136,Ocaña!G136,Taine!G136,Vistalegre!G136)","v":0},{"$f":"IF(G136<=H136,G136,0)","v":0}]
[131,"Grapas Cobreadas o Galvanizadas 22/6 o equivalente","Envase 1000 unidades",0.18,1,{"$f":"SOLICITUD!F137","v":0},0,{"$f":"MIN(DiaCash!G137,DisOfic!G137,Lablink!G137,Lyreco!G137,Ocaña!G137,Taine!G137,Vistalegre!G137)","v":0},0]
[132,"Grapas Cobreadas o Galvanizadas 22/6 o equivalente (Petrus)","Envase 1000 unidades",0.57999999999999996,1,{"$f":"SOLICITUD!F138","v":0},0,{"$f":"MIN(DiaCash!G138,DisOfic!G138,Lablink!G138,Lyreco!G138,Ocaña!G138,Taine!G138,Vistalegre!G138)","v":0},0]
[133,"Grapas Cobreadas o Galvanizadas 24/6 o equivalente","Envase 1000 unidades",0.18,1,{"$f":"SOLICITUD!F139","v":0},0,{"$f":"MIN(DiaCash!G139,DisOfic!G139,Lablink!G139,Lyreco!G139,Ocaña!G139,Taine!G139,Vistalegre!G139)","v":0},0]
[134,"Grapas Cobreadas o Galvanizadas 24/6 o equivalente (Petrus)","Envase 1000 unidades",0.18,1,{"$f":"SOLICITUD!F140","v":0},0,{"$f":"MIN(DiaCash!G140,DisOfic!G140,Lablink!G140,Lyreco!G140,Ocaña!G140,Taine!G140,Vistalegre!G140)","v":0},0]
[135,"Grapas Cobreadas o Galvanizadas 23/6 o equivalente","Envase 1000 unidades",0.49,1,{"$f":"SOLICITUD!F141","v":0},0,{"$f":"MIN(DiaCash!G141,DisOfic!G141,Lablink!G141,Lyreco!G141,Ocaña!G141,Taine!G141,Vistalegre!G141)","v":0},0]
[136,"Grapas Cobreadas o Galvanizadas 23/6 o equivalente (Petrus)","Envase 1000 unidades",0.44,1,{"$f":"SOLICITUD!F142","v":0},0,{"$f":"MIN(DiaCash!G142,DisOfic!G142,Lablink!G142,Lyreco!G142,Ocaña!G142,Taine!G142,Vistalegre!G142)","v":0},0]
[137,"Grapas Cobreadas o Galvanizadas 23/8 o equivalente","Envase 1000 unidades",0.37,1,{"$f":"SOLICITUD!F143","v":0},0,{"$f":"MIN(DiaCash!G143,DisOfic!G143,Lablink!G143,Lyreco!G143,Ocaña!G143,Taine!G143,Vistalegre!G143)","v":0},0]
[138,"Grapas Cobreadas o Galvanizadas 23/8 o equivalente (Petrus)","Envase 1000 unidades",0.8,1,{"$f":"SOLICITUD!F144","v":0},0,{"$f":"MIN(DiaCash!G144,DisOfic!G144,Lablink!G144,Lyreco!G144,Ocaña!G144,Taine!G144,Vistalegre!G144)","v":0},0]
[139,"Grapas Cobreadas o Galvanizadas 23/10 o equivalente","Envase 1000 unidades",0.52,1,{"$f":"SOLICITUD!F145","v":0},0,{"$f":"MIN(DiaCash!G145,DisOfic!G145,Lablink!G145,Lyreco!G145,Ocaña!G145,Taine!G145,Vistalegre!G145)","v":0},0]
[140,"Grapas Cobreadas o Galvanizadas 23/10 o equivalente (Petrus)","Envase 1000 unidades",1.2,1,{"$f":"SOLICITUD!F146","v":0},0,{"$f":"MIN(DiaCash!G146,DisOfic!G146,Lablink!G146,Lyreco!G146,Ocaña!G146,Taine!G146,Vistalegre!G146)","v":0},0]
[141,"Grapas Cobreadas o Galvanizadas 23/12 o equivalente","Envase 1000 unidades",1.04,1,{"$f":"SOLICITUD!F147","v":0},0,{"$f":"MIN(DiaCash!G147,DisOfic!G147,Lablink!G147,Lyreco!G147,Ocaña!G147,Taine!G147,Vistalegre!G147)","v":0},0]
[142,"Grapas Cobreadas o Galvanizadas 23/12 o equivalente (Petrus)","Envase 1000 unidades",1.22,1,{"$f":"SOLICITUD!F148","v":0},0,{"$f":"MIN(DiaCash!G148,DisOfic!G148,Lablink!G148,Lyreco!G148,Ocaña!G148,Taine!G148,Vistalegre!G148)","v":0},0]
[143,"Grapas Cobreadas o Galvanizadas 23/13 o equivalente","Envase 1000 unidades",0.56000000000000005,1,{"$f":"SOLICITUD!F149","v":0},0,{"$f":"MIN(DiaCash!G149,DisOfic!G149,Lablink!G149,Lyreco!G149,Ocaña!G149,Taine!G149,Vistalegre!G149)","v":0},0]
[144,"Grapas Cobreadas o Galvanizadas 23/13 o equivalente (Petrus)","Envase 1000 unidades",1.7,1,{"$f":"SOLICITUD!F150","v":0},0,{"$f":"MIN(DiaCash!G150,DisOfic!G150,Lablink!G150,Lyreco!G150,Ocaña!G150,Taine!G150,Vistalegre!G150)","v":0},0]
[145,"Grapas Cobreadas o Galvanizadas 23/15 o equivalente","Envase 1000 unidades",0.96,1,{"$f":"SOLICITUD!F151","v":0},0,{"$f":"MIN(DiaCash!G151,DisOfic!G151,Lablink!G151,Lyreco!G151,Ocaña!G151,Taine!G151,Vistalegre!G151)","v":0},0]
[146,"Grapas Cobreadas o Galvanizadas 23/15 o equivalente (Petrus)","Envase 1000 unidades",1.24,1,{"$f":"SOLICITUD!F152","v":0},0,{"$f":"MIN(DiaCash!G152,DisOfic!G152,Lablink!G152,Lyreco!G152,Ocaña!G152,Taine!G152,Vistalegre!G152)","v":0},0]
[147,"Grapas Cobreadas o Galvanizadas 23/17 o equivalente","Envase 1000 unidades",0.93,1,{"$f":"SOLICITUD!F153","v":0},0,{"$f":"MIN(DiaCash!G153,DisOfic!G153,Lablink!G153,Lyreco!G153,Ocaña!G153,Taine!G153,Vistalegre!G153)","v":0},0]
[148,"Grapas Cobreadas o Galvanizadas 23/17 o equivalente (Petrus)","Envase 1000 unidades",3.2,1,{"$f":"SOLICITUD!F154","v":0},0,{"$f":"MIN(DiaCash!G154,DisOfic!G154,Lablink!G154,Lyreco!G154,Ocaña!G154,Taine!G154,Vistalegre!G154)","v":0},0]
[149,"Grapas Cobreadas o Galvanizadas 23/20 o equivalente","Envase 1000 unidades",1.1000000000000001,1,{"$f":"SOLICITUD!F155","v":0},0,{"$f":"MIN(DiaCash!G155,DisOfic!G155,Lablink!G155,Lyreco!G155,Ocaña!G155,Taine!G155,Vistalegre!G155)","v":0},0]
[150,"Grapas Cobreadas o Galvanizadas 23/20 o equivalente (Petrus)","Envase 1000 unidades",3.2,1,{"$f":"SOLICITUD!F156","v":0},0,{"$f":"MIN(DiaCash!G156,DisOfic!G156,Lablink!G156,Lyreco!G156,Ocaña!G156,Taine!G156,Vistalegre!G156)","v":0},0]
[151,"Grapas Cobreadas o Galvanizadas 23/24 o equivalente","Envase 1000 unidades",3.4,1,{"$f":"SOLICITUD!F157","v":0},0,{"$f":"MIN(DiaCash!G157,DisOfic!G157,Lablink!G157,Lyreco!G157,Ocaña!G157,Taine!G157,Vistalegre!G157)","v":0},0]
[152,"Grapas Cobreadas o Galvanizadas 23/24 o equivalente (Petrus)","Envase 1000 unidades",6,1,{"$f":"SOLICITUD!F158","v":0},0,{"$f":"MIN(DiaCash!G158,DisOfic!G158,Lablink!G158,Lyreco!G158,Ocaña!G158,Taine!G158,Vistalegre!G158)","v":0},0]
[153,"Grapas Galvanizadas 26/6 o equivalente","Envase 1000 unidades",0.43,1,{"$f":"SOLICITUD!F159","v":0},0,{"$f":"MIN(DiaCash!G159,DisOfic!G159,Lablink!G159,Lyreco!G159,Ocaña!G159,Taine!G159,Vistalegre!G159)","v":0},0]
[154,"Grapas Galvanizadas 26/6 o equivalente (Petrus)","Envase 1000 unidades",0.71,1,{"$f":"SOLICITUD!F160","v":0},0,{"$f":"MIN(DiaCash!G160,DisOfic!G160,Lablink!G160,Lyreco!G160,Ocaña!G160,Taine!G160,Vistalegre!G160)","v":0},0]
[155,"Grapas Galvanizadas 26/8 o equivalente","Envase 5000 unidades",4.33,1,{"$f":"SOLICITUD!F161","v":0},0,{"$f":"MIN(DiaCash!G161,DisOfic!G161,Lablink!G161,Lyreco!G161,Ocaña!G161,Taine!G161,Vistalegre!G161)","v":0},0]
[156,"Grapas Galvanizadas 26/8 o equivalente (Petrus)","Envase 5000 unidades",5.3,1,{"$f":"SOLICITUD!F162","v":0},0,{"$f":"MIN(DiaCash!G162,DisOfic!G162,Lablink!G162,Lyreco!G162,Ocaña!G162,Taine!G162,Vistalegre!G162)","v":0},0]
[157,"Quita Grapas tipo pinza cuerpo metálico","Unidad",0.27,1,{"$f":"SOLICITUD!F163","v":0},0,{"$f":"MIN(DiaCash!G163,DisOfic!G163,Lablink!G163,Lyreco!G163,Ocaña!G163,Taine!G163,Vistalegre!G163)","v":0},0]
[158,"Quita Grapas tipo pinza cuerpo metálico (Petrus, Novus)","Unidad",1.47,1,{"$f":"SOLICITUD!F164","v":0},0,{"$f":"MIN(DiaCash!G164,DisOfic!G164,Lablink!G164,Lyreco!G164,Ocaña!G164,Taine!G164,Vistalegre!G164)","v":0},0]
[159,"Perforadora  para papel 4 punzones. Capacidad Minima 30 hojas de 80gr/m2. Guia de posicicionamiento y deposito desperdicios. Distancia entre taladros 80mm","Unidad",34.729999999999997,1,{"$f":"SOLICITUD!F165","v":0},0,{"$f":"MIN(DiaCash!G165,DisOfic!G165,Lablink!G165,Lyreco!G165,Ocaña!G165,Taine!G165,Vistalegre!G165)","v":0},0]
[160,"Perforadora  para papel 4 punzones. Capacidad Minima 30 hojas de 80gr/m2. Guia de posicicionamiento y deposito desperdicios. Distancia entre taladros 80mm (Petrus)","Unidad",44.4,1,{"$f":"SOLICITUD!F166","v":0},0,{"$f":"MIN(DiaCash!G166,DisOfic!G166,Lablink!G166,Lyreco!G166,Ocaña!G166,Taine!G166,Vistalegre!G166)","v":0},0]
[161,"Perforadora  para papel 2 Punzones. Capacidad mínima 20 hojas de 80gr/m2. Guia de posicicionamiento y deposito desperdicios. Distancia entre taladros 80mm ","Unidad",3.33,1,{"$f":"SOLICITUD!F167","v":0},0,{"$f":"MIN(DiaCash!G167,DisOfic!G167,Lablink!G167,Lyreco!G167,Ocaña!G167,Taine!G167,Vistalegre!G167)","v":0},0]
[162,"Perforadora  para papel 2 Punzones. Capacidad mínima 20 hojas de 80gr/m2. Guia de posicicionamiento y deposito desperdicios. Distancia entre taladros 80mm (Petrus)","Unidad",7.47,1,{"$f":"SOLICITUD!F168","v":0},0,{"$f":"MIN(DiaCash!G168,DisOfic!G168,Lablink!G168,Lyreco!G168,Ocaña!G168,Taine!G168,Vistalegre!G168)","v":0},0]
[163,"Perforadora  para papel 2 Punzones. Capacidad mínima 60 hojas de 80gr/m2. Guia de Posicicionamiento y deposito desperdicios. Distancia entre taladros 80mm","Unidad",15.95,1,{"$f":"SOLICITUD!F169","v":0},0,{"$f":"MIN(DiaCash!G169,DisOfic!G169,Lablink!G169,Lyreco!G169,Ocaña!G169,Taine!G169,Vistalegre!G169)","v":0},0]
[164,"Perforadora  para papel 2 Punzones. Capacidad mínima 60 hojas de 80gr/m2. Guia de Posicicionamiento y deposito desperdicios. Distancia entre taladros 80mm (Petrus)","Unidad",22,1,{"$f":"SOLICITUD!F170","v":0},0,{"$f":"MIN(DiaCash!G170,DisOfic!G170,Lablink!G170,Lyreco!G170,Ocaña!G170,Taine!G170,Vistalegre!G170)","v":0},0]
[165,"Papelera metálica rejilla cuadrada o redonda. Mínimo:  30cm altura X 25cm diámetro","Unidad",3.42,1,{"$f":"SOLICITUD!F171","v":0},0,{"$f":"MIN(DiaCash!G171,DisOfic!G171,Lablink!G171,Lyreco!G171,Ocaña!G171,Taine!G171,Vistalegre!G171)","v":0},0]
[166,"Fechador de entintaje automático. Con placa de texto altura mínima de impresión de 4 mm.","Unidad",12.02,1,{"$f":"SOLICITUD!F172","v":0},0,{"$f":"MIN(DiaCash!G172,DisOfic!G172,Lablink!G172,Lyreco!G172,Ocaña!G172,Taine!G172,Vistalegre!G172)","v":0},0]
[167,"Numerador automático de 6 dígitos con armazón metálico y ruedas. Altura de impresión mínima de 4, 5 mm.","Unidad",16.8,1,{"$f":"SOLICITUD!F173","v":0},0,{"$f":"MIN(DiaCash!G173,DisOfic!G173,Lablink!G173,Lyreco!G173,Ocaña!G173,Taine!G173,Vistalegre!G173)","v":0},0]
[168,"Sello de caucho circular grabado. Tamaño área para texto de hasta 50 mm  de diámetro.","Unidad",12.5,1,{"$f":"SOLICITUD!F174","v":0},0,{"$f":"MIN(DiaCash!G174,DisOfic!G174,Lablink!G174,Lyreco!G174,Ocaña!G174,Taine!G174,Vistalegre!G174)","v":0},0]
[169,"Sello de caucho rectangular grabado. Tamaño área para texto de hasta 50x50 mm.","Unidad",8.31,1,{"$f":"SOLICITUD!F175","v":0},0,{"$f":"MIN(DiaCash!G175,DisOfic!G175,Lablink!G175,Lyreco!G175,Ocaña!G175,Taine!G175,Vistalegre!G175)","v":0},0]
[170,"Sello de caucho rectangular grabado. Tamaño área para texto de hasta 80x80 mm.","Unidad",19.329999999999998,1,{"$f":"SOLICITUD!F176","v":0},0,{"$f":"MIN(DiaCash!G176,DisOfic!G176,Lablink!G176,Lyreco!G176,Ocaña!G176,Taine!G176,Vistalegre!G176)","v":0},0]
[171,"Sello de Caucho Autoentintado Rectangular hasta 45X18 mm ","Unidad",16,1,{"$f":"SOLICITUD!F177","v":0},0,{"$f":"MIN(DiaCash!G177,DisOfic!G177,Lablink!G177,Lyreco!G177,Ocaña!G177,Taine!G177,Vistalegre!G177)","v":0},0]
[172,"Sello de Caucho Autoentintado Rectangular de 46X19 hasta 70X30 mm","Unidad",18,1,{"$f":"SOLICITUD!F178","v":0},0,{"$f":"MIN(DiaCash!G178,DisOfic!G178,Lablink!G178,Lyreco!G178,Ocaña!G178,Taine!G178,Vistalegre!G178)","v":0},0]
[173,"Sello de Caucho Autoentintado Redondo hasta 30 mm","Unidad",20,1,{"$f":"SOLICITUD!F179","v":0},0,{"$f":"MIN(DiaCash!G179,DisOfic!G179,Lablink!G179,Lyreco!G179,Ocaña!G179,Taine!G179,Vistalegre!G179)","v":0},0]
[174,"Sello de Caucho Autoentintado Redondo de 31 a 50 mm","Unidad",25,1,{"$f":"SOLICITUD!F180","v":0},0,{"$f":"MIN(DiaCash!G180,DisOfic!G180,Lablink!G180,Lyreco!G180,Ocaña!G180,Taine!G180,Vistalegre!G180)","v":0},0]
[175,"Sello de Caucho Autoentintado Cuadrado hasta 30 mm","Unidad",16,1,{"$f":"SOLICITUD!F181","v":0},0,{"$f":"MIN(DiaCash!G181,DisOfic!G181,Lablink!G181,Lyreco!G181,Ocaña!G181,Taine!G181,Vistalegre!G181)","v":0},0]
[176,"Sello de Caucho Autoentintado Cuadrado de 31 a 50 mm","Unidad",18,1,{"$f":"SOLICITUD!F182","v":0},0,{"$f":"MIN(DiaCash!G182,DisOfic!G182,Lablink!G182,Lyreco!G182,Ocaña!G182,Taine!G182,Vistalegre!G182)","v":0},0]
[177,"Tampón para sellos.N1, 90 X160 mm.","Unidad",2.88,1,{"$f":"SOLICITUD!F183","v":0},0,{"$f":"MIN(DiaCash!G183,DisOfic!G183,Lablink!G183,Lyreco!G183,Ocaña!G183,Taine!G183,Vistalegre!G183)","v":0},0]
[178,"Tampón para sellos.N2, 70 X110 mm.","Unidad",1.32,1,{"$f":"SOLICITUD!F184","v":0},0,{"$f":"MIN(DiaCash!G184,DisOfic!G184,Lablink!G184,Lyreco!G184,Ocaña!G184,Taine!G184,Vistalegre!G184)","v":0},0]
[179,"Tinta de sellar para tampón.(30 ML)","Unidad",0.48,1,{"$f":"SOLICITUD!F185","v":0},0,{"$f":"MIN(DiaCash!G185,DisOfic!G185,Lablink!G185,Lyreco!G185,Ocaña!G185,Taine!G185,Vistalegre!G185)","v":0},0]
[180,"Almohadilla para sello autoentintado. Hasta 30X50 mm","Unidad",1.1000000000000001,1,{"$f":"SOLICITUD!F186","v":0},0,{"$f":"MIN(DiaCash!G186,DisOfic!G186,Lablink!G186,Lyreco!G186,Ocaña!G186,Taine!G186,Vistalegre!G186)","v":0},0]
[181,"Almohadilla para sello autoentintado. Hasta 70X30 mm","Unidad",2,1,{"$f":"SOLICITUD!F187","v":0},0,{"$f":"MIN(DiaCash!G187,DisOfic!G187,Lablink!G187,Lyreco!G187,Ocaña!G187,Taine!G187,Vistalegre!G187)","v":0},0]
[182,"Portasellos de sobremesa 6 plazas","Unidad",4.71,1,{"$f":"SOLICITUD!F188","v":0},0,{"$f":"MIN(DiaCash!G188,DisOfic!G188,Lablink!G188,Lyreco!G188,Ocaña!G188,Taine!G188,Vistalegre!G188)","v":0},0]
[183,"Portasellos de sobremesa 8 plazas","Unidad",4.7699999999999996,1,{"$f":"SOLICITUD!F189","v":0},0,{"$f":"MIN(DiaCash!G189,DisOfic!G189,Lablink!G189,Lyreco!G189,Ocaña!G189,Taine!G189,Vistalegre!G189)","v":0},0]
[184,"Portasellos de sobremesa 10 plazas","Unidad",6.6,1,{"$f":"SOLICITUD!F190","v":0},0,{"$f":"MIN(DiaCash!G190,DisOfic!G190,Lablink!G190,Lyreco!G190,Ocaña!G190,Taine!G190,Vistalegre!G190)","v":0},0]
[185,"Archivador de palanca a-z sin caja. Cartón forrado en plástico . Con cantonera metálica. Dos anillas. Lomo de  75 mm. Tamaño A4.","Unidad",1.3,1,{"$f":"SOLICITUD!F191","v":0},0,{"$f":"MIN(DiaCash!G191,DisOfic!G191,Lablink!G191,Lyreco!G191,Ocaña!G191,Taine!G191,Vistalegre!G191)","v":0},0]
[186,"Archivador de palanca a-z sin caja. Cartón forrado en plástico . Con cantonera metálica. Dos anillas. Lomo de  75 mm. Tamaño folio.","Unidad",1.32,1,{"$f":"SOLICITUD!F192","v":0},0,{"$f":"MIN(DiaCash!G192,DisOfic!G192,Lablink!G192,Lyreco!G192,Ocaña!G192,Taine!G192,Vistalegre!G192)","v":0},0]
[187,"Archivador de palanca a-z sin caja.Cartón jaspeado. Con cantonera metálica. Dos anillas. Lomo de  75 mm. Tamaño A4.","Unidad",1,1,{"$f":"SOLICITUD!F193","v":0},0,{"$f":"MIN(DiaCash!G193,DisOfic!G193,Lablink!G193,Lyreco!G193,Ocaña!G193,Taine!G193,Vistalegre!G193)","v":0},0]
[188,"Archivador de palanca a-z sin caja.Cartón jaspeado. Con cantonera metálica. Dos anillas. Lomo de  75 mm. Tamaño folio.","Unidad",0.98,1,{"$f":"SOLICITUD!F194","v":0},0,{"$f":"MIN(DiaCash!G194,DisOfic!G194,Lablink!G194,Lyreco!G194,Ocaña!G194,Taine!G194,Vistalegre!G194)","v":0},0]
[189,"Caja de cartón color blanco para archivo definitivo. Tamaño folio  Lomo 100 mm aprox.","Unidad",0.32,10,{"$f":"SOLICITUD!F195","v":0},0,{"$f":"MIN(DiaCash!G195,DisOfic!G195,Lablink!G195,Lyreco!G195,Ocaña!G195,Taine!G195,Vistalegre!G195)","v":0},0]
[190,"Caja de cartón color blanco para archivo definitivo. Tamaño folio prolongado Lomo 115 mm aprox.","Unidad",0.37,10,{"$f":"SOLICITUD!F196","v":0},0,{"$f":"MIN(DiaCash!G196,DisOfic!G196,Lablink!G196,Lyreco!G196,Ocaña!G196,Taine!G196,Vistalegre!G196)","v":0},0]
[191,"Caja de cartón color blanco para archivo definitivo. Tamaño folio prolongado. Lomo 100 mm aprox.","Unidad",0.43,10,{"$f":"SOLICITUD!F197","v":0},0,{"$f":"MIN(DiaCash!G197,DisOfic!G197,Lablink!G197,Lyreco!G197,Ocaña!G197,Taine!G197,Vistalegre!G197)","v":0},0]
[192,"Caja para archivador de palanca a-z. Misma calidad y dimensiones compatibles con el archivador de palanca a-z. Tamaño A4. Lomo de  75 mm.","Unidad",0.48,1,{"$f":"SOLICITUD!F198","v":0},0,{"$f":"MIN(DiaCash!G198,DisOfic!G198,Lablink!G198,Lyreco!G198,Ocaña!G198,Taine!G198,Vistalegre!G198)","v":0},0]
[193,"Caja para archivador de palanca a-z. Misma calidad y dimensiones compatibles con el archivador de palanca a-z. Tamaño folio. Lomo de  75 mm.","Unidad",0.54,1,{"$f":"SOLICITUD!F199","v":0},0,{"$f":"MIN(DiaCash!G199,DisOfic!G199,Lablink!G199,Lyreco!G199,Ocaña!G199,Taine!G199,Vistalegre!G199)","v":0},0]
[194,"Archivador de 2 anillas 25 mm. Fabricado en cartón forrado en plástico tanto en el exterior como en el interior. Dos anillas. Lomo de 40 mm. Tamaño A4.","Unidad",2,1,{"$f":"SOLICITUD!F200","v":0},{"$f":"IF(E200=\"Excluido\",\"Excluido1\",IF(F200>0,IF(F200<E200,\"Excluido2\",D200*F200),0))","v":0},{"$f":"MIN(DiaCash!G200,DisOfic!G200,Lablink!G200,Lyreco!G200,Ocaña!G200,Taine!G200,Vistalegre!G200)","v":0},{"$f":"IF(G200<=H200,G200,0)","v":0}]
[195,"Archivador de 2 anillas 25 mm. Fabricado en cartón forrado en plástico tanto en el exterior como en el interior. Dos anillas. Lomo de 40 mm. Tamaño folio.","Unidad",2.2000000000000002,1,{"$f":"SOLICITUD!F201","v":0},0,{"$f":"MIN(DiaCash!G201,DisOfic!G201,Lablink!G201,Lyreco!G201,Ocaña!G201,Taine!G201,Vistalegre!G201)","v":0},0]
[196,"Archivador de 4 anillas 25 mm. Fabricado en cartón forrado en plástico tanto en el exterior como en el interior. Lomo de 40 mm. Tamaño A4.","Unidad",1.2,1,{"$f":"SOLICITUD!F202","v":0},0,{"$f":"MIN(DiaCash!G202,DisOfic!G202,Lablink!G202,Lyreco!G202,Ocaña!G202,Taine!G202,Vistalegre!G202)","v":0},0]
[197,"Archivador de 4 anillas 25 mm. Fabricado en cartón forrado en plástico tanto en el exterior como en el interior. Lomo de 40 mm. Tamaño folio.","Unidad",2.2000000000000002,1,{"$f":"SOLICITUD!F203","v":0},0,{"$f":"MIN(DiaCash!G203,DisOfic!G203,Lablink!G203,Lyreco!G203,Ocaña!G203,Taine!G203,Vistalegre!G203)","v":0},0]
[198,"Archivador de 4 anillas 40 mm. Fabricado en cartón forrado en plástico tanto en el exterior como en el interior. Lomo de 60 mm. Tamaño A4.","Unidad",1.9,1,{"$f":"SOLICITUD!F204","v":0},0,{"$f":"MIN(DiaCash!G204,DisOfic!G204,Lablink!G204,Lyreco!G204,Ocaña!G204,Taine!G204,Vistalegre!G204)","v":0},0]
[199,"Archivador de 4 anillas 40 mm. Fabricado en cartón forrado en plástico tanto en el exterior como en el interior. Lomo de 60 mm. Tamaño folio.","Unidad",2.4,1,{"$f":"SOLICITUD!F205","v":0},0,{"$f":"MIN(DiaCash!G205,DisOfic!G205,Lablink!G205,Lyreco!G205,Ocaña!G205,Taine!G205,Vistalegre!G205)","v":0},0]
[200,"Separadores de plástico tamaño folio 5 pestañas 2 o 4 perforaciones","Unidad",0.48,1,{"$f":"SOLICITUD!F206","v":0},0,{"$f":"MIN(DiaCash!G206,DisOfic!G206,Lablink!G206,Lyreco!G206,Ocaña!G206,Taine!G206,Vistalegre!G206)","v":0},0]
[201,"Carpeta clasificadora forrada, con fuelle-acordeón. Índice alfabético (a-z) o numérico (1-31) . Tamaño folio. 12 departamentos mínimo.","Unidad",5.71,1,{"$f":"SOLICITUD!F207","v":0},0,{"$f":"MIN(DiaCash!G207,DisOfic!G207,Lablink!G207,Lyreco!G207,Ocaña!G207,Taine!G207,Vistalegre!G207)","v":0},0]
[202,"Carpeta clasificadora forrada, con fuelle-acordeón. Índice alfabético (a-z) o numérico (1-31) . Tamaño folio. 20 departamentos mínimo.","Unidad",4.28,1,{"$f":"SOLICITUD!F208","v":0},0,{"$f":"MIN(DiaCash!G208,DisOfic!G208,Lablink!G208,Lyreco!G208,Ocaña!G208,Taine!G208,Vistalegre!G208)","v":0},0]
[203,"Carpeta colgante de armario  . Tamaño A4.  Visor vertical o lateral rígido 13 cm. Varilla de plástico o metálica. Medida entre ejes 330 mm.  Cartón de 230 gr/m2 mínimo.  Lomo en 15 mm .","Unidad",0.74,25,{"$f":"SOLICITUD!F209","v":0},0,{"$f":"MIN(DiaCash!G209,DisOfic!G209,Lablink!G209,Lyreco!G209,Ocaña!G209,Taine!G209,Vistalegre!G209)","v":0},0]
[204,"Carpeta colgante de armario  . Tamaño A4. Visor vertical o lateral rígido 13 cm. Varilla de plástico o metálica.  Medida entre ejes 330 mm . Cartón de 230gr/m2 mínimo. Lomo en 30mm.","Unidad",0.76,25,{"$f":"SOLICITUD!F210","v":0},0,{"$f":"MIN(DiaCash!G210,DisOfic!G210,Lablink!G210,Lyreco!G210,Ocaña!G210,Taine!G210,Vistalegre!G210)","v":0},0]
[205,"Carpeta colgante de armario  . Tamaño A4.  Visor vertical o lateral rígido 13 cm. Varilla de plástico o metálica. Medida entre ejes 330 mm . Cartón de 230 gr/m2 mínimo. Lomo en v.","Unidad",0.36,25,{"$f":"SOLICITUD!F211","v":0},0,{"$f":"MIN(DiaCash!G211,DisOfic!G211,Lablink!G211,Lyreco!G211,Ocaña!G211,Taine!G211,Vistalegre!G211)","v":0},0]
[206,"Carpeta colgante de armario  . Tamaño folio. Visor vertical o lateral rígido de 13 cm. Medida entre ejes 365 mm.  Cartón de 230gr/m2 mínimo. Lomo en v.","Unidad",0.44,25,{"$f":"SOLICITUD!F212","v":0},0,{"$f":"MIN(DiaCash!G212,DisOfic!G212,Lablink!G212,Lyreco!G212,Ocaña!G212,Taine!G212,Vistalegre!G212)","v":0},0]
[207,"Carpeta colgante de cajón . Tamaño A4. Visor horizontal o superior .Varilla de plástico o metálica. Medida entre ejes 330 mm. Cartón kraft de 230gr/m2 mínimo.Lomo 15 mm ","Unidad",0.62,25,{"$f":"SOLICITUD!F213","v":0},0,{"$f":"MIN(DiaCash!G213,DisOfic!G213,Lablink!G213,Lyreco!G213,Ocaña!G213,Taine!G213,Vistalegre!G213)","v":0},0]
[208,"Carpeta colgante de cajón . Tamaño folio. Visor horizontal o superior .Varilla de plástico o metálica. Medida entre ejes 365 mm.  Cartón de 230gr/m2 mínimo. Lomo 15 mm","Unidad",0.67,25,{"$f":"SOLICITUD!F214","v":0},0,{"$f":"MIN(DiaCash!G214,DisOfic!G214,Lablink!G214,Lyreco!G214,Ocaña!G214,Taine!G214,Vistalegre!G214)","v":0},0]
[209,"Carpeta colgante de cajón . Tamaño folio. Visor horizontal o superior .Varilla de plástico o metálica. Medida entre ejes 365 mm. Cartón de 230gr/m2 mínimo. Lomo en 30 mm","Unidad",0.5,25,{"$f":"SOLICITUD!F215","v":0},0,{"$f":"MIN(DiaCash!G215,DisOfic!G215,Lablink!G215,Lyreco!G215,Ocaña!G215,Taine!G215,Vistalegre!G215)","v":0},0]
[210,"Carpeta colgante de cajón . Tamaño A4.Visor horizontal o superior .Varilla de plástico o metálica. Medida entre ejes 330 mm. Cartón kraft de 230gr/m2 mínimo. Lomo en v.","Unidad",0.28999999999999998,25,{"$f":"SOLICITUD!F216","v":0},0,{"$f":"MIN(DiaCash!G216,DisOfic!G216,Lablink!G216,Lyreco!G216,Ocaña!G216,Taine!G216,Vistalegre!G216)","v":0},0]
[211,"Carpeta colgante de cajón . Tamaño folio prolongado. Visor horizontal o superior. Varilla de plástico o metálica.  Medida entre ejes 390 mm. Cartón kraft de 230gr/m2 mínimo. Lomo en v.","Unidad",0.47,50,{"$f":"SOLICITUD!F217","v":0},0,{"$f":"MIN(DiaCash!G217,DisOfic!G217,Lablink!G217,Lyreco!G217,Ocaña!G217,Taine!G217,Vistalegre!G217)","v":0},0]
[212,"Carpeta de cartulina con gomas y 3 solapas. Gramaje de 380 gr/m2 mínimo Medidas 320 x 240 mm aprox.","Unidad",0.45,1,{"$f":"SOLICITUD!F218","v":0},0,{"$f":"MIN(DiaCash!G218,DisOfic!G218,Lablink!G218,Lyreco!G218,Ocaña!G218,Taine!G218,Vistalegre!G218)","v":0},0]
[213,"Carpeta proyectos. Cartón gomas montadas. Lomo 50 mm.","Unidad",1.65,1,{"$f":"SOLICITUD!F219","v":0},0,{"$f":"MIN(DiaCash!G219,DisOfic!G219,Lablink!G219,Lyreco!G219,Ocaña!G219,Taine!G219,Vistalegre!G219)","v":0},0]
[214,"Carpeta proyectos. Cartón gomas montadas. Lomo 90 mm.","Unidad",2.08,1,{"$f":"SOLICITUD!F220","v":0},0,{"$f":"MIN(DiaCash!G220,DisOfic!G220,Lablink!G220,Lyreco!G220,Ocaña!G220,Taine!G220,Vistalegre!G220)","v":0},0]
[215,"Carpetas de fundas. Cubiertas en plástico semirrígido opaco. Fundas interiores soldadas al lomo. Número de fundas interiores: 10.","Unidad",1.36,1,{"$f":"SOLICITUD!F221","v":0},0,{"$f":"MIN(DiaCash!G221,DisOfic!G221,Lablink!G221,Lyreco!G221,Ocaña!G221,Taine!G221,Vistalegre!G221)","v":0},0]
[216,"Carpetas de fundas. Cubiertas en plástico semirrígido opaco. Fundas interiores soldadas al lomo. Número de fundas interiores: 20.","Unidad",0.8,1,{"$f":"SOLICITUD!F222","v":0},0,{"$f":"MIN(DiaCash!G222,DisOfic!G222,Lablink!G222,Lyreco!G222,Ocaña!G222,Taine!G222,Vistalegre!G222)","v":0},0]
[217,"Carpetas de fundas. Cubiertas en plástico semirrígido opaco. Fundas interiores soldadas al lomo. Número de fundas interiores: 30.","Unidad",2.84,1,{"$f":"SOLICITUD!F223","v":0},0,{"$f":"MIN(DiaCash!G223,DisOfic!G223,Lablink!G223,Lyreco!G223,Ocaña!G223,Taine!G223,Vistalegre!G223)","v":0},0]
[218,"Carpetas de fundas. Cubiertas en plástico semirrígido opaco. Fundas interiores soldadas al lomo. Número de fundas interiores: 40.","Unidad",2.04,1,{"$f":"SOLICITUD!F224","v":0},0,{"$f":"MIN(DiaCash!G224,DisOfic!G224,Lablink!G224,Lyreco!G224,Ocaña!G224,Taine!G224,Vistalegre!G224)","v":0},0]
[219,"Carpetas de fundas. Cubiertas en plástico semirrígido opaco. Fundas interiores soldadas al lomo. Número de fundas interiores: 60.","Unidad",2.41,1,{"$f":"SOLICITUD!F225","v":0},0,{"$f":"MIN(DiaCash!G225,DisOfic!G225,Lablink!G225,Lyreco!G225,Ocaña!G225,Taine!G225,Vistalegre!G225)","v":0},0]
[220,"Índice plástico varios colores. Juego de solapas tipo 1 a 10 de plástico mínimo de 120 micras . Tamaño  A4 o superior.","Unidad",0.49,1,{"$f":"SOLICITUD!F226","v":0},0,{"$f":"MIN(DiaCash!G226,DisOfic!G226,Lablink!G226,Lyreco!G226,Ocaña!G226,Taine!G226,Vistalegre!G226)","v":0},0]
[221,"Índice plástico varios colores. Juego de solapas tipo A a Z de plástico espesor mínimo de 120 micras . Tamaño  A4 o superior.","Unidad",0.85,1,{"$f":"SOLICITUD!F227","v":0},0,{"$f":"MIN(DiaCash!G227,DisOfic!G227,Lablink!G227,Lyreco!G227,Ocaña!G227,Taine!G227,Vistalegre!G227)","v":0},0]
[222,"Subcarpeta cartulina. Gramaje 170 gr/m2 mínimo. Tamaño A4.","Unidad",7.0000000000000007E-2,50,{"$f":"SOLICITUD!F228","v":0},0,{"$f":"MIN(DiaCash!G228,DisOfic!G228,Lablink!G228,Lyreco!G228,Ocaña!G228,Taine!G228,Vistalegre!G228)","v":0},0]
[223,"Subcarpeta cartulina. Gramaje 170 gr/m2 mínimo. Tamaño folio.","Unidad",0.09,50,{"$f":"SOLICITUD!F229","v":0},0,{"$f":"MIN(DiaCash!G229,DisOfic!G229,Lablink!G229,Lyreco!G229,Ocaña!G229,Taine!G229,Vistalegre!G229)","v":0},0]
[224,"Subcarpeta cartulina. Gramaje 210 gr/m2 mínimo. Tamaño A4.","Unidad",0.11,50,{"$f":"SOLICITUD!F230","v":0},0,{"$f":"MIN(DiaCash!G230,DisOfic!G230,Lablink!G230,Lyreco!G230,Ocaña!G230,Taine!G230,Vistalegre!G230)","v":0},0]
[225,"Subcarpeta cartulina. Gramaje 210 gr/m2 mínimo. Tamaño folio.","Unidad",0.1,50,{"$f":"SOLICITUD!F231","v":0},0,{"$f":"MIN(DiaCash!G231,DisOfic!G231,Lablink!G231,Lyreco!G231,Ocaña!G231,Taine!G231,Vistalegre!G231)","v":0},0]
[226,"Tubo portaplanos de plástico","Unidad",1.1299999999999999,1,{"$f":"SOLICITUD!F232","v":0},0,{"$f":"MIN(DiaCash!G232,DisOfic!G232,Lablink!G232,Lyreco!G232,Ocaña!G232,Taine!G232,Vistalegre!G232)","v":0},0]
[227,"Visores plásticos (rígido o flexible con/sin efecto lupa, visión superior o lateral, con/sin etiquetas ).","Unidad",0.09,25,{"$f":"SOLICITUD!F233","v":0},0,{"$f":"MIN(DiaCash!G233,DisOfic!G233,Lablink!G233,Lyreco!G233,Ocaña!G233,Taine!G233,Vistalegre!G233)","v":0},0]
[228,"Dossier con fastener. Portada transparente, contraportada opaca.  Fastener metálico. Tamaño A4.","Unidad",0.12,1,{"$f":"SOLICITUD!F234","v":0},0,{"$f":"MIN(DiaCash!G234,DisOfic!G234,Lablink!G234,Lyreco!G234,Ocaña!G234,Taine!G234,Vistalegre!G234)","v":0},0]
[229,"Dossier con fastener. Portada transparente, contraportada opaca.  Fastener metálico. Tamaño folio.","Unidad",0.53,1,{"$f":"SOLICITUD!F235","v":0},0,{"$f":"MIN(DiaCash!G235,DisOfic!G235,Lablink!G235,Lyreco!G235,Ocaña!G235,Taine!G235,Vistalegre!G235)","v":0},0]
[230,"Dossier uñero en plástico. Apertura superior y lateral. Tamaño folio","Envase 100 unidades",7,1,{"$f":"SOLICITUD!F236","v":0},0,{"$f":"MIN(DiaCash!G236,DisOfic!G236,Lablink!G236,Lyreco!G236,Ocaña!G236,Taine!G236,Vistalegre!G236)","v":0},0]
[231,"Funda plástico transparente antiestática multitaladro. Tamaño A4. Grosor de 60 micras mínimo.","Envase 100 unidades",3.08,1,{"$f":"SOLICITUD!F237","v":0},0,{"$f":"MIN(DiaCash!G237,DisOfic!G237,Lablink!G237,Lyreco!G237,Ocaña!G237,Taine!G237,Vistalegre!G237)","v":0},0]
[232,"Funda plástico transparente antiestática multitaladro. Tamaño folio. Grosor de 60 micras mínimo.","Envase 100 unidades",3.82,1,{"$f":"SOLICITUD!F238","v":0},0,{"$f":"MIN(DiaCash!G238,DisOfic!G238,Lablink!G238,Lyreco!G238,Ocaña!G238,Taine!G238,Vistalegre!G238)","v":0},0]
[233,"Bolsas para plastificar tamaño A4. 80 micras mínimo","Envase 100 unidades",5.25,1,{"$f":"SOLICITUD!F239","v":0},0,{"$f":"MIN(DiaCash!G239,DisOfic!G239,Lablink!G239,Lyreco!G239,Ocaña!G239,Taine!G239,Vistalegre!G239)","v":0},0]
[234,"Portafirmas fabricado en plástico color negro, tapas acolchadas  con refuerzo en base y escalonados . Medidas 335 x 245 mm aprox. Con 18 departamentos mínimo de doble cartulina y lomo tipo fuelle.","Unidad",23.75,1,{"$f":"SOLICITUD!F240","v":0},0,{"$f":"MIN(DiaCash!G240,DisOfic!G240,Lablink!G240,Lyreco!G240,Ocaña!G240,Taine!G240,Vistalegre!G240)","v":0},0]
[235,"Bloc de notas. Liso o cuadrícula. De 80-90 hojas aprox. Gramaje 60 gr/m2 mínimo.Tamaño A4 o folio.","Unidad",1.4,1,{"$f":"SOLICITUD!F241","v":0},0,{"$f":"MIN(DiaCash!G241,DisOfic!G241,Lablink!G241,Lyreco!G241,Ocaña!G241,Taine!G241,Vistalegre!G241)","v":0},0]
[236,"Bloc de notas. Liso o cuadrícula. De 80-90 hojas aprox. Gramaje 60 gr/m2 mínimo.Tamaño A4 o folio. (Enri)","Unidad",1.6,1,{"$f":"SOLICITUD!F242","v":0},0,{"$f":"MIN(DiaCash!G242,DisOfic!G242,Lablink!G242,Lyreco!G242,Ocaña!G242,Taine!G242,Vistalegre!G242)","v":0},0]
[237,"Bloc de notas. Liso o cuadrícula. De 80-90 hojas aprox. Gramaje 60 gr/m2 mínimo.Tamaño A5 o 4º.","Unidad",0.75,1,{"$f":"SOLICITUD!F243","v":0},0,{"$f":"MIN(DiaCash!G243,DisOfic!G243,Lablink!G243,Lyreco!G243,Ocaña!G243,Taine!G243,Vistalegre!G243)","v":0},0]
[238,"Bloc de notas. Liso o cuadrícula. De 80-90 hojas aprox. Gramaje 60 gr/m2 mínimo.Tamaño A5 o 4º. (Enri)","Unidad",0.9,1,{"$f":"SOLICITUD!F244","v":0},0,{"$f":"MIN(DiaCash!G244,DisOfic!G244,Lablink!G244,Lyreco!G244,Ocaña!G244,Taine!G244,Vistalegre!G244)","v":0},0]
[239,"Bloc de notas. Liso o cuadrícula. De 80-90 hojas aprox. Gramaje 60 gr/m2 mínimo.Tamaño A6 u 8º.","Unidad",0.45,1,{"$f":"SOLICITUD!F245","v":0},0,{"$f":"MIN(DiaCash!G245,DisOfic!G245,Lablink!G245,Lyreco!G245,Ocaña!G245,Taine!G245,Vistalegre!G245)","v":0},0]
[240,"Bloc de notas. Liso o cuadrícula. De 80-90 hojas aprox. Gramaje 60 gr/m2 mínimo.Tamaño A6 u 8º. (Enri)","Unidad",0.56000000000000005,1,{"$f":"SOLICITUD!F246","v":0},0,{"$f":"MIN(DiaCash!G246,DisOfic!G246,Lablink!G246,Lyreco!G246,Ocaña!G246,Taine!G246,Vistalegre!G246)","v":0},0]
[241,"Bloc de papel liso, para caballete (pizarra de papel) 70 gr/m2 mínimo . Medidas 650 x 900 mm aprox, (mínimo 25 hojas por bloc aprox.).","Unidad",5.32,1,{"$f":"SOLICITUD!F247","v":0},0,{"$f":"MIN(DiaCash!G247,DisOfic!G247,Lablink!G247,Lyreco!G247,Ocaña!G247,Taine!G247,Vistalegre!G247)","v":0},0]
[242,"Bloc de papel liso, para caballete (pizarra de papel) 70 gr/m2 mínimo . Medidas 650 x 900 mm aprox, (mínimo 25 hojas por bloc aprox.). (Enri)","Unidad",5.5,1,{"$f":"SOLICITUD!F248","v":0},0,{"$f":"MIN(DiaCash!G248,DisOfic!G248,Lablink!G248,Lyreco!G248,Ocaña!G248,Taine!G248,Vistalegre!G248)","v":0},0]
[243,"Cuaderno espiral cubierta cartón duro. Liso o cuadrícula. De 80-90 hojas aprox. Gramaje 60 gr/m2 mínimo.Tamaño A4 o folio.","Unidad",1.0900000000000001,1,{"$f":"SOLICITUD!F249","v":0},0,{"$f":"MIN(DiaCash!G249,DisOfic!G249,Lablink!G249,Lyreco!G249,Ocaña!G249,Taine!G249,Vistalegre!G249)","v":0},0]
[244,"Cuaderno espiral cubierta cartón duro. Liso o cuadrícula. De 80-90 hojas aprox. Gramaje 60 gr/m2 mínimo.Tamaño A4 o folio. (Enri)","Unidad",1.18,1,{"$f":"SOLICITUD!F250","v":0},0,{"$f":"MIN(DiaCash!G250,DisOfic!G250,Lablink!G250,Lyreco!G250,Ocaña!G250,Taine!G250,Vistalegre!G250)","v":0},0]
[245,"Cuaderno espiral cubierta cartón duro. Liso o cuadrícula. De 80-90 hojas aprox. Gramaje 60 gr/m2 mínimo. Tamaño A5 o 4º.","Unidad",0.81,1,{"$f":"SOLICITUD!F251","v":0},0,{"$f":"MIN(DiaCash!G251,DisOfic!G251,Lablink!G251,Lyreco!G251,Ocaña!G251,Taine!G251,Vistalegre!G251)","v":0},0]
[246,"Cuaderno espiral cubierta cartón duro. Liso o cuadrícula. De 80-90 hojas aprox. Gramaje 60 gr/m2 mínimo. Tamaño A5 o 4º. (Enri)","Unidad",0.8,1,{"$f":"SOLICITUD!F252","v":0},0,{"$f":"MIN(DiaCash!G252,DisOfic!G252,Lablink!G252,Lyreco!G252,Ocaña!G252,Taine!G252,Vistalegre!G252)","v":0},0]
[247,"Cuaderno espiral cubierta cartón duro. Liso o cuadrícula. De 80-90 hojas aprox. Gramaje 60 gr/m2 mínimo.Tamaño A6 u 8º.","Unidad",0.48,1,{"$f":"SOLICITUD!F253","v":0},0,{"$f":"MIN(DiaCash!G253,DisOfic!G253,Lablink!G253,Lyreco!G253,Ocaña!G253,Taine!G253,Vistalegre!G253)","v":0},0]
[248,"Cuaderno espiral cubierta cartón duro. Liso o cuadrícula. De 80-90 hojas aprox. Gramaje 60 gr/m2 mínimo.Tamaño A6 u 8º. (Enri)","Unidad",0.48,1,{"$f":"SOLICITUD!F254","v":0},0,{"$f":"MIN(DiaCash!G254,DisOfic!G254,Lablink!G254,Lyreco!G254,Ocaña!G254,Taine!G254,Vistalegre!G254)","v":0},0]
[249,"Cuaderno espiral cubierta plastificada. Liso o cuadrícula. De 80-90 hojas aprox. Gramaje 60 gr/m2 mínimo.Tamaño A4 o folio.","Unidad",1.2,1,{"$f":"SOLICITUD!F255","v":0},0,{"$f":"MIN(DiaCash!G255,DisOfic!G255,Lablink!G255,Lyreco!G255,Ocaña!G255,Taine!G255,Vistalegre!G255)","v":0},0]
[250,"Cuaderno espiral cubierta plastificada. Liso o cuadrícula. De 80-90 hojas aprox. Gramaje 60 gr/m2 mínimo.Tamaño A4 o folio. (Enri)","Unidad",1.5,1,{"$f":"SOLICITUD!F256","v":0},0,{"$f":"MIN(DiaCash!G256,DisOfic!G256,Lablink!G256,Lyreco!G256,Ocaña!G256,Taine!G256,Vistalegre!G256)","v":0},0]
[251,"Cuaderno espiral cubierta plastificada. Liso o cuadrícula. De 80-90 hojas aprox. Gramaje 60 gr/m2 mínimo.Tamaño A5 o 4º.","Unidad",0.8,1,{"$f":"SOLICITUD!F257","v":0},0,{"$f":"MIN(DiaCash!G257,DisOfic!G257,Lablink!G257,Lyreco!G257,Ocaña!G257,Taine!G257,Vistalegre!G257)","v":0},0]
[252,"Cuaderno espiral cubierta plastificada. Liso o cuadrícula. De 80-90 hojas aprox. Gramaje 60 gr/m2 mínimo.Tamaño A5 o 4º. (Enri)","Unidad",1.05,1,{"$f":"SOLICITUD!F258","v":0},0,{"$f":"MIN(DiaCash!G258,DisOfic!G258,Lablink!G258,Lyreco!G258,Ocaña!G258,Taine!G258,Vistalegre!G258)","v":0},0]
[253,"Cuaderno espiral cubierta plastificada. Liso o cuadrícula. De 80-90 hojas aprox. Gramaje 60 gr/m2 mínimo.Tamaño A6 u 8º.","Unidad",0.75,1,{"$f":"SOLICITUD!F259","v":0},0,{"$f":"MIN(DiaCash!G259,DisOfic!G259,Lablink!G259,Lyreco!G259,Ocaña!G259,Taine!G259,Vistalegre!G259)","v":0},0]
[254,"Cuaderno espiral cubierta plastificada. Liso o cuadrícula. De 80-90 hojas aprox. Gramaje 60 gr/m2 mínimo.Tamaño A6 u 8º. (Enri)","Unidad",0.91,1,{"$f":"SOLICITUD!F260","v":0},0,{"$f":"MIN(DiaCash!G260,DisOfic!G260,Lablink!G260,Lyreco!G260,Ocaña!G260,Taine!G260,Vistalegre!G260)","v":0},0]
[255,"Cuaderno espiral cubierta plastificada. Liso o cuadrícula. De 80-90 hojas aprox. Gramaje 60 gr/m2 mínimo.Tamaño A7 u 16º.","Unidad",0.5,1,{"$f":"SOLICITUD!F261","v":0},0,{"$f":"MIN(DiaCash!G261,DisOfic!G261,Lablink!G261,Lyreco!G261,Ocaña!G261,Taine!G261,Vistalegre!G261)","v":0},0]
[256,"Cuaderno espiral cubierta plastificada. Liso o cuadrícula. De 80-90 hojas aprox. Gramaje 60 gr/m2 mínimo.Tamaño A7 u 16º. (Enri)","Unidad",0.71,1,{"$f":"SOLICITUD!F262","v":0},0,{"$f":"MIN(DiaCash!G262,DisOfic!G262,Lablink!G262,Lyreco!G262,Ocaña!G262,Taine!G262,Vistalegre!G262)","v":0},0]
[257,"Banderitas/Index autoadhesivas colores surtidos ","Taco 100 unidades",0.1,1,{"$f":"SOLICITUD!F263","v":0},0,{"$f":"MIN(DiaCash!G263,DisOfic!G263,Lablink!G263,Lyreco!G263,Ocaña!G263,Taine!G263,Vistalegre!G263)","v":0},0]
[258,"Banderitas/Index pack 5 mininotas neon Post-it","Taco 100 unidades",0.7,1,{"$f":"SOLICITUD!F264","v":0},{"$f":"IF(E264=\"Excluido\",\"Excluido1\",IF(F264>0,IF(F264<E264,\"Excluido2\",D264*F264),0))","v":0},{"$f":"MIN(DiaCash!G264,DisOfic!G264,Lablink!G264,Lyreco!G264,Ocaña!G264,Taine!G264,Vistalegre!G264)","v":0},{"$f":"IF(G264<=H264,G264,0)","v":0}]
[259,"Blocs de notas autoadhesivas amarillas. Medidas 38 x 51 mm, 100 hojas.","Taco 100 unidades",0.08,12,{"$f":"SOLICITUD!F265","v":0},0,{"$f":"MIN(DiaCash!G265,DisOfic!G265,Lablink!G265,Lyreco!G265,Ocaña!G265,Taine!G265,Vistalegre!G265)","v":0},0]
[260,"Blocs de notas autoadhesivas amarillas. Medidas 38 x 51 mm, 100 hojas. (Post-it)","Taco 100 unidades",0.57999999999999996,12,{"$f":"SOLICITUD!F266","v":0},0,{"$f":"MIN(DiaCash!G266,DisOfic!G266,Lablink!G266,Lyreco!G266,Ocaña!G266,Taine!G266,Vistalegre!G266)","v":0},0]
[261,"Blocs de notas autoadhesivas amarillas. Medidas 76 x 76 mm, 100 hojas.","Taco 100 unidades",0.11,1,{"$f":"SOLICITUD!F267","v":0},0,{"$f":"MIN(DiaCash!G267,DisOfic!G267,Lablink!G267,Lyreco!G267,Ocaña!G267,Taine!G267,Vistalegre!G267)","v":0},0]
[262,"Blocs de notas autoadhesivas de colores. Medidas 76 x 76 mm, 100 hojas. (Post-it)","Taco 100 unidades",1.27,1,{"$f":"SOLICITUD!F268","v":0},0,{"$f":"MIN(DiaCash!G268,DisOfic!G268,Lablink!G268,Lyreco!G268,Ocaña!G268,Taine!G268,Vistalegre!G268)","v":0},0]
[263,"Blocs de notas autoadhesivas amarillas. Medidas 76 x 127 mm, 100 hojas.","Taco 100 unidades",0.19,1,{"$f":"SOLICITUD!F269","v":0},0,{"$f":"MIN(DiaCash!G269,DisOfic!G269,Lablink!G269,Lyreco!G269,Ocaña!G269,Taine!G269,Vistalegre!G269)","v":0},0]
[264,"Blocs de notas autoadhesivas amarillas. Medidas 76 x 127 mm, 100 hojas. (Post-it)","Taco 100 unidades",1.65,1,{"$f":"SOLICITUD!F270","v":0},0,{"$f":"MIN(DiaCash!G270,DisOfic!G270,Lablink!G270,Lyreco!G270,Ocaña!G270,Taine!G270,Vistalegre!G270)","v":0},0]
[265,"Etiquetas adhesivas. En formato  A4, número de etiquetas por hoja según el tamaño de etiqueta. ","Paquete 100 hojas",4,1,{"$f":"SOLICITUD!F271","v":0},0,{"$f":"MIN(DiaCash!G271,DisOfic!G271,Lablink!G271,Lyreco!G271,Ocaña!G271,Taine!G271,Vistalegre!G271)","v":0},0]
[266,"Etiquetas adhesivas. En formato  A4, número de etiquetas por hoja según el tamaño de\netiqueta. ","Paquete 25 hojas",4.5,1,{"$f":"SOLICITUD!F272","v":0},0,{"$f":"MIN(DiaCash!G272,DisOfic!G272,Lablink!G272,Lyreco!G272,Ocaña!G272,Taine!G272,Vistalegre!G272)","v":0},0]
[267,"Etiquetas adhesivas. En formato  A4, número de etiquetas por hoja según el tamaño de\netiqueta. ","Paquete 10 hojas",1.75,1,{"$f":"SOLICITUD!F273","v":0},0,{"$f":"MIN(DiaCash!G273,DisOfic!G273,Lablink!G273,Lyreco!G273,Ocaña!G273,Taine!G273,Vistalegre!G273)","v":0},0]
[268,"Carpeta de cartulina  por una cara plegada y solapa al pie. Tamaño mínimo A4.  Gramaje mínimo 170 gr/m2.","Unidad",0.2,50,{"$f":"SOLICITUD!F274","v":0},0,{"$f":"MIN(DiaCash!G274,DisOfic!G274,Lablink!G274,Lyreco!G274,Ocaña!G274,Taine!G274,Vistalegre!G274)","v":0},0]
[269,"Carpeta de cartulina  por una cara plegada y solapa al pie. Tamaño mínimo A4.  Gramaje mínimo  210  gr/m2.","Unidad",0.31,50,{"$f":"SOLICITUD!F275","v":0},0,{"$f":"MIN(DiaCash!G275,DisOfic!G275,Lablink!G275,Lyreco!G275,Ocaña!G275,Taine!G275,Vistalegre!G275)","v":0},0]
[270,"Carpeta de cartulina con dos bolsillos. Tamaño mínimo A4.  Gramaje mínimo 170 gr/m2.","Unidad",0.42,50,{"$f":"SOLICITUD!F276","v":0},0,{"$f":"MIN(DiaCash!G276,DisOfic!G276,Lablink!G276,Lyreco!G276,Ocaña!G276,Taine!G276,Vistalegre!G276)","v":0},0]
[271,"Carpeta de cartulina con dos bolsillos. Tamaño mínimo  A4 Gramaje mínimo  210  gr/m2.","Unidad",0.42,50,{"$f":"SOLICITUD!F277","v":0},0,{"$f":"MIN(DiaCash!G277,DisOfic!G277,Lablink!G277,Lyreco!G277,Ocaña!G277,Taine!G277,Vistalegre!G277)","v":0},0]
[272,"Carpeta de cartulina. Tamaño A4.  Gramaje mínimo 170 gr/m2.","Unidad",0.06,100,{"$f":"SOLICITUD!F278","v":0},0,{"$f":"MIN(DiaCash!G278,DisOfic!G278,Lablink!G278,Lyreco!G278,Ocaña!G278,Taine!G278,Vistalegre!G278)","v":0},0]
[273,"Carpeta de cartulina. Tamaño folio gramaje 210 gr/m2.","Unidad",7.0000000000000007E-2,100,{"$f":"SOLICITUD!F279","v":0},0,{"$f":"MIN(DiaCash!G279,DisOfic!G279,Lablink!G279,Lyreco!G279,Ocaña!G279,Taine!G279,Vistalegre!G279)","v":0},0]
[274,"Canutillos plásticos. Redondos y ovalados, de 6 mm.","Paquete 200",3.73,0.5,{"$f":"SOLICITUD!F280","v":0},0,{"$f":"MIN(DiaCash!G280,DisOfic!G280,Lablink!G280,Lyreco!G280,Ocaña!G280,Taine!G280,Vistalegre!G280)","v":0},0]
[275,"Canutillos plásticos. Redondos y ovalados, de 8 mm.","Paquete 100",2.52,1,{"$f":"SOLICITUD!F281","v":0},0,{"$f":"MIN(DiaCash!G281,DisOfic!G281,Lablink!G281,Lyreco!G281,Ocaña!G281,Taine!G281,Vistalegre!G281)","v":0},0]
[276,"Canutillos plásticos. Redondos y ovalados, de 10 mm.","Paquete 100",2.95,1,{"$f":"SOLICITUD!F282","v":0},0,{"$f":"MIN(DiaCash!G282,DisOfic!G282,Lablink!G282,Lyreco!G282,Ocaña!G282,Taine!G282,Vistalegre!G282)","v":0},0]
[277,"Canutillos plásticos. Redondos y ovalados, de 12 mm.","Paquete 100",4.62,1,{"$f":"SOLICITUD!F283","v":0},0,{"$f":"MIN(DiaCash!G283,DisOfic!G283,Lablink!G283,Lyreco!G283,Ocaña!G283,Taine!G283,Vistalegre!G283)","v":0},0]
[278,"Canutillos plásticos. Redondos y ovalados, de 14 mm.","Paquete 100",5.25,1,{"$f":"SOLICITUD!F284","v":0},0,{"$f":"MIN(DiaCash!G284,DisOfic!G284,Lablink!G284,Lyreco!G284,Ocaña!G284,Taine!G284,Vistalegre!G284)","v":0},0]
[279,"Canutillos plásticos. Redondos y ovalados, de 16 mm.","Paquete 100",6.1,1,{"$f":"SOLICITUD!F285","v":0},0,{"$f":"MIN(DiaCash!G285,DisOfic!G285,Lablink!G285,Lyreco!G285,Ocaña!G285,Taine!G285,Vistalegre!G285)","v":0},0]
[280,"Canutillos plásticos. Redondos y ovalados, de 18 mm.","Paquete 100",7.36,1,{"$f":"SOLICITUD!F286","v":0},0,{"$f":"MIN(DiaCash!G286,DisOfic!G286,Lablink!G286,Lyreco!G286,Ocaña!G286,Taine!G286,Vistalegre!G286)","v":0},0]
[281,"Canutillos plásticos. Redondos y ovalados, de 22 mm.","Paquete 50",6.01,1,{"$f":"SOLICITUD!F287","v":0},0,{"$f":"MIN(DiaCash!G287,DisOfic!G287,Lablink!G287,Lyreco!G287,Ocaña!G287,Taine!G287,Vistalegre!G287)","v":0},0]
[282,"Canutillos plásticos. Redondos y ovalados, de 25 mm.","Paquete 50",6.95,1,{"$f":"SOLICITUD!F288","v":0},0,{"$f":"MIN(DiaCash!G288,DisOfic!G288,Lablink!G288,Lyreco!G288,Ocaña!G288,Taine!G288,Vistalegre!G288)","v":0},0]
[283,"Canutillos plásticos. Redondos y ovalados, de 28 mm.","Paquete 50",8.48,1,{"$f":"SOLICITUD!F289","v":0},0,{"$f":"MIN(DiaCash!G289,DisOfic!G289,Lablink!G289,Lyreco!G289,Ocaña!G289,Taine!G289,Vistalegre!G289)","v":0},0]
[284,"Canutillos plásticos. Redondos y ovalados, de 32 mm.","Paquete 50",8.17,1,{"$f":"SOLICITUD!F290","v":0},0,{"$f":"MIN(DiaCash!G290,DisOfic!G290,Lablink!G290,Lyreco!G290,Ocaña!G290,Taine!G290,Vistalegre!G290)","v":0},0]
[285,"Canutillos plásticos. Redondos y ovalados, de 45 mm.","Paquete 25",5.57,2,{"$f":"SOLICITUD!F291","v":0},0,{"$f":"MIN(DiaCash!G291,DisOfic!G291,Lablink!G291,Lyreco!G291,Ocaña!G291,Taine!G291,Vistalegre!G291)","v":0},0]
[286,"Canutillos plásticos. Redondos y ovalados, de 51 mm.","Paquete 25",7.12,2,{"$f":"SOLICITUD!F292","v":0},0,{"$f":"MIN(DiaCash!G292,DisOfic!G292,Lablink!G292,Lyreco!G292,Ocaña!G292,Taine!G292,Vistalegre!G292)","v":0},0]
[287,"Espirales metálicas de encuadernación. Paso 5:1, de diámetro 8 mm.","Paquete 100",4.7699999999999996,1,{"$f":"SOLICITUD!F293","v":0},0,{"$f":"MIN(DiaCash!G293,DisOfic!G293,Lablink!G293,Lyreco!G293,Ocaña!G293,Taine!G293,Vistalegre!G293)","v":0},0]
[288,"Espirales metálicas de encuadernación. Paso 5:1, de diámetro 10 mm.","Paquete 100",5.59,1,{"$f":"SOLICITUD!F294","v":0},0,{"$f":"MIN(DiaCash!G294,DisOfic!G294,Lablink!G294,Lyreco!G294,Ocaña!G294,Taine!G294,Vistalegre!G294)","v":0},0]
[289,"Espirales metálicas de encuadernación. Paso 5:1, de diámetro 12 mm.","Paquete 100",7.22,1,{"$f":"SOLICITUD!F295","v":0},0,{"$f":"MIN(DiaCash!G295,DisOfic!G295,Lablink!G295,Lyreco!G295,Ocaña!G295,Taine!G295,Vistalegre!G295)","v":0},0]
[290,"Espirales metálicas de encuadernación. Paso 5:1, de diámetro 14 mm.","Paquete 100",8.19,1,{"$f":"SOLICITUD!F296","v":0},0,{"$f":"MIN(DiaCash!G296,DisOfic!G296,Lablink!G296,Lyreco!G296,Ocaña!G296,Taine!G296,Vistalegre!G296)","v":0},0]
[291,"Espirales metálicas de encuadernación. Paso 5:1, de diámetro 16 mm.","Paquete 100",11.08,1,{"$f":"SOLICITUD!F297","v":0},0,{"$f":"MIN(DiaCash!G297,DisOfic!G297,Lablink!G297,Lyreco!G297,Ocaña!G297,Taine!G297,Vistalegre!G297)","v":0},0]
[292,"Espirales metálicas de encuadernación. Paso 5:1, de diámetro 18 mm.","Paquete 100",12.32,1,{"$f":"SOLICITUD!F298","v":0},0,{"$f":"MIN(DiaCash!G298,DisOfic!G298,Lablink!G298,Lyreco!G298,Ocaña!G298,Taine!G298,Vistalegre!G298)","v":0},0]
[293,"Espirales metálicas de encuadernación. Paso 5:1, de diámetro 20 mm.","Paquete 100",12,1,{"$f":"SOLICITUD!F299","v":0},0,{"$f":"MIN(DiaCash!G299,DisOfic!G299,Lablink!G299,Lyreco!G299,Ocaña!G299,Taine!G299,Vistalegre!G299)","v":0},0]
[294,"Espirales metálicas de encuadernación. Paso 5:1, de diámetro 22 mm.","Paquete 100",17.77,1,{"$f":"SOLICITUD!F300","v":0},0,{"$f":"MIN(DiaCash!G300,DisOfic!G300,Lablink!G300,Lyreco!G300,Ocaña!G300,Taine!G300,Vistalegre!G300)","v":0},0]
[295,"Espirales metálicas de encuadernación. Paso 5:1, de diámetro 24 mm.","Paquete 100",19.43,1,{"$f":"SOLICITUD!F301","v":0},0,{"$f":"MIN(DiaCash!G301,DisOfic!G301,Lablink!G301,Lyreco!G301,Ocaña!G301,Taine!G301,Vistalegre!G301)","v":0},0]
[296,"Espirales metálicas de encuadernación. Paso 5:1, de diámetro 28 mm.","Paquete 50",9.41,1,{"$f":"SOLICITUD!F302","v":0},0,{"$f":"MIN(DiaCash!G302,DisOfic!G302,Lablink!G302,Lyreco!G302,Ocaña!G302,Taine!G302,Vistalegre!G302)","v":0},0]
[297,"Espirales metálicas de encuadernación. Paso 5:1, de diámetro 30 mm. ","Paquete 50",11.39,1,{"$f":"SOLICITUD!F303","v":0},0,{"$f":"MIN(DiaCash!G303,DisOfic!G303,Lablink!G303,Lyreco!G303,Ocaña!G303,Taine!G303,Vistalegre!G303)","v":0},0]
[298,"Espirales metálicas de encuadernación. Paso 5:1, de diámetro 34 mm. ","Paquete 50",13.15,1,{"$f":"SOLICITUD!F304","v":0},0,{"$f":"MIN(DiaCash!G304,DisOfic!G304,Lablink!G304,Lyreco!G304,Ocaña!G304,Taine!G304,Vistalegre!G304)","v":0},0]
[299,"Espirales metálicas de encuadernación. Paso 5:1, de diámetro 38 mm. ","Paquete 50",9,0.6,{"$f":"SOLICITUD!F305","v":0},0,{"$f":"MIN(DiaCash!G305,DisOfic!G305,Lablink!G305,Lyreco!G305,Ocaña!G305,Taine!G305,Vistalegre!G305)","v":0},0]
[300,"Espirales metálicas de encuadernación. Paso 5:1, de diámetro 40 mm o superior.","Paquete 25",11.72,1,{"$f":"SOLICITUD!F306","v":0},0,{"$f":"MIN(DiaCash!G306,DisOfic!G306,Lablink!G306,Lyreco!G306,Ocaña!G306,Taine!G306,Vistalegre!G306)","v":0},0]
[301,"Cartulina. Tamaño A4. Gramaje 185 gr/m2 mínimo.","Paquete 50",1.98,1,{"$f":"SOLICITUD!F307","v":0},0,{"$f":"MIN(DiaCash!G307,DisOfic!G307,Lablink!G307,Lyreco!G307,Ocaña!G307,Taine!G307,Vistalegre!G307)","v":0},0]
[302,"Cartulina. Tamaño A4. Gramaje 220 gr/m2 mínimo.","Paquete 50",10,2,{"$f":"SOLICITUD!F308","v":0},0,{"$f":"MIN(DiaCash!G308,DisOfic!G308,Lablink!G308,Lyreco!G308,Ocaña!G308,Taine!G308,Vistalegre!G308)","v":0},0]
[303,"Cartulina. Tamaño A3. Gramaje 185 gr/m2 mínimo.","Paquete 25",1.98,2,{"$f":"SOLICITUD!F309","v":0},0,{"$f":"MIN(DiaCash!G309,DisOfic!G309,Lablink!G309,Lyreco!G309,Ocaña!G309,Taine!G309,Vistalegre!G309)","v":0},0]
[304,"Cartulina. Tamaño A3. Gramaje 220 gr/m2 mínimo.","Paquete 25",17,2,{"$f":"SOLICITUD!F310","v":0},0,{"$f":"MIN(DiaCash!G310,DisOfic!G310,Lablink!G310,Lyreco!G310,Ocaña!G310,Taine!G310,Vistalegre!G310)","v":0},0]
[305,"Pastener  metálico con compresor y correderas . ","Unidad",0.03,50,{"$f":"SOLICITUD!F311","v":0},0,{"$f":"MIN(DiaCash!G311,DisOfic!G311,Lablink!G311,Lyreco!G311,Ocaña!G311,Taine!G311,Vistalegre!G311)","v":0},0]
[306,"Cubiertas de plástico. Tamaño A4, espesor mínimo 180 micras.","Unidad",0.04,100,{"$f":"SOLICITUD!F312","v":0},0,{"$f":"MIN(DiaCash!G312,DisOfic!G312,Lablink!G312,Lyreco!G312,Ocaña!G312,Taine!G312,Vistalegre!G312)","v":0},0]
[307,"Cubiertas de plástico. Tamaño A3, espesor mínimo 180 micras.","Unidad",0.1,100,{"$f":"SOLICITUD!F313","v":0},0,{"$f":"MIN(DiaCash!G313,DisOfic!G313,Lablink!G313,Lyreco!G313,Ocaña!G313,Taine!G313,Vistalegre!G313)","v":0},0]
[308,"Bobina de rafia de plástico. (bobina 400 gr)","Unidad",3.16,1,{"$f":"SOLICITUD!F314","v":0},0,{"$f":"MIN(DiaCash!G314,DisOfic!G314,Lablink!G314,Lyreco!G314,Ocaña!G314,Taine!G314,Vistalegre!G314)","v":0},0]
[309,"Cinta balduque en rollo algodón 100% . Medidas 19mm x 14m aprox.","Unidad",2.25,1,{"$f":"SOLICITUD!F315","v":0},0,{"$f":"MIN(DiaCash!G315,DisOfic!G315,Lablink!G315,Lyreco!G315,Ocaña!G315,Taine!G315,Vistalegre!G315)","v":0},0]
[310,"Caja de embalaje cartón, canal sencillo, 4 solapas. Medidas 355x265x270 mm aprox.","Unidad",0.77,10,{"$f":"SOLICITUD!F316","v":0},0,{"$f":"MIN(DiaCash!G316,DisOfic!G316,Lablink!G316,Lyreco!G316,Ocaña!G316,Taine!G316,Vistalegre!G316)","v":0},0]
[311,"Caja de embalaje cartón, canal sencillo, 4 solapas. Medidas 400x325x420 mm aprox.","Unidad",1.35,10,{"$f":"SOLICITUD!F317","v":0},0,{"$f":"MIN(DiaCash!G317,DisOfic!G317,Lablink!G317,Lyreco!G317,Ocaña!G317,Taine!G317,Vistalegre!G317)","v":0},0]
[312,"Caja embalaje cartón, doble canal, 4 solapas. Medidas 400x400x400 mm aprox.","Unidad",1.76,5,{"$f":"SOLICITUD!F318","v":0},0,{"$f":"MIN(DiaCash!G318,DisOfic!G318,Lablink!G318,Lyreco!G318,Ocaña!G318,Taine!G318,Vistalegre!G318)","v":0},0]
[313,"Papel embalar. Medidas ancho 1 m.  Gramaje 70 gr/m2 mínimo.(bobina 25 kg)","Bobina 25 Kg",59.33,1,{"$f":"SOLICITUD!F319","v":0},0,{"$f":"MIN(DiaCash!G319,DisOfic!G319,Lablink!G319,Lyreco!G319,Ocaña!G319,Taine!G319,Vistalegre!G319)","v":0},0]
[314,"Papel embalar. Medidas ancho 1 m.  Gramaje 70 gr/m2 mínimo.(bobina 25 kg)","Bobina 25 Kg",60,1,{"$f":"SOLICITUD!F320","v":0},0,{"$f":"MIN(DiaCash!G320,DisOfic!G320,Lablink!G320,Lyreco!G320,Ocaña!G320,Taine!G320,Vistalegre!G320)","v":0},0]
[315,"Papel embalar. Medidas ancho 1 m.  Gramaje 70 gr/m2 mínimo.(bobina 55 kg)","Bobina 55 Kg",111.5,1,{"$f":"SOLICITUD!F321","v":0},0,{"$f":"MIN(DiaCash!G321,DisOfic!G321,Lablink!G321,Lyreco!G321,Ocaña!G321,Taine!G321,Vistalegre!G321)","v":0},0]
[316,"Papel embalar. Medidas ancho 1 m.  Gramaje 70 gr/m2 mínimo.(bobina 55 kg)","Bobina 55 Kg",100.05,1,{"$f":"SOLICITUD!F322","v":0},0,{"$f":"MIN(DiaCash!G322,DisOfic!G322,Lablink!G322,Lyreco!G322,Ocaña!G322,Taine!G322,Vistalegre!G322)","v":0},0]
[317,"Bolsa de correo interno de papel kraft. Tamaño 250 x 353 mm aprox.  Gramaje mínimo 100 gr/m2.","Caja 250 unidades",16.03,1,{"$f":"SOLICITUD!F323","v":0},0,{"$f":"MIN(DiaCash!G323,DisOfic!G323,Lablink!G323,Lyreco!G323,Ocaña!G323,Taine!G323,Vistalegre!G323)","v":0},0]
[318,"Bolsa de papel kraft armado. Tamaño 310 x 410 mm aprox.  Gramaje mínimo 110 gr/m2.","Caja 100 unidades",34.44,1,{"$f":"SOLICITUD!F324","v":0},0,{"$f":"MIN(DiaCash!G324,DisOfic!G324,Lablink!G324,Lyreco!G324,Ocaña!G324,Taine!G324,Vistalegre!G324)","v":0},0]
[319,"Sobre autopegue con ventana a la derecha o izquierda. Tamaño 115x225 mm aprox.  Gramaje mínimo 90 gr/m2.","Caja 500 unidades",9.5,1,{"$f":"SOLICITUD!F325","v":0},0,{"$f":"MIN(DiaCash!G325,DisOfic!G325,Lablink!G325,Lyreco!G325,Ocaña!G325,Taine!G325,Vistalegre!G325)","v":0},0]
[320,"Sobre autopegue sin ventana. Tamaño 120x176 mm aprox.  Gramaje mínimo 90 gr/m2.","Caja 500 unidades",9,1,{"$f":"SOLICITUD!F326","v":0},0,{"$f":"MIN(DiaCash!G326,DisOfic!G326,Lablink!G326,Lyreco!G326,Ocaña!G326,Taine!G326,Vistalegre!G326)","v":0},0]
[321,"Sobre autopegue sin ventana. Tamaño 115x225 mm aprox.  Gramaje mínimo 90 gr/m2.","Caja 500 unidades",9,1,{"$f":"SOLICITUD!F327","v":0},0,{"$f":"MIN(DiaCash!G327,DisOfic!G327,Lablink!G327,Lyreco!G327,Ocaña!G327,Taine!G327,Vistalegre!G327)","v":0},0]
[322,"Sobre autopegue sin ventana. Tamaño 176x231 mm aprox.  Gramaje mínimo 90 gr/m2.","Caja 500 unidades",21.49,1,{"$f":"SOLICITUD!F328","v":0},{"$f":"IF(E328=\"Excluido\",\"Excluido1\",IF(F328>0,IF(F328<E328,\"Excluido2\",D328*F328),0))","v":0},{"$f":"MIN(DiaCash!G328,DisOfic!G328,Lablink!G328,Lyreco!G328,Ocaña!G328,Taine!G328,Vistalegre!G328)","v":0},{"$f":"IF(G328<=H328,G328,0)","v":0}]
[323,"Sobre autopegue sin ventana. Tamaño 260x360 mm aprox.  Gramaje mínimo 90 gr/m2.","Caja 250 unidades",18.5,1,{"$f":"SOLICITUD!F329","v":0},0,{"$f":"MIN(DiaCash!G329,DisOfic!G329,Lablink!G329,Lyreco!G329,Ocaña!G329,Taine!G329,Vistalegre!G329)","v":0},0]
[324,"Sobre bolsa burbuja. Tamaño 270 x 360 mm aprox.  Gramaje mínimo 110 gr/m2.","Paquete 10 unidades",3.48,1,{"$f":"SOLICITUD!F330","v":0},0,{"$f":"MIN(DiaCash!G330,DisOfic!G330,Lablink!G330,Lyreco!G330,Ocaña!G330,Taine!G330,Vistalegre!G330)","v":0},0]
[325,"Sobre bolsa fuelle papel kraft. Tamaño 280 x 410 x 30 mm aprox. Gramaje mínimo 110 gr/m2.","Caja 100 unidades",26.6,0.5,{"$f":"SOLICITUD!F331","v":0},0,{"$f":"MIN(DiaCash!G331,DisOfic!G331,Lablink!G331,Lyreco!G331,Ocaña!G331,Taine!G331,Vistalegre!G331)","v":0},0]
[326,"Sobre plástico, cierre broche o velcro. Tamaño A4 / folio.","Unidad",0.3,1,{"$f":"SOLICITUD!F332","v":0},0,{"$f":"MIN(DiaCash!G332,DisOfic!G332,Lablink!G332,Lyreco!G332,Ocaña!G332,Taine!G332,Vistalegre!G332)","v":0},0]
[327,"Sobre plástico, cierre broche o velcro. Tamaño A3.","Unidad",0.85,1,{"$f":"SOLICITUD!F333","v":0},0,{"$f":"MIN(DiaCash!G333,DisOfic!G333,Lablink!G333,Lyreco!G333,Ocaña!G333,Taine!G333,Vistalegre!G333)","v":0},0]
[328,"Tubos planos cartón 4x46 cm (diam. X altura)","Unidad",1.06,1,{"$f":"SOLICITUD!F334","v":0},0,{"$f":"MIN(DiaCash!G334,DisOfic!G334,Lablink!G334,Lyreco!G334,Ocaña!G334,Taine!G334,Vistalegre!G334)","v":0},0]
[329,"Tubos planos cartón 60x64 cm (diam. X altura)","Unidad",1.93,1,{"$f":"SOLICITUD!F335","v":0},0,{"$f":"MIN(DiaCash!G335,DisOfic!G335,Lablink!G335,Lyreco!G335,Ocaña!G335,Taine!G335,Vistalegre!G335)","v":0},0]
[330,"Tubos envíos cartón 6x46 cm (diam. X altura)","Unidad",1.06,1,{"$f":"SOLICITUD!F336","v":0},0,{"$f":"MIN(DiaCash!G336,DisOfic!G336,Lablink!G336,Lyreco!G336,Ocaña!G336,Taine!G336,Vistalegre!G336)","v":0},0]
[331,"Rollo de papel para calculadora 57mm 65mts.","Unidad",0.3,1,{"$f":"SOLICITUD!F337","v":0},0,{"$f":"MIN(DiaCash!G337,DisOfic!G337,Lablink!G337,Lyreco!G337,Ocaña!G337,Taine!G337,Vistalegre!G337)","v":0},0]
[332,"Tablero de corcho para anuncios con marco de madera 60 x 90 cm (hxa) (Bi-Office)","Unidad",6.5,1,{"$f":"SOLICITUD!F338","v":0},0,{"$f":"MIN(DiaCash!G338,DisOfic!G338,Lablink!G338,Lyreco!G338,Ocaña!G338,Taine!G338,Vistalegre!G338)","v":0},0]
[333,"Caja de 5 Paquetes de papel A4 80gr./m2, para impresoras inkjet, láser y fotocopiadora","Caja de 5 Paquetes",16,1,{"$f":"SOLICITUD!F339","v":0},0,{"$f":"MIN(DiaCash!G339,DisOfic!G339,Lablink!G339,Lyreco!G339,Ocaña!G339,Taine!G339,Vistalegre!G339)","v":0},0]
[334,"Caja de 5 Paquetes de papel A4 80gr./m2, para impresoras inkjet, láser y fotocopiadora (Navigator)","Caja de 5 Paquetes",21,1,{"$f":"SOLICITUD!F340","v":0},0,{"$f":"MIN(DiaCash!G340,DisOfic!G340,Lablink!G340,Lyreco!G340,Ocaña!G340,Taine!G340,Vistalegre!G340)","v":0},0]
[335,"Paquete de papel A3 80gr./m2, para impresoras inkjet, láser y fotocopiadora ","Paquete 500 hojas",7,1,{"$f":"SOLICITUD!F341","v":0},0,{"$f":"MIN(DiaCash!G341,DisOfic!G341,Lablink!G341,Lyreco!G341,Ocaña!G341,Taine!G341,Vistalegre!G341)","v":0},0]
[336,"Paquete de papel A3 80gr./m2, para impresoras inkjet, láser y fotocopiadora (Navigator)","Paquete 500 hojas",7.6,1,{"$f":"SOLICITUD!F342","v":0},0,{"$f":"MIN(DiaCash!G342,DisOfic!G342,Lablink!G342,Lyreco!G342,Ocaña!G342,Taine!G342,Vistalegre!G342)","v":0},0]
[337,"Paquete de papel A4 80gr./m2 colores pastel, intensos y fluorescentes, impresoas inkjet, láser y fotocopiadora (Clairefontaine)","Paquete 500 hojas",7,1,{"$f":"SOLICITUD!F343","v":0},0,{"$f":"MIN(DiaCash!G343,DisOfic!G343,Lablink!G343,Lyreco!G343,Ocaña!G343,Taine!G343,Vistalegre!G343)","v":0},0]
[338,"Paquete de papel A4 80gr./m2 colores intensos y fluorescentes, impresoas inkjet, láser y fotocopiadora (Clairefontaine)","Paquete 500 hojas",7,1,{"$f":"SOLICITUD!F344","v":0},0,{"$f":"MIN(DiaCash!G344,DisOfic!G344,Lablink!G344,Lyreco!G344,Ocaña!G344,Taine!G344,Vistalegre!G344)","v":0},0]
[339,"Caja de 5 Paquetes de papel A4 ecológico 75gr/m2 (Navigator Eco-Logical)","Caja de 5 Paquetes",20.75,1,{"$f":"SOLICITUD!F345","v":0},0,{"$f":"MIN(DiaCash!G345,DisOfic!G345,Lablink!G345,Lyreco!G345,Ocaña!G345,Taine!G345,Vistalegre!G345)","v":0},0]
[340,"Caja de 5 Paquetes de papel A4 Blanco 90 gr/m2 ","Caja de 5 Paquetes",24,1,{"$f":"SOLICITUD!F346","v":0},0,{"$f":"MIN(DiaCash!G346,DisOfic!G346,Lablink!G346,Lyreco!G346,Ocaña!G346,Taine!G346,Vistalegre!G346)","v":0},0]
[341,"Caja de 5 Paquetes de papel A4 Blanco 90 gr/m2 (Navigator)","Caja de 5 Paquetes",27.5,1,{"$f":"SOLICITUD!F347","v":0},0,{"$f":"MIN(DiaCash!G347,DisOfic!G347,Lablink!G347,Lyreco!G347,Ocaña!G347,Taine!G347,Vistalegre!G347)","v":0},0]
[342,"Caja de 5 Paquetes de papel A4 80gr./m2, para impresoras inkjet, láser y fotocopiadora reciclado","Caja de 5 Paquetes",19,1,{"$f":"SOLICITUD!F348","v":0},0,{"$f":"MIN(DiaCash!G348,DisOfic!G348,Lablink!G348,Lyreco!G348,Ocaña!G348,Taine!G348,Vistalegre!G348)","v":0},0]
[343,"Paquete de papel verjurado A4 90 gr/m2 blanco (Apli)","Paquete 100 hojas",5.9,1,{"$f":"SOLICITUD!F349","v":0},0,{"$f":"MIN(DiaCash!G349,DisOfic!G349,Lablink!G349,Lyreco!G349,Ocaña!G349,Taine!G349,Vistalegre!G349)","v":0},0]
[344,"Paquete de papel verjurado A4 100 color crema 90 gr/m2 (Apli)","Paquete 100 hojas",5.9,1,{"$f":"SOLICITUD!F350","v":0},0,{"$f":"MIN(DiaCash!G350,DisOfic!G350,Lablink!G350,Lyreco!G350,Ocaña!G350,Taine!G350,Vistalegre!G350)","v":0},0]
[350,"Boligrado Pentel BK-77 Superb (boligrado de punta fina 0.7 mm y tinta base de aceite)","12 unidades",9.1199999999999992,1,{"$f":"SOLICITUD!F351","v":0},{"$f":"IF(E351=\"Excluido\",\"Excluido1\",IF(F351>0,IF(F351<E351,\"Excluido2\",D351*F351),0))","v":0},{"$f":"MIN(DiaCash!G351,DisOfic!G351,Lablink!G351,Lyreco!G351,Ocaña!G351,Taine!G351,Vistalegre!G351)","v":0},{"$f":"IF(G351<=H351,G351,0)","v":0}]
[351,"50 tapas encuadernar gofrado A4 Negro","50 unidades",11.87,1,{"$f":"SOLICITUD!F352","v":0},0,{"$f":"MIN(DiaCash!G352,DisOfic!G352,Lablink!G352,Lyreco!G352,Ocaña!G352,Taine!G352,Vistalegre!G352)","v":0},0]
[352,"Cinta doble cara 19x33 mm","-"," - ","-",{"$f":"SOLICITUD!F353","v":0},0,{"$f":"MIN(DiaCash!G353,DisOfic!G353,Lablink!G353,Lyreco!G353,Ocaña!G353,Taine!G353,Vistalegre!G353)","v":0},0]
[353,"Bolsas para plastificar carnet tamaño 60x90 mm y grosor 200 micras.","100 unidades",3.58,1,{"$f":"SOLICITUD!F354","v":0},0,{"$f":"MIN(DiaCash!G354,DisOfic!G354,Lablink!G354,Lyreco!G354,Ocaña!G354,Taine!G354,Vistalegre!G354)","v":0},0]
[354,"Bolsas para plastificar tamaño A3 grosor 125 micras","100 unidades",12.6,1,{"$f":"SOLICITUD!F355","v":0},0,{"$f":"MIN(DiaCash!G355,DisOfic!G355,Lablink!G355,Lyreco!G355,Ocaña!G355,Taine!G355,Vistalegre!G355)","v":0},0]
[355,"Sobres de tamaño 229x324 con tira de silicona","250 unidades",14.75,1,{"$f":"SOLICITUD!F356","v":0},0,{"$f":"MIN(DiaCash!G356,DisOfic!G356,Lablink!G356,Lyreco!G356,Ocaña!G356,Taine!G356,Vistalegre!G356)","v":0},0]
[356,"Minas Super Polymer 0.35 HB","12 unidades",0.75,1,{"$f":"SOLICITUD!F357","v":0},0,{"$f":"MIN(DiaCash!G357,DisOfic!G357,Lablink!G357,Lyreco!G357,Ocaña!G357,Taine!G357,Vistalegre!G357)","v":0},0]
[357,"Minas Super Polymer 0.35 2H","12 unidades",1.23,1,{"$f":"SOLICITUD!F358","v":0},0,{"$f":"MIN(DiaCash!G358,DisOfic!G358,Lablink!G358,Lyreco!G358,Ocaña!G358,Taine!G358,Vistalegre!G358)","v":0},0]
[358,"Cuaderno Cuadros A4 160H (marca SAM, Enri, tec)","Unidad",1.99,1,{"$f":"SOLICITUD!F359","v":0},0,{"$f":"MIN(DiaCash!G359,DisOfic!G359,Lablink!G359,Lyreco!G359,Ocaña!G359,Taine!G359,Vistalegre!G359)","v":0},0]
[359,"Fichas rayadas 160x220 (paquete de 100 hojas)","100 unidades",1.65,1,{"$f":"SOLICITUD!F360","v":0},0,{"$f":"MIN(DiaCash!G360,DisOfic!G360,Lablink!G360,Lyreco!G360,Ocaña!G360,Taine!G360,Vistalegre!G360)","v":0},0]
[360,"Portablocks con pinza y solapa","Unidad",1.25,1,{"$f":"SOLICITUD!F361","v":0},0,{"$f":"MIN(DiaCash!G361,DisOfic!G361,Lablink!G361,Lyreco!G361,Ocaña!G361,Taine!G361,Vistalegre!G361)","v":0},0]
[361,"Pack 100 Fundas multitaladro folio PP Cristal","100 unidades",3.2,1,{"$f":"SOLICITUD!F362","v":0},0,{"$f":"MIN(DiaCash!G362,DisOfic!G362,Lablink!G362,Lyreco!G362,Ocaña!G362,Taine!G362,Vistalegre!G362)","v":0},0]
[362,"Sobre burbuja/acolchado tamaño 350x470 mm ","10 unidades",5.76,1,{"$f":"SOLICITUD!F363","v":0},0,{"$f":"MIN(DiaCash!G363,DisOfic!G363,Lablink!G363,Lyreco!G363,Ocaña!G363,Taine!G363,Vistalegre!G363)","v":0},0]
[363,"Sobre burbuja/acolchado tamaño 300x445 mm ","10 unidades",4.2300000000000004,1,{"$f":"SOLICITUD!F364","v":0},0,{"$f":"MIN(DiaCash!G364,DisOfic!G364,Lablink!G364,Lyreco!G364,Ocaña!G364,Taine!G364,Vistalegre!G364)","v":0},0]
[364,"Sobre burbuja/acolchado tamaño 120x215 mm","11 unidades",1.71,1,{"$f":"SOLICITUD!F365","v":0},0,{"$f":"MIN(DiaCash!G365,DisOfic!G365,Lablink!G365,Lyreco!G365,Ocaña!G365,Taine!G365,Vistalegre!G365)","v":0},0]
[365,"Sobre burbuja/acolchado tamaño 220x340 mm","10 unidades",2.98,1,{"$f":"SOLICITUD!F366","v":0},0,{"$f":"MIN(DiaCash!G366,DisOfic!G366,Lablink!G366,Lyreco!G366,Ocaña!G366,Taine!G366,Vistalegre!G366)","v":0},0]
[366,"Sobre burbuja/acolchado tamaño 220x265 mm","10 unidades",2.5499999999999998,1,{"$f":"SOLICITUD!F367","v":0},0,{"$f":"MIN(DiaCash!G367,DisOfic!G367,Lablink!G367,Lyreco!G367,Ocaña!G367,Taine!G367,Vistalegre!G367)","v":0},0]
[367,"Carpeta Polipropileno A4 Gomas Solapas","Unidad",0.65,1,{"$f":"SOLICITUD!F368","v":0},0,{"$f":"MIN(DiaCash!G368,DisOfic!G368,Lablink!G368,Lyreco!G368,Ocaña!G368,Taine!G368,Vistalegre!G368)","v":0},0]
[368,"Roller Pilot V-5 Azul","Unidad",1.43,1,{"$f":"SOLICITUD!F369","v":0},0,{"$f":"MIN(DiaCash!G369,DisOfic!G369,Lablink!G369,Lyreco!G369,Ocaña!G369,Taine!G369,Vistalegre!G369)","v":0},0]
[369,"Roller Pilot V-5 Negro","Unidad",1.43,1,{"$f":"SOLICITUD!F370","v":0},0,{"$f":"MIN(DiaCash!G370,DisOfic!G370,Lablink!G370,Lyreco!G370,Ocaña!G370,Taine!G370,Vistalegre!G370)","v":0},0]
[370,"Roller Pilot V-5 Rojo","Unidad",1.43,1,{"$f":"SOLICITUD!F371","v":0},0,{"$f":"MIN(DiaCash!G371,DisOfic!G371,Lablink!G371,Lyreco!G371,Ocaña!G371,Taine!G371,Vistalegre!G371)","v":0},0]
[371,"Sobres blancos para entrega de títulos en mano 30 x 42 cm.","250 unidades",42.27,1,{"$f":"SOLICITUD!F372","v":0},0,{"$f":"MIN(DiaCash!G372,DisOfic!G372,Lablink!G372,Lyreco!G372,Ocaña!G372,Taine!G372,Vistalegre!G372)","v":0},0]
[372,"Dosier flexible con pinza A4 60 hojas     ","Unidad",1.3,1,{"$f":"SOLICITUD!F373","v":0},0,{"$f":"MIN(DiaCash!G373,DisOfic!G373,Lablink!G373,Lyreco!G373,Ocaña!G373,Taine!G373,Vistalegre!G373)","v":0},0]
[373,"Dosier flexible con pinza A4 30 hojas     ","Unidad",1.1499999999999999,1,{"$f":"SOLICITUD!F374","v":0},0,{"$f":"MIN(DiaCash!G374,DisOfic!G374,Lablink!G374,Lyreco!G374,Ocaña!G374,Taine!G374,Vistalegre!G374)","v":0},0]
[374,"Rollos de papel térmico para las máquinas CIGES 8x8 cm","8 unidades",7.79,1,{"$f":"SOLICITUD!F375","v":0},0,{"$f":"MIN(DiaCash!G375,DisOfic!G375,Lablink!G375,Lyreco!G375,Ocaña!G375,Taine!G375,Vistalegre!G375)","v":0},0]
[null,null,null,null,null,null,null,null,{"$f":"SUM(I7:I375)","v":0}]
[null,null,null,null,null,null,null,null,{"$f":"COUNTIF(I7:I375,\">0\")","v":0}]

{"sheet":"Lablink","index":5,"n_rows":377,"n_cols":9,"rows_kept":377,"cut":false,"hidden":false,"merged":[]}
[]
[]
[null,"LABLINK GESTIÓN, S.L.","Importe pedido mínimo:",5]
[]
[null,"LOTES 1, 2 Y 3 (Granada, Ceuta y Melilla respectivamente)"]
["Referencia","Descripción del artículo","Precio Referido a:","Precio (IVA excluido)","Ud.Mínima Servicio","Cantidad Solicitada","Precio Total","Menor Precio","Seleccionable?"]
[1,"Lapiceros de Grafito. Dureza Hb 2 ","Enavse 12 unidades",1.2,0.5,{"$f":"SOLICITUD!F7","v":0},{"$f":"IF(E7=\"Excluido\",\"Excluido1\",IF(F7>0,IF(F7<E7,\"Excluido2\",D7*F7),0))","v":0},{"$f":"MIN(DiaCash!G7,DisOfic!G7,Lablink!G7,Lyreco!G7,Ocaña!G7,Taine!G7,Vistalegre!G7)","v":0},{"$f":"IF(G7<=H7,G7,0)","v":0}]
[2,"Lapiceros de Grafito. Dureza Hb, 2 (Staedtler)","Enavse 12 unidades",2.83,0.5,{"$f":"SOLICITUD!F8","v":0},0,{"$f":"MIN(DiaCash!G8,DisOfic!G8,Lablink!G8,Lyreco!G8,Ocaña!G8,Taine!G8,Vistalegre!G8)","v":0},{"$f":"IF(G8<=H8,G8,0)","v":0}]
[3,"Minas de Grafito. Calibre 0,5 mm, diferentes durezas (Staedtler, Faber-Castell)","Envase 12 unidades",5.04,0.5,{"$f":"SOLICITUD!F9","v":0},0,{"$f":"MIN(DiaCash!G9,DisOfic!G9,Lablink!G9,Lyreco!G9,Ocaña!G9,Taine!G9,Vistalegre!G9)","v":0},0]
[4,"Minas de Grafito. Calibre 0,7 mm, diferentes durezas (Staedtler, Faber-Castell)","Envase 12 unidades",6.36,0.5,{"$f":"SOLICITUD!F10","v":0},0,{"$f":"MIN(DiaCash!G10,DisOfic!G10,Lablink!G10,Lyreco!G10,Ocaña!G10,Taine!G10,Vistalegre!G10)","v":0},0]
[5,"Portaminas Recargable de Puntera Retráctil, Pulsador y Clip, 0,5 mm.","Unidad",0.39,1,{"$f":"SOLICITUD!F11","v":0},0,{"$f":"MIN(DiaCash!G11,DisOfic!G11,Lablink!G11,Lyreco!G11,Ocaña!G11,Taine!G11,Vistalegre!G11)","v":0},0]
[6,"Portaminas Recargable de Puntera Retráctil, Pulsador y Clip, 0,7 mm.","Unidad",0.37,1,{"$f":"SOLICITUD!F12","v":0},0,{"$f":"MIN(DiaCash!G12,DisOfic!G12,Lablink!G12,Lyreco!G12,Ocaña!G12,Taine!G12,Vistalegre!G12)","v":0},0]
[7,"Portaminas Recargable de Puntera Retráctil, Pulsador y Clip, 0,5 mm. (Staedtler, Faber Castell)","Unidad",1.99,1,{"$f":"SOLICITUD!F13","v":0},0,{"$f":"MIN(DiaCash!G13,DisOfic!G13,Lablink!G13,Lyreco!G13,Ocaña!G13,Taine!G13,Vistalegre!G13)","v":0},0]
[8,"Portaminas Recargable de Puntera Retráctil, Pulsador y Clip, 0,7 mm. (Staedtler, Faber Castell)","Unidad",1.99,1,{"$f":"SOLICITUD!F14","v":0},0,{"$f":"MIN(DiaCash!G14,DisOfic!G14,Lablink!G14,Lyreco!G14,Ocaña!G14,Taine!G14,Vistalegre!G14)","v":0},0]
[9,"Lapiz Bicolor azul/rojo ","Envase 12 unidades",3.52,0.5,{"$f":"SOLICITUD!F15","v":0},0,{"$f":"MIN(DiaCash!G15,DisOfic!G15,Lablink!G15,Lyreco!G15,Ocaña!G15,Taine!G15,Vistalegre!G15)","v":0},0]
[10,"Lapiz Bicolor azul/rojo  (Faber-Castell)","Envase 12 unidades",0.34,0.5,{"$f":"SOLICITUD!F16","v":0},0,{"$f":"MIN(DiaCash!G16,DisOfic!G16,Lablink!G16,Lyreco!G16,Ocaña!G16,Taine!G16,Vistalegre!G16)","v":0},0]
[11,"Afila Lapiceros doble entrada metálico","Unidad",0.24,1,{"$f":"SOLICITUD!F17","v":0},0,{"$f":"MIN(DiaCash!G17,DisOfic!G17,Lablink!G17,Lyreco!G17,Ocaña!G17,Taine!G17,Vistalegre!G17)","v":0},0]
[12,"Afila Lapiceros doble entrada metálico (Faibo)","Unidad",0.99,1,{"$f":"SOLICITUD!F18","v":0},0,{"$f":"MIN(DiaCash!G18,DisOfic!G18,Lablink!G18,Lyreco!G18,Ocaña!G18,Taine!G18,Vistalegre!G18)","v":0},0]
[13,"Afila Lapiceros una entrada metálico","Unidad",0.14000000000000001,1,{"$f":"SOLICITUD!F19","v":0},0,{"$f":"MIN(DiaCash!G19,DisOfic!G19,Lablink!G19,Lyreco!G19,Ocaña!G19,Taine!G19,Vistalegre!G19)","v":0},0]
[14,"Afila Lapiceros una entrada metálico (Faibo)","Unidad",0.39,1,{"$f":"SOLICITUD!F20","v":0},0,{"$f":"MIN(DiaCash!G20,DisOfic!G20,Lablink!G20,Lyreco!G20,Ocaña!G20,Taine!G20,Vistalegre!G20)","v":0},0]
[15,"Bolígrafo con capuchón, tinta a base de aceite, ancho de escritura 0,42 mm, escritura fina (Bic)","Unidad",0.2,1,{"$f":"SOLICITUD!F21","v":0},0,{"$f":"MIN(DiaCash!G21,DisOfic!G21,Lablink!G21,Lyreco!G21,Ocaña!G21,Taine!G21,Vistalegre!G21)","v":0},0]
[16,"Bolígrafo borrable (Pilot)","Unidad",1.6,1,{"$f":"SOLICITUD!F22","v":0},0,{"$f":"MIN(DiaCash!G22,DisOfic!G22,Lablink!G22,Lyreco!G22,Ocaña!G22,Taine!G22,Vistalegre!G22)","v":0},0]
[17,"Bolígrafo con capuchón, tinta a base de aceite, ancho de escritura 1,0mm, escritura normal, colores","Unidad",0.09,1,{"$f":"SOLICITUD!F23","v":0},0,{"$f":"MIN(DiaCash!G23,DisOfic!G23,Lablink!G23,Lyreco!G23,Ocaña!G23,Taine!G23,Vistalegre!G23)","v":0},0]
[18,"Bolígrafo con capuchón, tinta a base de aceite, ancho de escritura 1,0mm, escritura normal, colores (Bic)","Unidad",0.19,1,{"$f":"SOLICITUD!F24","v":0},0,{"$f":"MIN(DiaCash!G24,DisOfic!G24,Lablink!G24,Lyreco!G24,Ocaña!G24,Taine!G24,Vistalegre!G24)","v":0},0]
[19,"Bolígrafo con capuchón, tinta a base de aceite, ancho de escritura 0,5mm, escritura fina, colores (Bic)","Unidad",0.24,1,{"$f":"SOLICITUD!F25","v":0},0,{"$f":"MIN(DiaCash!G25,DisOfic!G25,Lablink!G25,Lyreco!G25,Ocaña!G25,Taine!G25,Vistalegre!G25)","v":0},0]
[20,"Bolígrafo uso común capuchón tinta gel, colores (Bic, Pilot)","Unidad",1.08,1,{"$f":"SOLICITUD!F26","v":0},0,{"$f":"MIN(DiaCash!G26,DisOfic!G26,Lablink!G26,Lyreco!G26,Ocaña!G26,Taine!G26,Vistalegre!G26)","v":0},0]
[21,"Bolígrafo uso común capuchón, tinta base de aceite (Pilot)","Unidad",0.78,1,{"$f":"SOLICITUD!F27","v":0},0,{"$f":"MIN(DiaCash!G27,DisOfic!G27,Lablink!G27,Lyreco!G27,Ocaña!G27,Taine!G27,Vistalegre!G27)","v":0},0]
[22,"Bolígrafo retráctil tinta gel  ","Unidad",0.2,1,{"$f":"SOLICITUD!F28","v":0},0,{"$f":"MIN(DiaCash!G28,DisOfic!G28,Lablink!G28,Lyreco!G28,Ocaña!G28,Taine!G28,Vistalegre!G28)","v":0},0]
[23,"Bolígrafo retráctil tinta gel  (Pilot)","Unidad",1.0900000000000001,1,{"$f":"SOLICITUD!F29","v":0},0,{"$f":"MIN(DiaCash!G29,DisOfic!G29,Lablink!G29,Lyreco!G29,Ocaña!G29,Taine!G29,Vistalegre!G29)","v":0},0]
[24,"Pluma desechable (Pilot)","Unidad",1.7,1,{"$f":"SOLICITUD!F30","v":0},0,{"$f":"MIN(DiaCash!G30,DisOfic!G30,Lablink!G30,Lyreco!G30,Ocaña!G30,Taine!G30,Vistalegre!G30)","v":0},0]
[25,"Marcadores Fluorescentes. Ancho de Trazo entre 2 Y 5 mm","Unidad",0.23,1,{"$f":"SOLICITUD!F31","v":0},0,{"$f":"MIN(DiaCash!G31,DisOfic!G31,Lablink!G31,Lyreco!G31,Ocaña!G31,Taine!G31,Vistalegre!G31)","v":0},0]
[26,"Marcadores Fluorescentes. Ancho de Trazo entre 2 Y 5 mm (Faber Castell, Stabilo)","Unidad",0.57999999999999996,1,{"$f":"SOLICITUD!F32","v":0},0,{"$f":"MIN(DiaCash!G32,DisOfic!G32,Lablink!G32,Lyreco!G32,Ocaña!G32,Taine!G32,Vistalegre!G32)","v":0},0]
[27,"Roller Retráctil Tinta Gel. Trazo entre 0,4 Y 0,7 mm.","Unidad",0.59,1,{"$f":"SOLICITUD!F33","v":0},0,{"$f":"MIN(DiaCash!G33,DisOfic!G33,Lablink!G33,Lyreco!G33,Ocaña!G33,Taine!G33,Vistalegre!G33)","v":0},0]
[28,"Roller Retráctil Tinta Gel. Trazo entre 0,4 Y 0,7 mm. (Pilot)","Unidad",1.08,1,{"$f":"SOLICITUD!F34","v":0},0,{"$f":"MIN(DiaCash!G34,DisOfic!G34,Lablink!G34,Lyreco!G34,Ocaña!G34,Taine!G34,Vistalegre!G34)","v":0},0]
[29,"Roller Tinta Gel con capuchón. Trazo entre  0,4 Y 0,7 mm.","Unidad",0.4,1,{"$f":"SOLICITUD!F35","v":0},0,{"$f":"MIN(DiaCash!G35,DisOfic!G35,Lablink!G35,Lyreco!G35,Ocaña!G35,Taine!G35,Vistalegre!G35)","v":0},0]
[30,"Roller Tinta Gel con capuchón. Trazo entre  0,4 Y 0,7 mm. (Pilot)","Unidad",1.23,1,{"$f":"SOLICITUD!F36","v":0},0,{"$f":"MIN(DiaCash!G36,DisOfic!G36,Lablink!G36,Lyreco!G36,Ocaña!G36,Taine!G36,Vistalegre!G36)","v":0},0]
[31,"Roller Tinta Líquida con capuchón. Trazo entre 0,5 Y 0,7 mm.","Unidad",0.22,1,{"$f":"SOLICITUD!F37","v":0},0,{"$f":"MIN(DiaCash!G37,DisOfic!G37,Lablink!G37,Lyreco!G37,Ocaña!G37,Taine!G37,Vistalegre!G37)","v":0},0]
[32,"Roller Tinta Líquida con capuchón. Trazo entre 0,5 Y 0,7 mm. (Pilot)","Unidad",1.29,1,{"$f":"SOLICITUD!F38","v":0},0,{"$f":"MIN(DiaCash!G38,DisOfic!G38,Lablink!G38,Lyreco!G38,Ocaña!G38,Taine!G38,Vistalegre!G38)","v":0},0]
[33,"Rotulador Punta Fibra. Trazo entre 0,4 Y 1 mm.","Unidad",0.24,1,{"$f":"SOLICITUD!F39","v":0},0,{"$f":"MIN(DiaCash!G39,DisOfic!G39,Lablink!G39,Lyreco!G39,Ocaña!G39,Taine!G39,Vistalegre!G39)","v":0},0]
[34,"Rotulador Punta Fibra. Trazo entre 0,4 Y 1 mm. (Edding)","Unidad",0.49,1,{"$f":"SOLICITUD!F40","v":0},0,{"$f":"MIN(DiaCash!G40,DisOfic!G40,Lablink!G40,Lyreco!G40,Ocaña!G40,Taine!G40,Vistalegre!G40)","v":0},0]
[35,"Rotulador indeleble punta 0,6 mm (Staedtler)","Unidad",1,1,{"$f":"SOLICITUD!F41","v":0},0,{"$f":"MIN(DiaCash!G41,DisOfic!G41,Lablink!G41,Lyreco!G41,Ocaña!G41,Taine!G41,Vistalegre!G41)","v":0},0]
[36,"Rotulador Permanente. Trazo entre 0,7 Y 2 mm Punta Cónica","Unidad",0.26,1,{"$f":"SOLICITUD!F42","v":0},0,{"$f":"MIN(DiaCash!G42,DisOfic!G42,Lablink!G42,Lyreco!G42,Ocaña!G42,Taine!G42,Vistalegre!G42)","v":0},0]
[37,"Rotulador Permanente. Trazo entre 0,7 Y 2 mm Punta Cónica (Edding)","Unidad",1.43,1,{"$f":"SOLICITUD!F43","v":0},0,{"$f":"MIN(DiaCash!G43,DisOfic!G43,Lablink!G43,Lyreco!G43,Ocaña!G43,Taine!G43,Vistalegre!G43)","v":0},0]
[38,"Rotulador Permanente. Trazo entre 1,5-3 mm  Punta Cómica (Edding)","Unidad",0.79,1,{"$f":"SOLICITUD!F44","v":0},0,{"$f":"MIN(DiaCash!G44,DisOfic!G44,Lablink!G44,Lyreco!G44,Ocaña!G44,Taine!G44,Vistalegre!G44)","v":0},0]
[39,"Rotulador Permanente. Trazo entre 2 Y 7 mm Punta Cónica","Unidad",0.35,1,{"$f":"SOLICITUD!F45","v":0},0,{"$f":"MIN(DiaCash!G45,DisOfic!G45,Lablink!G45,Lyreco!G45,Ocaña!G45,Taine!G45,Vistalegre!G45)","v":0},0]
[40,"Rotulador Permanente. Trazo entre 2 Y 7 mm Punta Cónica (Edding)","Unidad",1.59,1,{"$f":"SOLICITUD!F46","v":0},0,{"$f":"MIN(DiaCash!G46,DisOfic!G46,Lablink!G46,Lyreco!G46,Ocaña!G46,Taine!G46,Vistalegre!G46)","v":0},0]
[41,"Rotulador Permanente. Trazo entre 2 Y 7 mm Punta Biselada","Unidad",0.4,1,{"$f":"SOLICITUD!F47","v":0},0,{"$f":"MIN(DiaCash!G47,DisOfic!G47,Lablink!G47,Lyreco!G47,Ocaña!G47,Taine!G47,Vistalegre!G47)","v":0},0]
[42,"Rotulador Permanente. Trazo entre 2 Y 7 mm Punta Biselada (Edding)","Unidad",1.39,1,{"$f":"SOLICITUD!F48","v":0},0,{"$f":"MIN(DiaCash!G48,DisOfic!G48,Lablink!G48,Lyreco!G48,Ocaña!G48,Taine!G48,Vistalegre!G48)","v":0},0]
[43,"Rotulador Permanente. Trazo entre 8 Y 16 mm Punta Biselada","Unidad",1.19,1,{"$f":"SOLICITUD!F49","v":0},0,{"$f":"MIN(DiaCash!G49,DisOfic!G49,Lablink!G49,Lyreco!G49,Ocaña!G49,Taine!G49,Vistalegre!G49)","v":0},0]
[44,"Rotulador Permanente. Trazo entre 8 Y 16 mm Punta Biselada (Edding)","Unidad",4.49,1,{"$f":"SOLICITUD!F50","v":0},0,{"$f":"MIN(DiaCash!G50,DisOfic!G50,Lablink!G50,Lyreco!G50,Ocaña!G50,Taine!G50,Vistalegre!G50)","v":0},0]
[45,"Rotulador Borrable de Punta Biselada para Pizarra Blanca. Trazo Entre 2 Y 5 mm","Unidad",0.32,1,{"$f":"SOLICITUD!F51","v":0},0,{"$f":"MIN(DiaCash!G51,DisOfic!G51,Lablink!G51,Lyreco!G51,Ocaña!G51,Taine!G51,Vistalegre!G51)","v":0},0]
[46,"Rotulador Borrable de Punta Biselada para Pizarra Blanca. Trazo Entre 2 Y 5 mm (Bic)","Unidad",0.77,1,{"$f":"SOLICITUD!F52","v":0},0,{"$f":"MIN(DiaCash!G52,DisOfic!G52,Lablink!G52,Lyreco!G52,Ocaña!G52,Taine!G52,Vistalegre!G52)","v":0},0]
[47,"Rotulador Borrable de Punta Conica para Pizarra Blanca. Trazo Entre 1 Y 4 mm","Unidad",0.3,1,{"$f":"SOLICITUD!F53","v":0},0,{"$f":"MIN(DiaCash!G53,DisOfic!G53,Lablink!G53,Lyreco!G53,Ocaña!G53,Taine!G53,Vistalegre!G53)","v":0},0]
[48,"Rotulador Borrable de Punta Conica para Pizarra Blanca. Trazo Entre 1 Y 4 mm (Bic)","Unidad",0.74,1,{"$f":"SOLICITUD!F54","v":0},0,{"$f":"MIN(DiaCash!G54,DisOfic!G54,Lablink!G54,Lyreco!G54,Ocaña!G54,Taine!G54,Vistalegre!G54)","v":0},0]
[49,"Borrador para Pizarra Blanca","Unidad",1.68,1,{"$f":"SOLICITUD!F55","v":0},0,{"$f":"MIN(DiaCash!G55,DisOfic!G55,Lablink!G55,Lyreco!G55,Ocaña!G55,Taine!G55,Vistalegre!G55)","v":0},0]
[50,"Recambios Borrador de Pizarra Blanca ","Envase 10 unidades",1.35,1,{"$f":"SOLICITUD!F56","v":0},0,{"$f":"MIN(DiaCash!G56,DisOfic!G56,Lablink!G56,Lyreco!G56,Ocaña!G56,Taine!G56,Vistalegre!G56)","v":0},0]
[51,"Puntero laser rojo (Trust)","Unidad",21.4,1,{"$f":"SOLICITUD!F57","v":0},0,{"$f":"MIN(DiaCash!G57,DisOfic!G57,Lablink!G57,Lyreco!G57,Ocaña!G57,Taine!G57,Vistalegre!G57)","v":0},0]
[52,"Pizarra blanca magnética esmaltada. Marco aluminio/plástico 60x90 cm (hxa) (Nobo)","Unidad",19.010000000000002,1,{"$f":"SOLICITUD!F58","v":0},0,{"$f":"MIN(DiaCash!G58,DisOfic!G58,Lablink!G58,Lyreco!G58,Ocaña!G58,Taine!G58,Vistalegre!G58)","v":0},0]
[53,"Pizarra blanca magnética esmaltada. Marco aluminio/plástico 90x120 cm (hxa) (Nobo)","Unidad",36.380000000000003,1,{"$f":"SOLICITUD!F59","v":0},0,{"$f":"MIN(DiaCash!G59,DisOfic!G59,Lablink!G59,Lyreco!G59,Ocaña!G59,Taine!G59,Vistalegre!G59)","v":0},0]
[54,"Pizarra blanca magnética esmaltada. Marco aluminio/plástico 100x150 cm (hxa) (Nobo)","Unidad",74.540000000000006,1,{"$f":"SOLICITUD!F60","v":0},0,{"$f":"MIN(DiaCash!G60,DisOfic!G60,Lablink!G60,Lyreco!G60,Ocaña!G60,Taine!G60,Vistalegre!G60)","v":0},0]
[55,"Pizarra caballete con superficie lacada magnética. Marco y bandeja portamarcadores en aluminio. Brazos laterales magnéticos que triplican la superficie de lectura. Pies telescópicos con altura regulable. Para usar con o sin block de papel 1000x700 mm (hxa) (Bi-Office)","Unidad",98.49,1,{"$f":"SOLICITUD!F61","v":0},0,{"$f":"MIN(DiaCash!G61,DisOfic!G61,Lablink!G61,Lyreco!G61,Ocaña!G61,Taine!G61,Vistalegre!G61)","v":0},0]
[56,"Cinta Correctora con dispensador desechable tipo Roller. Anchos \nde 4,2 A 6 mm. Largos de 8,5 A 12 Mts.","Unidad",0.96,1,{"$f":"SOLICITUD!F62","v":0},0,{"$f":"MIN(DiaCash!G62,DisOfic!G62,Lablink!G62,Lyreco!G62,Ocaña!G62,Taine!G62,Vistalegre!G62)","v":0},0]
[57,"Cinta Correctora con dispensador desechable tipo Roller. Anchos \nde 4,2 A 6 mm. Largos de 8,5 A 12 Mts. (Pritt Roller)","Unidad",1.41,1,{"$f":"SOLICITUD!F63","v":0},0,{"$f":"MIN(DiaCash!G63,DisOfic!G63,Lablink!G63,Lyreco!G63,Ocaña!G63,Taine!G63,Vistalegre!G63)","v":0},0]
[58,"Corrector Líquido de secado rápido con pincel aplicador 20 Ml","Unidad",0.28999999999999998,1,{"$f":"SOLICITUD!F64","v":0},0,{"$f":"MIN(DiaCash!G64,DisOfic!G64,Lablink!G64,Lyreco!G64,Ocaña!G64,Taine!G64,Vistalegre!G64)","v":0},0]
[59,"Corrector Líquido de secado rápido con pincel aplicador 20 Ml (Tippex)","Unidad",1.02,1,{"$f":"SOLICITUD!F65","v":0},0,{"$f":"MIN(DiaCash!G65,DisOfic!G65,Lablink!G65,Lyreco!G65,Ocaña!G65,Taine!G65,Vistalegre!G65)","v":0},0]
[60,"Lápiz corrector con capuchón ajustable punta metálica secado rápido, de 7 a 12 ml (Pritt)","Unidad",1.1100000000000001,1,{"$f":"SOLICITUD!F66","v":0},0,{"$f":"MIN(DiaCash!G66,DisOfic!G66,Lablink!G66,Lyreco!G66,Ocaña!G66,Taine!G66,Vistalegre!G66)","v":0},0]
[61,"Goma para borrar grafito","Unidad",0.08,1,{"$f":"SOLICITUD!F67","v":0},0,{"$f":"MIN(DiaCash!G67,DisOfic!G67,Lablink!G67,Lyreco!G67,Ocaña!G67,Taine!G67,Vistalegre!G67)","v":0},0]
[62,"Atril de sobremesa ajustable. Tamaño A4 y mayor","Unidad",7.8,1,{"$f":"SOLICITUD!F68","v":0},0,{"$f":"MIN(DiaCash!G68,DisOfic!G68,Lablink!G68,Lyreco!G68,Ocaña!G68,Taine!G68,Vistalegre!G68)","v":0},0]
[63,"Bandeja Apilable Sobremesa Plástico . Tamaño minimo apx. 24X34 cms.","Unidad",1,1,{"$f":"SOLICITUD!F69","v":0},0,{"$f":"MIN(DiaCash!G69,DisOfic!G69,Lablink!G69,Lyreco!G69,Ocaña!G69,Taine!G69,Vistalegre!G69)","v":0},0]
[64,"Bandeja Apilable Sobremesa Acero Cromado. Tamaño minimo apx. 24X34 cms.","Unidad",3.68,1,{"$f":"SOLICITUD!F70","v":0},0,{"$f":"MIN(DiaCash!G70,DisOfic!G70,Lablink!G70,Lyreco!G70,Ocaña!G70,Taine!G70,Vistalegre!G70)","v":0},0]
[65,"Cubilete para lápices ","Unidad",0.64,1,{"$f":"SOLICITUD!F71","v":0},{"$f":"IF(E71=\"Excluido\",\"Excluido1\",IF(F71>0,IF(F71<E71,\"Excluido2\",D71*F71),0))","v":0},{"$f":"MIN(DiaCash!G71,DisOfic!G71,Lablink!G71,Lyreco!G71,Ocaña!G71,Taine!G71,Vistalegre!G71)","v":0},0]
[66,"Regla de Plástico milimetrada transparente 40 cm","Unidad",0.28000000000000003,1,{"$f":"SOLICITUD!F72","v":0},0,{"$f":"MIN(DiaCash!G72,DisOfic!G72,Lablink!G72,Lyreco!G72,Ocaña!G72,Taine!G72,Vistalegre!G72)","v":0},{"$f":"IF(G72<=H72,G72,0)","v":0}]
[67,"Regla de Plástico milimetrada transparente 40 cm (Staedtler, Faber-Castell)","Unidad",0.7,1,{"$f":"SOLICITUD!F73","v":0},0,{"$f":"MIN(DiaCash!G73,DisOfic!G73,Lablink!G73,Lyreco!G73,Ocaña!G73,Taine!G73,Vistalegre!G73)","v":0},0]
[68,"Escuadra y Cartabon transparente 30 ó 40 cm ","Unidad",1.04,1,{"$f":"SOLICITUD!F74","v":0},0,{"$f":"MIN(DiaCash!G74,DisOfic!G74,Lablink!G74,Lyreco!G74,Ocaña!G74,Taine!G74,Vistalegre!G74)","v":0},0]
[69,"Escuadra y Cartabon transparente 30 ó 40 cm (Staedtler, Faber-Castell)","Unidad",2.5,1,{"$f":"SOLICITUD!F75","v":0},0,{"$f":"MIN(DiaCash!G75,DisOfic!G75,Lablink!G75,Lyreco!G75,Ocaña!G75,Taine!G75,Vistalegre!G75)","v":0},0]
[70,"Abrecartas Acero Inoxidable 170 mm aprox.","Unidad",1.07,1,{"$f":"SOLICITUD!F76","v":0},0,{"$f":"MIN(DiaCash!G76,DisOfic!G76,Lablink!G76,Lyreco!G76,Ocaña!G76,Taine!G76,Vistalegre!G76)","v":0},0]
[71,"Bloque Calendario 82X116 mm, Papel de 60 gr/m2 mínimo","Unidad",0.64,1,{"$f":"SOLICITUD!F77","v":0},0,{"$f":"MIN(DiaCash!G77,DisOfic!G77,Lablink!G77,Lyreco!G77,Ocaña!G77,Taine!G77,Vistalegre!G77)","v":0},0]
[72,"Base para Bloque Calendario en baquelita","Unidad",1.04,1,{"$f":"SOLICITUD!F78","v":0},0,{"$f":"MIN(DiaCash!G78,DisOfic!G78,Lablink!G78,Lyreco!G78,Ocaña!G78,Taine!G78,Vistalegre!G78)","v":0},0]
[73,"Chincheta metálica ","Envase 100 Unidades",0.34,1,{"$f":"SOLICITUD!F79","v":0},0,{"$f":"MIN(DiaCash!G79,DisOfic!G79,Lablink!G79,Lyreco!G79,Ocaña!G79,Taine!G79,Vistalegre!G79)","v":0},0]
[74,"Chincheta señalizadoras colores (Apli)","Envase 50 unidades",0.49,1,{"$f":"SOLICITUD!F80","v":0},0,{"$f":"MIN(DiaCash!G80,DisOfic!G80,Lablink!G80,Lyreco!G80,Ocaña!G80,Taine!G80,Vistalegre!G80)","v":0},0]
[75,"Portarrollos para Cinta Adhesiva Hasta 25 mm de ancho y hasta 33 mts de largo","Unidad",2.1,1,{"$f":"SOLICITUD!F81","v":0},0,{"$f":"MIN(DiaCash!G81,DisOfic!G81,Lablink!G81,Lyreco!G81,Ocaña!G81,Taine!G81,Vistalegre!G81)","v":0},0]
[76,"Portarrollos para Cinta Adhesiva Hasta 25 mm de ancho y hasta 33 mts de largo (Scotch)","Unidad",3.23,1,{"$f":"SOLICITUD!F82","v":0},0,{"$f":"MIN(DiaCash!G82,DisOfic!G82,Lablink!G82,Lyreco!G82,Ocaña!G82,Taine!G82,Vistalegre!G82)","v":0},0]
[77,"Portarrollos para Cinta Adhesiva Hasta 25 mm de ancho y hasta 66 mts de largo","Unidad",2.75,1,{"$f":"SOLICITUD!F83","v":0},0,{"$f":"MIN(DiaCash!G83,DisOfic!G83,Lablink!G83,Lyreco!G83,Ocaña!G83,Taine!G83,Vistalegre!G83)","v":0},0]
[78,"Portarrollos para Cinta Adhesiva Hasta 25 mm de ancho y hasta 66 mts de largo (Scotch)","Unidad",6.48,1,{"$f":"SOLICITUD!F84","v":0},0,{"$f":"MIN(DiaCash!G84,DisOfic!G84,Lablink!G84,Lyreco!G84,Ocaña!G84,Taine!G84,Vistalegre!G84)","v":0},0]
[79,"Cinta Adhesiva Transparente 12 mm X 33 mts.","Unidad",0.21,1,{"$f":"SOLICITUD!F85","v":0},0,{"$f":"MIN(DiaCash!G85,DisOfic!G85,Lablink!G85,Lyreco!G85,Ocaña!G85,Taine!G85,Vistalegre!G85)","v":0},0]
[80,"Cinta Adhesiva Transparente 19 mm X 33 mts.","Unidad",0.28000000000000003,1,{"$f":"SOLICITUD!F86","v":0},0,{"$f":"MIN(DiaCash!G86,DisOfic!G86,Lablink!G86,Lyreco!G86,Ocaña!G86,Taine!G86,Vistalegre!G86)","v":0},0]
[81,"Cinta Adhesiva Transparente 19 mm X 66 mts.","Unidad",0.56000000000000005,1,{"$f":"SOLICITUD!F87","v":0},0,{"$f":"MIN(DiaCash!G87,DisOfic!G87,Lablink!G87,Lyreco!G87,Ocaña!G87,Taine!G87,Vistalegre!G87)","v":0},0]
[82,"Cinta Adhesiva Invisible 19 mm x 33 mts.","Unidad",0.69,1,{"$f":"SOLICITUD!F88","v":0},0,{"$f":"MIN(DiaCash!G88,DisOfic!G88,Lablink!G88,Lyreco!G88,Ocaña!G88,Taine!G88,Vistalegre!G88)","v":0},0]
[83,"Cinta Adhesiva Invisible 12 mm x 33 mts. (Scotch Magic)","Unidad",1.88,1,{"$f":"SOLICITUD!F89","v":0},0,{"$f":"MIN(DiaCash!G89,DisOfic!G89,Lablink!G89,Lyreco!G89,Ocaña!G89,Taine!G89,Vistalegre!G89)","v":0},0]
[84,"Cinta Adhesiva Invisible 19 mm x 33 mts. (Scotch Magic)","Unidad",1.92,1,{"$f":"SOLICITUD!F90","v":0},0,{"$f":"MIN(DiaCash!G90,DisOfic!G90,Lablink!G90,Lyreco!G90,Ocaña!G90,Taine!G90,Vistalegre!G90)","v":0},0]
[85,"Cinta Adhesiva Transparente 19 mm X 66 mts. (Scotch)","Unidad",0.8,1,{"$f":"SOLICITUD!F91","v":0},0,{"$f":"MIN(DiaCash!G91,DisOfic!G91,Lablink!G91,Lyreco!G91,Ocaña!G91,Taine!G91,Vistalegre!G91)","v":0},0]
[86,"Precintadora Manual hasta 50 mm de ancho","Unidad",4.9000000000000004,1,{"$f":"SOLICITUD!F92","v":0},0,{"$f":"MIN(DiaCash!G92,DisOfic!G92,Lablink!G92,Lyreco!G92,Ocaña!G92,Taine!G92,Vistalegre!G92)","v":0},0]
[87,"Cinta Adhesiva para embalaje (Precinto) 48-55 mm x 66 mts mínimo","Unidad",0.71,1,{"$f":"SOLICITUD!F93","v":0},0,{"$f":"MIN(DiaCash!G93,DisOfic!G93,Lablink!G93,Lyreco!G93,Ocaña!G93,Taine!G93,Vistalegre!G93)","v":0},0]
[88,"Cinta Adhesiva para embalaje (Precinto) 50 mm x 76 mts mínimo","Unidad",0.88,1,{"$f":"SOLICITUD!F94","v":0},0,{"$f":"MIN(DiaCash!G94,DisOfic!G94,Lablink!G94,Lyreco!G94,Ocaña!G94,Taine!G94,Vistalegre!G94)","v":0},0]
[89,"Clips Mariposa metálicos niquelados. Número 20. 50 mm","Envase 25 unidades",1.68,1,{"$f":"SOLICITUD!F95","v":0},0,{"$f":"MIN(DiaCash!G95,DisOfic!G95,Lablink!G95,Lyreco!G95,Ocaña!G95,Taine!G95,Vistalegre!G95)","v":0},0]
[90,"Clips Mariposa  metálicos niquelados. Número 10. 40 mm","Envase 50 unidades",1.34,1,{"$f":"SOLICITUD!F96","v":0},0,{"$f":"MIN(DiaCash!G96,DisOfic!G96,Lablink!G96,Lyreco!G96,Ocaña!G96,Taine!G96,Vistalegre!G96)","v":0},0]
[91,"Clips Labiados redondos metálicos pulidos. Número 1. 20 mm","Envase 100 unidades",0.17,1,{"$f":"SOLICITUD!F97","v":0},0,{"$f":"MIN(DiaCash!G97,DisOfic!G97,Lablink!G97,Lyreco!G97,Ocaña!G97,Taine!G97,Vistalegre!G97)","v":0},0]
[92,"Clips Labiados redondos metálicos pulidos. Número 1,5. 25 mm","Envase 100 unidades",0.19,1,{"$f":"SOLICITUD!F98","v":0},0,{"$f":"MIN(DiaCash!G98,DisOfic!G98,Lablink!G98,Lyreco!G98,Ocaña!G98,Taine!G98,Vistalegre!G98)","v":0},0]
[93,"Clips Labiados redondos metálicos pulidos. Número 2. 32 mm","Envase 100 unidades",0.22,1,{"$f":"SOLICITUD!F99","v":0},0,{"$f":"MIN(DiaCash!G99,DisOfic!G99,Lablink!G99,Lyreco!G99,Ocaña!G99,Taine!G99,Vistalegre!G99)","v":0},0]
[94,"Clips Labiados redondos metálicos pulidos. Número 3. 40 mm","Envase 100 unidades",0.41,1,{"$f":"SOLICITUD!F100","v":0},0,{"$f":"MIN(DiaCash!G100,DisOfic!G100,Lablink!G100,Lyreco!G100,Ocaña!G100,Taine!G100,Vistalegre!G100)","v":0},0]
[95,"Pinza doble clip negra 19 mm ","Envase 12 unidades",0.42,1,{"$f":"SOLICITUD!F101","v":0},0,{"$f":"MIN(DiaCash!G101,DisOfic!G101,Lablink!G101,Lyreco!G101,Ocaña!G101,Taine!G101,Vistalegre!G101)","v":0},0]
[96,"Pinza doble clip negra 25 mm ","Envase 12 unidades",0.5,1,{"$f":"SOLICITUD!F102","v":0},0,{"$f":"MIN(DiaCash!G102,DisOfic!G102,Lablink!G102,Lyreco!G102,Ocaña!G102,Taine!G102,Vistalegre!G102)","v":0},0]
[97,"Pinza doble clip negra 32 mm ","Envase 12 unidades",0.78,1,{"$f":"SOLICITUD!F103","v":0},0,{"$f":"MIN(DiaCash!G103,DisOfic!G103,Lablink!G103,Lyreco!G103,Ocaña!G103,Taine!G103,Vistalegre!G103)","v":0},0]
[98,"Pinza doble clip negra 40 mm ","Envase 12 unidades",1.48,1,{"$f":"SOLICITUD!F104","v":0},0,{"$f":"MIN(DiaCash!G104,DisOfic!G104,Lablink!G104,Lyreco!G104,Ocaña!G104,Taine!G104,Vistalegre!G104)","v":0},0]
[99,"Pinza doble clip negra 50 mm ","Envase 12 unidades",1.69,1,{"$f":"SOLICITUD!F105","v":0},0,{"$f":"MIN(DiaCash!G105,DisOfic!G105,Lablink!G105,Lyreco!G105,Ocaña!G105,Taine!G105,Vistalegre!G105)","v":0},0]
[100,"Porta clips imantado con rodillo","Unidad",0.89,1,{"$f":"SOLICITUD!F106","v":0},0,{"$f":"MIN(DiaCash!G106,DisOfic!G106,Lablink!G106,Lyreco!G106,Ocaña!G106,Taine!G106,Vistalegre!G106)","v":0},0]
[101,"Porta clips imantado redondo","Unidad",2.65,1,{"$f":"SOLICITUD!F107","v":0},0,{"$f":"MIN(DiaCash!G107,DisOfic!G107,Lablink!G107,Lyreco!G107,Ocaña!G107,Taine!G107,Vistalegre!G107)","v":0},0]
[102,"Cutter hoja 18 mm.","Unidad",0.59,1,{"$f":"SOLICITUD!F108","v":0},0,{"$f":"MIN(DiaCash!G108,DisOfic!G108,Lablink!G108,Lyreco!G108,Ocaña!G108,Taine!G108,Vistalegre!G108)","v":0},0]
[103,"Cutter hoja 9 mm.","Unidad",0.46,1,{"$f":"SOLICITUD!F109","v":0},0,{"$f":"MIN(DiaCash!G109,DisOfic!G109,Lablink!G109,Lyreco!G109,Ocaña!G109,Taine!G109,Vistalegre!G109)","v":0},0]
[104,"Recambios para Cutter 18 mm","Envase 10 Unidades",1.02,1,{"$f":"SOLICITUD!F110","v":0},0,{"$f":"MIN(DiaCash!G110,DisOfic!G110,Lablink!G110,Lyreco!G110,Ocaña!G110,Taine!G110,Vistalegre!G110)","v":0},0]
[105,"Recambios para Cutter 9 mm","Envase 10 Unidades",0.52,1,{"$f":"SOLICITUD!F111","v":0},0,{"$f":"MIN(DiaCash!G111,DisOfic!G111,Lablink!G111,Lyreco!G111,Ocaña!G111,Taine!G111,Vistalegre!G111)","v":0},0]
[106,"Gomas Elásticas tamaños de 80 A 100 mm","Envase 100 gr.",0.51,1,{"$f":"SOLICITUD!F112","v":0},0,{"$f":"MIN(DiaCash!G112,DisOfic!G112,Lablink!G112,Lyreco!G112,Ocaña!G112,Taine!G112,Vistalegre!G112)","v":0},0]
[107,"Gomas Elásticas tamaños Hasta 60 mm","Envase 100 gr.",0.63,1,{"$f":"SOLICITUD!F113","v":0},0,{"$f":"MIN(DiaCash!G113,DisOfic!G113,Lablink!G113,Lyreco!G113,Ocaña!G113,Taine!G113,Vistalegre!G113)","v":0},0]
[108,"Pegamento en Barra (Barra 20 gr)","Unidad",0.37,1,{"$f":"SOLICITUD!F114","v":0},0,{"$f":"MIN(DiaCash!G114,DisOfic!G114,Lablink!G114,Lyreco!G114,Ocaña!G114,Taine!G114,Vistalegre!G114)","v":0},0]
[109,"Pegamento en Barra (Barra 20 gr) (Pritt)","Unidad",1.0900000000000001,1,{"$f":"SOLICITUD!F115","v":0},0,{"$f":"MIN(DiaCash!G115,DisOfic!G115,Lablink!G115,Lyreco!G115,Ocaña!G115,Taine!G115,Vistalegre!G115)","v":0},0]
[110,"Pegamento en Barra (Barra 40 gr)","Unidad",0.59,1,{"$f":"SOLICITUD!F116","v":0},0,{"$f":"MIN(DiaCash!G116,DisOfic!G116,Lablink!G116,Lyreco!G116,Ocaña!G116,Taine!G116,Vistalegre!G116)","v":0},0]
[111,"Pegamento en Barra (Barra 40 gr) (Pritt)","Unidad",1.65,1,{"$f":"SOLICITUD!F117","v":0},0,{"$f":"MIN(DiaCash!G117,DisOfic!G117,Lablink!G117,Lyreco!G117,Ocaña!G117,Taine!G117,Vistalegre!G117)","v":0},0]
[112,"Pegamento Instantáneo Cianocrilato (Tubo 3 gr)","Unidad",1.99,1,{"$f":"SOLICITUD!F118","v":0},0,{"$f":"MIN(DiaCash!G118,DisOfic!G118,Lablink!G118,Lyreco!G118,Ocaña!G118,Taine!G118,Vistalegre!G118)","v":0},0]
[113,"Pegamento Instantáneo Cianocrilato (Tubo 3 gr) (Loctite)","Unidad",2.65,1,{"$f":"SOLICITUD!F119","v":0},0,{"$f":"MIN(DiaCash!G119,DisOfic!G119,Lablink!G119,Lyreco!G119,Ocaña!G119,Taine!G119,Vistalegre!G119)","v":0},0]
[114,"Pegamento Instantáneo Cianocrilato Con Pincel Aplicador (5 gr)","Unidad",2.59,1,{"$f":"SOLICITUD!F120","v":0},0,{"$f":"MIN(DiaCash!G120,DisOfic!G120,Lablink!G120,Lyreco!G120,Ocaña!G120,Taine!G120,Vistalegre!G120)","v":0},0]
[115,"Pegamento Instantáneo Cianocrilato Con Pincel Aplicador (5 gr) (Loctite)","Unidad",3.99,1,{"$f":"SOLICITUD!F121","v":0},0,{"$f":"MIN(DiaCash!G121,DisOfic!G121,Lablink!G121,Lyreco!G121,Ocaña!G121,Taine!G121,Vistalegre!G121)","v":0},0]
[116,"Pegamento Universal (Tubo 35 gr)","Unidad",1.01,1,{"$f":"SOLICITUD!F122","v":0},0,{"$f":"MIN(DiaCash!G122,DisOfic!G122,Lablink!G122,Lyreco!G122,Ocaña!G122,Taine!G122,Vistalegre!G122)","v":0},0]
[117,"Pegamento Universal (Tubo 35 gr) (Imedio)","Unidad",1.38,1,{"$f":"SOLICITUD!F123","v":0},0,{"$f":"MIN(DiaCash!G123,DisOfic!G123,Lablink!G123,Lyreco!G123,Ocaña!G123,Taine!G123,Vistalegre!G123)","v":0},0]
[118,"Tijera hoja acero inoxidable. Mango ergonomico. Longitud 150 mm","Unidad",0.69,1,{"$f":"SOLICITUD!F124","v":0},0,{"$f":"MIN(DiaCash!G124,DisOfic!G124,Lablink!G124,Lyreco!G124,Ocaña!G124,Taine!G124,Vistalegre!G124)","v":0},0]
[119,"Tijera hoja acero Inoxidable. Mango ergonomico. Longitud 210 mm","Unidad",0.89,1,{"$f":"SOLICITUD!F125","v":0},0,{"$f":"MIN(DiaCash!G125,DisOfic!G125,Lablink!G125,Lyreco!G125,Ocaña!G125,Taine!G125,Vistalegre!G125)","v":0},0]
[120,"Tijera hoja acero inoxidable. 150 mm Longitud. (Westcott)","Unidad",3.48,1,{"$f":"SOLICITUD!F126","v":0},0,{"$f":"MIN(DiaCash!G126,DisOfic!G126,Lablink!G126,Lyreco!G126,Ocaña!G126,Taine!G126,Vistalegre!G126)","v":0},0]
[121,"Tijera hoja acero inoxidable. 210 mm Longitud. (Westcott)","Unidad",4.2,1,{"$f":"SOLICITUD!F127","v":0},0,{"$f":"MIN(DiaCash!G127,DisOfic!G127,Lablink!G127,Lyreco!G127,Ocaña!G127,Taine!G127,Vistalegre!G127)","v":0},0]
[122,"Calculadora sobremesa de oficina","Unidad",5.1100000000000003,1,{"$f":"SOLICITUD!F128","v":0},0,{"$f":"MIN(DiaCash!G128,DisOfic!G128,Lablink!G128,Lyreco!G128,Ocaña!G128,Taine!G128,Vistalegre!G128)","v":0},0]
[123,"Calculadora sobremesa de oficina (Casio)","Unidad",4.82,1,{"$f":"SOLICITUD!F129","v":0},0,{"$f":"MIN(DiaCash!G129,DisOfic!G129,Lablink!G129,Lyreco!G129,Ocaña!G129,Taine!G129,Vistalegre!G129)","v":0},0]
[124,"Calculadora científica 12 dígitos (Casio)","Unidad",9.69,1,{"$f":"SOLICITUD!F130","v":0},0,{"$f":"MIN(DiaCash!G130,DisOfic!G130,Lablink!G130,Lyreco!G130,Ocaña!G130,Taine!G130,Vistalegre!G130)","v":0},0]
[125,"Grapadora sobremesa metálica. Capacidad mínima 30 hojas de papel 80 gr/m2","Unidad",7.9,1,{"$f":"SOLICITUD!F131","v":0},0,{"$f":"MIN(DiaCash!G131,DisOfic!G131,Lablink!G131,Lyreco!G131,Ocaña!G131,Taine!G131,Vistalegre!G131)","v":0},0]
[126,"Grapadora sobremesa metálica. Capacidad mínima 30 hojas de papel 80 gr/m2 (Petrus)","Unidad",10.73,1,{"$f":"SOLICITUD!F132","v":0},0,{"$f":"MIN(DiaCash!G132,DisOfic!G132,Lablink!G132,Lyreco!G132,Ocaña!G132,Taine!G132,Vistalegre!G132)","v":0},0]
[127,"Grapadora sobremesa . Capacidad mínima 20 hojas de papel 80 gr/m2","Unidad",1.83,1,{"$f":"SOLICITUD!F133","v":0},0,{"$f":"MIN(DiaCash!G133,DisOfic!G133,Lablink!G133,Lyreco!G133,Ocaña!G133,Taine!G133,Vistalegre!G133)","v":0},0]
[128,"Grapadora Tenaza Metalica. Capacidad mínima 40 hojas de papel 80 gr/m2","Unidad",7.43,1,{"$f":"SOLICITUD!F134","v":0},0,{"$f":"MIN(DiaCash!G134,DisOfic!G134,Lablink!G134,Lyreco!G134,Ocaña!G134,Taine!G134,Vistalegre!G134)","v":0},0]
[129,"Grapadora Tenaza Metalica. Capacidad mínima 40 hojas de papel 80 gr/m2 (Petrus)","Unidad",19.98,1,{"$f":"SOLICITUD!F135","v":0},{"$f":"IF(E135=\"Excluido\",\"Excluido1\",IF(F135>0,IF(F135<E135,\"Excluido2\",D135*F135),0))","v":0},{"$f":"MIN(DiaCash!G135,DisOfic!G135,Lablink!G135,Lyreco!G135,Ocaña!G135,Taine!G135,Vistalegre!G135)","v":0},0]
[130,"Grapadora Tenaza. Capacidad mínima 20 hojas de papel 80 gr/m2","Unidad",10.86,1,{"$f":"SOLICITUD!F136","v":0},0,{"$f":"MIN(DiaCash!G136,DisOfic!G136,Lablink!G136,Lyreco!G136,Ocaña!G136,Taine!G136,Vistalegre!G136)","v":0},{"$f":"IF(G136<=H136,G136,0)","v":0}]
[131,"Grapas Cobreadas o Galvanizadas 22/6 o equivalente","Envase 1000 unidades",0.27,1,{"$f":"SOLICITUD!F137","v":0},0,{"$f":"MIN(DiaCash!G137,DisOfic!G137,Lablink!G137,Lyreco!G137,Ocaña!G137,Taine!G137,Vistalegre!G137)","v":0},0]
[132,"Grapas Cobreadas o Galvanizadas 22/6 o equivalente (Petrus)","Envase 1000 unidades",0.53,1,{"$f":"SOLICITUD!F138","v":0},0,{"$f":"MIN(DiaCash!G138,DisOfic!G138,Lablink!G138,Lyreco!G138,Ocaña!G138,Taine!G138,Vistalegre!G138)","v":0},0]
[133,"Grapas Cobreadas o Galvanizadas 24/6 o equivalente","Envase 1000 unidades",0.38,1,{"$f":"SOLICITUD!F139","v":0},0,{"$f":"MIN(DiaCash!G139,DisOfic!G139,Lablink!G139,Lyreco!G139,Ocaña!G139,Taine!G139,Vistalegre!G139)","v":0},0]
[134,"Grapas Cobreadas o Galvanizadas 24/6 o equivalente (Petrus)","Envase 1000 unidades",0.57999999999999996,1,{"$f":"SOLICITUD!F140","v":0},0,{"$f":"MIN(DiaCash!G140,DisOfic!G140,Lablink!G140,Lyreco!G140,Ocaña!G140,Taine!G140,Vistalegre!G140)","v":0},0]
[135,"Grapas Cobreadas o Galvanizadas 23/6 o equivalente","Envase 1000 unidades",0.42,1,{"$f":"SOLICITUD!F141","v":0},0,{"$f":"MIN(DiaCash!G141,DisOfic!G141,Lablink!G141,Lyreco!G141,Ocaña!G141,Taine!G141,Vistalegre!G141)","v":0},0]
[136,"Grapas Cobreadas o Galvanizadas 23/6 o equivalente (Petrus)","Envase 1000 unidades",0.53,1,{"$f":"SOLICITUD!F142","v":0},0,{"$f":"MIN(DiaCash!G142,DisOfic!G142,Lablink!G142,Lyreco!G142,Ocaña!G142,Taine!G142,Vistalegre!G142)","v":0},0]
[137,"Grapas Cobreadas o Galvanizadas 23/8 o equivalente","Envase 1000 unidades",0.57999999999999996,1,{"$f":"SOLICITUD!F143","v":0},0,{"$f":"MIN(DiaCash!G143,DisOfic!G143,Lablink!G143,Lyreco!G143,Ocaña!G143,Taine!G143,Vistalegre!G143)","v":0},0]
[138,"Grapas Cobreadas o Galvanizadas 23/8 o equivalente (Petrus)","Envase 1000 unidades",0.53,1,{"$f":"SOLICITUD!F144","v":0},0,{"$f":"MIN(DiaCash!G144,DisOfic!G144,Lablink!G144,Lyreco!G144,Ocaña!G144,Taine!G144,Vistalegre!G144)","v":0},0]
[139,"Grapas Cobreadas o Galvanizadas 23/10 o equivalente","Envase 1000 unidades",0.51,1,{"$f":"SOLICITUD!F145","v":0},0,{"$f":"MIN(DiaCash!G145,DisOfic!G145,Lablink!G145,Lyreco!G145,Ocaña!G145,Taine!G145,Vistalegre!G145)","v":0},0]
[140,"Grapas Cobreadas o Galvanizadas 23/10 o equivalente (Petrus)","Envase 1000 unidades",1.19,1,{"$f":"SOLICITUD!F146","v":0},0,{"$f":"MIN(DiaCash!G146,DisOfic!G146,Lablink!G146,Lyreco!G146,Ocaña!G146,Taine!G146,Vistalegre!G146)","v":0},0]
[141,"Grapas Cobreadas o Galvanizadas 23/12 o equivalente","Envase 1000 unidades",1.01,1,{"$f":"SOLICITUD!F147","v":0},0,{"$f":"MIN(DiaCash!G147,DisOfic!G147,Lablink!G147,Lyreco!G147,Ocaña!G147,Taine!G147,Vistalegre!G147)","v":0},0]
[142,"Grapas Cobreadas o Galvanizadas 23/12 o equivalente (Petrus)","Envase 1000 unidades",1.83,1,{"$f":"SOLICITUD!F148","v":0},0,{"$f":"MIN(DiaCash!G148,DisOfic!G148,Lablink!G148,Lyreco!G148,Ocaña!G148,Taine!G148,Vistalegre!G148)","v":0},0]
[143,"Grapas Cobreadas o Galvanizadas 23/13 o equivalente","Envase 1000 unidades",1.01,1,{"$f":"SOLICITUD!F149","v":0},0,{"$f":"MIN(DiaCash!G149,DisOfic!G149,Lablink!G149,Lyreco!G149,Ocaña!G149,Taine!G149,Vistalegre!G149)","v":0},0]
[144,"Grapas Cobreadas o Galvanizadas 23/13 o equivalente (Petrus)","Envase 1000 unidades",1.99,1,{"$f":"SOLICITUD!F150","v":0},0,{"$f":"MIN(DiaCash!G150,DisOfic!G150,Lablink!G150,Lyreco!G150,Ocaña!G150,Taine!G150,Vistalegre!G150)","v":0},0]
[145,"Grapas Cobreadas o Galvanizadas 23/15 o equivalente","Envase 1000 unidades",1.1200000000000001,1,{"$f":"SOLICITUD!F151","v":0},0,{"$f":"MIN(DiaCash!G151,DisOfic!G151,Lablink!G151,Lyreco!G151,Ocaña!G151,Taine!G151,Vistalegre!G151)","v":0},0]
[146,"Grapas Cobreadas o Galvanizadas 23/15 o equivalente (Petrus)","Envase 1000 unidades",1.84,1,{"$f":"SOLICITUD!F152","v":0},0,{"$f":"MIN(DiaCash!G152,DisOfic!G152,Lablink!G152,Lyreco!G152,Ocaña!G152,Taine!G152,Vistalegre!G152)","v":0},0]
[147,"Grapas Cobreadas o Galvanizadas 23/17 o equivalente","Envase 1000 unidades",2.04,1,{"$f":"SOLICITUD!F153","v":0},0,{"$f":"MIN(DiaCash!G153,DisOfic!G153,Lablink!G153,Lyreco!G153,Ocaña!G153,Taine!G153,Vistalegre!G153)","v":0},0]
[148,"Grapas Cobreadas o Galvanizadas 23/17 o equivalente (Petrus)","Envase 1000 unidades",1.43,1,{"$f":"SOLICITUD!F154","v":0},0,{"$f":"MIN(DiaCash!G154,DisOfic!G154,Lablink!G154,Lyreco!G154,Ocaña!G154,Taine!G154,Vistalegre!G154)","v":0},0]
[149,"Grapas Cobreadas o Galvanizadas 23/20 o equivalente","Envase 1000 unidades",3.26,1,{"$f":"SOLICITUD!F155","v":0},0,{"$f":"MIN(DiaCash!G155,DisOfic!G155,Lablink!G155,Lyreco!G155,Ocaña!G155,Taine!G155,Vistalegre!G155)","v":0},0]
[150,"Grapas Cobreadas o Galvanizadas 23/20 o equivalente (Petrus)","Envase 1000 unidades",1.7,1,{"$f":"SOLICITUD!F156","v":0},0,{"$f":"MIN(DiaCash!G156,DisOfic!G156,Lablink!G156,Lyreco!G156,Ocaña!G156,Taine!G156,Vistalegre!G156)","v":0},0]
[151,"Grapas Cobreadas o Galvanizadas 23/24 o equivalente","Envase 1000 unidades",3.22,1,{"$f":"SOLICITUD!F157","v":0},0,{"$f":"MIN(DiaCash!G157,DisOfic!G157,Lablink!G157,Lyreco!G157,Ocaña!G157,Taine!G157,Vistalegre!G157)","v":0},0]
[152,"Grapas Cobreadas o Galvanizadas 23/24 o equivalente (Petrus)","Envase 1000 unidades",1.7,1,{"$f":"SOLICITUD!F158","v":0},0,{"$f":"MIN(DiaCash!G158,DisOfic!G158,Lablink!G158,Lyreco!G158,Ocaña!G158,Taine!G158,Vistalegre!G158)","v":0},0]
[153,"Grapas Galvanizadas 26/6 o equivalente","Envase 1000 unidades",0.35,1,{"$f":"SOLICITUD!F159","v":0},0,{"$f":"MIN(DiaCash!G159,DisOfic!G159,Lablink!G159,Lyreco!G159,Ocaña!G159,Taine!G159,Vistalegre!G159)","v":0},0]
[154,"Grapas Galvanizadas 26/6 o equivalente (Petrus)","Envase 1000 unidades",0.66,1,{"$f":"SOLICITUD!F160","v":0},0,{"$f":"MIN(DiaCash!G160,DisOfic!G160,Lablink!G160,Lyreco!G160,Ocaña!G160,Taine!G160,Vistalegre!G160)","v":0},0]
[155,"Grapas Galvanizadas 26/8 o equivalente","Envase 5000 unidades",4.32,1,{"$f":"SOLICITUD!F161","v":0},0,{"$f":"MIN(DiaCash!G161,DisOfic!G161,Lablink!G161,Lyreco!G161,Ocaña!G161,Taine!G161,Vistalegre!G161)","v":0},0]
[156,"Grapas Galvanizadas 26/8 o equivalente (Petrus)","Envase 5000 unidades",4.32,1,{"$f":"SOLICITUD!F162","v":0},0,{"$f":"MIN(DiaCash!G162,DisOfic!G162,Lablink!G162,Lyreco!G162,Ocaña!G162,Taine!G162,Vistalegre!G162)","v":0},0]
[157,"Quita Grapas tipo pinza cuerpo metálico","Unidad",0.32,1,{"$f":"SOLICITUD!F163","v":0},0,{"$f":"MIN(DiaCash!G163,DisOfic!G163,Lablink!G163,Lyreco!G163,Ocaña!G163,Taine!G163,Vistalegre!G163)","v":0},0]
[158,"Quita Grapas tipo pinza cuerpo metálico (Petrus, Novus)","Unidad",1.5,1,{"$f":"SOLICITUD!F164","v":0},0,{"$f":"MIN(DiaCash!G164,DisOfic!G164,Lablink!G164,Lyreco!G164,Ocaña!G164,Taine!G164,Vistalegre!G164)","v":0},0]
[159,"Perforadora  para papel 4 punzones. Capacidad Minima 30 hojas de 80gr/m2. Guia de posicicionamiento y deposito desperdicios. Distancia entre taladros 80mm","Unidad",30.98,1,{"$f":"SOLICITUD!F165","v":0},0,{"$f":"MIN(DiaCash!G165,DisOfic!G165,Lablink!G165,Lyreco!G165,Ocaña!G165,Taine!G165,Vistalegre!G165)","v":0},0]
[160,"Perforadora  para papel 4 punzones. Capacidad Minima 30 hojas de 80gr/m2. Guia de posicicionamiento y deposito desperdicios. Distancia entre taladros 80mm (Petrus)","Unidad",46.35,1,{"$f":"SOLICITUD!F166","v":0},0,{"$f":"MIN(DiaCash!G166,DisOfic!G166,Lablink!G166,Lyreco!G166,Ocaña!G166,Taine!G166,Vistalegre!G166)","v":0},0]
[161,"Perforadora  para papel 2 Punzones. Capacidad mínima 20 hojas de 80gr/m2. Guia de posicicionamiento y deposito desperdicios. Distancia entre taladros 80mm ","Unidad",3.5,1,{"$f":"SOLICITUD!F167","v":0},0,{"$f":"MIN(DiaCash!G167,DisOfic!G167,Lablink!G167,Lyreco!G167,Ocaña!G167,Taine!G167,Vistalegre!G167)","v":0},0]
[162,"Perforadora  para papel 2 Punzones. Capacidad mínima 20 hojas de 80gr/m2. Guia de posicicionamiento y deposito desperdicios. Distancia entre taladros 80mm (Petrus)","Unidad",9.1,1,{"$f":"SOLICITUD!F168","v":0},0,{"$f":"MIN(DiaCash!G168,DisOfic!G168,Lablink!G168,Lyreco!G168,Ocaña!G168,Taine!G168,Vistalegre!G168)","v":0},0]
[163,"Perforadora  para papel 2 Punzones. Capacidad mínima 60 hojas de 80gr/m2. Guia de Posicicionamiento y deposito desperdicios. Distancia entre taladros 80mm","Unidad",15.93,1,{"$f":"SOLICITUD!F169","v":0},0,{"$f":"MIN(DiaCash!G169,DisOfic!G169,Lablink!G169,Lyreco!G169,Ocaña!G169,Taine!G169,Vistalegre!G169)","v":0},0]
[164,"Perforadora  para papel 2 Punzones. Capacidad mínima 60 hojas de 80gr/m2. Guia de Posicicionamiento y deposito desperdicios. Distancia entre taladros 80mm (Petrus)","Unidad",21.98,1,{"$f":"SOLICITUD!F170","v":0},0,{"$f":"MIN(DiaCash!G170,DisOfic!G170,Lablink!G170,Lyreco!G170,Ocaña!G170,Taine!G170,Vistalegre!G170)","v":0},0]
[165,"Papelera metálica rejilla cuadrada o redonda. Mínimo:  30cm altura X 25cm diámetro","Unidad",4.99,1,{"$f":"SOLICITUD!F171","v":0},0,{"$f":"MIN(DiaCash!G171,DisOfic!G171,Lablink!G171,Lyreco!G171,Ocaña!G171,Taine!G171,Vistalegre!G171)","v":0},0]
[166,"Fechador de entintaje automático. Con placa de texto altura mínima de impresión de 4 mm.","Unidad",4.95,1,{"$f":"SOLICITUD!F172","v":0},0,{"$f":"MIN(DiaCash!G172,DisOfic!G172,Lablink!G172,Lyreco!G172,Ocaña!G172,Taine!G172,Vistalegre!G172)","v":0},0]
[167,"Numerador automático de 6 dígitos con armazón metálico y ruedas. Altura de impresión mínima de 4, 5 mm.","Unidad",13.75,1,{"$f":"SOLICITUD!F173","v":0},0,{"$f":"MIN(DiaCash!G173,DisOfic!G173,Lablink!G173,Lyreco!G173,Ocaña!G173,Taine!G173,Vistalegre!G173)","v":0},0]
[168,"Sello de caucho circular grabado. Tamaño área para texto de hasta 50 mm  de diámetro.","Unidad",11.55,1,{"$f":"SOLICITUD!F174","v":0},0,{"$f":"MIN(DiaCash!G174,DisOfic!G174,Lablink!G174,Lyreco!G174,Ocaña!G174,Taine!G174,Vistalegre!G174)","v":0},0]
[169,"Sello de caucho rectangular grabado. Tamaño área para texto de hasta 50x50 mm.","Unidad",4.84,1,{"$f":"SOLICITUD!F175","v":0},0,{"$f":"MIN(DiaCash!G175,DisOfic!G175,Lablink!G175,Lyreco!G175,Ocaña!G175,Taine!G175,Vistalegre!G175)","v":0},0]
[170,"Sello de caucho rectangular grabado. Tamaño área para texto de hasta 80x80 mm.","Unidad",13.64,1,{"$f":"SOLICITUD!F176","v":0},0,{"$f":"MIN(DiaCash!G176,DisOfic!G176,Lablink!G176,Lyreco!G176,Ocaña!G176,Taine!G176,Vistalegre!G176)","v":0},0]
[171,"Sello de Caucho Autoentintado Rectangular hasta 45X18 mm ","Unidad",7.29,1,{"$f":"SOLICITUD!F177","v":0},0,{"$f":"MIN(DiaCash!G177,DisOfic!G177,Lablink!G177,Lyreco!G177,Ocaña!G177,Taine!G177,Vistalegre!G177)","v":0},0]
[172,"Sello de Caucho Autoentintado Rectangular de 46X19 hasta 70X30 mm","Unidad",10.49,1,{"$f":"SOLICITUD!F178","v":0},0,{"$f":"MIN(DiaCash!G178,DisOfic!G178,Lablink!G178,Lyreco!G178,Ocaña!G178,Taine!G178,Vistalegre!G178)","v":0},0]
[173,"Sello de Caucho Autoentintado Redondo hasta 30 mm","Unidad",18,1,{"$f":"SOLICITUD!F179","v":0},0,{"$f":"MIN(DiaCash!G179,DisOfic!G179,Lablink!G179,Lyreco!G179,Ocaña!G179,Taine!G179,Vistalegre!G179)","v":0},0]
[174,"Sello de Caucho Autoentintado Redondo de 31 a 50 mm","Unidad",23,1,{"$f":"SOLICITUD!F180","v":0},0,{"$f":"MIN(DiaCash!G180,DisOfic!G180,Lablink!G180,Lyreco!G180,Ocaña!G180,Taine!G180,Vistalegre!G180)","v":0},0]
[175,"Sello de Caucho Autoentintado Cuadrado hasta 30 mm","Unidad",14.5,1,{"$f":"SOLICITUD!F181","v":0},0,{"$f":"MIN(DiaCash!G181,DisOfic!G181,Lablink!G181,Lyreco!G181,Ocaña!G181,Taine!G181,Vistalegre!G181)","v":0},0]
[176,"Sello de Caucho Autoentintado Cuadrado de 31 a 50 mm","Unidad",16,1,{"$f":"SOLICITUD!F182","v":0},0,{"$f":"MIN(DiaCash!G182,DisOfic!G182,Lablink!G182,Lyreco!G182,Ocaña!G182,Taine!G182,Vistalegre!G182)","v":0},0]
[177,"Tampón para sellos.N1, 90 X160 mm.","Unidad",6.03,1,{"$f":"SOLICITUD!F183","v":0},0,{"$f":"MIN(DiaCash!G183,DisOfic!G183,Lablink!G183,Lyreco!G183,Ocaña!G183,Taine!G183,Vistalegre!G183)","v":0},0]
[178,"Tampón para sellos.N2, 70 X110 mm.","Unidad",1.7,1,{"$f":"SOLICITUD!F184","v":0},0,{"$f":"MIN(DiaCash!G184,DisOfic!G184,Lablink!G184,Lyreco!G184,Ocaña!G184,Taine!G184,Vistalegre!G184)","v":0},0]
[179,"Tinta de sellar para tampón.(30 ML)","Unidad",0.3,1,{"$f":"SOLICITUD!F185","v":0},0,{"$f":"MIN(DiaCash!G185,DisOfic!G185,Lablink!G185,Lyreco!G185,Ocaña!G185,Taine!G185,Vistalegre!G185)","v":0},0]
[180,"Almohadilla para sello autoentintado. Hasta 30X50 mm","Unidad",1.0900000000000001,1,{"$f":"SOLICITUD!F186","v":0},0,{"$f":"MIN(DiaCash!G186,DisOfic!G186,Lablink!G186,Lyreco!G186,Ocaña!G186,Taine!G186,Vistalegre!G186)","v":0},0]
[181,"Almohadilla para sello autoentintado. Hasta 70X30 mm","Unidad",1.99,1,{"$f":"SOLICITUD!F187","v":0},0,{"$f":"MIN(DiaCash!G187,DisOfic!G187,Lablink!G187,Lyreco!G187,Ocaña!G187,Taine!G187,Vistalegre!G187)","v":0},0]
[182,"Portasellos de sobremesa 6 plazas","Unidad",4.42,1,{"$f":"SOLICITUD!F188","v":0},0,{"$f":"MIN(DiaCash!G188,DisOfic!G188,Lablink!G188,Lyreco!G188,Ocaña!G188,Taine!G188,Vistalegre!G188)","v":0},0]
[183,"Portasellos de sobremesa 8 plazas","Unidad",4.45,1,{"$f":"SOLICITUD!F189","v":0},0,{"$f":"MIN(DiaCash!G189,DisOfic!G189,Lablink!G189,Lyreco!G189,Ocaña!G189,Taine!G189,Vistalegre!G189)","v":0},0]
[184,"Portasellos de sobremesa 10 plazas","Unidad",5.2,1,{"$f":"SOLICITUD!F190","v":0},0,{"$f":"MIN(DiaCash!G190,DisOfic!G190,Lablink!G190,Lyreco!G190,Ocaña!G190,Taine!G190,Vistalegre!G190)","v":0},0]
[185,"Archivador de palanca a-z sin caja. Cartón forrado en plástico . Con cantonera metálica. Dos anillas. Lomo de  75 mm. Tamaño A4.","Unidad",0.95,1,{"$f":"SOLICITUD!F191","v":0},0,{"$f":"MIN(DiaCash!G191,DisOfic!G191,Lablink!G191,Lyreco!G191,Ocaña!G191,Taine!G191,Vistalegre!G191)","v":0},0]
[186,"Archivador de palanca a-z sin caja. Cartón forrado en plástico . Con cantonera metálica. Dos anillas. Lomo de  75 mm. Tamaño folio.","Unidad",0.96,1,{"$f":"SOLICITUD!F192","v":0},0,{"$f":"MIN(DiaCash!G192,DisOfic!G192,Lablink!G192,Lyreco!G192,Ocaña!G192,Taine!G192,Vistalegre!G192)","v":0},0]
[187,"Archivador de palanca a-z sin caja.Cartón jaspeado. Con cantonera metálica. Dos anillas. Lomo de  75 mm. Tamaño A4.","Unidad",0.96,1,{"$f":"SOLICITUD!F193","v":0},0,{"$f":"MIN(DiaCash!G193,DisOfic!G193,Lablink!G193,Lyreco!G193,Ocaña!G193,Taine!G193,Vistalegre!G193)","v":0},0]
[188,"Archivador de palanca a-z sin caja.Cartón jaspeado. Con cantonera metálica. Dos anillas. Lomo de  75 mm. Tamaño folio.","Unidad",0.97,1,{"$f":"SOLICITUD!F194","v":0},0,{"$f":"MIN(DiaCash!G194,DisOfic!G194,Lablink!G194,Lyreco!G194,Ocaña!G194,Taine!G194,Vistalegre!G194)","v":0},0]
[189,"Caja de cartón color blanco para archivo definitivo. Tamaño folio  Lomo 100 mm aprox.","Unidad",0.31,1,{"$f":"SOLICITUD!F195","v":0},0,{"$f":"MIN(DiaCash!G195,DisOfic!G195,Lablink!G195,Lyreco!G195,Ocaña!G195,Taine!G195,Vistalegre!G195)","v":0},0]
[190,"Caja de cartón color blanco para archivo definitivo. Tamaño folio prolongado Lomo 115 mm aprox.","Unidad",0.36,1,{"$f":"SOLICITUD!F196","v":0},0,{"$f":"MIN(DiaCash!G196,DisOfic!G196,Lablink!G196,Lyreco!G196,Ocaña!G196,Taine!G196,Vistalegre!G196)","v":0},0]
[191,"Caja de cartón color blanco para archivo definitivo. Tamaño folio prolongado. Lomo 100 mm aprox.","Unidad",0.42,1,{"$f":"SOLICITUD!F197","v":0},0,{"$f":"MIN(DiaCash!G197,DisOfic!G197,Lablink!G197,Lyreco!G197,Ocaña!G197,Taine!G197,Vistalegre!G197)","v":0},0]
[192,"Caja para archivador de palanca a-z. Misma calidad y dimensiones compatibles con el archivador de palanca a-z. Tamaño A4. Lomo de  75 mm.","Unidad",0.47,1,{"$f":"SOLICITUD!F198","v":0},0,{"$f":"MIN(DiaCash!G198,DisOfic!G198,Lablink!G198,Lyreco!G198,Ocaña!G198,Taine!G198,Vistalegre!G198)","v":0},0]
[193,"Caja para archivador de palanca a-z. Misma calidad y dimensiones compatibles con el archivador de palanca a-z. Tamaño folio. Lomo de  75 mm.","Unidad",0.5,1,{"$f":"SOLICITUD!F199","v":0},{"$f":"IF(E199=\"Excluido\",\"Excluido1\",IF(F199>0,IF(F199<E199,\"Excluido2\",D199*F199),0))","v":0},{"$f":"MIN(DiaCash!G199,DisOfic!G199,Lablink!G199,Lyreco!G199,Ocaña!G199,Taine!G199,Vistalegre!G199)","v":0},0]
[194,"Archivador de 2 anillas 25 mm. Fabricado en cartón forrado en plástico tanto en el exterior como en el interior. Dos anillas. Lomo de 40 mm. Tamaño A4.","Unidad",1.96,1,{"$f":"SOLICITUD!F200","v":0},0,{"$f":"MIN(DiaCash!G200,DisOfic!G200,Lablink!G200,Lyreco!G200,Ocaña!G200,Taine!G200,Vistalegre!G200)","v":0},{"$f":"IF(G200<=H200,G200,0)","v":0}]
[195,"Archivador de 2 anillas 25 mm. Fabricado en cartón forrado en plástico tanto en el exterior como en el interior. Dos anillas. Lomo de 40 mm. Tamaño folio.","Unidad",1.9,1,{"$f":"SOLICITUD!F201","v":0},0,{"$f":"MIN(DiaCash!G201,DisOfic!G201,Lablink!G201,Lyreco!G201,Ocaña!G201,Taine!G201,Vistalegre!G201)","v":0},0]
[196,"Archivador de 4 anillas 25 mm. Fabricado en cartón forrado en plástico tanto en el exterior como en el interior. Lomo de 40 mm. Tamaño A4.","Unidad",1.99,1,{"$f":"SOLICITUD!F202","v":0},0,{"$f":"MIN(DiaCash!G202,DisOfic!G202,Lablink!G202,Lyreco!G202,Ocaña!G202,Taine!G202,Vistalegre!G202)","v":0},0]
[197,"Archivador de 4 anillas 25 mm. Fabricado en cartón forrado en plástico tanto en el exterior como en el interior. Lomo de 40 mm. Tamaño folio.","Unidad",2.19,1,{"$f":"SOLICITUD!F203","v":0},0,{"$f":"MIN(DiaCash!G203,DisOfic!G203,Lablink!G203,Lyreco!G203,Ocaña!G203,Taine!G203,Vistalegre!G203)","v":0},0]
[198,"Archivador de 4 anillas 40 mm. Fabricado en cartón forrado en plástico tanto en el exterior como en el interior. Lomo de 60 mm. Tamaño A4.","Unidad",2.19,1,{"$f":"SOLICITUD!F204","v":0},0,{"$f":"MIN(DiaCash!G204,DisOfic!G204,Lablink!G204,Lyreco!G204,Ocaña!G204,Taine!G204,Vistalegre!G204)","v":0},0]
[199,"Archivador de 4 anillas 40 mm. Fabricado en cartón forrado en plástico tanto en el exterior como en el interior. Lomo de 60 mm. Tamaño folio.","Unidad",2.39,1,{"$f":"SOLICITUD!F205","v":0},0,{"$f":"MIN(DiaCash!G205,DisOfic!G205,Lablink!G205,Lyreco!G205,Ocaña!G205,Taine!G205,Vistalegre!G205)","v":0},0]
[200,"Separadores de plástico tamaño folio 5 pestañas 2 o 4 perforaciones","Unidad",0.35,1,{"$f":"SOLICITUD!F206","v":0},0,{"$f":"MIN(DiaCash!G206,DisOfic!G206,Lablink!G206,Lyreco!G206,Ocaña!G206,Taine!G206,Vistalegre!G206)","v":0},0]
[201,"Carpeta clasificadora forrada, con fuelle-acordeón. Índice alfabético (a-z) o numérico (1-31) . Tamaño folio. 12 departamentos mínimo.","Unidad",5.05,1,{"$f":"SOLICITUD!F207","v":0},0,{"$f":"MIN(DiaCash!G207,DisOfic!G207,Lablink!G207,Lyreco!G207,Ocaña!G207,Taine!G207,Vistalegre!G207)","v":0},0]
[202,"Carpeta clasificadora forrada, con fuelle-acordeón. Índice alfabético (a-z) o numérico (1-31) . Tamaño folio. 20 departamentos mínimo.","Unidad",6.05,1,{"$f":"SOLICITUD!F208","v":0},0,{"$f":"MIN(DiaCash!G208,DisOfic!G208,Lablink!G208,Lyreco!G208,Ocaña!G208,Taine!G208,Vistalegre!G208)","v":0},0]
[203,"Carpeta colgante de armario  . Tamaño A4.  Visor vertical o lateral rígido 13 cm. Varilla de plástico o metálica. Medida entre ejes 330 mm.  Cartón de 230 gr/m2 mínimo.  Lomo en 15 mm .","Unidad",0.64,1,{"$f":"SOLICITUD!F209","v":0},0,{"$f":"MIN(DiaCash!G209,DisOfic!G209,Lablink!G209,Lyreco!G209,Ocaña!G209,Taine!G209,Vistalegre!G209)","v":0},0]
[204,"Carpeta colgante de armario  . Tamaño A4. Visor vertical o lateral rígido 13 cm. Varilla de plástico o metálica.  Medida entre ejes 330 mm . Cartón de 230gr/m2 mínimo. Lomo en 30mm.","Unidad",0.64,1,{"$f":"SOLICITUD!F210","v":0},0,{"$f":"MIN(DiaCash!G210,DisOfic!G210,Lablink!G210,Lyreco!G210,Ocaña!G210,Taine!G210,Vistalegre!G210)","v":0},0]
[205,"Carpeta colgante de armario  . Tamaño A4.  Visor vertical o lateral rígido 13 cm. Varilla de plástico o metálica. Medida entre ejes 330 mm . Cartón de 230 gr/m2 mínimo. Lomo en v.","Unidad",0.35,1,{"$f":"SOLICITUD!F211","v":0},0,{"$f":"MIN(DiaCash!G211,DisOfic!G211,Lablink!G211,Lyreco!G211,Ocaña!G211,Taine!G211,Vistalegre!G211)","v":0},0]
[206,"Carpeta colgante de armario  . Tamaño folio. Visor vertical o lateral rígido de 13 cm. Medida entre ejes 365 mm.  Cartón de 230gr/m2 mínimo. Lomo en v.","Unidad",0.41,1,{"$f":"SOLICITUD!F212","v":0},0,{"$f":"MIN(DiaCash!G212,DisOfic!G212,Lablink!G212,Lyreco!G212,Ocaña!G212,Taine!G212,Vistalegre!G212)","v":0},0]
[207,"Carpeta colgante de cajón . Tamaño A4. Visor horizontal o superior .Varilla de plástico o metálica. Medida entre ejes 330 mm. Cartón kraft de 230gr/m2 mínimo.Lomo 15 mm ","Unidad",0.55000000000000004,1,{"$f":"SOLICITUD!F213","v":0},0,{"$f":"MIN(DiaCash!G213,DisOfic!G213,Lablink!G213,Lyreco!G213,Ocaña!G213,Taine!G213,Vistalegre!G213)","v":0},0]
[208,"Carpeta colgante de cajón . Tamaño folio. Visor horizontal o superior .Varilla de plástico o metálica. Medida entre ejes 365 mm.  Cartón de 230gr/m2 mínimo. Lomo 15 mm","Unidad",0.47,1,{"$f":"SOLICITUD!F214","v":0},0,{"$f":"MIN(DiaCash!G214,DisOfic!G214,Lablink!G214,Lyreco!G214,Ocaña!G214,Taine!G214,Vistalegre!G214)","v":0},0]
[209,"Carpeta colgante de cajón . Tamaño folio. Visor horizontal o superior .Varilla de plástico o metálica. Medida entre ejes 365 mm. Cartón de 230gr/m2 mínimo. Lomo en 30 mm","Unidad",0.44,1,{"$f":"SOLICITUD!F215","v":0},0,{"$f":"MIN(DiaCash!G215,DisOfic!G215,Lablink!G215,Lyreco!G215,Ocaña!G215,Taine!G215,Vistalegre!G215)","v":0},0]
[210,"Carpeta colgante de cajón . Tamaño A4.Visor horizontal o superior .Varilla de plástico o metálica. Medida entre ejes 330 mm. Cartón kraft de 230gr/m2 mínimo. Lomo en v.","Unidad",0.46,1,{"$f":"SOLICITUD!F216","v":0},0,{"$f":"MIN(DiaCash!G216,DisOfic!G216,Lablink!G216,Lyreco!G216,Ocaña!G216,Taine!G216,Vistalegre!G216)","v":0},0]
[211,"Carpeta colgante de cajón . Tamaño folio prolongado. Visor horizontal o superior. Varilla de plástico o metálica.  Medida entre ejes 390 mm. Cartón kraft de 230gr/m2 mínimo. Lomo en v.","Unidad",0.46,1,{"$f":"SOLICITUD!F217","v":0},0,{"$f":"MIN(DiaCash!G217,DisOfic!G217,Lablink!G217,Lyreco!G217,Ocaña!G217,Taine!G217,Vistalegre!G217)","v":0},0]
[212,"Carpeta de cartulina con gomas y 3 solapas. Gramaje de 380 gr/m2 mínimo Medidas 320 x 240 mm aprox.","Unidad",0.39,1,{"$f":"SOLICITUD!F218","v":0},0,{"$f":"MIN(DiaCash!G218,DisOfic!G218,Lablink!G218,Lyreco!G218,Ocaña!G218,Taine!G218,Vistalegre!G218)","v":0},0]
[213,"Carpeta proyectos. Cartón gomas montadas. Lomo 50 mm.","Unidad",1.64,1,{"$f":"SOLICITUD!F219","v":0},0,{"$f":"MIN(DiaCash!G219,DisOfic!G219,Lablink!G219,Lyreco!G219,Ocaña!G219,Taine!G219,Vistalegre!G219)","v":0},0]
[214,"Carpeta proyectos. Cartón gomas montadas. Lomo 90 mm.","Unidad",2.0699999999999998,1,{"$f":"SOLICITUD!F220","v":0},0,{"$f":"MIN(DiaCash!G220,DisOfic!G220,Lablink!G220,Lyreco!G220,Ocaña!G220,Taine!G220,Vistalegre!G220)","v":0},0]
[215,"Carpetas de fundas. Cubiertas en plástico semirrígido opaco. Fundas interiores soldadas al lomo. Número de fundas interiores: 10.","Unidad",1.05,1,{"$f":"SOLICITUD!F221","v":0},0,{"$f":"MIN(DiaCash!G221,DisOfic!G221,Lablink!G221,Lyreco!G221,Ocaña!G221,Taine!G221,Vistalegre!G221)","v":0},0]
[216,"Carpetas de fundas. Cubiertas en plástico semirrígido opaco. Fundas interiores soldadas al lomo. Número de fundas interiores: 20.","Unidad",1.2,1,{"$f":"SOLICITUD!F222","v":0},0,{"$f":"MIN(DiaCash!G222,DisOfic!G222,Lablink!G222,Lyreco!G222,Ocaña!G222,Taine!G222,Vistalegre!G222)","v":0},0]
[217,"Carpetas de fundas. Cubiertas en plástico semirrígido opaco. Fundas interiores soldadas al lomo. Número de fundas interiores: 30.","Unidad",1.83,1,{"$f":"SOLICITUD!F223","v":0},0,{"$f":"MIN(DiaCash!G223,DisOfic!G223,Lablink!G223,Lyreco!G223,Ocaña!G223,Taine!G223,Vistalegre!G223)","v":0},0]
[218,"Carpetas de fundas. Cubiertas en plástico semirrígido opaco. Fundas interiores soldadas al lomo. Número de fundas interiores: 40.","Unidad",2,1,{"$f":"SOLICITUD!F224","v":0},0,{"$f":"MIN(DiaCash!G224,DisOfic!G224,Lablink!G224,Lyreco!G224,Ocaña!G224,Taine!G224,Vistalegre!G224)","v":0},0]
[219,"Carpetas de fundas. Cubiertas en plástico semirrígido opaco. Fundas interiores soldadas al lomo. Número de fundas interiores: 60.","Unidad",2.2999999999999998,1,{"$f":"SOLICITUD!F225","v":0},0,{"$f":"MIN(DiaCash!G225,DisOfic!G225,Lablink!G225,Lyreco!G225,Ocaña!G225,Taine!G225,Vistalegre!G225)","v":0},0]
[220,"Índice plástico varios colores. Juego de solapas tipo 1 a 10 de plástico mínimo de 120 micras . Tamaño  A4 o superior.","Unidad",0.59,1,{"$f":"SOLICITUD!F226","v":0},0,{"$f":"MIN(DiaCash!G226,DisOfic!G226,Lablink!G226,Lyreco!G226,Ocaña!G226,Taine!G226,Vistalegre!G226)","v":0},0]
[221,"Índice plástico varios colores. Juego de solapas tipo A a Z de plástico espesor mínimo de 120 micras . Tamaño  A4 o superior.","Unidad",1.19,1,{"$f":"SOLICITUD!F227","v":0},0,{"$f":"MIN(DiaCash!G227,DisOfic!G227,Lablink!G227,Lyreco!G227,Ocaña!G227,Taine!G227,Vistalegre!G227)","v":0},0]
[222,"Subcarpeta cartulina. Gramaje 170 gr/m2 mínimo. Tamaño A4.","Unidad",6.3E-2,1,{"$f":"SOLICITUD!F228","v":0},0,{"$f":"MIN(DiaCash!G228,DisOfic!G228,Lablink!G228,Lyreco!G228,Ocaña!G228,Taine!G228,Vistalegre!G228)","v":0},0]
[223,"Subcarpeta cartulina. Gramaje 170 gr/m2 mínimo. Tamaño folio.","Unidad",0.08,1,{"$f":"SOLICITUD!F229","v":0},0,{"$f":"MIN(DiaCash!G229,DisOfic!G229,Lablink!G229,Lyreco!G229,Ocaña!G229,Taine!G229,Vistalegre!G229)","v":0},0]
[224,"Subcarpeta cartulina. Gramaje 210 gr/m2 mínimo. Tamaño A4.","Unidad",0.9,1,{"$f":"SOLICITUD!F230","v":0},0,{"$f":"MIN(DiaCash!G230,DisOfic!G230,Lablink!G230,Lyreco!G230,Ocaña!G230,Taine!G230,Vistalegre!G230)","v":0},0]
[225,"Subcarpeta cartulina. Gramaje 210 gr/m2 mínimo. Tamaño folio.","Unidad",0.09,1,{"$f":"SOLICITUD!F231","v":0},0,{"$f":"MIN(DiaCash!G231,DisOfic!G231,Lablink!G231,Lyreco!G231,Ocaña!G231,Taine!G231,Vistalegre!G231)","v":0},0]
[226,"Tubo portaplanos de plástico","Unidad",0.84,1,{"$f":"SOLICITUD!F232","v":0},0,{"$f":"MIN(DiaCash!G232,DisOfic!G232,Lablink!G232,Lyreco!G232,Ocaña!G232,Taine!G232,Vistalegre!G232)","v":0},0]
[227,"Visores plásticos (rígido o flexible con/sin efecto lupa, visión superior o lateral, con/sin etiquetas ).","Unidad",0.08,1,{"$f":"SOLICITUD!F233","v":0},0,{"$f":"MIN(DiaCash!G233,DisOfic!G233,Lablink!G233,Lyreco!G233,Ocaña!G233,Taine!G233,Vistalegre!G233)","v":0},0]
[228,"Dossier con fastener. Portada transparente, contraportada opaca.  Fastener metálico. Tamaño A4.","Unidad",0.21,1,{"$f":"SOLICITUD!F234","v":0},0,{"$f":"MIN(DiaCash!G234,DisOfic!G234,Lablink!G234,Lyreco!G234,Ocaña!G234,Taine!G234,Vistalegre!G234)","v":0},0]
[229,"Dossier con fastener. Portada transparente, contraportada opaca.  Fastener metálico. Tamaño folio.","Unidad",0.45,1,{"$f":"SOLICITUD!F235","v":0},0,{"$f":"MIN(DiaCash!G235,DisOfic!G235,Lablink!G235,Lyreco!G235,Ocaña!G235,Taine!G235,Vistalegre!G235)","v":0},0]
[230,"Dossier uñero en plástico. Apertura superior y lateral. Tamaño folio","Envase 100 unidades",6.99,1,{"$f":"SOLICITUD!F236","v":0},0,{"$f":"MIN(DiaCash!G236,DisOfic!G236,Lablink!G236,Lyreco!G236,Ocaña!G236,Taine!G236,Vistalegre!G236)","v":0},0]
[231,"Funda plástico transparente antiestática multitaladro. Tamaño A4. Grosor de 60 micras mínimo.","Envase 100 unidades",3.7,1,{"$f":"SOLICITUD!F237","v":0},0,{"$f":"MIN(DiaCash!G237,DisOfic!G237,Lablink!G237,Lyreco!G237,Ocaña!G237,Taine!G237,Vistalegre!G237)","v":0},0]
[232,"Funda plástico transparente antiestática multitaladro. Tamaño folio. Grosor de 60 micras mínimo.","Envase 100 unidades",3.7,1,{"$f":"SOLICITUD!F238","v":0},0,{"$f":"MIN(DiaCash!G238,DisOfic!G238,Lablink!G238,Lyreco!G238,Ocaña!G238,Taine!G238,Vistalegre!G238)","v":0},0]
[233,"Bolsas para plastificar tamaño A4. 80 micras mínimo","Envase 100 unidades",7.99,1,{"$f":"SOLICITUD!F239","v":0},0,{"$f":"MIN(DiaCash!G239,DisOfic!G239,Lablink!G239,Lyreco!G239,Ocaña!G239,Taine!G239,Vistalegre!G239)","v":0},0]
[234,"Portafirmas fabricado en plástico color negro, tapas acolchadas  con refuerzo en base y escalonados . Medidas 335 x 245 mm aprox. Con 18 departamentos mínimo de doble cartulina y lomo tipo fuelle.","Unidad",20.78,1,{"$f":"SOLICITUD!F240","v":0},0,{"$f":"MIN(DiaCash!G240,DisOfic!G240,Lablink!G240,Lyreco!G240,Ocaña!G240,Taine!G240,Vistalegre!G240)","v":0},0]
[235,"Bloc de notas. Liso o cuadrícula. De 80-90 hojas aprox. Gramaje 60 gr/m2 mínimo.Tamaño A4 o folio.","Unidad",1.2,1,{"$f":"SOLICITUD!F241","v":0},0,{"$f":"MIN(DiaCash!G241,DisOfic!G241,Lablink!G241,Lyreco!G241,Ocaña!G241,Taine!G241,Vistalegre!G241)","v":0},0]
[236,"Bloc de notas. Liso o cuadrícula. De 80-90 hojas aprox. Gramaje 60 gr/m2 mínimo.Tamaño A4 o folio. (Enri)","Unidad",1.3,1,{"$f":"SOLICITUD!F242","v":0},0,{"$f":"MIN(DiaCash!G242,DisOfic!G242,Lablink!G242,Lyreco!G242,Ocaña!G242,Taine!G242,Vistalegre!G242)","v":0},0]
[237,"Bloc de notas. Liso o cuadrícula. De 80-90 hojas aprox. Gramaje 60 gr/m2 mínimo.Tamaño A5 o 4º.","Unidad",0.65,1,{"$f":"SOLICITUD!F243","v":0},0,{"$f":"MIN(DiaCash!G243,DisOfic!G243,Lablink!G243,Lyreco!G243,Ocaña!G243,Taine!G243,Vistalegre!G243)","v":0},0]
[238,"Bloc de notas. Liso o cuadrícula. De 80-90 hojas aprox. Gramaje 60 gr/m2 mínimo.Tamaño A5 o 4º. (Enri)","Unidad",0.79,1,{"$f":"SOLICITUD!F244","v":0},0,{"$f":"MIN(DiaCash!G244,DisOfic!G244,Lablink!G244,Lyreco!G244,Ocaña!G244,Taine!G244,Vistalegre!G244)","v":0},0]
[239,"Bloc de notas. Liso o cuadrícula. De 80-90 hojas aprox. Gramaje 60 gr/m2 mínimo.Tamaño A6 u 8º.","Unidad",0.34,1,{"$f":"SOLICITUD!F245","v":0},0,{"$f":"MIN(DiaCash!G245,DisOfic!G245,Lablink!G245,Lyreco!G245,Ocaña!G245,Taine!G245,Vistalegre!G245)","v":0},0]
[240,"Bloc de notas. Liso o cuadrícula. De 80-90 hojas aprox. Gramaje 60 gr/m2 mínimo.Tamaño A6 u 8º. (Enri)","Unidad",0.65,1,{"$f":"SOLICITUD!F246","v":0},0,{"$f":"MIN(DiaCash!G246,DisOfic!G246,Lablink!G246,Lyreco!G246,Ocaña!G246,Taine!G246,Vistalegre!G246)","v":0},0]
[241,"Bloc de papel liso, para caballete (pizarra de papel) 70 gr/m2 mínimo . Medidas 650 x 900 mm aprox, (mínimo 25 hojas por bloc aprox.).","Unidad",4.99,1,{"$f":"SOLICITUD!F247","v":0},0,{"$f":"MIN(DiaCash!G247,DisOfic!G247,Lablink!G247,Lyreco!G247,Ocaña!G247,Taine!G247,Vistalegre!G247)","v":0},0]
[242,"Bloc de papel liso, para caballete (pizarra de papel) 70 gr/m2 mínimo . Medidas 650 x 900 mm aprox, (mínimo 25 hojas por bloc aprox.). (Enri)","Unidad",5.49,1,{"$f":"SOLICITUD!F248","v":0},0,{"$f":"MIN(DiaCash!G248,DisOfic!G248,Lablink!G248,Lyreco!G248,Ocaña!G248,Taine!G248,Vistalegre!G248)","v":0},0]
[243,"Cuaderno espiral cubierta cartón duro. Liso o cuadrícula. De 80-90 hojas aprox. Gramaje 60 gr/m2 mínimo.Tamaño A4 o folio.","Unidad",0.87,1,{"$f":"SOLICITUD!F249","v":0},0,{"$f":"MIN(DiaCash!G249,DisOfic!G249,Lablink!G249,Lyreco!G249,Ocaña!G249,Taine!G249,Vistalegre!G249)","v":0},0]
[244,"Cuaderno espiral cubierta cartón duro. Liso o cuadrícula. De 80-90 hojas aprox. Gramaje 60 gr/m2 mínimo.Tamaño A4 o folio. (Enri)","Unidad",0.95,1,{"$f":"SOLICITUD!F250","v":0},0,{"$f":"MIN(DiaCash!G250,DisOfic!G250,Lablink!G250,Lyreco!G250,Ocaña!G250,Taine!G250,Vistalegre!G250)","v":0},0]
[245,"Cuaderno espiral cubierta cartón duro. Liso o cuadrícula. De 80-90 hojas aprox. Gramaje 60 gr/m2 mínimo. Tamaño A5 o 4º.","Unidad",0.81,1,{"$f":"SOLICITUD!F251","v":0},0,{"$f":"MIN(DiaCash!G251,DisOfic!G251,Lablink!G251,Lyreco!G251,Ocaña!G251,Taine!G251,Vistalegre!G251)","v":0},0]
[246,"Cuaderno espiral cubierta cartón duro. Liso o cuadrícula. De 80-90 hojas aprox. Gramaje 60 gr/m2 mínimo. Tamaño A5 o 4º. (Enri)","Unidad",0.88,1,{"$f":"SOLICITUD!F252","v":0},0,{"$f":"MIN(DiaCash!G252,DisOfic!G252,Lablink!G252,Lyreco!G252,Ocaña!G252,Taine!G252,Vistalegre!G252)","v":0},0]
[247,"Cuaderno espiral cubierta cartón duro. Liso o cuadrícula. De 80-90 hojas aprox. Gramaje 60 gr/m2 mínimo.Tamaño A6 u 8º.","Unidad",0.35,1,{"$f":"SOLICITUD!F253","v":0},0,{"$f":"MIN(DiaCash!G253,DisOfic!G253,Lablink!G253,Lyreco!G253,Ocaña!G253,Taine!G253,Vistalegre!G253)","v":0},0]
[248,"Cuaderno espiral cubierta cartón duro. Liso o cuadrícula. De 80-90 hojas aprox. Gramaje 60 gr/m2 mínimo.Tamaño A6 u 8º. (Enri)","Unidad",0.79,1,{"$f":"SOLICITUD!F254","v":0},0,{"$f":"MIN(DiaCash!G254,DisOfic!G254,Lablink!G254,Lyreco!G254,Ocaña!G254,Taine!G254,Vistalegre!G254)","v":0},0]
[249,"Cuaderno espiral cubierta plastificada. Liso o cuadrícula. De 80-90 hojas aprox. Gramaje 60 gr/m2 mínimo.Tamaño A4 o folio.","Unidad",0.88,1,{"$f":"SOLICITUD!F255","v":0},0,{"$f":"MIN(DiaCash!G255,DisOfic!G255,Lablink!G255,Lyreco!G255,Ocaña!G255,Taine!G255,Vistalegre!G255)","v":0},0]
[250,"Cuaderno espiral cubierta plastificada. Liso o cuadrícula. De 80-90 hojas aprox. Gramaje 60 gr/m2 mínimo.Tamaño A4 o folio. (Enri)","Unidad",1.49,1,{"$f":"SOLICITUD!F256","v":0},0,{"$f":"MIN(DiaCash!G256,DisOfic!G256,Lablink!G256,Lyreco!G256,Ocaña!G256,Taine!G256,Vistalegre!G256)","v":0},0]
[251,"Cuaderno espiral cubierta plastificada. Liso o cuadrícula. De 80-90 hojas aprox. Gramaje 60 gr/m2 mínimo.Tamaño A5 o 4º.","Unidad",0.68,1,{"$f":"SOLICITUD!F257","v":0},0,{"$f":"MIN(DiaCash!G257,DisOfic!G257,Lablink!G257,Lyreco!G257,Ocaña!G257,Taine!G257,Vistalegre!G257)","v":0},0]
[252,"Cuaderno espiral cubierta plastificada. Liso o cuadrícula. De 80-90 hojas aprox. Gramaje 60 gr/m2 mínimo.Tamaño A5 o 4º. (Enri)","Unidad",1.64,1,{"$f":"SOLICITUD!F258","v":0},0,{"$f":"MIN(DiaCash!G258,DisOfic!G258,Lablink!G258,Lyreco!G258,Ocaña!G258,Taine!G258,Vistalegre!G258)","v":0},0]
[253,"Cuaderno espiral cubierta plastificada. Liso o cuadrícula. De 80-90 hojas aprox. Gramaje 60 gr/m2 mínimo.Tamaño A6 u 8º.","Unidad",0.61599999999999999,1,{"$f":"SOLICITUD!F259","v":0},0,{"$f":"MIN(DiaCash!G259,DisOfic!G259,Lablink!G259,Lyreco!G259,Ocaña!G259,Taine!G259,Vistalegre!G259)","v":0},0]
[254,"Cuaderno espiral cubierta plastificada. Liso o cuadrícula. De 80-90 hojas aprox. Gramaje 60 gr/m2 mínimo.Tamaño A6 u 8º. (Enri)","Unidad",0.99,1,{"$f":"SOLICITUD!F260","v":0},0,{"$f":"MIN(DiaCash!G260,DisOfic!G260,Lablink!G260,Lyreco!G260,Ocaña!G260,Taine!G260,Vistalegre!G260)","v":0},0]
[255,"Cuaderno espiral cubierta plastificada. Liso o cuadrícula. De 80-90 hojas aprox. Gramaje 60 gr/m2 mínimo.Tamaño A7 u 16º.","Unidad",0.49,1,{"$f":"SOLICITUD!F261","v":0},0,{"$f":"MIN(DiaCash!G261,DisOfic!G261,Lablink!G261,Lyreco!G261,Ocaña!G261,Taine!G261,Vistalegre!G261)","v":0},0]
[256,"Cuaderno espiral cubierta plastificada. Liso o cuadrícula. De 80-90 hojas aprox. Gramaje 60 gr/m2 mínimo.Tamaño A7 u 16º. (Enri)","Unidad",0.99,1,{"$f":"SOLICITUD!F262","v":0},0,{"$f":"MIN(DiaCash!G262,DisOfic!G262,Lablink!G262,Lyreco!G262,Ocaña!G262,Taine!G262,Vistalegre!G262)","v":0},0]
[257,"Banderitas/Index autoadhesivas colores surtidos ","Taco 100 unidades",0.09,1,{"$f":"SOLICITUD!F263","v":0},{"$f":"IF(E263=\"Excluido\",\"Excluido1\",IF(F263>0,IF(F263<E263,\"Excluido2\",D263*F263),0))","v":0},{"$f":"MIN(DiaCash!G263,DisOfic!G263,Lablink!G263,Lyreco!G263,Ocaña!G263,Taine!G263,Vistalegre!G263)","v":0},0]
[258,"Banderitas/Index pack 5 mininotas neon Post-it","Taco 100 unidades",0.6,1,{"$f":"SOLICITUD!F264","v":0},0,{"$f":"MIN(DiaCash!G264,DisOfic!G264,Lablink!G264,Lyreco!G264,Ocaña!G264,Taine!G264,Vistalegre!G264)","v":0},{"$f":"IF(G264<=H264,G264,0)","v":0}]
[259,"Blocs de notas autoadhesivas amarillas. Medidas 38 x 51 mm, 100 hojas.","Taco 100 unidades",7.9000000000000001E-2,1,{"$f":"SOLICITUD!F265","v":0},0,{"$f":"MIN(DiaCash!G265,DisOfic!G265,Lablink!G265,Lyreco!G265,Ocaña!G265,Taine!G265,Vistalegre!G265)","v":0},0]
[260,"Blocs de notas autoadhesivas amarillas. Medidas 38 x 51 mm, 100 hojas. (Post-it)","Taco 100 unidades",0.5,1,{"$f":"SOLICITUD!F266","v":0},0,{"$f":"MIN(DiaCash!G266,DisOfic!G266,Lablink!G266,Lyreco!G266,Ocaña!G266,Taine!G266,Vistalegre!G266)","v":0},0]
[261,"Blocs de notas autoadhesivas amarillas. Medidas 76 x 76 mm, 100 hojas.","Taco 100 unidades",0.16,1,{"$f":"SOLICITUD!F267","v":0},0,{"$f":"MIN(DiaCash!G267,DisOfic!G267,Lablink!G267,Lyreco!G267,Ocaña!G267,Taine!G267,Vistalegre!G267)","v":0},0]
[262,"Blocs de notas autoadhesivas de colores. Medidas 76 x 76 mm, 100 hojas. (Post-it)","Taco 100 unidades",1.2,1,{"$f":"SOLICITUD!F268","v":0},0,{"$f":"MIN(DiaCash!G268,DisOfic!G268,Lablink!G268,Lyreco!G268,Ocaña!G268,Taine!G268,Vistalegre!G268)","v":0},0]
[263,"Blocs de notas autoadhesivas amarillas. Medidas 76 x 127 mm, 100 hojas.","Taco 100 unidades",0.26,1,{"$f":"SOLICITUD!F269","v":0},0,{"$f":"MIN(DiaCash!G269,DisOfic!G269,Lablink!G269,Lyreco!G269,Ocaña!G269,Taine!G269,Vistalegre!G269)","v":0},0]
[264,"Blocs de notas autoadhesivas amarillas. Medidas 76 x 127 mm, 100 hojas. (Post-it)","Taco 100 unidades",1.59,1,{"$f":"SOLICITUD!F270","v":0},0,{"$f":"MIN(DiaCash!G270,DisOfic!G270,Lablink!G270,Lyreco!G270,Ocaña!G270,Taine!G270,Vistalegre!G270)","v":0},0]
[265,"Etiquetas adhesivas. En formato  A4, número de etiquetas por hoja según el tamaño de etiqueta. ","Paquete 100 hojas",3.96,1,{"$f":"SOLICITUD!F271","v":0},0,{"$f":"MIN(DiaCash!G271,DisOfic!G271,Lablink!G271,Lyreco!G271,Ocaña!G271,Taine!G271,Vistalegre!G271)","v":0},0]
[266,"Etiquetas adhesivas. En formato  A4, número de etiquetas por hoja según el tamaño de\netiqueta. ","Paquete 25 hojas",4.25,1,{"$f":"SOLICITUD!F272","v":0},0,{"$f":"MIN(DiaCash!G272,DisOfic!G272,Lablink!G272,Lyreco!G272,Ocaña!G272,Taine!G272,Vistalegre!G272)","v":0},0]
[267,"Etiquetas adhesivas. En formato  A4, número de etiquetas por hoja según el tamaño de\netiqueta. ","Paquete 10 hojas",1.74,1,{"$f":"SOLICITUD!F273","v":0},0,{"$f":"MIN(DiaCash!G273,DisOfic!G273,Lablink!G273,Lyreco!G273,Ocaña!G273,Taine!G273,Vistalegre!G273)","v":0},0]
[268,"Carpeta de cartulina  por una cara plegada y solapa al pie. Tamaño mínimo A4.  Gramaje mínimo 170 gr/m2.","Unidad",0.19,1,{"$f":"SOLICITUD!F274","v":0},0,{"$f":"MIN(DiaCash!G274,DisOfic!G274,Lablink!G274,Lyreco!G274,Ocaña!G274,Taine!G274,Vistalegre!G274)","v":0},0]
[269,"Carpeta de cartulina  por una cara plegada y solapa al pie. Tamaño mínimo A4.  Gramaje mínimo  210  gr/m2.","Unidad",0.28000000000000003,1,{"$f":"SOLICITUD!F275","v":0},0,{"$f":"MIN(DiaCash!G275,DisOfic!G275,Lablink!G275,Lyreco!G275,Ocaña!G275,Taine!G275,Vistalegre!G275)","v":0},0]
[270,"Carpeta de cartulina con dos bolsillos. Tamaño mínimo A4.  Gramaje mínimo 170 gr/m2.","Unidad",0.59,1,{"$f":"SOLICITUD!F276","v":0},0,{"$f":"MIN(DiaCash!G276,DisOfic!G276,Lablink!G276,Lyreco!G276,Ocaña!G276,Taine!G276,Vistalegre!G276)","v":0},0]
[271,"Carpeta de cartulina con dos bolsillos. Tamaño mínimo  A4 Gramaje mínimo  210  gr/m2.","Unidad",1.18,1,{"$f":"SOLICITUD!F277","v":0},0,{"$f":"MIN(DiaCash!G277,DisOfic!G277,Lablink!G277,Lyreco!G277,Ocaña!G277,Taine!G277,Vistalegre!G277)","v":0},0]
[272,"Carpeta de cartulina. Tamaño A4.  Gramaje mínimo 170 gr/m2.","Unidad",7.0000000000000007E-2,1,{"$f":"SOLICITUD!F278","v":0},0,{"$f":"MIN(DiaCash!G278,DisOfic!G278,Lablink!G278,Lyreco!G278,Ocaña!G278,Taine!G278,Vistalegre!G278)","v":0},0]
[273,"Carpeta de cartulina. Tamaño folio gramaje 210 gr/m2.","Unidad",0.09,1,{"$f":"SOLICITUD!F279","v":0},0,{"$f":"MIN(DiaCash!G279,DisOfic!G279,Lablink!G279,Lyreco!G279,Ocaña!G279,Taine!G279,Vistalegre!G279)","v":0},0]
[274,"Canutillos plásticos. Redondos y ovalados, de 6 mm.","Paquete 200",3.46,1,{"$f":"SOLICITUD!F280","v":0},0,{"$f":"MIN(DiaCash!G280,DisOfic!G280,Lablink!G280,Lyreco!G280,Ocaña!G280,Taine!G280,Vistalegre!G280)","v":0},0]
[275,"Canutillos plásticos. Redondos y ovalados, de 8 mm.","Paquete 100",4.1100000000000003,1,{"$f":"SOLICITUD!F281","v":0},0,{"$f":"MIN(DiaCash!G281,DisOfic!G281,Lablink!G281,Lyreco!G281,Ocaña!G281,Taine!G281,Vistalegre!G281)","v":0},0]
[276,"Canutillos plásticos. Redondos y ovalados, de 10 mm.","Paquete 100",4.79,1,{"$f":"SOLICITUD!F282","v":0},0,{"$f":"MIN(DiaCash!G282,DisOfic!G282,Lablink!G282,Lyreco!G282,Ocaña!G282,Taine!G282,Vistalegre!G282)","v":0},0]
[277,"Canutillos plásticos. Redondos y ovalados, de 12 mm.","Paquete 100",6.98,1,{"$f":"SOLICITUD!F283","v":0},0,{"$f":"MIN(DiaCash!G283,DisOfic!G283,Lablink!G283,Lyreco!G283,Ocaña!G283,Taine!G283,Vistalegre!G283)","v":0},0]
[278,"Canutillos plásticos. Redondos y ovalados, de 14 mm.","Paquete 100",4.99,1,{"$f":"SOLICITUD!F284","v":0},0,{"$f":"MIN(DiaCash!G284,DisOfic!G284,Lablink!G284,Lyreco!G284,Ocaña!G284,Taine!G284,Vistalegre!G284)","v":0},0]
[279,"Canutillos plásticos. Redondos y ovalados, de 16 mm.","Paquete 100",5.75,1,{"$f":"SOLICITUD!F285","v":0},0,{"$f":"MIN(DiaCash!G285,DisOfic!G285,Lablink!G285,Lyreco!G285,Ocaña!G285,Taine!G285,Vistalegre!G285)","v":0},0]
[280,"Canutillos plásticos. Redondos y ovalados, de 18 mm.","Paquete 100",7.05,1,{"$f":"SOLICITUD!F286","v":0},0,{"$f":"MIN(DiaCash!G286,DisOfic!G286,Lablink!G286,Lyreco!G286,Ocaña!G286,Taine!G286,Vistalegre!G286)","v":0},0]
[281,"Canutillos plásticos. Redondos y ovalados, de 22 mm.","Paquete 50",5.98,1,{"$f":"SOLICITUD!F287","v":0},0,{"$f":"MIN(DiaCash!G287,DisOfic!G287,Lablink!G287,Lyreco!G287,Ocaña!G287,Taine!G287,Vistalegre!G287)","v":0},0]
[282,"Canutillos plásticos. Redondos y ovalados, de 25 mm.","Paquete 50",6.8,1,{"$f":"SOLICITUD!F288","v":0},0,{"$f":"MIN(DiaCash!G288,DisOfic!G288,Lablink!G288,Lyreco!G288,Ocaña!G288,Taine!G288,Vistalegre!G288)","v":0},0]
[283,"Canutillos plásticos. Redondos y ovalados, de 28 mm.","Paquete 50",7.96,1,{"$f":"SOLICITUD!F289","v":0},0,{"$f":"MIN(DiaCash!G289,DisOfic!G289,Lablink!G289,Lyreco!G289,Ocaña!G289,Taine!G289,Vistalegre!G289)","v":0},0]
[284,"Canutillos plásticos. Redondos y ovalados, de 32 mm.","Paquete 50",7.77,1,{"$f":"SOLICITUD!F290","v":0},0,{"$f":"MIN(DiaCash!G290,DisOfic!G290,Lablink!G290,Lyreco!G290,Ocaña!G290,Taine!G290,Vistalegre!G290)","v":0},0]
[285,"Canutillos plásticos. Redondos y ovalados, de 45 mm.","Paquete 25",8.25,1,{"$f":"SOLICITUD!F291","v":0},0,{"$f":"MIN(DiaCash!G291,DisOfic!G291,Lablink!G291,Lyreco!G291,Ocaña!G291,Taine!G291,Vistalegre!G291)","v":0},0]
[286,"Canutillos plásticos. Redondos y ovalados, de 51 mm.","Paquete 25",6.93,1,{"$f":"SOLICITUD!F292","v":0},0,{"$f":"MIN(DiaCash!G292,DisOfic!G292,Lablink!G292,Lyreco!G292,Ocaña!G292,Taine!G292,Vistalegre!G292)","v":0},0]
[287,"Espirales metálicas de encuadernación. Paso 5:1, de diámetro 8 mm.","Paquete 100",4.2699999999999996,1,{"$f":"SOLICITUD!F293","v":0},0,{"$f":"MIN(DiaCash!G293,DisOfic!G293,Lablink!G293,Lyreco!G293,Ocaña!G293,Taine!G293,Vistalegre!G293)","v":0},0]
[288,"Espirales metálicas de encuadernación. Paso 5:1, de diámetro 10 mm.","Paquete 100",5.0999999999999996,1,{"$f":"SOLICITUD!F294","v":0},0,{"$f":"MIN(DiaCash!G294,DisOfic!G294,Lablink!G294,Lyreco!G294,Ocaña!G294,Taine!G294,Vistalegre!G294)","v":0},0]
[289,"Espirales metálicas de encuadernación. Paso 5:1, de diámetro 12 mm.","Paquete 100",6.5,1,{"$f":"SOLICITUD!F295","v":0},0,{"$f":"MIN(DiaCash!G295,DisOfic!G295,Lablink!G295,Lyreco!G295,Ocaña!G295,Taine!G295,Vistalegre!G295)","v":0},0]
[290,"Espirales metálicas de encuadernación. Paso 5:1, de diámetro 14 mm.","Paquete 100",7.48,1,{"$f":"SOLICITUD!F296","v":0},0,{"$f":"MIN(DiaCash!G296,DisOfic!G296,Lablink!G296,Lyreco!G296,Ocaña!G296,Taine!G296,Vistalegre!G296)","v":0},0]
[291,"Espirales metálicas de encuadernación. Paso 5:1, de diámetro 16 mm.","Paquete 100",10.91,1,{"$f":"SOLICITUD!F297","v":0},0,{"$f":"MIN(DiaCash!G297,DisOfic!G297,Lablink!G297,Lyreco!G297,Ocaña!G297,Taine!G297,Vistalegre!G297)","v":0},0]
[292,"Espirales metálicas de encuadernación. Paso 5:1, de diámetro 18 mm.","Paquete 100",12.2,1,{"$f":"SOLICITUD!F298","v":0},0,{"$f":"MIN(DiaCash!G298,DisOfic!G298,Lablink!G298,Lyreco!G298,Ocaña!G298,Taine!G298,Vistalegre!G298)","v":0},0]
[293,"Espirales metálicas de encuadernación. Paso 5:1, de diámetro 20 mm.","Paquete 100",11.36,1,{"$f":"SOLICITUD!F299","v":0},0,{"$f":"MIN(DiaCash!G299,DisOfic!G299,Lablink!G299,Lyreco!G299,Ocaña!G299,Taine!G299,Vistalegre!G299)","v":0},0]
[294,"Espirales metálicas de encuadernación. Paso 5:1, de diámetro 22 mm.","Paquete 100",16.63,1,{"$f":"SOLICITUD!F300","v":0},0,{"$f":"MIN(DiaCash!G300,DisOfic!G300,Lablink!G300,Lyreco!G300,Ocaña!G300,Taine!G300,Vistalegre!G300)","v":0},0]
[295,"Espirales metálicas de encuadernación. Paso 5:1, de diámetro 24 mm.","Paquete 100",17.25,1,{"$f":"SOLICITUD!F301","v":0},0,{"$f":"MIN(DiaCash!G301,DisOfic!G301,Lablink!G301,Lyreco!G301,Ocaña!G301,Taine!G301,Vistalegre!G301)","v":0},0]
[296,"Espirales metálicas de encuadernación. Paso 5:1, de diámetro 28 mm.","Paquete 50",7.67,1,{"$f":"SOLICITUD!F302","v":0},0,{"$f":"MIN(DiaCash!G302,DisOfic!G302,Lablink!G302,Lyreco!G302,Ocaña!G302,Taine!G302,Vistalegre!G302)","v":0},0]
[297,"Espirales metálicas de encuadernación. Paso 5:1, de diámetro 30 mm. ","Paquete 50",8.5,1,{"$f":"SOLICITUD!F303","v":0},0,{"$f":"MIN(DiaCash!G303,DisOfic!G303,Lablink!G303,Lyreco!G303,Ocaña!G303,Taine!G303,Vistalegre!G303)","v":0},0]
[298,"Espirales metálicas de encuadernación. Paso 5:1, de diámetro 34 mm. ","Paquete 50",13.1,1,{"$f":"SOLICITUD!F304","v":0},0,{"$f":"MIN(DiaCash!G304,DisOfic!G304,Lablink!G304,Lyreco!G304,Ocaña!G304,Taine!G304,Vistalegre!G304)","v":0},0]
[299,"Espirales metálicas de encuadernación. Paso 5:1, de diámetro 38 mm. ","Paquete 50",7.61,1,{"$f":"SOLICITUD!F305","v":0},0,{"$f":"MIN(DiaCash!G305,DisOfic!G305,Lablink!G305,Lyreco!G305,Ocaña!G305,Taine!G305,Vistalegre!G305)","v":0},0]
[300,"Espirales metálicas de encuadernación. Paso 5:1, de diámetro 40 mm o superior.","Paquete 25",12.58,1,{"$f":"SOLICITUD!F306","v":0},0,{"$f":"MIN(DiaCash!G306,DisOfic!G306,Lablink!G306,Lyreco!G306,Ocaña!G306,Taine!G306,Vistalegre!G306)","v":0},0]
[301,"Cartulina. Tamaño A4. Gramaje 185 gr/m2 mínimo.","Paquete 50",2.34,1,{"$f":"SOLICITUD!F307","v":0},0,{"$f":"MIN(DiaCash!G307,DisOfic!G307,Lablink!G307,Lyreco!G307,Ocaña!G307,Taine!G307,Vistalegre!G307)","v":0},0]
[302,"Cartulina. Tamaño A4. Gramaje 220 gr/m2 mínimo.","Paquete 50",13.99,1,{"$f":"SOLICITUD!F308","v":0},0,{"$f":"MIN(DiaCash!G308,DisOfic!G308,Lablink!G308,Lyreco!G308,Ocaña!G308,Taine!G308,Vistalegre!G308)","v":0},0]
[303,"Cartulina. Tamaño A3. Gramaje 185 gr/m2 mínimo.","Paquete 25",2.66,1,{"$f":"SOLICITUD!F309","v":0},0,{"$f":"MIN(DiaCash!G309,DisOfic!G309,Lablink!G309,Lyreco!G309,Ocaña!G309,Taine!G309,Vistalegre!G309)","v":0},0]
[304,"Cartulina. Tamaño A3. Gramaje 220 gr/m2 mínimo.","Paquete 25",15.25,1,{"$f":"SOLICITUD!F310","v":0},0,{"$f":"MIN(DiaCash!G310,DisOfic!G310,Lablink!G310,Lyreco!G310,Ocaña!G310,Taine!G310,Vistalegre!G310)","v":0},0]
[305,"Pastener  metálico con compresor y correderas . ","Unidad",0.03,1,{"$f":"SOLICITUD!F311","v":0},0,{"$f":"MIN(DiaCash!G311,DisOfic!G311,Lablink!G311,Lyreco!G311,Ocaña!G311,Taine!G311,Vistalegre!G311)","v":0},0]
[306,"Cubiertas de plástico. Tamaño A4, espesor mínimo 180 micras.","Unidad",0.03,1,{"$f":"SOLICITUD!F312","v":0},0,{"$f":"MIN(DiaCash!G312,DisOfic!G312,Lablink!G312,Lyreco!G312,Ocaña!G312,Taine!G312,Vistalegre!G312)","v":0},0]
[307,"Cubiertas de plástico. Tamaño A3, espesor mínimo 180 micras.","Unidad",0.09,1,{"$f":"SOLICITUD!F313","v":0},0,{"$f":"MIN(DiaCash!G313,DisOfic!G313,Lablink!G313,Lyreco!G313,Ocaña!G313,Taine!G313,Vistalegre!G313)","v":0},0]
[308,"Bobina de rafia de plástico. (bobina 400 gr)","Unidad",3.09,1,{"$f":"SOLICITUD!F314","v":0},0,{"$f":"MIN(DiaCash!G314,DisOfic!G314,Lablink!G314,Lyreco!G314,Ocaña!G314,Taine!G314,Vistalegre!G314)","v":0},0]
[309,"Cinta balduque en rollo algodón 100% . Medidas 19mm x 14m aprox.","Unidad",2.2400000000000002,1,{"$f":"SOLICITUD!F315","v":0},0,{"$f":"MIN(DiaCash!G315,DisOfic!G315,Lablink!G315,Lyreco!G315,Ocaña!G315,Taine!G315,Vistalegre!G315)","v":0},0]
[310,"Caja de embalaje cartón, canal sencillo, 4 solapas. Medidas 355x265x270 mm aprox.","Unidad",0.42,1,{"$f":"SOLICITUD!F316","v":0},0,{"$f":"MIN(DiaCash!G316,DisOfic!G316,Lablink!G316,Lyreco!G316,Ocaña!G316,Taine!G316,Vistalegre!G316)","v":0},0]
[311,"Caja de embalaje cartón, canal sencillo, 4 solapas. Medidas 400x325x420 mm aprox.","Unidad",1.1200000000000001,1,{"$f":"SOLICITUD!F317","v":0},0,{"$f":"MIN(DiaCash!G317,DisOfic!G317,Lablink!G317,Lyreco!G317,Ocaña!G317,Taine!G317,Vistalegre!G317)","v":0},0]
[312,"Caja embalaje cartón, doble canal, 4 solapas. Medidas 400x400x400 mm aprox.","Unidad",1.75,1,{"$f":"SOLICITUD!F318","v":0},0,{"$f":"MIN(DiaCash!G318,DisOfic!G318,Lablink!G318,Lyreco!G318,Ocaña!G318,Taine!G318,Vistalegre!G318)","v":0},0]
[313,"Papel embalar. Medidas ancho 1 m.  Gramaje 70 gr/m2 mínimo.(bobina 25 kg)","Bobina 25 Kg",59,1,{"$f":"SOLICITUD!F319","v":0},0,{"$f":"MIN(DiaCash!G319,DisOfic!G319,Lablink!G319,Lyreco!G319,Ocaña!G319,Taine!G319,Vistalegre!G319)","v":0},0]
[314,"Papel embalar. Medidas ancho 1 m.  Gramaje 70 gr/m2 mínimo.(bobina 25 kg)","Bobina 25 Kg",59.99,1,{"$f":"SOLICITUD!F320","v":0},0,{"$f":"MIN(DiaCash!G320,DisOfic!G320,Lablink!G320,Lyreco!G320,Ocaña!G320,Taine!G320,Vistalegre!G320)","v":0},0]
[315,"Papel embalar. Medidas ancho 1 m.  Gramaje 70 gr/m2 mínimo.(bobina 55 kg)","Bobina 55 Kg",118,1,{"$f":"SOLICITUD!F321","v":0},0,{"$f":"MIN(DiaCash!G321,DisOfic!G321,Lablink!G321,Lyreco!G321,Ocaña!G321,Taine!G321,Vistalegre!G321)","v":0},0]
[316,"Papel embalar. Medidas ancho 1 m.  Gramaje 70 gr/m2 mínimo.(bobina 55 kg)","Bobina 55 Kg",100,1,{"$f":"SOLICITUD!F322","v":0},0,{"$f":"MIN(DiaCash!G322,DisOfic!G322,Lablink!G322,Lyreco!G322,Ocaña!G322,Taine!G322,Vistalegre!G322)","v":0},0]
[317,"Bolsa de correo interno de papel kraft. Tamaño 250 x 353 mm aprox.  Gramaje mínimo 100 gr/m2.","Caja 250 unidades",30.69,1,{"$f":"SOLICITUD!F323","v":0},0,{"$f":"MIN(DiaCash!G323,DisOfic!G323,Lablink!G323,Lyreco!G323,Ocaña!G323,Taine!G323,Vistalegre!G323)","v":0},0]
[318,"Bolsa de papel kraft armado. Tamaño 310 x 410 mm aprox.  Gramaje mínimo 110 gr/m2.","Caja 100 unidades",29.45,1,{"$f":"SOLICITUD!F324","v":0},0,{"$f":"MIN(DiaCash!G324,DisOfic!G324,Lablink!G324,Lyreco!G324,Ocaña!G324,Taine!G324,Vistalegre!G324)","v":0},0]
[319,"Sobre autopegue con ventana a la derecha o izquierda. Tamaño 115x225 mm aprox.  Gramaje mínimo 90 gr/m2.","Caja 500 unidades",7.26,1,{"$f":"SOLICITUD!F325","v":0},0,{"$f":"MIN(DiaCash!G325,DisOfic!G325,Lablink!G325,Lyreco!G325,Ocaña!G325,Taine!G325,Vistalegre!G325)","v":0},0]
[320,"Sobre autopegue sin ventana. Tamaño 120x176 mm aprox.  Gramaje mínimo 90 gr/m2.","Caja 500 unidades",7.9,1,{"$f":"SOLICITUD!F326","v":0},0,{"$f":"MIN(DiaCash!G326,DisOfic!G326,Lablink!G326,Lyreco!G326,Ocaña!G326,Taine!G326,Vistalegre!G326)","v":0},0]
[321,"Sobre autopegue sin ventana. Tamaño 115x225 mm aprox.  Gramaje mínimo 90 gr/m2.","Caja 500 unidades",7.9,1,{"$f":"SOLICITUD!F327","v":0},{"$f":"IF(E327=\"Excluido\",\"Excluido1\",IF(F327>0,IF(F327<E327,\"Excluido2\",D327*F327),0))","v":0},{"$f":"MIN(DiaCash!G327,DisOfic!G327,Lablink!G327,Lyreco!G327,Ocaña!G327,Taine!G327,Vistalegre!G327)","v":0},0]
[322,"Sobre autopegue sin ventana. Tamaño 176x231 mm aprox.  Gramaje mínimo 90 gr/m2.","Caja 500 unidades",18.3,1,{"$f":"SOLICITUD!F328","v":0},0,{"$f":"MIN(DiaCash!G328,DisOfic!G328,Lablink!G328,Lyreco!G328,Ocaña!G328,Taine!G328,Vistalegre!G328)","v":0},{"$f":"IF(G328<=H328,G328,0)","v":0}]
[323,"Sobre autopegue sin ventana. Tamaño 260x360 mm aprox.  Gramaje mínimo 90 gr/m2.","Caja 250 unidades",16.04,1,{"$f":"SOLICITUD!F329","v":0},0,{"$f":"MIN(DiaCash!G329,DisOfic!G329,Lablink!G329,Lyreco!G329,Ocaña!G329,Taine!G329,Vistalegre!G329)","v":0},0]
[324,"Sobre bolsa burbuja. Tamaño 270 x 360 mm aprox.  Gramaje mínimo 110 gr/m2.","Paquete 10 unidades",3.55,1,{"$f":"SOLICITUD!F330","v":0},0,{"$f":"MIN(DiaCash!G330,DisOfic!G330,Lablink!G330,Lyreco!G330,Ocaña!G330,Taine!G330,Vistalegre!G330)","v":0},0]
[325,"Sobre bolsa fuelle papel kraft. Tamaño 280 x 410 x 30 mm aprox. Gramaje mínimo 110 gr/m2.","Caja 100 unidades",23.8,1,{"$f":"SOLICITUD!F331","v":0},0,{"$f":"MIN(DiaCash!G331,DisOfic!G331,Lablink!G331,Lyreco!G331,Ocaña!G331,Taine!G331,Vistalegre!G331)","v":0},0]
[326,"Sobre plástico, cierre broche o velcro. Tamaño A4 / folio.","Unidad",0.22,1,{"$f":"SOLICITUD!F332","v":0},0,{"$f":"MIN(DiaCash!G332,DisOfic!G332,Lablink!G332,Lyreco!G332,Ocaña!G332,Taine!G332,Vistalegre!G332)","v":0},0]
[327,"Sobre plástico, cierre broche o velcro. Tamaño A3.","Unidad",0.8,1,{"$f":"SOLICITUD!F333","v":0},0,{"$f":"MIN(DiaCash!G333,DisOfic!G333,Lablink!G333,Lyreco!G333,Ocaña!G333,Taine!G333,Vistalegre!G333)","v":0},0]
[328,"Tubos planos cartón 4x46 cm (diam. X altura)","Unidad",1.59,1,{"$f":"SOLICITUD!F334","v":0},0,{"$f":"MIN(DiaCash!G334,DisOfic!G334,Lablink!G334,Lyreco!G334,Ocaña!G334,Taine!G334,Vistalegre!G334)","v":0},0]
[329,"Tubos planos cartón 60x64 cm (diam. X altura)","Unidad",1.59,1,{"$f":"SOLICITUD!F335","v":0},0,{"$f":"MIN(DiaCash!G335,DisOfic!G335,Lablink!G335,Lyreco!G335,Ocaña!G335,Taine!G335,Vistalegre!G335)","v":0},0]
[330,"Tubos envíos cartón 6x46 cm (diam. X altura)","Unidad",1.59,1,{"$f":"SOLICITUD!F336","v":0},0,{"$f":"MIN(DiaCash!G336,DisOfic!G336,Lablink!G336,Lyreco!G336,Ocaña!G336,Taine!G336,Vistalegre!G336)","v":0},0]
[331,"Rollo de papel para calculadora 57mm 65mts.","Unidad",0.6,1,{"$f":"SOLICITUD!F337","v":0},0,{"$f":"MIN(DiaCash!G337,DisOfic!G337,Lablink!G337,Lyreco!G337,Ocaña!G337,Taine!G337,Vistalegre!G337)","v":0},0]
[332,"Tablero de corcho para anuncios con marco de madera 60 x 90 cm (hxa) (Bi-Office)","Unidad",6.4,1,{"$f":"SOLICITUD!F338","v":0},0,{"$f":"MIN(DiaCash!G338,DisOfic!G338,Lablink!G338,Lyreco!G338,Ocaña!G338,Taine!G338,Vistalegre!G338)","v":0},0]
[333,"Caja de 5 Paquetes de papel A4 80gr./m2, para impresoras inkjet, láser y fotocopiadora","Caja de 5 Paquetes",16,1,{"$f":"SOLICITUD!F339","v":0},0,{"$f":"MIN(DiaCash!G339,DisOfic!G339,Lablink!G339,Lyreco!G339,Ocaña!G339,Taine!G339,Vistalegre!G339)","v":0},0]
[334,"Caja de 5 Paquetes de papel A4 80gr./m2, para impresoras inkjet, láser y fotocopiadora (Navigator)","Caja de 5 Paquetes",21,1,{"$f":"SOLICITUD!F340","v":0},0,{"$f":"MIN(DiaCash!G340,DisOfic!G340,Lablink!G340,Lyreco!G340,Ocaña!G340,Taine!G340,Vistalegre!G340)","v":0},0]
[335,"Paquete de papel A3 80gr./m2, para impresoras inkjet, láser y fotocopiadora ","Paquete 500 hojas",7,1,{"$f":"SOLICITUD!F341","v":0},0,{"$f":"MIN(DiaCash!G341,DisOfic!G341,Lablink!G341,Lyreco!G341,Ocaña!G341,Taine!G341,Vistalegre!G341)","v":0},0]
[336,"Paquete de papel A3 80gr./m2, para impresoras inkjet, láser y fotocopiadora (Navigator)","Paquete 500 hojas",7.6,1,{"$f":"SOLICITUD!F342","v":0},0,{"$f":"MIN(DiaCash!G342,DisOfic!G342,Lablink!G342,Lyreco!G342,Ocaña!G342,Taine!G342,Vistalegre!G342)","v":0},0]
[337,"Paquete de papel A4 80gr./m2 colores pastel, intensos y fluorescentes, impresoas inkjet, láser y fotocopiadora (Clairefontaine)","Paquete 500 hojas",7,1,{"$f":"SOLICITUD!F343","v":0},0,{"$f":"MIN(DiaCash!G343,DisOfic!G343,Lablink!G343,Lyreco!G343,Ocaña!G343,Taine!G343,Vistalegre!G343)","v":0},0]
[338,"Paquete de papel A4 80gr./m2 colores intensos y fluorescentes, impresoas inkjet, láser y fotocopiadora (Clairefontaine)","Paquete 500 hojas",7,1,{"$f":"SOLICITUD!F344","v":0},0,{"$f":"MIN(DiaCash!G344,DisOfic!G344,Lablink!G344,Lyreco!G344,Ocaña!G344,Taine!G344,Vistalegre!G344)","v":0},0]
[339,"Caja de 5 Paquetes de papel A4 ecológico 75gr/m2 (Navigator Eco-Logical)","Caja de 5 Paquetes",20.75,1,{"$f":"SOLICITUD!F345","v":0},0,{"$f":"MIN(DiaCash!G345,DisOfic!G345,Lablink!G345,Lyreco!G345,Ocaña!G345,Taine!G345,Vistalegre!G345)","v":0},0]
[340,"Caja de 5 Paquetes de papel A4 Blanco 90 gr/m2 ","Caja de 5 Paquetes",24,1,{"$f":"SOLICITUD!F346","v":0},0,{"$f":"MIN(DiaCash!G346,DisOfic!G346,Lablink!G346,Lyreco!G346,Ocaña!G346,Taine!G346,Vistalegre!G346)","v":0},0]
[341,"Caja de 5 Paquetes de papel A4 Blanco 90 gr/m2 (Navigator)","Caja de 5 Paquetes",27.5,1,{"$f":"SOLICITUD!F347","v":0},0,{"$f":"MIN(DiaCash!G347,DisOfic!G347,Lablink!G347,Lyreco!G347,Ocaña!G347,Taine!G347,Vistalegre!G347)","v":0},0]
[342,"Caja de 5 Paquetes de papel A4 80gr./m2, para impresoras inkjet, láser y fotocopiadora reciclado","Caja de 5 Paquetes",19,1,{"$f":"SOLICITUD!F348","v":0},0,{"$f":"MIN(DiaCash!G348,DisOfic!G348,Lablink!G348,Lyreco!G348,Ocaña!G348,Taine!G348,Vistalegre!G348)","v":0},0]
[343,"Paquete de papel verjurado A4 90 gr/m2 blanco (Apli)","Paquete 100 hojas",5.9,1,{"$f":"SOLICITUD!F349","v":0},0,{"$f":"MIN(DiaCash!G349,DisOfic!G349,Lablink!G349,Lyreco!G349,Ocaña!G349,Taine!G349,Vistalegre!G349)","v":0},0]
[344,"Paquete de papel verjurado A4 100 color crema 90 gr/m2 (Apli)","Paquete 100 hojas",5.9,1,{"$f":"SOLICITUD!F350","v":0},0,{"$f":"MIN(DiaCash!G350,DisOfic!G350,Lablink!G350,Lyreco!G350,Ocaña!G350,Taine!G350,Vistalegre!G350)","v":0},0]
[350,"Boligrado Pentel BK-77 Superb (boligrado de punta fina 0.7 mm y tinta base de aceite)","12 unidades",0.77,1,{"$f":"SOLICITUD!F351","v":0},{"$f":"IF(E351=\"Excluido\",\"Excluido1\",IF(F351>0,IF(F351<E351,\"Excluido2\",D351*F351),0))","v":0},{"$f":"MIN(DiaCash!G351,DisOfic!G351,Lablink!G351,Lyreco!G351,Ocaña!G351,Taine!G351,Vistalegre!G351)","v":0},{"$f":"IF(G351<=H351,G351,0)","v":0}]
[351,"50 tapas encuadernar gofrado A4 Negro","50 unidades",11.36,1,{"$f":"SOLICITUD!F352","v":0},0,{"$f":"MIN(DiaCash!G352,DisOfic!G352,Lablink!G352,Lyreco!G352,Ocaña!G352,Taine!G352,Vistalegre!G352)","v":0},0]
[352,"Cinta doble cara 19x33 mm","Unidad",2.2000000000000002,1,{"$f":"SOLICITUD!F353","v":0},0,{"$f":"MIN(DiaCash!G353,DisOfic!G353,Lablink!G353,Lyreco!G353,Ocaña!G353,Taine!G353,Vistalegre!G353)","v":0},0]
[353,"Bolsas para plastificar carnet tamaño 60x90 mm y grosor 200 micras.","100 unidades",3.43,1,{"$f":"SOLICITUD!F354","v":0},0,{"$f":"MIN(DiaCash!G354,DisOfic!G354,Lablink!G354,Lyreco!G354,Ocaña!G354,Taine!G354,Vistalegre!G354)","v":0},0]
[354,"Bolsas para plastificar tamaño A3 grosor 125 micras","100 unidades",33.75,1,{"$f":"SOLICITUD!F355","v":0},0,{"$f":"MIN(DiaCash!G355,DisOfic!G355,Lablink!G355,Lyreco!G355,Ocaña!G355,Taine!G355,Vistalegre!G355)","v":0},0]
[355,"Sobres de tamaño 229x324 con tira de silicona","250 unidades",14.9,1,{"$f":"SOLICITUD!F356","v":0},0,{"$f":"MIN(DiaCash!G356,DisOfic!G356,Lablink!G356,Lyreco!G356,Ocaña!G356,Taine!G356,Vistalegre!G356)","v":0},0]
[356,"Minas Super Polymer 0.35 HB","-"," - ","-",{"$f":"SOLICITUD!F357","v":0},0,{"$f":"MIN(DiaCash!G357,DisOfic!G357,Lablink!G357,Lyreco!G357,Ocaña!G357,Taine!G357,Vistalegre!G357)","v":0},0]
[357,"Minas Super Polymer 0.35 2H","-"," - ","-",{"$f":"SOLICITUD!F358","v":0},0,{"$f":"MIN(DiaCash!G358,DisOfic!G358,Lablink!G358,Lyreco!G358,Ocaña!G358,Taine!G358,Vistalegre!G358)","v":0},0]
[358,"Cuaderno Cuadros A4 160H (marca SAM, Enri, tec)","Unidad",2.5,1,{"$f":"SOLICITUD!F359","v":0},0,{"$f":"MIN(DiaCash!G359,DisOfic!G359,Lablink!G359,Lyreco!G359,Ocaña!G359,Taine!G359,Vistalegre!G359)","v":0},0]
[359,"Fichas rayadas 160x220 (paquete de 100 hojas)","100 unidades",2.54,1,{"$f":"SOLICITUD!F360","v":0},0,{"$f":"MIN(DiaCash!G360,DisOfic!G360,Lablink!G360,Lyreco!G360,Ocaña!G360,Taine!G360,Vistalegre!G360)","v":0},0]
[360,"Portablocks con pinza y solapa","Unidad",6.01,1,{"$f":"SOLICITUD!F361","v":0},0,{"$f":"MIN(DiaCash!G361,DisOfic!G361,Lablink!G361,Lyreco!G361,Ocaña!G361,Taine!G361,Vistalegre!G361)","v":0},0]
[361,"Pack 100 Fundas multitaladro folio PP Cristal","100 unidades",25.07,1,{"$f":"SOLICITUD!F362","v":0},0,{"$f":"MIN(DiaCash!G362,DisOfic!G362,Lablink!G362,Lyreco!G362,Ocaña!G362,Taine!G362,Vistalegre!G362)","v":0},0]
[362,"Sobre burbuja/acolchado tamaño 350x470 mm ","10 unidades",7.59,1,{"$f":"SOLICITUD!F363","v":0},0,{"$f":"MIN(DiaCash!G363,DisOfic!G363,Lablink!G363,Lyreco!G363,Ocaña!G363,Taine!G363,Vistalegre!G363)","v":0},0]
[363,"Sobre burbuja/acolchado tamaño 300x445 mm ","-"," - ","-",{"$f":"SOLICITUD!F364","v":0},0,{"$f":"MIN(DiaCash!G364,DisOfic!G364,Lablink!G364,Lyreco!G364,Ocaña!G364,Taine!G364,Vistalegre!G364)","v":0},0]
[364,"Sobre burbuja/acolchado tamaño 120x215 mm","10 unidades",2.42,1,{"$f":"SOLICITUD!F365","v":0},0,{"$f":"MIN(DiaCash!G365,DisOfic!G365,Lablink!G365,Lyreco!G365,Ocaña!G365,Taine!G365,Vistalegre!G365)","v":0},0]
[365,"Sobre burbuja/acolchado tamaño 220x340 mm","-"," - ","-",{"$f":"SOLICITUD!F366","v":0},0,{"$f":"MIN(DiaCash!G366,DisOfic!G366,Lablink!G366,Lyreco!G366,Ocaña!G366,Taine!G366,Vistalegre!G366)","v":0},0]
[366,"Sobre burbuja/acolchado tamaño 220x265 mm","-"," - ","-",{"$f":"SOLICITUD!F367","v":0},0,{"$f":"MIN(DiaCash!G367,DisOfic!G367,Lablink!G367,Lyreco!G367,Ocaña!G367,Taine!G367,Vistalegre!G367)","v":0},0]
[367,"Carpeta Polipropileno A4 Gomas Solapas","Unidad",1.38,1,{"$f":"SOLICITUD!F368","v":0},0,{"$f":"MIN(DiaCash!G368,DisOfic!G368,Lablink!G368,Lyreco!G368,Ocaña!G368,Taine!G368,Vistalegre!G368)","v":0},0]
[368,"Roller Pilot V-5 Azul","Unidad",1.06,1,{"$f":"SOLICITUD!F369","v":0},0,{"$f":"MIN(DiaCash!G369,DisOfic!G369,Lablink!G369,Lyreco!G369,Ocaña!G369,Taine!G369,Vistalegre!G369)","v":0},0]
[369,"Roller Pilot V-5 Negro","Unidad",1.06,1,{"$f":"SOLICITUD!F370","v":0},0,{"$f":"MIN(DiaCash!G370,DisOfic!G370,Lablink!G370,Lyreco!G370,Ocaña!G370,Taine!G370,Vistalegre!G370)","v":0},0]
[370,"Roller Pilot V-5 Rojo","Unidad",1.06,1,{"$f":"SOLICITUD!F371","v":0},0,{"$f":"MIN(DiaCash!G371,DisOfic!G371,Lablink!G371,Lyreco!G371,Ocaña!G371,Taine!G371,Vistalegre!G371)","v":0},0]
[371,"Sobres blancos para entrega de títulos en mano 30 x 42 cm.","-"," - ","-",{"$f":"SOLICITUD!F372","v":0},0,{"$f":"MIN(DiaCash!G372,DisOfic!G372,Lablink!G372,Lyreco!G372,Ocaña!G372,Taine!G372,Vistalegre!G372)","v":0},0]
[372,"Dosier flexible con pinza A4 60 hojas     ","Unidad",0.84,1,{"$f":"SOLICITUD!F373","v":0},0,{"$f":"MIN(DiaCash!G373,DisOfic!G373,Lablink!G373,Lyreco!G373,Ocaña!G373,Taine!G373,Vistalegre!G373)","v":0},0]
[373,"Dosier flexible con pinza A4 30 hojas     ","Unidad",0.72,1,{"$f":"SOLICITUD!F374","v":0},0,{"$f":"MIN(DiaCash!G374,DisOfic!G374,Lablink!G374,Lyreco!G374,Ocaña!G374,Taine!G374,Vistalegre!G374)","v":0},0]
[374,"Rollos de papel térmico para las máquinas CIGES 8x8 cm","-"," - ","-",{"$f":"SOLICITUD!F375","v":0},{"$f":"IF(E375=\"Excluido\",\"Excluido1\",IF(F375>0,IF(F375<E375,\"Excluido2\",D375*F375),0))","v":0},{"$f":"MIN(DiaCash!G375,DisOfic!G375,Lablink!G375,Lyreco!G375,Ocaña!G375,Taine!G375,Vistalegre!G375)","v":0},{"$f":"IF(G375<=H375,G375,0)","v":0}]
[null,null,null,null,null,null,null,null,{"$f":"SUM(I7:I375)","v":0}]
[null,null,null,null,null,null,null,null,{"$f":"COUNTIF(I7:I375,\">0\")","v":0}]

{"sheet":"Lyreco","index":6,"n_rows":377,"n_cols":9,"rows_kept":377,"cut":false,"hidden":false,"merged":[]}
[]
[]
[null,"LYRECO ESPAÑA S.A.","Importe pedido mínimo:",0]
[]
[null,"LOTES 1, 2 Y 3 (Granada, Ceuta y Melilla respectivamente)"]
["Referencia","Descripción del artículo","Precio Referido a:","Precio (IVA excluido)","Ud.Mínima Servicio","Cantidad Solicitada","Precio Total","Menor Precio","Seleccionable?"]
[1,"Lapiceros de Grafito. Dureza Hb 2 ","Enavse 12 unidades",0.37,1,{"$f":"SOLICITUD!F7","v":0},{"$f":"IF(F7>0,IF(E7=\"Excluido\",\"Excluido1\",IF(F7>0,IF(F7<E7,\"Excluido2\",D7*F7),0)),0)","v":0},{"$f":"MIN(DiaCash!G7,DisOfic!G7,Lablink!G7,Lyreco!G7,Ocaña!G7,Taine!G7,Vistalegre!G7)","v":0},{"$f":"IF(G7<=H7,G7,0)","v":0}]
[2,"Lapiceros de Grafito. Dureza Hb, 2 (Staedtler)","Enavse 12 unidades",3.43,1,{"$f":"SOLICITUD!F8","v":0},{"$f":"IF(F8>0,IF(E8=\"Excluido\",\"Excluido1\",IF(F8>0,IF(F8<E8,\"Excluido2\",D8*F8),0)),0)","v":0},{"$f":"MIN(DiaCash!G8,DisOfic!G8,Lablink!G8,Lyreco!G8,Ocaña!G8,Taine!G8,Vistalegre!G8)","v":0},{"$f":"IF(G8<=H8,G8,0)","v":0}]
[3,"Minas de Grafito. Calibre 0,5 mm, diferentes durezas (Staedtler, Faber-Castell)","Envase 12 unidades",0.25,1,{"$f":"SOLICITUD!F9","v":0},0,{"$f":"MIN(DiaCash!G9,DisOfic!G9,Lablink!G9,Lyreco!G9,Ocaña!G9,Taine!G9,Vistalegre!G9)","v":0},0]
[4,"Minas de Grafito. Calibre 0,7 mm, diferentes durezas (Staedtler, Faber-Castell)","Envase 12 unidades",0.25,1,{"$f":"SOLICITUD!F10","v":0},0,{"$f":"MIN(DiaCash!G10,DisOfic!G10,Lablink!G10,Lyreco!G10,Ocaña!G10,Taine!G10,Vistalegre!G10)","v":0},0]
[5,"Portaminas Recargable de Puntera Retráctil, Pulsador y Clip, 0,5 mm.","Unidad",0.4,1,{"$f":"SOLICITUD!F11","v":0},0,{"$f":"MIN(DiaCash!G11,DisOfic!G11,Lablink!G11,Lyreco!G11,Ocaña!G11,Taine!G11,Vistalegre!G11)","v":0},0]
[6,"Portaminas Recargable de Puntera Retráctil, Pulsador y Clip, 0,7 mm.","Unidad",0.42,1,{"$f":"SOLICITUD!F12","v":0},0,{"$f":"MIN(DiaCash!G12,DisOfic!G12,Lablink!G12,Lyreco!G12,Ocaña!G12,Taine!G12,Vistalegre!G12)","v":0},0]
[7,"Portaminas Recargable de Puntera Retráctil, Pulsador y Clip, 0,5 mm. (Staedtler, Faber Castell)","Unidad",1.69,1,{"$f":"SOLICITUD!F13","v":0},0,{"$f":"MIN(DiaCash!G13,DisOfic!G13,Lablink!G13,Lyreco!G13,Ocaña!G13,Taine!G13,Vistalegre!G13)","v":0},0]
[8,"Portaminas Recargable de Puntera Retráctil, Pulsador y Clip, 0,7 mm. (Staedtler, Faber Castell)","Unidad",1.69,1,{"$f":"SOLICITUD!F14","v":0},0,{"$f":"MIN(DiaCash!G14,DisOfic!G14,Lablink!G14,Lyreco!G14,Ocaña!G14,Taine!G14,Vistalegre!G14)","v":0},0]
[9,"Lapiz Bicolor azul/rojo ","Envase 12 unidades",4.68,1,{"$f":"SOLICITUD!F15","v":0},0,{"$f":"MIN(DiaCash!G15,DisOfic!G15,Lablink!G15,Lyreco!G15,Ocaña!G15,Taine!G15,Vistalegre!G15)","v":0},0]
[10,"Lapiz Bicolor azul/rojo  (Faber-Castell)","Envase 12 unidades",4.68,1,{"$f":"SOLICITUD!F16","v":0},0,{"$f":"MIN(DiaCash!G16,DisOfic!G16,Lablink!G16,Lyreco!G16,Ocaña!G16,Taine!G16,Vistalegre!G16)","v":0},0]
[11,"Afila Lapiceros doble entrada metálico","Unidad",0.21,1,{"$f":"SOLICITUD!F17","v":0},0,{"$f":"MIN(DiaCash!G17,DisOfic!G17,Lablink!G17,Lyreco!G17,Ocaña!G17,Taine!G17,Vistalegre!G17)","v":0},0]
[12,"Afila Lapiceros doble entrada metálico (Faibo)","Unidad",0.21,1,{"$f":"SOLICITUD!F18","v":0},0,{"$f":"MIN(DiaCash!G18,DisOfic!G18,Lablink!G18,Lyreco!G18,Ocaña!G18,Taine!G18,Vistalegre!G18)","v":0},0]
[13,"Afila Lapiceros una entrada metálico","Unidad",0.15,1,{"$f":"SOLICITUD!F19","v":0},0,{"$f":"MIN(DiaCash!G19,DisOfic!G19,Lablink!G19,Lyreco!G19,Ocaña!G19,Taine!G19,Vistalegre!G19)","v":0},0]
[14,"Afila Lapiceros una entrada metálico (Faibo)","Unidad",0.1,1,{"$f":"SOLICITUD!F20","v":0},0,{"$f":"MIN(DiaCash!G20,DisOfic!G20,Lablink!G20,Lyreco!G20,Ocaña!G20,Taine!G20,Vistalegre!G20)","v":0},0]
[15,"Bolígrafo con capuchón, tinta a base de aceite, ancho de escritura 0,42 mm, escritura fina (Bic)","Unidad",0.19,1,{"$f":"SOLICITUD!F21","v":0},0,{"$f":"MIN(DiaCash!G21,DisOfic!G21,Lablink!G21,Lyreco!G21,Ocaña!G21,Taine!G21,Vistalegre!G21)","v":0},0]
[16,"Bolígrafo borrable (Pilot)","Unidad",1.39,1,{"$f":"SOLICITUD!F22","v":0},0,{"$f":"MIN(DiaCash!G22,DisOfic!G22,Lablink!G22,Lyreco!G22,Ocaña!G22,Taine!G22,Vistalegre!G22)","v":0},0]
[17,"Bolígrafo con capuchón, tinta a base de aceite, ancho de escritura 1,0mm, escritura normal, colores","Unidad",0.04,1,{"$f":"SOLICITUD!F23","v":0},0,{"$f":"MIN(DiaCash!G23,DisOfic!G23,Lablink!G23,Lyreco!G23,Ocaña!G23,Taine!G23,Vistalegre!G23)","v":0},0]
[18,"Bolígrafo con capuchón, tinta a base de aceite, ancho de escritura 1,0mm, escritura normal, colores (Bic)","Unidad",0.19,1,{"$f":"SOLICITUD!F24","v":0},0,{"$f":"MIN(DiaCash!G24,DisOfic!G24,Lablink!G24,Lyreco!G24,Ocaña!G24,Taine!G24,Vistalegre!G24)","v":0},0]
[19,"Bolígrafo con capuchón, tinta a base de aceite, ancho de escritura 0,5mm, escritura fina, colores (Bic)","Unidad",0.19,1,{"$f":"SOLICITUD!F25","v":0},0,{"$f":"MIN(DiaCash!G25,DisOfic!G25,Lablink!G25,Lyreco!G25,Ocaña!G25,Taine!G25,Vistalegre!G25)","v":0},0]
[20,"Bolígrafo uso común capuchón tinta gel, colores (Bic, Pilot)","Unidad",0.48,1,{"$f":"SOLICITUD!F26","v":0},0,{"$f":"MIN(DiaCash!G26,DisOfic!G26,Lablink!G26,Lyreco!G26,Ocaña!G26,Taine!G26,Vistalegre!G26)","v":0},0]
[21,"Bolígrafo uso común capuchón, tinta base de aceite (Pilot)","Unidad",0.7,1,{"$f":"SOLICITUD!F27","v":0},0,{"$f":"MIN(DiaCash!G27,DisOfic!G27,Lablink!G27,Lyreco!G27,Ocaña!G27,Taine!G27,Vistalegre!G27)","v":0},0]
[22,"Bolígrafo retráctil tinta gel  ","Unidad",0.22,1,{"$f":"SOLICITUD!F28","v":0},0,{"$f":"MIN(DiaCash!G28,DisOfic!G28,Lablink!G28,Lyreco!G28,Ocaña!G28,Taine!G28,Vistalegre!G28)","v":0},0]
[23,"Bolígrafo retráctil tinta gel  (Pilot)","Unidad",0.98,1,{"$f":"SOLICITUD!F29","v":0},0,{"$f":"MIN(DiaCash!G29,DisOfic!G29,Lablink!G29,Lyreco!G29,Ocaña!G29,Taine!G29,Vistalegre!G29)","v":0},0]
[24,"Pluma desechable (Pilot)","Unidad",1.69,1,{"$f":"SOLICITUD!F30","v":0},0,{"$f":"MIN(DiaCash!G30,DisOfic!G30,Lablink!G30,Lyreco!G30,Ocaña!G30,Taine!G30,Vistalegre!G30)","v":0},0]
[25,"Marcadores Fluorescentes. Ancho de Trazo entre 2 Y 5 mm","Unidad",0.24,1,{"$f":"SOLICITUD!F31","v":0},0,{"$f":"MIN(DiaCash!G31,DisOfic!G31,Lablink!G31,Lyreco!G31,Ocaña!G31,Taine!G31,Vistalegre!G31)","v":0},0]
[26,"Marcadores Fluorescentes. Ancho de Trazo entre 2 Y 5 mm (Faber Castell, Stabilo)","Unidad",0.41,1,{"$f":"SOLICITUD!F32","v":0},0,{"$f":"MIN(DiaCash!G32,DisOfic!G32,Lablink!G32,Lyreco!G32,Ocaña!G32,Taine!G32,Vistalegre!G32)","v":0},0]
[27,"Roller Retráctil Tinta Gel. Trazo entre 0,4 Y 0,7 mm.","Unidad",0.54,1,{"$f":"SOLICITUD!F33","v":0},0,{"$f":"MIN(DiaCash!G33,DisOfic!G33,Lablink!G33,Lyreco!G33,Ocaña!G33,Taine!G33,Vistalegre!G33)","v":0},0]
[28,"Roller Retráctil Tinta Gel. Trazo entre 0,4 Y 0,7 mm. (Pilot)","Unidad",0.98,1,{"$f":"SOLICITUD!F34","v":0},0,{"$f":"MIN(DiaCash!G34,DisOfic!G34,Lablink!G34,Lyreco!G34,Ocaña!G34,Taine!G34,Vistalegre!G34)","v":0},0]
[29,"Roller Tinta Gel con capuchón. Trazo entre  0,4 Y 0,7 mm.","Unidad",0.14000000000000001,1,{"$f":"SOLICITUD!F35","v":0},0,{"$f":"MIN(DiaCash!G35,DisOfic!G35,Lablink!G35,Lyreco!G35,Ocaña!G35,Taine!G35,Vistalegre!G35)","v":0},0]
[30,"Roller Tinta Gel con capuchón. Trazo entre  0,4 Y 0,7 mm. (Pilot)","Unidad",0.91,1,{"$f":"SOLICITUD!F36","v":0},0,{"$f":"MIN(DiaCash!G36,DisOfic!G36,Lablink!G36,Lyreco!G36,Ocaña!G36,Taine!G36,Vistalegre!G36)","v":0},0]
[31,"Roller Tinta Líquida con capuchón. Trazo entre 0,5 Y 0,7 mm.","Unidad",0.16,1,{"$f":"SOLICITUD!F37","v":0},0,{"$f":"MIN(DiaCash!G37,DisOfic!G37,Lablink!G37,Lyreco!G37,Ocaña!G37,Taine!G37,Vistalegre!G37)","v":0},0]
[32,"Roller Tinta Líquida con capuchón. Trazo entre 0,5 Y 0,7 mm. (Pilot)","Unidad",1.1399999999999999,1,{"$f":"SOLICITUD!F38","v":0},0,{"$f":"MIN(DiaCash!G38,DisOfic!G38,Lablink!G38,Lyreco!G38,Ocaña!G38,Taine!G38,Vistalegre!G38)","v":0},0]
[33,"Rotulador Punta Fibra. Trazo entre 0,4 Y 1 mm.","Unidad",0.14000000000000001,1,{"$f":"SOLICITUD!F39","v":0},0,{"$f":"MIN(DiaCash!G39,DisOfic!G39,Lablink!G39,Lyreco!G39,Ocaña!G39,Taine!G39,Vistalegre!G39)","v":0},0]
[34,"Rotulador Punta Fibra. Trazo entre 0,4 Y 1 mm. (Edding)","Unidad",0.41,1,{"$f":"SOLICITUD!F40","v":0},0,{"$f":"MIN(DiaCash!G40,DisOfic!G40,Lablink!G40,Lyreco!G40,Ocaña!G40,Taine!G40,Vistalegre!G40)","v":0},0]
[35,"Rotulador indeleble punta 0,6 mm (Staedtler)","Unidad",0.74,1,{"$f":"SOLICITUD!F41","v":0},0,{"$f":"MIN(DiaCash!G41,DisOfic!G41,Lablink!G41,Lyreco!G41,Ocaña!G41,Taine!G41,Vistalegre!G41)","v":0},0]
[36,"Rotulador Permanente. Trazo entre 0,7 Y 2 mm Punta Cónica","Unidad",0.28000000000000003,1,{"$f":"SOLICITUD!F42","v":0},0,{"$f":"MIN(DiaCash!G42,DisOfic!G42,Lablink!G42,Lyreco!G42,Ocaña!G42,Taine!G42,Vistalegre!G42)","v":0},0]
[37,"Rotulador Permanente. Trazo entre 0,7 Y 2 mm Punta Cónica (Edding)","Unidad",1.31,1,{"$f":"SOLICITUD!F43","v":0},0,{"$f":"MIN(DiaCash!G43,DisOfic!G43,Lablink!G43,Lyreco!G43,Ocaña!G43,Taine!G43,Vistalegre!G43)","v":0},0]
[38,"Rotulador Permanente. Trazo entre 1,5-3 mm  Punta Cómica (Edding)","Unidad",0.53,1,{"$f":"SOLICITUD!F44","v":0},0,{"$f":"MIN(DiaCash!G44,DisOfic!G44,Lablink!G44,Lyreco!G44,Ocaña!G44,Taine!G44,Vistalegre!G44)","v":0},0]
[39,"Rotulador Permanente. Trazo entre 2 Y 7 mm Punta Cónica","Unidad",0.24,1,{"$f":"SOLICITUD!F45","v":0},0,{"$f":"MIN(DiaCash!G45,DisOfic!G45,Lablink!G45,Lyreco!G45,Ocaña!G45,Taine!G45,Vistalegre!G45)","v":0},0]
[40,"Rotulador Permanente. Trazo entre 2 Y 7 mm Punta Cónica (Edding)","Unidad",1.6,1,{"$f":"SOLICITUD!F46","v":0},0,{"$f":"MIN(DiaCash!G46,DisOfic!G46,Lablink!G46,Lyreco!G46,Ocaña!G46,Taine!G46,Vistalegre!G46)","v":0},0]
[41,"Rotulador Permanente. Trazo entre 2 Y 7 mm Punta Biselada","Unidad",0.24,1,{"$f":"SOLICITUD!F47","v":0},0,{"$f":"MIN(DiaCash!G47,DisOfic!G47,Lablink!G47,Lyreco!G47,Ocaña!G47,Taine!G47,Vistalegre!G47)","v":0},0]
[42,"Rotulador Permanente. Trazo entre 2 Y 7 mm Punta Biselada (Edding)","Unidad",0.53,1,{"$f":"SOLICITUD!F48","v":0},0,{"$f":"MIN(DiaCash!G48,DisOfic!G48,Lablink!G48,Lyreco!G48,Ocaña!G48,Taine!G48,Vistalegre!G48)","v":0},0]
[43,"Rotulador Permanente. Trazo entre 8 Y 16 mm Punta Biselada","Unidad",1.2,1,{"$f":"SOLICITUD!F49","v":0},0,{"$f":"MIN(DiaCash!G49,DisOfic!G49,Lablink!G49,Lyreco!G49,Ocaña!G49,Taine!G49,Vistalegre!G49)","v":0},0]
[44,"Rotulador Permanente. Trazo entre 8 Y 16 mm Punta Biselada (Edding)","Unidad",4.29,1,{"$f":"SOLICITUD!F50","v":0},0,{"$f":"MIN(DiaCash!G50,DisOfic!G50,Lablink!G50,Lyreco!G50,Ocaña!G50,Taine!G50,Vistalegre!G50)","v":0},0]
[45,"Rotulador Borrable de Punta Biselada para Pizarra Blanca. Trazo Entre 2 Y 5 mm","Unidad",0.28999999999999998,1,{"$f":"SOLICITUD!F51","v":0},0,{"$f":"MIN(DiaCash!G51,DisOfic!G51,Lablink!G51,Lyreco!G51,Ocaña!G51,Taine!G51,Vistalegre!G51)","v":0},0]
[46,"Rotulador Borrable de Punta Biselada para Pizarra Blanca. Trazo Entre 2 Y 5 mm (Bic)","Unidad",0.66,1,{"$f":"SOLICITUD!F52","v":0},0,{"$f":"MIN(DiaCash!G52,DisOfic!G52,Lablink!G52,Lyreco!G52,Ocaña!G52,Taine!G52,Vistalegre!G52)","v":0},0]
[47,"Rotulador Borrable de Punta Conica para Pizarra Blanca. Trazo Entre 1 Y 4 mm","Unidad",0.28999999999999998,1,{"$f":"SOLICITUD!F53","v":0},0,{"$f":"MIN(DiaCash!G53,DisOfic!G53,Lablink!G53,Lyreco!G53,Ocaña!G53,Taine!G53,Vistalegre!G53)","v":0},0]
[48,"Rotulador Borrable de Punta Conica para Pizarra Blanca. Trazo Entre 1 Y 4 mm (Bic)","Unidad",0.57999999999999996,1,{"$f":"SOLICITUD!F54","v":0},0,{"$f":"MIN(DiaCash!G54,DisOfic!G54,Lablink!G54,Lyreco!G54,Ocaña!G54,Taine!G54,Vistalegre!G54)","v":0},0]
[49,"Borrador para Pizarra Blanca","Unidad",1.44,1,{"$f":"SOLICITUD!F55","v":0},0,{"$f":"MIN(DiaCash!G55,DisOfic!G55,Lablink!G55,Lyreco!G55,Ocaña!G55,Taine!G55,Vistalegre!G55)","v":0},0]
[50,"Recambios Borrador de Pizarra Blanca ","Envase 10 unidades",1.36,1,{"$f":"SOLICITUD!F56","v":0},0,{"$f":"MIN(DiaCash!G56,DisOfic!G56,Lablink!G56,Lyreco!G56,Ocaña!G56,Taine!G56,Vistalegre!G56)","v":0},0]
[51,"Puntero laser rojo (Trust)","Unidad",16.84,1,{"$f":"SOLICITUD!F57","v":0},0,{"$f":"MIN(DiaCash!G57,DisOfic!G57,Lablink!G57,Lyreco!G57,Ocaña!G57,Taine!G57,Vistalegre!G57)","v":0},0]
[52,"Pizarra blanca magnética esmaltada. Marco aluminio/plástico 60x90 cm (hxa) (Nobo)","Unidad",18.829999999999998,1,{"$f":"SOLICITUD!F58","v":0},0,{"$f":"MIN(DiaCash!G58,DisOfic!G58,Lablink!G58,Lyreco!G58,Ocaña!G58,Taine!G58,Vistalegre!G58)","v":0},0]
[53,"Pizarra blanca magnética esmaltada. Marco aluminio/plástico 90x120 cm (hxa) (Nobo)","Unidad",34.07,1,{"$f":"SOLICITUD!F59","v":0},0,{"$f":"MIN(DiaCash!G59,DisOfic!G59,Lablink!G59,Lyreco!G59,Ocaña!G59,Taine!G59,Vistalegre!G59)","v":0},0]
[54,"Pizarra blanca magnética esmaltada. Marco aluminio/plástico 100x150 cm (hxa) (Nobo)","Unidad",57.63,1,{"$f":"SOLICITUD!F60","v":0},0,{"$f":"MIN(DiaCash!G60,DisOfic!G60,Lablink!G60,Lyreco!G60,Ocaña!G60,Taine!G60,Vistalegre!G60)","v":0},0]
[55,"Pizarra caballete con superficie lacada magnética. Marco y bandeja portamarcadores en aluminio. Brazos laterales magnéticos que triplican la superficie de lectura. Pies telescópicos con altura regulable. Para usar con o sin block de papel 1000x700 mm (hxa) (Bi-Office)","Unidad",110,1,{"$f":"SOLICITUD!F61","v":0},0,{"$f":"MIN(DiaCash!G61,DisOfic!G61,Lablink!G61,Lyreco!G61,Ocaña!G61,Taine!G61,Vistalegre!G61)","v":0},0]
[56,"Cinta Correctora con dispensador desechable tipo Roller. Anchos \nde 4,2 A 6 mm. Largos de 8,5 A 12 Mts.","Unidad",0.54,1,{"$f":"SOLICITUD!F62","v":0},0,{"$f":"MIN(DiaCash!G62,DisOfic!G62,Lablink!G62,Lyreco!G62,Ocaña!G62,Taine!G62,Vistalegre!G62)","v":0},0]
[57,"Cinta Correctora con dispensador desechable tipo Roller. Anchos \nde 4,2 A 6 mm. Largos de 8,5 A 12 Mts. (Pritt Roller)","Unidad",1.9,1,{"$f":"SOLICITUD!F63","v":0},0,{"$f":"MIN(DiaCash!G63,DisOfic!G63,Lablink!G63,Lyreco!G63,Ocaña!G63,Taine!G63,Vistalegre!G63)","v":0},0]
[58,"Corrector Líquido de secado rápido con pincel aplicador 20 Ml","Unidad",0.2,1,{"$f":"SOLICITUD!F64","v":0},0,{"$f":"MIN(DiaCash!G64,DisOfic!G64,Lablink!G64,Lyreco!G64,Ocaña!G64,Taine!G64,Vistalegre!G64)","v":0},0]
[59,"Corrector Líquido de secado rápido con pincel aplicador 20 Ml (Tippex)","Unidad",1.21,1,{"$f":"SOLICITUD!F65","v":0},0,{"$f":"MIN(DiaCash!G65,DisOfic!G65,Lablink!G65,Lyreco!G65,Ocaña!G65,Taine!G65,Vistalegre!G65)","v":0},0]
[60,"Lápiz corrector con capuchón ajustable punta metálica secado rápido, de 7 a 12 ml (Pritt)","Unidad",1.59,1,{"$f":"SOLICITUD!F66","v":0},0,{"$f":"MIN(DiaCash!G66,DisOfic!G66,Lablink!G66,Lyreco!G66,Ocaña!G66,Taine!G66,Vistalegre!G66)","v":0},0]
[61,"Goma para borrar grafito","Unidad",0.1,1,{"$f":"SOLICITUD!F67","v":0},0,{"$f":"MIN(DiaCash!G67,DisOfic!G67,Lablink!G67,Lyreco!G67,Ocaña!G67,Taine!G67,Vistalegre!G67)","v":0},0]
[62,"Atril de sobremesa ajustable. Tamaño A4 y mayor","Unidad",7.79,1,{"$f":"SOLICITUD!F68","v":0},0,{"$f":"MIN(DiaCash!G68,DisOfic!G68,Lablink!G68,Lyreco!G68,Ocaña!G68,Taine!G68,Vistalegre!G68)","v":0},0]
[63,"Bandeja Apilable Sobremesa Plástico . Tamaño minimo apx. 24X34 cms.","Unidad",1.03,1,{"$f":"SOLICITUD!F69","v":0},0,{"$f":"MIN(DiaCash!G69,DisOfic!G69,Lablink!G69,Lyreco!G69,Ocaña!G69,Taine!G69,Vistalegre!G69)","v":0},0]
[64,"Bandeja Apilable Sobremesa Acero Cromado. Tamaño minimo apx. 24X34 cms.","Unidad",3.69,1,{"$f":"SOLICITUD!F70","v":0},0,{"$f":"MIN(DiaCash!G70,DisOfic!G70,Lablink!G70,Lyreco!G70,Ocaña!G70,Taine!G70,Vistalegre!G70)","v":0},0]
[65,"Cubilete para lápices ","Unidad",0.65,1,{"$f":"SOLICITUD!F71","v":0},0,{"$f":"MIN(DiaCash!G71,DisOfic!G71,Lablink!G71,Lyreco!G71,Ocaña!G71,Taine!G71,Vistalegre!G71)","v":0},0]
[66,"Regla de Plástico milimetrada transparente 40 cm","Unidad",0.28999999999999998,1,{"$f":"SOLICITUD!F72","v":0},{"$f":"IF(F72>0,IF(E72=\"Excluido\",\"Excluido1\",IF(F72>0,IF(F72<E72,\"Excluido2\",D72*F72),0)),0)","v":0},{"$f":"MIN(DiaCash!G72,DisOfic!G72,Lablink!G72,Lyreco!G72,Ocaña!G72,Taine!G72,Vistalegre!G72)","v":0},{"$f":"IF(G72<=H72,G72,0)","v":0}]
[67,"Regla de Plástico milimetrada transparente 40 cm (Staedtler, Faber-Castell)","Unidad",1,1,{"$f":"SOLICITUD!F73","v":0},0,{"$f":"MIN(DiaCash!G73,DisOfic!G73,Lablink!G73,Lyreco!G73,Ocaña!G73,Taine!G73,Vistalegre!G73)","v":0},0]
[68,"Escuadra y Cartabon transparente 30 ó 40 cm ","Unidad",0.28999999999999998,1,{"$f":"SOLICITUD!F74","v":0},0,{"$f":"MIN(DiaCash!G74,DisOfic!G74,Lablink!G74,Lyreco!G74,Ocaña!G74,Taine!G74,Vistalegre!G74)","v":0},0]
[69,"Escuadra y Cartabon transparente 30 ó 40 cm (Staedtler, Faber-Castell)","Unidad",4.5,1,{"$f":"SOLICITUD!F75","v":0},0,{"$f":"MIN(DiaCash!G75,DisOfic!G75,Lablink!G75,Lyreco!G75,Ocaña!G75,Taine!G75,Vistalegre!G75)","v":0},0]
[70,"Abrecartas Acero Inoxidable 170 mm aprox.","Unidad",0.91,1,{"$f":"SOLICITUD!F76","v":0},0,{"$f":"MIN(DiaCash!G76,DisOfic!G76,Lablink!G76,Lyreco!G76,Ocaña!G76,Taine!G76,Vistalegre!G76)","v":0},0]
[71,"Bloque Calendario 82X116 mm, Papel de 60 gr/m2 mínimo","Unidad",0.65,1,{"$f":"SOLICITUD!F77","v":0},0,{"$f":"MIN(DiaCash!G77,DisOfic!G77,Lablink!G77,Lyreco!G77,Ocaña!G77,Taine!G77,Vistalegre!G77)","v":0},0]
[72,"Base para Bloque Calendario en baquelita","Unidad",1.05,1,{"$f":"SOLICITUD!F78","v":0},0,{"$f":"MIN(DiaCash!G78,DisOfic!G78,Lablink!G78,Lyreco!G78,Ocaña!G78,Taine!G78,Vistalegre!G78)","v":0},0]
[73,"Chincheta metálica ","Envase 100 Unidades",0.31,1,{"$f":"SOLICITUD!F79","v":0},0,{"$f":"MIN(DiaCash!G79,DisOfic!G79,Lablink!G79,Lyreco!G79,Ocaña!G79,Taine!G79,Vistalegre!G79)","v":0},0]
[74,"Chincheta señalizadoras colores (Apli)","Envase 50 unidades",0.38,0.5,{"$f":"SOLICITUD!F80","v":0},0,{"$f":"MIN(DiaCash!G80,DisOfic!G80,Lablink!G80,Lyreco!G80,Ocaña!G80,Taine!G80,Vistalegre!G80)","v":0},0]
[75,"Portarrollos para Cinta Adhesiva Hasta 25 mm de ancho y hasta 33 mts de largo","Unidad",1.89,1,{"$f":"SOLICITUD!F81","v":0},0,{"$f":"MIN(DiaCash!G81,DisOfic!G81,Lablink!G81,Lyreco!G81,Ocaña!G81,Taine!G81,Vistalegre!G81)","v":0},0]
[76,"Portarrollos para Cinta Adhesiva Hasta 25 mm de ancho y hasta 33 mts de largo (Scotch)","Unidad",3.5,1,{"$f":"SOLICITUD!F82","v":0},0,{"$f":"MIN(DiaCash!G82,DisOfic!G82,Lablink!G82,Lyreco!G82,Ocaña!G82,Taine!G82,Vistalegre!G82)","v":0},0]
[77,"Portarrollos para Cinta Adhesiva Hasta 25 mm de ancho y hasta 66 mts de largo","Unidad",2.9,1,{"$f":"SOLICITUD!F83","v":0},0,{"$f":"MIN(DiaCash!G83,DisOfic!G83,Lablink!G83,Lyreco!G83,Ocaña!G83,Taine!G83,Vistalegre!G83)","v":0},0]
[78,"Portarrollos para Cinta Adhesiva Hasta 25 mm de ancho y hasta 66 mts de largo (Scotch)","Unidad",3.1,1,{"$f":"SOLICITUD!F84","v":0},0,{"$f":"MIN(DiaCash!G84,DisOfic!G84,Lablink!G84,Lyreco!G84,Ocaña!G84,Taine!G84,Vistalegre!G84)","v":0},0]
[79,"Cinta Adhesiva Transparente 12 mm X 33 mts.","Unidad",0.25,1,{"$f":"SOLICITUD!F85","v":0},0,{"$f":"MIN(DiaCash!G85,DisOfic!G85,Lablink!G85,Lyreco!G85,Ocaña!G85,Taine!G85,Vistalegre!G85)","v":0},0]
[80,"Cinta Adhesiva Transparente 19 mm X 33 mts.","Unidad",0.2,8,{"$f":"SOLICITUD!F86","v":0},0,{"$f":"MIN(DiaCash!G86,DisOfic!G86,Lablink!G86,Lyreco!G86,Ocaña!G86,Taine!G86,Vistalegre!G86)","v":0},0]
[81,"Cinta Adhesiva Transparente 19 mm X 66 mts.","Unidad",0.28249999999999997,8,{"$f":"SOLICITUD!F87","v":0},0,{"$f":"MIN(DiaCash!G87,DisOfic!G87,Lablink!G87,Lyreco!G87,Ocaña!G87,Taine!G87,Vistalegre!G87)","v":0},0]
[82,"Cinta Adhesiva Invisible 19 mm x 33 mts.","Unidad",0.29749999999999999,8,{"$f":"SOLICITUD!F88","v":0},0,{"$f":"MIN(DiaCash!G88,DisOfic!G88,Lablink!G88,Lyreco!G88,Ocaña!G88,Taine!G88,Vistalegre!G88)","v":0},0]
[83,"Cinta Adhesiva Invisible 12 mm x 33 mts. (Scotch Magic)","Unidad",1.55,1,{"$f":"SOLICITUD!F89","v":0},0,{"$f":"MIN(DiaCash!G89,DisOfic!G89,Lablink!G89,Lyreco!G89,Ocaña!G89,Taine!G89,Vistalegre!G89)","v":0},0]
[84,"Cinta Adhesiva Invisible 19 mm x 33 mts. (Scotch Magic)","Unidad",2,1,{"$f":"SOLICITUD!F90","v":0},0,{"$f":"MIN(DiaCash!G90,DisOfic!G90,Lablink!G90,Lyreco!G90,Ocaña!G90,Taine!G90,Vistalegre!G90)","v":0},0]
[85,"Cinta Adhesiva Transparente 19 mm X 66 mts. (Scotch)","Unidad",1.5,1,{"$f":"SOLICITUD!F91","v":0},0,{"$f":"MIN(DiaCash!G91,DisOfic!G91,Lablink!G91,Lyreco!G91,Ocaña!G91,Taine!G91,Vistalegre!G91)","v":0},0]
[86,"Precintadora Manual hasta 50 mm de ancho","Unidad",7,1,{"$f":"SOLICITUD!F92","v":0},0,{"$f":"MIN(DiaCash!G92,DisOfic!G92,Lablink!G92,Lyreco!G92,Ocaña!G92,Taine!G92,Vistalegre!G92)","v":0},0]
[87,"Cinta Adhesiva para embalaje (Precinto) 48-55 mm x 66 mts mínimo","Unidad",0.71,6,{"$f":"SOLICITUD!F93","v":0},0,{"$f":"MIN(DiaCash!G93,DisOfic!G93,Lablink!G93,Lyreco!G93,Ocaña!G93,Taine!G93,Vistalegre!G93)","v":0},0]
[88,"Cinta Adhesiva para embalaje (Precinto) 50 mm x 76 mts mínimo","Unidad",0.9,6,{"$f":"SOLICITUD!F94","v":0},0,{"$f":"MIN(DiaCash!G94,DisOfic!G94,Lablink!G94,Lyreco!G94,Ocaña!G94,Taine!G94,Vistalegre!G94)","v":0},0]
[89,"Clips Mariposa metálicos niquelados. Número 20. 50 mm","Envase 25 unidades",0.73,1,{"$f":"SOLICITUD!F95","v":0},0,{"$f":"MIN(DiaCash!G95,DisOfic!G95,Lablink!G95,Lyreco!G95,Ocaña!G95,Taine!G95,Vistalegre!G95)","v":0},0]
[90,"Clips Mariposa  metálicos niquelados. Número 10. 40 mm","Envase 50 unidades",0.73,1,{"$f":"SOLICITUD!F96","v":0},0,{"$f":"MIN(DiaCash!G96,DisOfic!G96,Lablink!G96,Lyreco!G96,Ocaña!G96,Taine!G96,Vistalegre!G96)","v":0},0]
[91,"Clips Labiados redondos metálicos pulidos. Número 1. 20 mm","Envase 100 unidades",0.18,1,{"$f":"SOLICITUD!F97","v":0},0,{"$f":"MIN(DiaCash!G97,DisOfic!G97,Lablink!G97,Lyreco!G97,Ocaña!G97,Taine!G97,Vistalegre!G97)","v":0},0]
[92,"Clips Labiados redondos metálicos pulidos. Número 1,5. 25 mm","Envase 100 unidades",0.19,1,{"$f":"SOLICITUD!F98","v":0},0,{"$f":"MIN(DiaCash!G98,DisOfic!G98,Lablink!G98,Lyreco!G98,Ocaña!G98,Taine!G98,Vistalegre!G98)","v":0},0]
[93,"Clips Labiados redondos metálicos pulidos. Número 2. 32 mm","Envase 100 unidades",0.21,1,{"$f":"SOLICITUD!F99","v":0},0,{"$f":"MIN(DiaCash!G99,DisOfic!G99,Lablink!G99,Lyreco!G99,Ocaña!G99,Taine!G99,Vistalegre!G99)","v":0},0]
[94,"Clips Labiados redondos metálicos pulidos. Número 3. 40 mm","Envase 100 unidades",0.36,1,{"$f":"SOLICITUD!F100","v":0},0,{"$f":"MIN(DiaCash!G100,DisOfic!G100,Lablink!G100,Lyreco!G100,Ocaña!G100,Taine!G100,Vistalegre!G100)","v":0},0]
[95,"Pinza doble clip negra 19 mm ","Envase 12 unidades",0.26,1,{"$f":"SOLICITUD!F101","v":0},0,{"$f":"MIN(DiaCash!G101,DisOfic!G101,Lablink!G101,Lyreco!G101,Ocaña!G101,Taine!G101,Vistalegre!G101)","v":0},0]
[96,"Pinza doble clip negra 25 mm ","Envase 12 unidades",0.44,1,{"$f":"SOLICITUD!F102","v":0},0,{"$f":"MIN(DiaCash!G102,DisOfic!G102,Lablink!G102,Lyreco!G102,Ocaña!G102,Taine!G102,Vistalegre!G102)","v":0},0]
[97,"Pinza doble clip negra 32 mm ","Envase 12 unidades",0.61,1,{"$f":"SOLICITUD!F103","v":0},0,{"$f":"MIN(DiaCash!G103,DisOfic!G103,Lablink!G103,Lyreco!G103,Ocaña!G103,Taine!G103,Vistalegre!G103)","v":0},0]
[98,"Pinza doble clip negra 40 mm ","Envase 12 unidades",1.01,1,{"$f":"SOLICITUD!F104","v":0},0,{"$f":"MIN(DiaCash!G104,DisOfic!G104,Lablink!G104,Lyreco!G104,Ocaña!G104,Taine!G104,Vistalegre!G104)","v":0},0]
[99,"Pinza doble clip negra 50 mm ","Envase 12 unidades",1.43,1,{"$f":"SOLICITUD!F105","v":0},0,{"$f":"MIN(DiaCash!G105,DisOfic!G105,Lablink!G105,Lyreco!G105,Ocaña!G105,Taine!G105,Vistalegre!G105)","v":0},0]
[100,"Porta clips imantado con rodillo","Unidad",0.9,1,{"$f":"SOLICITUD!F106","v":0},0,{"$f":"MIN(DiaCash!G106,DisOfic!G106,Lablink!G106,Lyreco!G106,Ocaña!G106,Taine!G106,Vistalegre!G106)","v":0},0]
[101,"Porta clips imantado redondo","Unidad",0.76,1,{"$f":"SOLICITUD!F107","v":0},0,{"$f":"MIN(DiaCash!G107,DisOfic!G107,Lablink!G107,Lyreco!G107,Ocaña!G107,Taine!G107,Vistalegre!G107)","v":0},0]
[102,"Cutter hoja 18 mm.","Unidad",0.22,1,{"$f":"SOLICITUD!F108","v":0},0,{"$f":"MIN(DiaCash!G108,DisOfic!G108,Lablink!G108,Lyreco!G108,Ocaña!G108,Taine!G108,Vistalegre!G108)","v":0},0]
[103,"Cutter hoja 9 mm.","Unidad",0.14000000000000001,1,{"$f":"SOLICITUD!F109","v":0},0,{"$f":"MIN(DiaCash!G109,DisOfic!G109,Lablink!G109,Lyreco!G109,Ocaña!G109,Taine!G109,Vistalegre!G109)","v":0},0]
[104,"Recambios para Cutter 18 mm","Envase 10 Unidades",1.03,1,{"$f":"SOLICITUD!F110","v":0},0,{"$f":"MIN(DiaCash!G110,DisOfic!G110,Lablink!G110,Lyreco!G110,Ocaña!G110,Taine!G110,Vistalegre!G110)","v":0},0]
[105,"Recambios para Cutter 9 mm","Envase 10 Unidades",0.53,1,{"$f":"SOLICITUD!F111","v":0},0,{"$f":"MIN(DiaCash!G111,DisOfic!G111,Lablink!G111,Lyreco!G111,Ocaña!G111,Taine!G111,Vistalegre!G111)","v":0},0]
[106,"Gomas Elásticas tamaños de 80 A 100 mm","Envase 100 gr.",0.53,1,{"$f":"SOLICITUD!F112","v":0},0,{"$f":"MIN(DiaCash!G112,DisOfic!G112,Lablink!G112,Lyreco!G112,Ocaña!G112,Taine!G112,Vistalegre!G112)","v":0},0]
[107,"Gomas Elásticas tamaños Hasta 60 mm","Envase 100 gr.",0.71,1,{"$f":"SOLICITUD!F113","v":0},0,{"$f":"MIN(DiaCash!G113,DisOfic!G113,Lablink!G113,Lyreco!G113,Ocaña!G113,Taine!G113,Vistalegre!G113)","v":0},0]
[108,"Pegamento en Barra (Barra 20 gr)","Unidad",0.18,1,{"$f":"SOLICITUD!F114","v":0},0,{"$f":"MIN(DiaCash!G114,DisOfic!G114,Lablink!G114,Lyreco!G114,Ocaña!G114,Taine!G114,Vistalegre!G114)","v":0},0]
[109,"Pegamento en Barra (Barra 20 gr) (Pritt)","Unidad",1.3,1,{"$f":"SOLICITUD!F115","v":0},0,{"$f":"MIN(DiaCash!G115,DisOfic!G115,Lablink!G115,Lyreco!G115,Ocaña!G115,Taine!G115,Vistalegre!G115)","v":0},0]
[110,"Pegamento en Barra (Barra 40 gr)","Unidad",0.3,1,{"$f":"SOLICITUD!F116","v":0},0,{"$f":"MIN(DiaCash!G116,DisOfic!G116,Lablink!G116,Lyreco!G116,Ocaña!G116,Taine!G116,Vistalegre!G116)","v":0},0]
[111,"Pegamento en Barra (Barra 40 gr) (Pritt)","Unidad",1.83,1,{"$f":"SOLICITUD!F117","v":0},0,{"$f":"MIN(DiaCash!G117,DisOfic!G117,Lablink!G117,Lyreco!G117,Ocaña!G117,Taine!G117,Vistalegre!G117)","v":0},0]
[112,"Pegamento Instantáneo Cianocrilato (Tubo 3 gr)","Unidad",2,1,{"$f":"SOLICITUD!F118","v":0},0,{"$f":"MIN(DiaCash!G118,DisOfic!G118,Lablink!G118,Lyreco!G118,Ocaña!G118,Taine!G118,Vistalegre!G118)","v":0},0]
[113,"Pegamento Instantáneo Cianocrilato (Tubo 3 gr) (Loctite)","Unidad",2.74,1,{"$f":"SOLICITUD!F119","v":0},0,{"$f":"MIN(DiaCash!G119,DisOfic!G119,Lablink!G119,Lyreco!G119,Ocaña!G119,Taine!G119,Vistalegre!G119)","v":0},0]
[114,"Pegamento Instantáneo Cianocrilato Con Pincel Aplicador (5 gr)","Unidad",2.6,1,{"$f":"SOLICITUD!F120","v":0},0,{"$f":"MIN(DiaCash!G120,DisOfic!G120,Lablink!G120,Lyreco!G120,Ocaña!G120,Taine!G120,Vistalegre!G120)","v":0},0]
[115,"Pegamento Instantáneo Cianocrilato Con Pincel Aplicador (5 gr) (Loctite)","Unidad",4,1,{"$f":"SOLICITUD!F121","v":0},0,{"$f":"MIN(DiaCash!G121,DisOfic!G121,Lablink!G121,Lyreco!G121,Ocaña!G121,Taine!G121,Vistalegre!G121)","v":0},0]
[116,"Pegamento Universal (Tubo 35 gr)","Unidad",0.36,1,{"$f":"SOLICITUD!F122","v":0},0,{"$f":"MIN(DiaCash!G122,DisOfic!G122,Lablink!G122,Lyreco!G122,Ocaña!G122,Taine!G122,Vistalegre!G122)","v":0},0]
[117,"Pegamento Universal (Tubo 35 gr) (Imedio)","Unidad",1.29,1,{"$f":"SOLICITUD!F123","v":0},0,{"$f":"MIN(DiaCash!G123,DisOfic!G123,Lablink!G123,Lyreco!G123,Ocaña!G123,Taine!G123,Vistalegre!G123)","v":0},0]
[118,"Tijera hoja acero inoxidable. Mango ergonomico. Longitud 150 mm","Unidad",0.36,1,{"$f":"SOLICITUD!F124","v":0},0,{"$f":"MIN(DiaCash!G124,DisOfic!G124,Lablink!G124,Lyreco!G124,Ocaña!G124,Taine!G124,Vistalegre!G124)","v":0},0]
[119,"Tijera hoja acero Inoxidable. Mango ergonomico. Longitud 210 mm","Unidad",0.46,1,{"$f":"SOLICITUD!F125","v":0},0,{"$f":"MIN(DiaCash!G125,DisOfic!G125,Lablink!G125,Lyreco!G125,Ocaña!G125,Taine!G125,Vistalegre!G125)","v":0},0]
[120,"Tijera hoja acero inoxidable. 150 mm Longitud. (Westcott)","Unidad",0.41,1,{"$f":"SOLICITUD!F126","v":0},0,{"$f":"MIN(DiaCash!G126,DisOfic!G126,Lablink!G126,Lyreco!G126,Ocaña!G126,Taine!G126,Vistalegre!G126)","v":0},0]
[121,"Tijera hoja acero inoxidable. 210 mm Longitud. (Westcott)","Unidad",0.69,1,{"$f":"SOLICITUD!F127","v":0},0,{"$f":"MIN(DiaCash!G127,DisOfic!G127,Lablink!G127,Lyreco!G127,Ocaña!G127,Taine!G127,Vistalegre!G127)","v":0},0]
[122,"Calculadora sobremesa de oficina","Unidad",3.26,1,{"$f":"SOLICITUD!F128","v":0},0,{"$f":"MIN(DiaCash!G128,DisOfic!G128,Lablink!G128,Lyreco!G128,Ocaña!G128,Taine!G128,Vistalegre!G128)","v":0},0]
[123,"Calculadora sobremesa de oficina (Casio)","Unidad",11.84,1,{"$f":"SOLICITUD!F129","v":0},0,{"$f":"MIN(DiaCash!G129,DisOfic!G129,Lablink!G129,Lyreco!G129,Ocaña!G129,Taine!G129,Vistalegre!G129)","v":0},0]
[124,"Calculadora científica 12 dígitos (Casio)","Unidad",15,1,{"$f":"SOLICITUD!F130","v":0},0,{"$f":"MIN(DiaCash!G130,DisOfic!G130,Lablink!G130,Lyreco!G130,Ocaña!G130,Taine!G130,Vistalegre!G130)","v":0},0]
[125,"Grapadora sobremesa metálica. Capacidad mínima 30 hojas de papel 80 gr/m2","Unidad",1.69,1,{"$f":"SOLICITUD!F131","v":0},0,{"$f":"MIN(DiaCash!G131,DisOfic!G131,Lablink!G131,Lyreco!G131,Ocaña!G131,Taine!G131,Vistalegre!G131)","v":0},0]
[126,"Grapadora sobremesa metálica. Capacidad mínima 30 hojas de papel 80 gr/m2 (Petrus)","Unidad",13.95,1,{"$f":"SOLICITUD!F132","v":0},0,{"$f":"MIN(DiaCash!G132,DisOfic!G132,Lablink!G132,Lyreco!G132,Ocaña!G132,Taine!G132,Vistalegre!G132)","v":0},0]
[127,"Grapadora sobremesa . Capacidad mínima 20 hojas de papel 80 gr/m2","Unidad",1.1299999999999999,1,{"$f":"SOLICITUD!F133","v":0},0,{"$f":"MIN(DiaCash!G133,DisOfic!G133,Lablink!G133,Lyreco!G133,Ocaña!G133,Taine!G133,Vistalegre!G133)","v":0},0]
[128,"Grapadora Tenaza Metalica. Capacidad mínima 40 hojas de papel 80 gr/m2","Unidad",12.38,1,{"$f":"SOLICITUD!F134","v":0},0,{"$f":"MIN(DiaCash!G134,DisOfic!G134,Lablink!G134,Lyreco!G134,Ocaña!G134,Taine!G134,Vistalegre!G134)","v":0},0]
[129,"Grapadora Tenaza Metalica. Capacidad mínima 40 hojas de papel 80 gr/m2 (Petrus)","Unidad",20,1,{"$f":"SOLICITUD!F135","v":0},0,{"$f":"MIN(DiaCash!G135,DisOfic!G135,Lablink!G135,Lyreco!G135,Ocaña!G135,Taine!G135,Vistalegre!G135)","v":0},0]
[130,"Grapadora Tenaza. Capacidad mínima 20 hojas de papel 80 gr/m2","Unidad",3.36,1,{"$f":"SOLICITUD!F136","v":0},{"$f":"IF(F136>0,IF(E136=\"Excluido\",\"Excluido1\",IF(F136>0,IF(F136<E136,\"Excluido2\",D136*F136),0)),0)","v":0},{"$f":"MIN(DiaCash!G136,DisOfic!G136,Lablink!G136,Lyreco!G136,Ocaña!G136,Taine!G136,Vistalegre!G136)","v":0},{"$f":"IF(G136<=H136,G136,0)","v":0}]
[131,"Grapas Cobreadas o Galvanizadas 22/6 o equivalente","Envase 1000 unidades",0.38,1,{"$f":"SOLICITUD!F137","v":0},0,{"$f":"MIN(DiaCash!G137,DisOfic!G137,Lablink!G137,Lyreco!G137,Ocaña!G137,Taine!G137,Vistalegre!G137)","v":0},0]
[132,"Grapas Cobreadas o Galvanizadas 22/6 o equivalente (Petrus)","Envase 1000 unidades",0.49,1,{"$f":"SOLICITUD!F138","v":0},0,{"$f":"MIN(DiaCash!G138,DisOfic!G138,Lablink!G138,Lyreco!G138,Ocaña!G138,Taine!G138,Vistalegre!G138)","v":0},0]
[133,"Grapas Cobreadas o Galvanizadas 24/6 o equivalente","Envase 1000 unidades",0.14000000000000001,1,{"$f":"SOLICITUD!F139","v":0},0,{"$f":"MIN(DiaCash!G139,DisOfic!G139,Lablink!G139,Lyreco!G139,Ocaña!G139,Taine!G139,Vistalegre!G139)","v":0},0]
[134,"Grapas Cobreadas o Galvanizadas 24/6 o equivalente (Petrus)","Envase 1000 unidades",0.48,1,{"$f":"SOLICITUD!F140","v":0},0,{"$f":"MIN(DiaCash!G140,DisOfic!G140,Lablink!G140,Lyreco!G140,Ocaña!G140,Taine!G140,Vistalegre!G140)","v":0},0]
[135,"Grapas Cobreadas o Galvanizadas 23/6 o equivalente","Envase 1000 unidades",0.41,1,{"$f":"SOLICITUD!F141","v":0},0,{"$f":"MIN(DiaCash!G141,DisOfic!G141,Lablink!G141,Lyreco!G141,Ocaña!G141,Taine!G141,Vistalegre!G141)","v":0},0]
[136,"Grapas Cobreadas o Galvanizadas 23/6 o equivalente (Petrus)","Envase 1000 unidades",0.41,1,{"$f":"SOLICITUD!F142","v":0},0,{"$f":"MIN(DiaCash!G142,DisOfic!G142,Lablink!G142,Lyreco!G142,Ocaña!G142,Taine!G142,Vistalegre!G142)","v":0},0]
[137,"Grapas Cobreadas o Galvanizadas 23/8 o equivalente","Envase 1000 unidades",0.6,1,{"$f":"SOLICITUD!F143","v":0},0,{"$f":"MIN(DiaCash!G143,DisOfic!G143,Lablink!G143,Lyreco!G143,Ocaña!G143,Taine!G143,Vistalegre!G143)","v":0},0]
[138,"Grapas Cobreadas o Galvanizadas 23/8 o equivalente (Petrus)","Envase 1000 unidades",0.6,1,{"$f":"SOLICITUD!F144","v":0},0,{"$f":"MIN(DiaCash!G144,DisOfic!G144,Lablink!G144,Lyreco!G144,Ocaña!G144,Taine!G144,Vistalegre!G144)","v":0},0]
[139,"Grapas Cobreadas o Galvanizadas 23/10 o equivalente","Envase 1000 unidades",0.52,1,{"$f":"SOLICITUD!F145","v":0},0,{"$f":"MIN(DiaCash!G145,DisOfic!G145,Lablink!G145,Lyreco!G145,Ocaña!G145,Taine!G145,Vistalegre!G145)","v":0},0]
[140,"Grapas Cobreadas o Galvanizadas 23/10 o equivalente (Petrus)","Envase 1000 unidades",0.69,1,{"$f":"SOLICITUD!F146","v":0},0,{"$f":"MIN(DiaCash!G146,DisOfic!G146,Lablink!G146,Lyreco!G146,Ocaña!G146,Taine!G146,Vistalegre!G146)","v":0},0]
[141,"Grapas Cobreadas o Galvanizadas 23/12 o equivalente","Envase 1000 unidades",1.04,1,{"$f":"SOLICITUD!F147","v":0},0,{"$f":"MIN(DiaCash!G147,DisOfic!G147,Lablink!G147,Lyreco!G147,Ocaña!G147,Taine!G147,Vistalegre!G147)","v":0},0]
[142,"Grapas Cobreadas o Galvanizadas 23/12 o equivalente (Petrus)","Envase 1000 unidades",1.04,1,{"$f":"SOLICITUD!F148","v":0},0,{"$f":"MIN(DiaCash!G148,DisOfic!G148,Lablink!G148,Lyreco!G148,Ocaña!G148,Taine!G148,Vistalegre!G148)","v":0},0]
[143,"Grapas Cobreadas o Galvanizadas 23/13 o equivalente","Envase 1000 unidades",1.22,1,{"$f":"SOLICITUD!F149","v":0},0,{"$f":"MIN(DiaCash!G149,DisOfic!G149,Lablink!G149,Lyreco!G149,Ocaña!G149,Taine!G149,Vistalegre!G149)","v":0},0]
[144,"Grapas Cobreadas o Galvanizadas 23/13 o equivalente (Petrus)","Envase 1000 unidades",2,1,{"$f":"SOLICITUD!F150","v":0},0,{"$f":"MIN(DiaCash!G150,DisOfic!G150,Lablink!G150,Lyreco!G150,Ocaña!G150,Taine!G150,Vistalegre!G150)","v":0},0]
[145,"Grapas Cobreadas o Galvanizadas 23/15 o equivalente","Envase 1000 unidades",1.1299999999999999,1,{"$f":"SOLICITUD!F151","v":0},0,{"$f":"MIN(DiaCash!G151,DisOfic!G151,Lablink!G151,Lyreco!G151,Ocaña!G151,Taine!G151,Vistalegre!G151)","v":0},0]
[146,"Grapas Cobreadas o Galvanizadas 23/15 o equivalente (Petrus)","Envase 1000 unidades",2,1,{"$f":"SOLICITUD!F152","v":0},0,{"$f":"MIN(DiaCash!G152,DisOfic!G152,Lablink!G152,Lyreco!G152,Ocaña!G152,Taine!G152,Vistalegre!G152)","v":0},0]
[147,"Grapas Cobreadas o Galvanizadas 23/17 o equivalente","Envase 1000 unidades",1.26,1,{"$f":"SOLICITUD!F153","v":0},0,{"$f":"MIN(DiaCash!G153,DisOfic!G153,Lablink!G153,Lyreco!G153,Ocaña!G153,Taine!G153,Vistalegre!G153)","v":0},0]
[148,"Grapas Cobreadas o Galvanizadas 23/17 o equivalente (Petrus)","Envase 1000 unidades",2.33,1,{"$f":"SOLICITUD!F154","v":0},0,{"$f":"MIN(DiaCash!G154,DisOfic!G154,Lablink!G154,Lyreco!G154,Ocaña!G154,Taine!G154,Vistalegre!G154)","v":0},0]
[149,"Grapas Cobreadas o Galvanizadas 23/20 o equivalente","Envase 1000 unidades",2.59,1,{"$f":"SOLICITUD!F155","v":0},0,{"$f":"MIN(DiaCash!G155,DisOfic!G155,Lablink!G155,Lyreco!G155,Ocaña!G155,Taine!G155,Vistalegre!G155)","v":0},0]
[150,"Grapas Cobreadas o Galvanizadas 23/20 o equivalente (Petrus)","Envase 1000 unidades",2.59,1,{"$f":"SOLICITUD!F156","v":0},0,{"$f":"MIN(DiaCash!G156,DisOfic!G156,Lablink!G156,Lyreco!G156,Ocaña!G156,Taine!G156,Vistalegre!G156)","v":0},0]
[151,"Grapas Cobreadas o Galvanizadas 23/24 o equivalente","Envase 1000 unidades",3.4,1,{"$f":"SOLICITUD!F157","v":0},0,{"$f":"MIN(DiaCash!G157,DisOfic!G157,Lablink!G157,Lyreco!G157,Ocaña!G157,Taine!G157,Vistalegre!G157)","v":0},0]
[152,"Grapas Cobreadas o Galvanizadas 23/24 o equivalente (Petrus)","Envase 1000 unidades",4.9000000000000004,1,{"$f":"SOLICITUD!F158","v":0},0,{"$f":"MIN(DiaCash!G158,DisOfic!G158,Lablink!G158,Lyreco!G158,Ocaña!G158,Taine!G158,Vistalegre!G158)","v":0},0]
[153,"Grapas Galvanizadas 26/6 o equivalente","Envase 1000 unidades",0.13,1,{"$f":"SOLICITUD!F159","v":0},0,{"$f":"MIN(DiaCash!G159,DisOfic!G159,Lablink!G159,Lyreco!G159,Ocaña!G159,Taine!G159,Vistalegre!G159)","v":0},0]
[154,"Grapas Galvanizadas 26/6 o equivalente (Petrus)","Envase 1000 unidades",0.53,1,{"$f":"SOLICITUD!F160","v":0},0,{"$f":"MIN(DiaCash!G160,DisOfic!G160,Lablink!G160,Lyreco!G160,Ocaña!G160,Taine!G160,Vistalegre!G160)","v":0},0]
[155,"Grapas Galvanizadas 26/8 o equivalente","Envase 5000 unidades",4,1,{"$f":"SOLICITUD!F161","v":0},0,{"$f":"MIN(DiaCash!G161,DisOfic!G161,Lablink!G161,Lyreco!G161,Ocaña!G161,Taine!G161,Vistalegre!G161)","v":0},0]
[156,"Grapas Galvanizadas 26/8 o equivalente (Petrus)","Envase 5000 unidades",4,1,{"$f":"SOLICITUD!F162","v":0},0,{"$f":"MIN(DiaCash!G162,DisOfic!G162,Lablink!G162,Lyreco!G162,Ocaña!G162,Taine!G162,Vistalegre!G162)","v":0},0]
[157,"Quita Grapas tipo pinza cuerpo metálico","Unidad",0.2,1,{"$f":"SOLICITUD!F163","v":0},0,{"$f":"MIN(DiaCash!G163,DisOfic!G163,Lablink!G163,Lyreco!G163,Ocaña!G163,Taine!G163,Vistalegre!G163)","v":0},0]
[158,"Quita Grapas tipo pinza cuerpo metálico (Petrus, Novus)","Unidad",2.2400000000000002,1,{"$f":"SOLICITUD!F164","v":0},0,{"$f":"MIN(DiaCash!G164,DisOfic!G164,Lablink!G164,Lyreco!G164,Ocaña!G164,Taine!G164,Vistalegre!G164)","v":0},0]
[159,"Perforadora  para papel 4 punzones. Capacidad Minima 30 hojas de 80gr/m2. Guia de posicicionamiento y deposito desperdicios. Distancia entre taladros 80mm","Unidad",34.74,1,{"$f":"SOLICITUD!F165","v":0},0,{"$f":"MIN(DiaCash!G165,DisOfic!G165,Lablink!G165,Lyreco!G165,Ocaña!G165,Taine!G165,Vistalegre!G165)","v":0},0]
[160,"Perforadora  para papel 4 punzones. Capacidad Minima 30 hojas de 80gr/m2. Guia de posicicionamiento y deposito desperdicios. Distancia entre taladros 80mm (Petrus)","Unidad",47.35,1,{"$f":"SOLICITUD!F166","v":0},0,{"$f":"MIN(DiaCash!G166,DisOfic!G166,Lablink!G166,Lyreco!G166,Ocaña!G166,Taine!G166,Vistalegre!G166)","v":0},0]
[161,"Perforadora  para papel 2 Punzones. Capacidad mínima 20 hojas de 80gr/m2. Guia de posicicionamiento y deposito desperdicios. Distancia entre taladros 80mm ","Unidad",1.41,1,{"$f":"SOLICITUD!F167","v":0},0,{"$f":"MIN(DiaCash!G167,DisOfic!G167,Lablink!G167,Lyreco!G167,Ocaña!G167,Taine!G167,Vistalegre!G167)","v":0},0]
[162,"Perforadora  para papel 2 Punzones. Capacidad mínima 20 hojas de 80gr/m2. Guia de posicicionamiento y deposito desperdicios. Distancia entre taladros 80mm (Petrus)","Unidad",9.51,1,{"$f":"SOLICITUD!F168","v":0},0,{"$f":"MIN(DiaCash!G168,DisOfic!G168,Lablink!G168,Lyreco!G168,Ocaña!G168,Taine!G168,Vistalegre!G168)","v":0},0]
[163,"Perforadora  para papel 2 Punzones. Capacidad mínima 60 hojas de 80gr/m2. Guia de Posicicionamiento y deposito desperdicios. Distancia entre taladros 80mm","Unidad",9.24,1,{"$f":"SOLICITUD!F169","v":0},0,{"$f":"MIN(DiaCash!G169,DisOfic!G169,Lablink!G169,Lyreco!G169,Ocaña!G169,Taine!G169,Vistalegre!G169)","v":0},0]
[164,"Perforadora  para papel 2 Punzones. Capacidad mínima 60 hojas de 80gr/m2. Guia de Posicicionamiento y deposito desperdicios. Distancia entre taladros 80mm (Petrus)","Unidad",22,1,{"$f":"SOLICITUD!F170","v":0},0,{"$f":"MIN(DiaCash!G170,DisOfic!G170,Lablink!G170,Lyreco!G170,Ocaña!G170,Taine!G170,Vistalegre!G170)","v":0},0]
[165,"Papelera metálica rejilla cuadrada o redonda. Mínimo:  30cm altura X 25cm diámetro","Unidad",5,1,{"$f":"SOLICITUD!F171","v":0},0,{"$f":"MIN(DiaCash!G171,DisOfic!G171,Lablink!G171,Lyreco!G171,Ocaña!G171,Taine!G171,Vistalegre!G171)","v":0},0]
[166,"Fechador de entintaje automático. Con placa de texto altura mínima de impresión de 4 mm.","Unidad",12.36,1,{"$f":"SOLICITUD!F172","v":0},0,{"$f":"MIN(DiaCash!G172,DisOfic!G172,Lablink!G172,Lyreco!G172,Ocaña!G172,Taine!G172,Vistalegre!G172)","v":0},0]
[167,"Numerador automático de 6 dígitos con armazón metálico y ruedas. Altura de impresión mínima de 4, 5 mm.","Unidad",39.159999999999997,1,{"$f":"SOLICITUD!F173","v":0},0,{"$f":"MIN(DiaCash!G173,DisOfic!G173,Lablink!G173,Lyreco!G173,Ocaña!G173,Taine!G173,Vistalegre!G173)","v":0},0]
[168,"Sello de caucho circular grabado. Tamaño área para texto de hasta 50 mm  de diámetro.","Unidad",10.61,1,{"$f":"SOLICITUD!F174","v":0},0,{"$f":"MIN(DiaCash!G174,DisOfic!G174,Lablink!G174,Lyreco!G174,Ocaña!G174,Taine!G174,Vistalegre!G174)","v":0},0]
[169,"Sello de caucho rectangular grabado. Tamaño área para texto de hasta 50x50 mm.","Unidad",8.32,1,{"$f":"SOLICITUD!F175","v":0},0,{"$f":"MIN(DiaCash!G175,DisOfic!G175,Lablink!G175,Lyreco!G175,Ocaña!G175,Taine!G175,Vistalegre!G175)","v":0},0]
[170,"Sello de caucho rectangular grabado. Tamaño área para texto de hasta 80x80 mm.","Unidad",19.34,1,{"$f":"SOLICITUD!F176","v":0},0,{"$f":"MIN(DiaCash!G176,DisOfic!G176,Lablink!G176,Lyreco!G176,Ocaña!G176,Taine!G176,Vistalegre!G176)","v":0},0]
[171,"Sello de Caucho Autoentintado Rectangular hasta 45X18 mm ","Unidad",9.48,1,{"$f":"SOLICITUD!F177","v":0},0,{"$f":"MIN(DiaCash!G177,DisOfic!G177,Lablink!G177,Lyreco!G177,Ocaña!G177,Taine!G177,Vistalegre!G177)","v":0},0]
[172,"Sello de Caucho Autoentintado Rectangular de 46X19 hasta 70X30 mm","Unidad",14.84,1,{"$f":"SOLICITUD!F178","v":0},0,{"$f":"MIN(DiaCash!G178,DisOfic!G178,Lablink!G178,Lyreco!G178,Ocaña!G178,Taine!G178,Vistalegre!G178)","v":0},0]
[173,"Sello de Caucho Autoentintado Redondo hasta 30 mm","Unidad",16.16,1,{"$f":"SOLICITUD!F179","v":0},0,{"$f":"MIN(DiaCash!G179,DisOfic!G179,Lablink!G179,Lyreco!G179,Ocaña!G179,Taine!G179,Vistalegre!G179)","v":0},0]
[174,"Sello de Caucho Autoentintado Redondo de 31 a 50 mm","Unidad",16.93,1,{"$f":"SOLICITUD!F180","v":0},0,{"$f":"MIN(DiaCash!G180,DisOfic!G180,Lablink!G180,Lyreco!G180,Ocaña!G180,Taine!G180,Vistalegre!G180)","v":0},0]
[175,"Sello de Caucho Autoentintado Cuadrado hasta 30 mm","Unidad",12.06,1,{"$f":"SOLICITUD!F181","v":0},0,{"$f":"MIN(DiaCash!G181,DisOfic!G181,Lablink!G181,Lyreco!G181,Ocaña!G181,Taine!G181,Vistalegre!G181)","v":0},0]
[176,"Sello de Caucho Autoentintado Cuadrado de 31 a 50 mm","Unidad",16.16,1,{"$f":"SOLICITUD!F182","v":0},0,{"$f":"MIN(DiaCash!G182,DisOfic!G182,Lablink!G182,Lyreco!G182,Ocaña!G182,Taine!G182,Vistalegre!G182)","v":0},0]
[177,"Tampón para sellos.N1, 90 X160 mm.","Unidad",4.1399999999999997,1,{"$f":"SOLICITUD!F183","v":0},0,{"$f":"MIN(DiaCash!G183,DisOfic!G183,Lablink!G183,Lyreco!G183,Ocaña!G183,Taine!G183,Vistalegre!G183)","v":0},0]
[178,"Tampón para sellos.N2, 70 X110 mm.","Unidad",2.06,1,{"$f":"SOLICITUD!F184","v":0},0,{"$f":"MIN(DiaCash!G184,DisOfic!G184,Lablink!G184,Lyreco!G184,Ocaña!G184,Taine!G184,Vistalegre!G184)","v":0},0]
[179,"Tinta de sellar para tampón.(30 ML)","Unidad",0.49,1,{"$f":"SOLICITUD!F185","v":0},0,{"$f":"MIN(DiaCash!G185,DisOfic!G185,Lablink!G185,Lyreco!G185,Ocaña!G185,Taine!G185,Vistalegre!G185)","v":0},0]
[180,"Almohadilla para sello autoentintado. Hasta 30X50 mm","Unidad",1.1000000000000001,1,{"$f":"SOLICITUD!F186","v":0},0,{"$f":"MIN(DiaCash!G186,DisOfic!G186,Lablink!G186,Lyreco!G186,Ocaña!G186,Taine!G186,Vistalegre!G186)","v":0},0]
[181,"Almohadilla para sello autoentintado. Hasta 70X30 mm","Unidad",1.855,1,{"$f":"SOLICITUD!F187","v":0},0,{"$f":"MIN(DiaCash!G187,DisOfic!G187,Lablink!G187,Lyreco!G187,Ocaña!G187,Taine!G187,Vistalegre!G187)","v":0},0]
[182,"Portasellos de sobremesa 6 plazas","Unidad",4.71,1,{"$f":"SOLICITUD!F188","v":0},0,{"$f":"MIN(DiaCash!G188,DisOfic!G188,Lablink!G188,Lyreco!G188,Ocaña!G188,Taine!G188,Vistalegre!G188)","v":0},0]
[183,"Portasellos de sobremesa 8 plazas","Unidad",4.78,1,{"$f":"SOLICITUD!F189","v":0},0,{"$f":"MIN(DiaCash!G189,DisOfic!G189,Lablink!G189,Lyreco!G189,Ocaña!G189,Taine!G189,Vistalegre!G189)","v":0},0]
[184,"Portasellos de sobremesa 10 plazas","Unidad",3.35,1,{"$f":"SOLICITUD!F190","v":0},0,{"$f":"MIN(DiaCash!G190,DisOfic!G190,Lablink!G190,Lyreco!G190,Ocaña!G190,Taine!G190,Vistalegre!G190)","v":0},0]
[185,"Archivador de palanca a-z sin caja. Cartón forrado en plástico . Con cantonera metálica. Dos anillas. Lomo de  75 mm. Tamaño A4.","Unidad",1.1399999999999999,1,{"$f":"SOLICITUD!F191","v":0},0,{"$f":"MIN(DiaCash!G191,DisOfic!G191,Lablink!G191,Lyreco!G191,Ocaña!G191,Taine!G191,Vistalegre!G191)","v":0},0]
[186,"Archivador de palanca a-z sin caja. Cartón forrado en plástico . Con cantonera metálica. Dos anillas. Lomo de  75 mm. Tamaño folio.","Unidad",1.32,1,{"$f":"SOLICITUD!F192","v":0},0,{"$f":"MIN(DiaCash!G192,DisOfic!G192,Lablink!G192,Lyreco!G192,Ocaña!G192,Taine!G192,Vistalegre!G192)","v":0},0]
[187,"Archivador de palanca a-z sin caja.Cartón jaspeado. Con cantonera metálica. Dos anillas. Lomo de  75 mm. Tamaño A4.","Unidad",0.99,1,{"$f":"SOLICITUD!F193","v":0},0,{"$f":"MIN(DiaCash!G193,DisOfic!G193,Lablink!G193,Lyreco!G193,Ocaña!G193,Taine!G193,Vistalegre!G193)","v":0},0]
[188,"Archivador de palanca a-z sin caja.Cartón jaspeado. Con cantonera metálica. Dos anillas. Lomo de  75 mm. Tamaño folio.","Unidad",0.98,1,{"$f":"SOLICITUD!F194","v":0},0,{"$f":"MIN(DiaCash!G194,DisOfic!G194,Lablink!G194,Lyreco!G194,Ocaña!G194,Taine!G194,Vistalegre!G194)","v":0},0]
[189,"Caja de cartón color blanco para archivo definitivo. Tamaño folio  Lomo 100 mm aprox.","Unidad",0.32,1,{"$f":"SOLICITUD!F195","v":0},0,{"$f":"MIN(DiaCash!G195,DisOfic!G195,Lablink!G195,Lyreco!G195,Ocaña!G195,Taine!G195,Vistalegre!G195)","v":0},0]
[190,"Caja de cartón color blanco para archivo definitivo. Tamaño folio prolongado Lomo 115 mm aprox.","Unidad",0.379,10,{"$f":"SOLICITUD!F196","v":0},0,{"$f":"MIN(DiaCash!G196,DisOfic!G196,Lablink!G196,Lyreco!G196,Ocaña!G196,Taine!G196,Vistalegre!G196)","v":0},0]
[191,"Caja de cartón color blanco para archivo definitivo. Tamaño folio prolongado. Lomo 100 mm aprox.","Unidad",0.379,10,{"$f":"SOLICITUD!F197","v":0},0,{"$f":"MIN(DiaCash!G197,DisOfic!G197,Lablink!G197,Lyreco!G197,Ocaña!G197,Taine!G197,Vistalegre!G197)","v":0},0]
[192,"Caja para archivador de palanca a-z. Misma calidad y dimensiones compatibles con el archivador de palanca a-z. Tamaño A4. Lomo de  75 mm.","Unidad",0.33,1,{"$f":"SOLICITUD!F198","v":0},0,{"$f":"MIN(DiaCash!G198,DisOfic!G198,Lablink!G198,Lyreco!G198,Ocaña!G198,Taine!G198,Vistalegre!G198)","v":0},0]
[193,"Caja para archivador de palanca a-z. Misma calidad y dimensiones compatibles con el archivador de palanca a-z. Tamaño folio. Lomo de  75 mm.","Unidad",0.33,1,{"$f":"SOLICITUD!F199","v":0},0,{"$f":"MIN(DiaCash!G199,DisOfic!G199,Lablink!G199,Lyreco!G199,Ocaña!G199,Taine!G199,Vistalegre!G199)","v":0},0]
[194,"Archivador de 2 anillas 25 mm. Fabricado en cartón forrado en plástico tanto en el exterior como en el interior. Dos anillas. Lomo de 40 mm. Tamaño A4.","Unidad",1.21,1,{"$f":"SOLICITUD!F200","v":0},{"$f":"IF(F200>0,IF(E200=\"Excluido\",\"Excluido1\",IF(F200>0,IF(F200<E200,\"Excluido2\",D200*F200),0)),0)","v":0},{"$f":"MIN(DiaCash!G200,DisOfic!G200,Lablink!G200,Lyreco!G200,Ocaña!G200,Taine!G200,Vistalegre!G200)","v":0},{"$f":"IF(G200<=H200,G200,0)","v":0}]
[195,"Archivador de 2 anillas 25 mm. Fabricado en cartón forrado en plástico tanto en el exterior como en el interior. Dos anillas. Lomo de 40 mm. Tamaño folio.","Unidad",1.32,1,{"$f":"SOLICITUD!F201","v":0},0,{"$f":"MIN(DiaCash!G201,DisOfic!G201,Lablink!G201,Lyreco!G201,Ocaña!G201,Taine!G201,Vistalegre!G201)","v":0},0]
[196,"Archivador de 4 anillas 25 mm. Fabricado en cartón forrado en plástico tanto en el exterior como en el interior. Lomo de 40 mm. Tamaño A4.","Unidad",2,1,{"$f":"SOLICITUD!F202","v":0},0,{"$f":"MIN(DiaCash!G202,DisOfic!G202,Lablink!G202,Lyreco!G202,Ocaña!G202,Taine!G202,Vistalegre!G202)","v":0},0]
[197,"Archivador de 4 anillas 25 mm. Fabricado en cartón forrado en plástico tanto en el exterior como en el interior. Lomo de 40 mm. Tamaño folio.","Unidad",2.2000000000000002,1,{"$f":"SOLICITUD!F203","v":0},0,{"$f":"MIN(DiaCash!G203,DisOfic!G203,Lablink!G203,Lyreco!G203,Ocaña!G203,Taine!G203,Vistalegre!G203)","v":0},0]
[198,"Archivador de 4 anillas 40 mm. Fabricado en cartón forrado en plástico tanto en el exterior como en el interior. Lomo de 60 mm. Tamaño A4.","Unidad",2.2000000000000002,1,{"$f":"SOLICITUD!F204","v":0},0,{"$f":"MIN(DiaCash!G204,DisOfic!G204,Lablink!G204,Lyreco!G204,Ocaña!G204,Taine!G204,Vistalegre!G204)","v":0},0]
[199,"Archivador de 4 anillas 40 mm. Fabricado en cartón forrado en plástico tanto en el exterior como en el interior. Lomo de 60 mm. Tamaño folio.","Unidad",2.4,1,{"$f":"SOLICITUD!F205","v":0},0,{"$f":"MIN(DiaCash!G205,DisOfic!G205,Lablink!G205,Lyreco!G205,Ocaña!G205,Taine!G205,Vistalegre!G205)","v":0},0]
[200,"Separadores de plástico tamaño folio 5 pestañas 2 o 4 perforaciones","Unidad",0.28999999999999998,1,{"$f":"SOLICITUD!F206","v":0},0,{"$f":"MIN(DiaCash!G206,DisOfic!G206,Lablink!G206,Lyreco!G206,Ocaña!G206,Taine!G206,Vistalegre!G206)","v":0},0]
[201,"Carpeta clasificadora forrada, con fuelle-acordeón. Índice alfabético (a-z) o numérico (1-31) . Tamaño folio. 12 departamentos mínimo.","Unidad",2.78,1,{"$f":"SOLICITUD!F207","v":0},0,{"$f":"MIN(DiaCash!G207,DisOfic!G207,Lablink!G207,Lyreco!G207,Ocaña!G207,Taine!G207,Vistalegre!G207)","v":0},0]
[202,"Carpeta clasificadora forrada, con fuelle-acordeón. Índice alfabético (a-z) o numérico (1-31) . Tamaño folio. 20 departamentos mínimo.","Unidad",6.45,1,{"$f":"SOLICITUD!F208","v":0},0,{"$f":"MIN(DiaCash!G208,DisOfic!G208,Lablink!G208,Lyreco!G208,Ocaña!G208,Taine!G208,Vistalegre!G208)","v":0},0]
[203,"Carpeta colgante de armario  . Tamaño A4.  Visor vertical o lateral rígido 13 cm. Varilla de plástico o metálica. Medida entre ejes 330 mm.  Cartón de 230 gr/m2 mínimo.  Lomo en 15 mm .","Unidad",0.75,25,{"$f":"SOLICITUD!F209","v":0},0,{"$f":"MIN(DiaCash!G209,DisOfic!G209,Lablink!G209,Lyreco!G209,Ocaña!G209,Taine!G209,Vistalegre!G209)","v":0},0]
[204,"Carpeta colgante de armario  . Tamaño A4. Visor vertical o lateral rígido 13 cm. Varilla de plástico o metálica.  Medida entre ejes 330 mm . Cartón de 230gr/m2 mínimo. Lomo en 30mm.","Unidad",0.75,25,{"$f":"SOLICITUD!F210","v":0},0,{"$f":"MIN(DiaCash!G210,DisOfic!G210,Lablink!G210,Lyreco!G210,Ocaña!G210,Taine!G210,Vistalegre!G210)","v":0},0]
[205,"Carpeta colgante de armario  . Tamaño A4.  Visor vertical o lateral rígido 13 cm. Varilla de plástico o metálica. Medida entre ejes 330 mm . Cartón de 230 gr/m2 mínimo. Lomo en v.","Unidad",0.31640000000000001,25,{"$f":"SOLICITUD!F211","v":0},0,{"$f":"MIN(DiaCash!G211,DisOfic!G211,Lablink!G211,Lyreco!G211,Ocaña!G211,Taine!G211,Vistalegre!G211)","v":0},0]
[206,"Carpeta colgante de armario  . Tamaño folio. Visor vertical o lateral rígido de 13 cm. Medida entre ejes 365 mm.  Cartón de 230gr/m2 mínimo. Lomo en v.","Unidad",0.45,25,{"$f":"SOLICITUD!F212","v":0},0,{"$f":"MIN(DiaCash!G212,DisOfic!G212,Lablink!G212,Lyreco!G212,Ocaña!G212,Taine!G212,Vistalegre!G212)","v":0},0]
[207,"Carpeta colgante de cajón . Tamaño A4. Visor horizontal o superior .Varilla de plástico o metálica. Medida entre ejes 330 mm. Cartón kraft de 230gr/m2 mínimo.Lomo 15 mm ","Unidad",0.24440000000000001,25,{"$f":"SOLICITUD!F213","v":0},0,{"$f":"MIN(DiaCash!G213,DisOfic!G213,Lablink!G213,Lyreco!G213,Ocaña!G213,Taine!G213,Vistalegre!G213)","v":0},0]
[208,"Carpeta colgante de cajón . Tamaño folio. Visor horizontal o superior .Varilla de plástico o metálica. Medida entre ejes 365 mm.  Cartón de 230gr/m2 mínimo. Lomo 15 mm","Unidad",0.26239999999999997,25,{"$f":"SOLICITUD!F214","v":0},0,{"$f":"MIN(DiaCash!G214,DisOfic!G214,Lablink!G214,Lyreco!G214,Ocaña!G214,Taine!G214,Vistalegre!G214)","v":0},0]
[209,"Carpeta colgante de cajón . Tamaño folio. Visor horizontal o superior .Varilla de plástico o metálica. Medida entre ejes 365 mm. Cartón de 230gr/m2 mínimo. Lomo en 30 mm","Unidad",0.248,25,{"$f":"SOLICITUD!F215","v":0},0,{"$f":"MIN(DiaCash!G215,DisOfic!G215,Lablink!G215,Lyreco!G215,Ocaña!G215,Taine!G215,Vistalegre!G215)","v":0},0]
[210,"Carpeta colgante de cajón . Tamaño A4.Visor horizontal o superior .Varilla de plástico o metálica. Medida entre ejes 330 mm. Cartón kraft de 230gr/m2 mínimo. Lomo en v.","Unidad",0.23579999999999998,50,{"$f":"SOLICITUD!F216","v":0},0,{"$f":"MIN(DiaCash!G216,DisOfic!G216,Lablink!G216,Lyreco!G216,Ocaña!G216,Taine!G216,Vistalegre!G216)","v":0},0]
[211,"Carpeta colgante de cajón . Tamaño folio prolongado. Visor horizontal o superior. Varilla de plástico o metálica.  Medida entre ejes 390 mm. Cartón kraft de 230gr/m2 mínimo. Lomo en v.","Unidad",0.312,25,{"$f":"SOLICITUD!F217","v":0},0,{"$f":"MIN(DiaCash!G217,DisOfic!G217,Lablink!G217,Lyreco!G217,Ocaña!G217,Taine!G217,Vistalegre!G217)","v":0},0]
[212,"Carpeta de cartulina con gomas y 3 solapas. Gramaje de 380 gr/m2 mínimo Medidas 320 x 240 mm aprox.","Unidad",0.28000000000000003,1,{"$f":"SOLICITUD!F218","v":0},0,{"$f":"MIN(DiaCash!G218,DisOfic!G218,Lablink!G218,Lyreco!G218,Ocaña!G218,Taine!G218,Vistalegre!G218)","v":0},0]
[213,"Carpeta proyectos. Cartón gomas montadas. Lomo 50 mm.","Unidad",1.51,1,{"$f":"SOLICITUD!F219","v":0},0,{"$f":"MIN(DiaCash!G219,DisOfic!G219,Lablink!G219,Lyreco!G219,Ocaña!G219,Taine!G219,Vistalegre!G219)","v":0},0]
[214,"Carpeta proyectos. Cartón gomas montadas. Lomo 90 mm.","Unidad",2.08,1,{"$f":"SOLICITUD!F220","v":0},0,{"$f":"MIN(DiaCash!G220,DisOfic!G220,Lablink!G220,Lyreco!G220,Ocaña!G220,Taine!G220,Vistalegre!G220)","v":0},0]
[215,"Carpetas de fundas. Cubiertas en plástico semirrígido opaco. Fundas interiores soldadas al lomo. Número de fundas interiores: 10.","Unidad",1.19,1,{"$f":"SOLICITUD!F221","v":0},0,{"$f":"MIN(DiaCash!G221,DisOfic!G221,Lablink!G221,Lyreco!G221,Ocaña!G221,Taine!G221,Vistalegre!G221)","v":0},0]
[216,"Carpetas de fundas. Cubiertas en plástico semirrígido opaco. Fundas interiores soldadas al lomo. Número de fundas interiores: 20.","Unidad",0.67,1,{"$f":"SOLICITUD!F222","v":0},0,{"$f":"MIN(DiaCash!G222,DisOfic!G222,Lablink!G222,Lyreco!G222,Ocaña!G222,Taine!G222,Vistalegre!G222)","v":0},0]
[217,"Carpetas de fundas. Cubiertas en plástico semirrígido opaco. Fundas interiores soldadas al lomo. Número de fundas interiores: 30.","Unidad",0.89,1,{"$f":"SOLICITUD!F223","v":0},0,{"$f":"MIN(DiaCash!G223,DisOfic!G223,Lablink!G223,Lyreco!G223,Ocaña!G223,Taine!G223,Vistalegre!G223)","v":0},0]
[218,"Carpetas de fundas. Cubiertas en plástico semirrígido opaco. Fundas interiores soldadas al lomo. Número de fundas interiores: 40.","Unidad",1.0900000000000001,1,{"$f":"SOLICITUD!F224","v":0},0,{"$f":"MIN(DiaCash!G224,DisOfic!G224,Lablink!G224,Lyreco!G224,Ocaña!G224,Taine!G224,Vistalegre!G224)","v":0},0]
[219,"Carpetas de fundas. Cubiertas en plástico semirrígido opaco. Fundas interiores soldadas al lomo. Número de fundas interiores: 60.","Unidad",1.31,1,{"$f":"SOLICITUD!F225","v":0},0,{"$f":"MIN(DiaCash!G225,DisOfic!G225,Lablink!G225,Lyreco!G225,Ocaña!G225,Taine!G225,Vistalegre!G225)","v":0},0]
[220,"Índice plástico varios colores. Juego de solapas tipo 1 a 10 de plástico mínimo de 120 micras . Tamaño  A4 o superior.","Unidad",0.36,1,{"$f":"SOLICITUD!F226","v":0},0,{"$f":"MIN(DiaCash!G226,DisOfic!G226,Lablink!G226,Lyreco!G226,Ocaña!G226,Taine!G226,Vistalegre!G226)","v":0},0]
[221,"Índice plástico varios colores. Juego de solapas tipo A a Z de plástico espesor mínimo de 120 micras . Tamaño  A4 o superior.","Unidad",0.7,1,{"$f":"SOLICITUD!F227","v":0},0,{"$f":"MIN(DiaCash!G227,DisOfic!G227,Lablink!G227,Lyreco!G227,Ocaña!G227,Taine!G227,Vistalegre!G227)","v":0},0]
[222,"Subcarpeta cartulina. Gramaje 170 gr/m2 mínimo. Tamaño A4.","Unidad",6.2800000000000009E-2,50,{"$f":"SOLICITUD!F228","v":0},0,{"$f":"MIN(DiaCash!G228,DisOfic!G228,Lablink!G228,Lyreco!G228,Ocaña!G228,Taine!G228,Vistalegre!G228)","v":0},0]
[223,"Subcarpeta cartulina. Gramaje 170 gr/m2 mínimo. Tamaño folio.","Unidad",6.2800000000000009E-2,50,{"$f":"SOLICITUD!F229","v":0},0,{"$f":"MIN(DiaCash!G229,DisOfic!G229,Lablink!G229,Lyreco!G229,Ocaña!G229,Taine!G229,Vistalegre!G229)","v":0},0]
[224,"Subcarpeta cartulina. Gramaje 210 gr/m2 mínimo. Tamaño A4.","Unidad",7.5499999999999998E-2,100,{"$f":"SOLICITUD!F230","v":0},0,{"$f":"MIN(DiaCash!G230,DisOfic!G230,Lablink!G230,Lyreco!G230,Ocaña!G230,Taine!G230,Vistalegre!G230)","v":0},0]
[225,"Subcarpeta cartulina. Gramaje 210 gr/m2 mínimo. Tamaño folio.","Unidad",4.1399999999999999E-2,100,{"$f":"SOLICITUD!F231","v":0},0,{"$f":"MIN(DiaCash!G231,DisOfic!G231,Lablink!G231,Lyreco!G231,Ocaña!G231,Taine!G231,Vistalegre!G231)","v":0},0]
[226,"Tubo portaplanos de plástico","Unidad",1.06,1,{"$f":"SOLICITUD!F232","v":0},0,{"$f":"MIN(DiaCash!G232,DisOfic!G232,Lablink!G232,Lyreco!G232,Ocaña!G232,Taine!G232,Vistalegre!G232)","v":0},0]
[227,"Visores plásticos (rígido o flexible con/sin efecto lupa, visión superior o lateral, con/sin etiquetas ).","Unidad",6.3600000000000004E-2,25,{"$f":"SOLICITUD!F233","v":0},0,{"$f":"MIN(DiaCash!G233,DisOfic!G233,Lablink!G233,Lyreco!G233,Ocaña!G233,Taine!G233,Vistalegre!G233)","v":0},0]
[228,"Dossier con fastener. Portada transparente, contraportada opaca.  Fastener metálico. Tamaño A4.","Unidad",0.33,1,{"$f":"SOLICITUD!F234","v":0},0,{"$f":"MIN(DiaCash!G234,DisOfic!G234,Lablink!G234,Lyreco!G234,Ocaña!G234,Taine!G234,Vistalegre!G234)","v":0},0]
[229,"Dossier con fastener. Portada transparente, contraportada opaca.  Fastener metálico. Tamaño folio.","Unidad",0.44000000000000006,10,{"$f":"SOLICITUD!F235","v":0},0,{"$f":"MIN(DiaCash!G235,DisOfic!G235,Lablink!G235,Lyreco!G235,Ocaña!G235,Taine!G235,Vistalegre!G235)","v":0},0]
[230,"Dossier uñero en plástico. Apertura superior y lateral. Tamaño folio","Envase 100 unidades",7,1,{"$f":"SOLICITUD!F236","v":0},0,{"$f":"MIN(DiaCash!G236,DisOfic!G236,Lablink!G236,Lyreco!G236,Ocaña!G236,Taine!G236,Vistalegre!G236)","v":0},0]
[231,"Funda plástico transparente antiestática multitaladro. Tamaño A4. Grosor de 60 micras mínimo.","Envase 100 unidades",3,1,{"$f":"SOLICITUD!F237","v":0},0,{"$f":"MIN(DiaCash!G237,DisOfic!G237,Lablink!G237,Lyreco!G237,Ocaña!G237,Taine!G237,Vistalegre!G237)","v":0},0]
[232,"Funda plástico transparente antiestática multitaladro. Tamaño folio. Grosor de 60 micras mínimo.","Envase 100 unidades",4,1,{"$f":"SOLICITUD!F238","v":0},0,{"$f":"MIN(DiaCash!G238,DisOfic!G238,Lablink!G238,Lyreco!G238,Ocaña!G238,Taine!G238,Vistalegre!G238)","v":0},0]
[233,"Bolsas para plastificar tamaño A4. 80 micras mínimo","Envase 100 unidades",6.39,1,{"$f":"SOLICITUD!F239","v":0},0,{"$f":"MIN(DiaCash!G239,DisOfic!G239,Lablink!G239,Lyreco!G239,Ocaña!G239,Taine!G239,Vistalegre!G239)","v":0},0]
[234,"Portafirmas fabricado en plástico color negro, tapas acolchadas  con refuerzo en base y escalonados . Medidas 335 x 245 mm aprox. Con 18 departamentos mínimo de doble cartulina y lomo tipo fuelle.","Unidad",9.0299999999999994,1,{"$f":"SOLICITUD!F240","v":0},0,{"$f":"MIN(DiaCash!G240,DisOfic!G240,Lablink!G240,Lyreco!G240,Ocaña!G240,Taine!G240,Vistalegre!G240)","v":0},0]
[235,"Bloc de notas. Liso o cuadrícula. De 80-90 hojas aprox. Gramaje 60 gr/m2 mínimo.Tamaño A4 o folio.","Unidad",0.86,1,{"$f":"SOLICITUD!F241","v":0},0,{"$f":"MIN(DiaCash!G241,DisOfic!G241,Lablink!G241,Lyreco!G241,Ocaña!G241,Taine!G241,Vistalegre!G241)","v":0},0]
[236,"Bloc de notas. Liso o cuadrícula. De 80-90 hojas aprox. Gramaje 60 gr/m2 mínimo.Tamaño A4 o folio. (Enri)","Unidad",0.98,1,{"$f":"SOLICITUD!F242","v":0},0,{"$f":"MIN(DiaCash!G242,DisOfic!G242,Lablink!G242,Lyreco!G242,Ocaña!G242,Taine!G242,Vistalegre!G242)","v":0},0]
[237,"Bloc de notas. Liso o cuadrícula. De 80-90 hojas aprox. Gramaje 60 gr/m2 mínimo.Tamaño A5 o 4º.","Unidad",0.49,1,{"$f":"SOLICITUD!F243","v":0},0,{"$f":"MIN(DiaCash!G243,DisOfic!G243,Lablink!G243,Lyreco!G243,Ocaña!G243,Taine!G243,Vistalegre!G243)","v":0},0]
[238,"Bloc de notas. Liso o cuadrícula. De 80-90 hojas aprox. Gramaje 60 gr/m2 mínimo.Tamaño A5 o 4º. (Enri)","Unidad",0.48,1,{"$f":"SOLICITUD!F244","v":0},0,{"$f":"MIN(DiaCash!G244,DisOfic!G244,Lablink!G244,Lyreco!G244,Ocaña!G244,Taine!G244,Vistalegre!G244)","v":0},0]
[239,"Bloc de notas. Liso o cuadrícula. De 80-90 hojas aprox. Gramaje 60 gr/m2 mínimo.Tamaño A6 u 8º.","Unidad",0.3,1,{"$f":"SOLICITUD!F245","v":0},0,{"$f":"MIN(DiaCash!G245,DisOfic!G245,Lablink!G245,Lyreco!G245,Ocaña!G245,Taine!G245,Vistalegre!G245)","v":0},0]
[240,"Bloc de notas. Liso o cuadrícula. De 80-90 hojas aprox. Gramaje 60 gr/m2 mínimo.Tamaño A6 u 8º. (Enri)","Unidad",0.28999999999999998,1,{"$f":"SOLICITUD!F246","v":0},0,{"$f":"MIN(DiaCash!G246,DisOfic!G246,Lablink!G246,Lyreco!G246,Ocaña!G246,Taine!G246,Vistalegre!G246)","v":0},0]
[241,"Bloc de papel liso, para caballete (pizarra de papel) 70 gr/m2 mínimo . Medidas 650 x 900 mm aprox, (mínimo 25 hojas por bloc aprox.).","Unidad",3.4079999999999999,5,{"$f":"SOLICITUD!F247","v":0},0,{"$f":"MIN(DiaCash!G247,DisOfic!G247,Lablink!G247,Lyreco!G247,Ocaña!G247,Taine!G247,Vistalegre!G247)","v":0},0]
[242,"Bloc de papel liso, para caballete (pizarra de papel) 70 gr/m2 mínimo . Medidas 650 x 900 mm aprox, (mínimo 25 hojas por bloc aprox.). (Enri)","Unidad",2.17,5,{"$f":"SOLICITUD!F248","v":0},0,{"$f":"MIN(DiaCash!G248,DisOfic!G248,Lablink!G248,Lyreco!G248,Ocaña!G248,Taine!G248,Vistalegre!G248)","v":0},0]
[243,"Cuaderno espiral cubierta cartón duro. Liso o cuadrícula. De 80-90 hojas aprox. Gramaje 60 gr/m2 mínimo.Tamaño A4 o folio.","Unidad",1.0900000000000001,1,{"$f":"SOLICITUD!F249","v":0},0,{"$f":"MIN(DiaCash!G249,DisOfic!G249,Lablink!G249,Lyreco!G249,Ocaña!G249,Taine!G249,Vistalegre!G249)","v":0},0]
[244,"Cuaderno espiral cubierta cartón duro. Liso o cuadrícula. De 80-90 hojas aprox. Gramaje 60 gr/m2 mínimo.Tamaño A4 o folio. (Enri)","Unidad",1.18,1,{"$f":"SOLICITUD!F250","v":0},0,{"$f":"MIN(DiaCash!G250,DisOfic!G250,Lablink!G250,Lyreco!G250,Ocaña!G250,Taine!G250,Vistalegre!G250)","v":0},0]
[245,"Cuaderno espiral cubierta cartón duro. Liso o cuadrícula. De 80-90 hojas aprox. Gramaje 60 gr/m2 mínimo. Tamaño A5 o 4º.","Unidad",0.81,1,{"$f":"SOLICITUD!F251","v":0},0,{"$f":"MIN(DiaCash!G251,DisOfic!G251,Lablink!G251,Lyreco!G251,Ocaña!G251,Taine!G251,Vistalegre!G251)","v":0},0]
[246,"Cuaderno espiral cubierta cartón duro. Liso o cuadrícula. De 80-90 hojas aprox. Gramaje 60 gr/m2 mínimo. Tamaño A5 o 4º. (Enri)","Unidad",0.85,1,{"$f":"SOLICITUD!F252","v":0},0,{"$f":"MIN(DiaCash!G252,DisOfic!G252,Lablink!G252,Lyreco!G252,Ocaña!G252,Taine!G252,Vistalegre!G252)","v":0},0]
[247,"Cuaderno espiral cubierta cartón duro. Liso o cuadrícula. De 80-90 hojas aprox. Gramaje 60 gr/m2 mínimo.Tamaño A6 u 8º.","Unidad",0.33,1,{"$f":"SOLICITUD!F253","v":0},0,{"$f":"MIN(DiaCash!G253,DisOfic!G253,Lablink!G253,Lyreco!G253,Ocaña!G253,Taine!G253,Vistalegre!G253)","v":0},0]
[248,"Cuaderno espiral cubierta cartón duro. Liso o cuadrícula. De 80-90 hojas aprox. Gramaje 60 gr/m2 mínimo.Tamaño A6 u 8º. (Enri)","Unidad",0.53,1,{"$f":"SOLICITUD!F254","v":0},0,{"$f":"MIN(DiaCash!G254,DisOfic!G254,Lablink!G254,Lyreco!G254,Ocaña!G254,Taine!G254,Vistalegre!G254)","v":0},0]
[249,"Cuaderno espiral cubierta plastificada. Liso o cuadrícula. De 80-90 hojas aprox. Gramaje 60 gr/m2 mínimo.Tamaño A4 o folio.","Unidad",0.82,1,{"$f":"SOLICITUD!F255","v":0},0,{"$f":"MIN(DiaCash!G255,DisOfic!G255,Lablink!G255,Lyreco!G255,Ocaña!G255,Taine!G255,Vistalegre!G255)","v":0},0]
[250,"Cuaderno espiral cubierta plastificada. Liso o cuadrícula. De 80-90 hojas aprox. Gramaje 60 gr/m2 mínimo.Tamaño A4 o folio. (Enri)","Unidad",0.84,1,{"$f":"SOLICITUD!F256","v":0},0,{"$f":"MIN(DiaCash!G256,DisOfic!G256,Lablink!G256,Lyreco!G256,Ocaña!G256,Taine!G256,Vistalegre!G256)","v":0},0]
[251,"Cuaderno espiral cubierta plastificada. Liso o cuadrícula. De 80-90 hojas aprox. Gramaje 60 gr/m2 mínimo.Tamaño A5 o 4º.","Unidad",0.56000000000000005,1,{"$f":"SOLICITUD!F257","v":0},0,{"$f":"MIN(DiaCash!G257,DisOfic!G257,Lablink!G257,Lyreco!G257,Ocaña!G257,Taine!G257,Vistalegre!G257)","v":0},0]
[252,"Cuaderno espiral cubierta plastificada. Liso o cuadrícula. De 80-90 hojas aprox. Gramaje 60 gr/m2 mínimo.Tamaño A5 o 4º. (Enri)","Unidad",0.84,1,{"$f":"SOLICITUD!F258","v":0},0,{"$f":"MIN(DiaCash!G258,DisOfic!G258,Lablink!G258,Lyreco!G258,Ocaña!G258,Taine!G258,Vistalegre!G258)","v":0},0]
[253,"Cuaderno espiral cubierta plastificada. Liso o cuadrícula. De 80-90 hojas aprox. Gramaje 60 gr/m2 mínimo.Tamaño A6 u 8º.","Unidad",0.53,1,{"$f":"SOLICITUD!F259","v":0},0,{"$f":"MIN(DiaCash!G259,DisOfic!G259,Lablink!G259,Lyreco!G259,Ocaña!G259,Taine!G259,Vistalegre!G259)","v":0},0]
[254,"Cuaderno espiral cubierta plastificada. Liso o cuadrícula. De 80-90 hojas aprox. Gramaje 60 gr/m2 mínimo.Tamaño A6 u 8º. (Enri)","Unidad",0.53,1,{"$f":"SOLICITUD!F260","v":0},0,{"$f":"MIN(DiaCash!G260,DisOfic!G260,Lablink!G260,Lyreco!G260,Ocaña!G260,Taine!G260,Vistalegre!G260)","v":0},0]
[255,"Cuaderno espiral cubierta plastificada. Liso o cuadrícula. De 80-90 hojas aprox. Gramaje 60 gr/m2 mínimo.Tamaño A7 u 16º.","Unidad",0.35,1,{"$f":"SOLICITUD!F261","v":0},0,{"$f":"MIN(DiaCash!G261,DisOfic!G261,Lablink!G261,Lyreco!G261,Ocaña!G261,Taine!G261,Vistalegre!G261)","v":0},0]
[256,"Cuaderno espiral cubierta plastificada. Liso o cuadrícula. De 80-90 hojas aprox. Gramaje 60 gr/m2 mínimo.Tamaño A7 u 16º. (Enri)","Unidad",0.35,1,{"$f":"SOLICITUD!F262","v":0},0,{"$f":"MIN(DiaCash!G262,DisOfic!G262,Lablink!G262,Lyreco!G262,Ocaña!G262,Taine!G262,Vistalegre!G262)","v":0},0]
[257,"Banderitas/Index autoadhesivas colores surtidos ","Taco 100 unidades",0.1,4,{"$f":"SOLICITUD!F263","v":0},0,{"$f":"MIN(DiaCash!G263,DisOfic!G263,Lablink!G263,Lyreco!G263,Ocaña!G263,Taine!G263,Vistalegre!G263)","v":0},0]
[258,"Banderitas/Index pack 5 mininotas neon Post-it","Taco 100 unidades",0.44800000000000006,5,{"$f":"SOLICITUD!F264","v":0},{"$f":"IF(F264>0,IF(E264=\"Excluido\",\"Excluido1\",IF(F264>0,IF(F264<E264,\"Excluido2\",D264*F264),0)),0)","v":0},{"$f":"MIN(DiaCash!G264,DisOfic!G264,Lablink!G264,Lyreco!G264,Ocaña!G264,Taine!G264,Vistalegre!G264)","v":0},{"$f":"IF(G264<=H264,G264,0)","v":0}]
[259,"Blocs de notas autoadhesivas amarillas. Medidas 38 x 51 mm, 100 hojas.","Taco 100 unidades",4.9166666666666664E-2,12,{"$f":"SOLICITUD!F265","v":0},0,{"$f":"MIN(DiaCash!G265,DisOfic!G265,Lablink!G265,Lyreco!G265,Ocaña!G265,Taine!G265,Vistalegre!G265)","v":0},0]
[260,"Blocs de notas autoadhesivas amarillas. Medidas 38 x 51 mm, 100 hojas. (Post-it)","Taco 100 unidades",0.42083333333333334,12,{"$f":"SOLICITUD!F266","v":0},0,{"$f":"MIN(DiaCash!G266,DisOfic!G266,Lablink!G266,Lyreco!G266,Ocaña!G266,Taine!G266,Vistalegre!G266)","v":0},0]
[261,"Blocs de notas autoadhesivas amarillas. Medidas 76 x 76 mm, 100 hojas.","Taco 100 unidades",0.11,1,{"$f":"SOLICITUD!F267","v":0},0,{"$f":"MIN(DiaCash!G267,DisOfic!G267,Lablink!G267,Lyreco!G267,Ocaña!G267,Taine!G267,Vistalegre!G267)","v":0},0]
[262,"Blocs de notas autoadhesivas de colores. Medidas 76 x 76 mm, 100 hojas. (Post-it)","Taco 100 unidades",0.93,1,{"$f":"SOLICITUD!F268","v":0},0,{"$f":"MIN(DiaCash!G268,DisOfic!G268,Lablink!G268,Lyreco!G268,Ocaña!G268,Taine!G268,Vistalegre!G268)","v":0},0]
[263,"Blocs de notas autoadhesivas amarillas. Medidas 76 x 127 mm, 100 hojas.","Taco 100 unidades",0.17,1,{"$f":"SOLICITUD!F269","v":0},0,{"$f":"MIN(DiaCash!G269,DisOfic!G269,Lablink!G269,Lyreco!G269,Ocaña!G269,Taine!G269,Vistalegre!G269)","v":0},0]
[264,"Blocs de notas autoadhesivas amarillas. Medidas 76 x 127 mm, 100 hojas. (Post-it)","Taco 100 unidades",1.2,1,{"$f":"SOLICITUD!F270","v":0},0,{"$f":"MIN(DiaCash!G270,DisOfic!G270,Lablink!G270,Lyreco!G270,Ocaña!G270,Taine!G270,Vistalegre!G270)","v":0},0]
[265,"Etiquetas adhesivas. En formato  A4, número de etiquetas por hoja según el tamaño de etiqueta. ","Paquete 100 hojas",3.22,1,{"$f":"SOLICITUD!F271","v":0},0,{"$f":"MIN(DiaCash!G271,DisOfic!G271,Lablink!G271,Lyreco!G271,Ocaña!G271,Taine!G271,Vistalegre!G271)","v":0},0]
[266,"Etiquetas adhesivas. En formato  A4, número de etiquetas por hoja según el tamaño de\netiqueta. ","Paquete 25 hojas",4.5,1,{"$f":"SOLICITUD!F272","v":0},0,{"$f":"MIN(DiaCash!G272,DisOfic!G272,Lablink!G272,Lyreco!G272,Ocaña!G272,Taine!G272,Vistalegre!G272)","v":0},0]
[267,"Etiquetas adhesivas. En formato  A4, número de etiquetas por hoja según el tamaño de\netiqueta. ","Paquete 10 hojas",1.75,1,{"$f":"SOLICITUD!F273","v":0},0,{"$f":"MIN(DiaCash!G273,DisOfic!G273,Lablink!G273,Lyreco!G273,Ocaña!G273,Taine!G273,Vistalegre!G273)","v":0},0]
[268,"Carpeta de cartulina  por una cara plegada y solapa al pie. Tamaño mínimo A4.  Gramaje mínimo 170 gr/m2.","Unidad",0.1076,100,{"$f":"SOLICITUD!F274","v":0},0,{"$f":"MIN(DiaCash!G274,DisOfic!G274,Lablink!G274,Lyreco!G274,Ocaña!G274,Taine!G274,Vistalegre!G274)","v":0},0]
[269,"Carpeta de cartulina  por una cara plegada y solapa al pie. Tamaño mínimo A4.  Gramaje mínimo  210  gr/m2.","Unidad",0.1076,100,{"$f":"SOLICITUD!F275","v":0},0,{"$f":"MIN(DiaCash!G275,DisOfic!G275,Lablink!G275,Lyreco!G275,Ocaña!G275,Taine!G275,Vistalegre!G275)","v":0},0]
[270,"Carpeta de cartulina con dos bolsillos. Tamaño mínimo A4.  Gramaje mínimo 170 gr/m2.","Unidad",0.2576,25,{"$f":"SOLICITUD!F276","v":0},0,{"$f":"MIN(DiaCash!G276,DisOfic!G276,Lablink!G276,Lyreco!G276,Ocaña!G276,Taine!G276,Vistalegre!G276)","v":0},0]
[271,"Carpeta de cartulina con dos bolsillos. Tamaño mínimo  A4 Gramaje mínimo  210  gr/m2.","Unidad",0.2576,25,{"$f":"SOLICITUD!F277","v":0},0,{"$f":"MIN(DiaCash!G277,DisOfic!G277,Lablink!G277,Lyreco!G277,Ocaña!G277,Taine!G277,Vistalegre!G277)","v":0},0]
[272,"Carpeta de cartulina. Tamaño A4.  Gramaje mínimo 170 gr/m2.","Unidad",6.2800000000000009E-2,20,{"$f":"SOLICITUD!F278","v":0},0,{"$f":"MIN(DiaCash!G278,DisOfic!G278,Lablink!G278,Lyreco!G278,Ocaña!G278,Taine!G278,Vistalegre!G278)","v":0},0]
[273,"Carpeta de cartulina. Tamaño folio gramaje 210 gr/m2.","Unidad",4.1399999999999999E-2,100,{"$f":"SOLICITUD!F279","v":0},0,{"$f":"MIN(DiaCash!G279,DisOfic!G279,Lablink!G279,Lyreco!G279,Ocaña!G279,Taine!G279,Vistalegre!G279)","v":0},0]
[274,"Canutillos plásticos. Redondos y ovalados, de 6 mm.","Paquete 200",3.12,1,{"$f":"SOLICITUD!F280","v":0},0,{"$f":"MIN(DiaCash!G280,DisOfic!G280,Lablink!G280,Lyreco!G280,Ocaña!G280,Taine!G280,Vistalegre!G280)","v":0},0]
[275,"Canutillos plásticos. Redondos y ovalados, de 8 mm.","Paquete 100",1.82,1,{"$f":"SOLICITUD!F281","v":0},0,{"$f":"MIN(DiaCash!G281,DisOfic!G281,Lablink!G281,Lyreco!G281,Ocaña!G281,Taine!G281,Vistalegre!G281)","v":0},0]
[276,"Canutillos plásticos. Redondos y ovalados, de 10 mm.","Paquete 100",2.16,1,{"$f":"SOLICITUD!F282","v":0},0,{"$f":"MIN(DiaCash!G282,DisOfic!G282,Lablink!G282,Lyreco!G282,Ocaña!G282,Taine!G282,Vistalegre!G282)","v":0},0]
[277,"Canutillos plásticos. Redondos y ovalados, de 12 mm.","Paquete 100",3.36,1,{"$f":"SOLICITUD!F283","v":0},0,{"$f":"MIN(DiaCash!G283,DisOfic!G283,Lablink!G283,Lyreco!G283,Ocaña!G283,Taine!G283,Vistalegre!G283)","v":0},0]
[278,"Canutillos plásticos. Redondos y ovalados, de 14 mm.","Paquete 100",5.38,1,{"$f":"SOLICITUD!F284","v":0},0,{"$f":"MIN(DiaCash!G284,DisOfic!G284,Lablink!G284,Lyreco!G284,Ocaña!G284,Taine!G284,Vistalegre!G284)","v":0},0]
[279,"Canutillos plásticos. Redondos y ovalados, de 16 mm.","Paquete 100",6.1,1.5,{"$f":"SOLICITUD!F285","v":0},0,{"$f":"MIN(DiaCash!G285,DisOfic!G285,Lablink!G285,Lyreco!G285,Ocaña!G285,Taine!G285,Vistalegre!G285)","v":0},0]
[280,"Canutillos plásticos. Redondos y ovalados, de 18 mm.","Paquete 100",7.37,1,{"$f":"SOLICITUD!F286","v":0},0,{"$f":"MIN(DiaCash!G286,DisOfic!G286,Lablink!G286,Lyreco!G286,Ocaña!G286,Taine!G286,Vistalegre!G286)","v":0},0]
[281,"Canutillos plásticos. Redondos y ovalados, de 22 mm.","Paquete 50",6.01,1,{"$f":"SOLICITUD!F287","v":0},0,{"$f":"MIN(DiaCash!G287,DisOfic!G287,Lablink!G287,Lyreco!G287,Ocaña!G287,Taine!G287,Vistalegre!G287)","v":0},0]
[282,"Canutillos plásticos. Redondos y ovalados, de 25 mm.","Paquete 50",4.79,1,{"$f":"SOLICITUD!F288","v":0},0,{"$f":"MIN(DiaCash!G288,DisOfic!G288,Lablink!G288,Lyreco!G288,Ocaña!G288,Taine!G288,Vistalegre!G288)","v":0},0]
[283,"Canutillos plásticos. Redondos y ovalados, de 28 mm.","Paquete 50",5.54,1,{"$f":"SOLICITUD!F289","v":0},0,{"$f":"MIN(DiaCash!G289,DisOfic!G289,Lablink!G289,Lyreco!G289,Ocaña!G289,Taine!G289,Vistalegre!G289)","v":0},0]
[284,"Canutillos plásticos. Redondos y ovalados, de 32 mm.","Paquete 50",7.7,1,{"$f":"SOLICITUD!F290","v":0},0,{"$f":"MIN(DiaCash!G290,DisOfic!G290,Lablink!G290,Lyreco!G290,Ocaña!G290,Taine!G290,Vistalegre!G290)","v":0},0]
[285,"Canutillos plásticos. Redondos y ovalados, de 45 mm.","Paquete 25",9.9499999999999993,2,{"$f":"SOLICITUD!F291","v":0},0,{"$f":"MIN(DiaCash!G291,DisOfic!G291,Lablink!G291,Lyreco!G291,Ocaña!G291,Taine!G291,Vistalegre!G291)","v":0},0]
[286,"Canutillos plásticos. Redondos y ovalados, de 51 mm.","Paquete 25",10.813000000000001,2,{"$f":"SOLICITUD!F292","v":0},0,{"$f":"MIN(DiaCash!G292,DisOfic!G292,Lablink!G292,Lyreco!G292,Ocaña!G292,Taine!G292,Vistalegre!G292)","v":0},0]
[287,"Espirales metálicas de encuadernación. Paso 5:1, de diámetro 8 mm.","Paquete 100",4.0599999999999996,1,{"$f":"SOLICITUD!F293","v":0},0,{"$f":"MIN(DiaCash!G293,DisOfic!G293,Lablink!G293,Lyreco!G293,Ocaña!G293,Taine!G293,Vistalegre!G293)","v":0},0]
[288,"Espirales metálicas de encuadernación. Paso 5:1, de diámetro 10 mm.","Paquete 100",4.75,1,{"$f":"SOLICITUD!F294","v":0},0,{"$f":"MIN(DiaCash!G294,DisOfic!G294,Lablink!G294,Lyreco!G294,Ocaña!G294,Taine!G294,Vistalegre!G294)","v":0},0]
[289,"Espirales metálicas de encuadernación. Paso 5:1, de diámetro 12 mm.","Paquete 100",6.2,1,{"$f":"SOLICITUD!F295","v":0},0,{"$f":"MIN(DiaCash!G295,DisOfic!G295,Lablink!G295,Lyreco!G295,Ocaña!G295,Taine!G295,Vistalegre!G295)","v":0},0]
[290,"Espirales metálicas de encuadernación. Paso 5:1, de diámetro 14 mm.","Paquete 100",8.19,1,{"$f":"SOLICITUD!F296","v":0},0,{"$f":"MIN(DiaCash!G296,DisOfic!G296,Lablink!G296,Lyreco!G296,Ocaña!G296,Taine!G296,Vistalegre!G296)","v":0},0]
[291,"Espirales metálicas de encuadernación. Paso 5:1, de diámetro 16 mm.","Paquete 100",11.09,1,{"$f":"SOLICITUD!F297","v":0},0,{"$f":"MIN(DiaCash!G297,DisOfic!G297,Lablink!G297,Lyreco!G297,Ocaña!G297,Taine!G297,Vistalegre!G297)","v":0},0]
[292,"Espirales metálicas de encuadernación. Paso 5:1, de diámetro 18 mm.","Paquete 100",12.32,1,{"$f":"SOLICITUD!F298","v":0},0,{"$f":"MIN(DiaCash!G298,DisOfic!G298,Lablink!G298,Lyreco!G298,Ocaña!G298,Taine!G298,Vistalegre!G298)","v":0},0]
[293,"Espirales metálicas de encuadernación. Paso 5:1, de diámetro 20 mm.","Paquete 100",12,1,{"$f":"SOLICITUD!F299","v":0},0,{"$f":"MIN(DiaCash!G299,DisOfic!G299,Lablink!G299,Lyreco!G299,Ocaña!G299,Taine!G299,Vistalegre!G299)","v":0},0]
[294,"Espirales metálicas de encuadernación. Paso 5:1, de diámetro 22 mm.","Paquete 100",17.48,1,{"$f":"SOLICITUD!F300","v":0},0,{"$f":"MIN(DiaCash!G300,DisOfic!G300,Lablink!G300,Lyreco!G300,Ocaña!G300,Taine!G300,Vistalegre!G300)","v":0},0]
[295,"Espirales metálicas de encuadernación. Paso 5:1, de diámetro 24 mm.","Paquete 100",15.93,1,{"$f":"SOLICITUD!F301","v":0},0,{"$f":"MIN(DiaCash!G301,DisOfic!G301,Lablink!G301,Lyreco!G301,Ocaña!G301,Taine!G301,Vistalegre!G301)","v":0},0]
[296,"Espirales metálicas de encuadernación. Paso 5:1, de diámetro 28 mm.","Paquete 50",9.41,1,{"$f":"SOLICITUD!F302","v":0},0,{"$f":"MIN(DiaCash!G302,DisOfic!G302,Lablink!G302,Lyreco!G302,Ocaña!G302,Taine!G302,Vistalegre!G302)","v":0},0]
[297,"Espirales metálicas de encuadernación. Paso 5:1, de diámetro 30 mm. ","Paquete 50",11.4,1,{"$f":"SOLICITUD!F303","v":0},0,{"$f":"MIN(DiaCash!G303,DisOfic!G303,Lablink!G303,Lyreco!G303,Ocaña!G303,Taine!G303,Vistalegre!G303)","v":0},0]
[298,"Espirales metálicas de encuadernación. Paso 5:1, de diámetro 34 mm. ","Paquete 50",13.15,1,{"$f":"SOLICITUD!F304","v":0},0,{"$f":"MIN(DiaCash!G304,DisOfic!G304,Lablink!G304,Lyreco!G304,Ocaña!G304,Taine!G304,Vistalegre!G304)","v":0},0]
[299,"Espirales metálicas de encuadernación. Paso 5:1, de diámetro 38 mm. ","Paquete 50",9,1,{"$f":"SOLICITUD!F305","v":0},0,{"$f":"MIN(DiaCash!G305,DisOfic!G305,Lablink!G305,Lyreco!G305,Ocaña!G305,Taine!G305,Vistalegre!G305)","v":0},0]
[300,"Espirales metálicas de encuadernación. Paso 5:1, de diámetro 40 mm o superior.","Paquete 25",10.41,1,{"$f":"SOLICITUD!F306","v":0},0,{"$f":"MIN(DiaCash!G306,DisOfic!G306,Lablink!G306,Lyreco!G306,Ocaña!G306,Taine!G306,Vistalegre!G306)","v":0},0]
[301,"Cartulina. Tamaño A4. Gramaje 185 gr/m2 mínimo.","Paquete 50",4.9000000000000002E-2,1,{"$f":"SOLICITUD!F307","v":0},0,{"$f":"MIN(DiaCash!G307,DisOfic!G307,Lablink!G307,Lyreco!G307,Ocaña!G307,Taine!G307,Vistalegre!G307)","v":0},0]
[302,"Cartulina. Tamaño A4. Gramaje 220 gr/m2 mínimo.","Paquete 50",0.1052,2.5,{"$f":"SOLICITUD!F308","v":0},0,{"$f":"MIN(DiaCash!G308,DisOfic!G308,Lablink!G308,Lyreco!G308,Ocaña!G308,Taine!G308,Vistalegre!G308)","v":0},0]
[303,"Cartulina. Tamaño A3. Gramaje 185 gr/m2 mínimo.","Paquete 25",0.1066,2,{"$f":"SOLICITUD!F309","v":0},0,{"$f":"MIN(DiaCash!G309,DisOfic!G309,Lablink!G309,Lyreco!G309,Ocaña!G309,Taine!G309,Vistalegre!G309)","v":0},0]
[304,"Cartulina. Tamaño A3. Gramaje 220 gr/m2 mínimo.","Paquete 25",0.36719999999999997,5,{"$f":"SOLICITUD!F310","v":0},0,{"$f":"MIN(DiaCash!G310,DisOfic!G310,Lablink!G310,Lyreco!G310,Ocaña!G310,Taine!G310,Vistalegre!G310)","v":0},0]
[305,"Pastener  metálico con compresor y correderas . ","Unidad",0.04,100,{"$f":"SOLICITUD!F311","v":0},0,{"$f":"MIN(DiaCash!G311,DisOfic!G311,Lablink!G311,Lyreco!G311,Ocaña!G311,Taine!G311,Vistalegre!G311)","v":0},0]
[306,"Cubiertas de plástico. Tamaño A4, espesor mínimo 180 micras.","Unidad",0.05,100,{"$f":"SOLICITUD!F312","v":0},0,{"$f":"MIN(DiaCash!G312,DisOfic!G312,Lablink!G312,Lyreco!G312,Ocaña!G312,Taine!G312,Vistalegre!G312)","v":0},0]
[307,"Cubiertas de plástico. Tamaño A3, espesor mínimo 180 micras.","Unidad",0.106,100,{"$f":"SOLICITUD!F313","v":0},0,{"$f":"MIN(DiaCash!G313,DisOfic!G313,Lablink!G313,Lyreco!G313,Ocaña!G313,Taine!G313,Vistalegre!G313)","v":0},0]
[308,"Bobina de rafia de plástico. (bobina 400 gr)","Unidad",2.86,1,{"$f":"SOLICITUD!F314","v":0},0,{"$f":"MIN(DiaCash!G314,DisOfic!G314,Lablink!G314,Lyreco!G314,Ocaña!G314,Taine!G314,Vistalegre!G314)","v":0},0]
[309,"Cinta balduque en rollo algodón 100% . Medidas 19mm x 14m aprox.","Unidad",1.1346153846153846,1,{"$f":"SOLICITUD!F315","v":0},0,{"$f":"MIN(DiaCash!G315,DisOfic!G315,Lablink!G315,Lyreco!G315,Ocaña!G315,Taine!G315,Vistalegre!G315)","v":0},0]
[310,"Caja de embalaje cartón, canal sencillo, 4 solapas. Medidas 355x265x270 mm aprox.","Unidad",0.45119999999999999,25,{"$f":"SOLICITUD!F316","v":0},0,{"$f":"MIN(DiaCash!G316,DisOfic!G316,Lablink!G316,Lyreco!G316,Ocaña!G316,Taine!G316,Vistalegre!G316)","v":0},0]
[311,"Caja de embalaje cartón, canal sencillo, 4 solapas. Medidas 400x325x420 mm aprox.","Unidad",0.9890000000000001,20,{"$f":"SOLICITUD!F317","v":0},0,{"$f":"MIN(DiaCash!G317,DisOfic!G317,Lablink!G317,Lyreco!G317,Ocaña!G317,Taine!G317,Vistalegre!G317)","v":0},0]
[312,"Caja embalaje cartón, doble canal, 4 solapas. Medidas 400x400x400 mm aprox.","Unidad",1.3660000000000001,10,{"$f":"SOLICITUD!F318","v":0},0,{"$f":"MIN(DiaCash!G318,DisOfic!G318,Lablink!G318,Lyreco!G318,Ocaña!G318,Taine!G318,Vistalegre!G318)","v":0},0]
[313,"Papel embalar. Medidas ancho 1 m.  Gramaje 70 gr/m2 mínimo.(bobina 25 kg)","Bobina 25 Kg",48.26,1,{"$f":"SOLICITUD!F319","v":0},0,{"$f":"MIN(DiaCash!G319,DisOfic!G319,Lablink!G319,Lyreco!G319,Ocaña!G319,Taine!G319,Vistalegre!G319)","v":0},0]
[314,"Papel embalar. Medidas ancho 1 m.  Gramaje 70 gr/m2 mínimo.(bobina 25 kg)","Bobina 25 Kg",48.26,1,{"$f":"SOLICITUD!F320","v":0},0,{"$f":"MIN(DiaCash!G320,DisOfic!G320,Lablink!G320,Lyreco!G320,Ocaña!G320,Taine!G320,Vistalegre!G320)","v":0},0]
[315,"Papel embalar. Medidas ancho 1 m.  Gramaje 70 gr/m2 mínimo.(bobina 55 kg)","Bobina 55 Kg",99.69,1,{"$f":"SOLICITUD!F321","v":0},0,{"$f":"MIN(DiaCash!G321,DisOfic!G321,Lablink!G321,Lyreco!G321,Ocaña!G321,Taine!G321,Vistalegre!G321)","v":0},0]
[316,"Papel embalar. Medidas ancho 1 m.  Gramaje 70 gr/m2 mínimo.(bobina 55 kg)","Bobina 55 Kg",99.69,1,{"$f":"SOLICITUD!F322","v":0},0,{"$f":"MIN(DiaCash!G322,DisOfic!G322,Lablink!G322,Lyreco!G322,Ocaña!G322,Taine!G322,Vistalegre!G322)","v":0},0]
[317,"Bolsa de correo interno de papel kraft. Tamaño 250 x 353 mm aprox.  Gramaje mínimo 100 gr/m2.","Caja 250 unidades",30.75,0.4,{"$f":"SOLICITUD!F323","v":0},0,{"$f":"MIN(DiaCash!G323,DisOfic!G323,Lablink!G323,Lyreco!G323,Ocaña!G323,Taine!G323,Vistalegre!G323)","v":0},0]
[318,"Bolsa de papel kraft armado. Tamaño 310 x 410 mm aprox.  Gramaje mínimo 110 gr/m2.","Caja 100 unidades",27.76,1,{"$f":"SOLICITUD!F324","v":0},0,{"$f":"MIN(DiaCash!G324,DisOfic!G324,Lablink!G324,Lyreco!G324,Ocaña!G324,Taine!G324,Vistalegre!G324)","v":0},0]
[319,"Sobre autopegue con ventana a la derecha o izquierda. Tamaño 115x225 mm aprox.  Gramaje mínimo 90 gr/m2.","Caja 500 unidades",8.11,1,{"$f":"SOLICITUD!F325","v":0},0,{"$f":"MIN(DiaCash!G325,DisOfic!G325,Lablink!G325,Lyreco!G325,Ocaña!G325,Taine!G325,Vistalegre!G325)","v":0},0]
[320,"Sobre autopegue sin ventana. Tamaño 120x176 mm aprox.  Gramaje mínimo 90 gr/m2.","Caja 500 unidades",7.67,1,{"$f":"SOLICITUD!F326","v":0},0,{"$f":"MIN(DiaCash!G326,DisOfic!G326,Lablink!G326,Lyreco!G326,Ocaña!G326,Taine!G326,Vistalegre!G326)","v":0},0]
[321,"Sobre autopegue sin ventana. Tamaño 115x225 mm aprox.  Gramaje mínimo 90 gr/m2.","Caja 500 unidades",7.37,1,{"$f":"SOLICITUD!F327","v":0},0,{"$f":"MIN(DiaCash!G327,DisOfic!G327,Lablink!G327,Lyreco!G327,Ocaña!G327,Taine!G327,Vistalegre!G327)","v":0},0]
[322,"Sobre autopegue sin ventana. Tamaño 176x231 mm aprox.  Gramaje mínimo 90 gr/m2.","Caja 500 unidades",18.21,1,{"$f":"SOLICITUD!F328","v":0},{"$f":"IF(F328>0,IF(E328=\"Excluido\",\"Excluido1\",IF(F328>0,IF(F328<E328,\"Excluido2\",D328*F328),0)),0)","v":0},{"$f":"MIN(DiaCash!G328,DisOfic!G328,Lablink!G328,Lyreco!G328,Ocaña!G328,Taine!G328,Vistalegre!G328)","v":0},{"$f":"IF(G328<=H328,G328,0)","v":0}]
[323,"Sobre autopegue sin ventana. Tamaño 260x360 mm aprox.  Gramaje mínimo 90 gr/m2.","Caja 250 unidades",18.5,1,{"$f":"SOLICITUD!F329","v":0},0,{"$f":"MIN(DiaCash!G329,DisOfic!G329,Lablink!G329,Lyreco!G329,Ocaña!G329,Taine!G329,Vistalegre!G329)","v":0},0]
[324,"Sobre bolsa burbuja. Tamaño 270 x 360 mm aprox.  Gramaje mínimo 110 gr/m2.","Paquete 10 unidades",2.09,1,{"$f":"SOLICITUD!F330","v":0},0,{"$f":"MIN(DiaCash!G330,DisOfic!G330,Lablink!G330,Lyreco!G330,Ocaña!G330,Taine!G330,Vistalegre!G330)","v":0},0]
[325,"Sobre bolsa fuelle papel kraft. Tamaño 280 x 410 x 30 mm aprox. Gramaje mínimo 110 gr/m2.","Caja 100 unidades",22.48,2.5,{"$f":"SOLICITUD!F331","v":0},0,{"$f":"MIN(DiaCash!G331,DisOfic!G331,Lablink!G331,Lyreco!G331,Ocaña!G331,Taine!G331,Vistalegre!G331)","v":0},0]
[326,"Sobre plástico, cierre broche o velcro. Tamaño A4 / folio.","Unidad",0.24250000000000002,12,{"$f":"SOLICITUD!F332","v":0},0,{"$f":"MIN(DiaCash!G332,DisOfic!G332,Lablink!G332,Lyreco!G332,Ocaña!G332,Taine!G332,Vistalegre!G332)","v":0},0]
[327,"Sobre plástico, cierre broche o velcro. Tamaño A3.","Unidad",0.68,1,{"$f":"SOLICITUD!F333","v":0},0,{"$f":"MIN(DiaCash!G333,DisOfic!G333,Lablink!G333,Lyreco!G333,Ocaña!G333,Taine!G333,Vistalegre!G333)","v":0},0]
[328,"Tubos planos cartón 4x46 cm (diam. X altura)","Unidad",0.66,1,{"$f":"SOLICITUD!F334","v":0},0,{"$f":"MIN(DiaCash!G334,DisOfic!G334,Lablink!G334,Lyreco!G334,Ocaña!G334,Taine!G334,Vistalegre!G334)","v":0},0]
[329,"Tubos planos cartón 60x64 cm (diam. X altura)","Unidad",1.1100000000000001,1,{"$f":"SOLICITUD!F335","v":0},0,{"$f":"MIN(DiaCash!G335,DisOfic!G335,Lablink!G335,Lyreco!G335,Ocaña!G335,Taine!G335,Vistalegre!G335)","v":0},0]
[330,"Tubos envíos cartón 6x46 cm (diam. X altura)","Unidad",0.86,1,{"$f":"SOLICITUD!F336","v":0},0,{"$f":"MIN(DiaCash!G336,DisOfic!G336,Lablink!G336,Lyreco!G336,Ocaña!G336,Taine!G336,Vistalegre!G336)","v":0},0]
[331,"Rollo de papel para calculadora 57mm 65mts.","Unidad",0.48099999999999998,10,{"$f":"SOLICITUD!F337","v":0},0,{"$f":"MIN(DiaCash!G337,DisOfic!G337,Lablink!G337,Lyreco!G337,Ocaña!G337,Taine!G337,Vistalegre!G337)","v":0},0]
[332,"Tablero de corcho para anuncios con marco de madera 60 x 90 cm (hxa) (Bi-Office)","Unidad",4.4800000000000004,1,{"$f":"SOLICITUD!F338","v":0},0,{"$f":"MIN(DiaCash!G338,DisOfic!G338,Lablink!G338,Lyreco!G338,Ocaña!G338,Taine!G338,Vistalegre!G338)","v":0},0]
[333,"Caja de 5 Paquetes de papel A4 80gr./m2, para impresoras inkjet, láser y fotocopiadora","Caja de 5 Paquetes",16,1,{"$f":"SOLICITUD!F339","v":0},0,{"$f":"MIN(DiaCash!G339,DisOfic!G339,Lablink!G339,Lyreco!G339,Ocaña!G339,Taine!G339,Vistalegre!G339)","v":0},0]
[334,"Caja de 5 Paquetes de papel A4 80gr./m2, para impresoras inkjet, láser y fotocopiadora (Navigator)","Caja de 5 Paquetes",21,1,{"$f":"SOLICITUD!F340","v":0},0,{"$f":"MIN(DiaCash!G340,DisOfic!G340,Lablink!G340,Lyreco!G340,Ocaña!G340,Taine!G340,Vistalegre!G340)","v":0},0]
[335,"Paquete de papel A3 80gr./m2, para impresoras inkjet, láser y fotocopiadora ","Paquete 500 hojas",7,1,{"$f":"SOLICITUD!F341","v":0},0,{"$f":"MIN(DiaCash!G341,DisOfic!G341,Lablink!G341,Lyreco!G341,Ocaña!G341,Taine!G341,Vistalegre!G341)","v":0},0]
[336,"Paquete de papel A3 80gr./m2, para impresoras inkjet, láser y fotocopiadora (Navigator)","Paquete 500 hojas",7.6,1,{"$f":"SOLICITUD!F342","v":0},0,{"$f":"MIN(DiaCash!G342,DisOfic!G342,Lablink!G342,Lyreco!G342,Ocaña!G342,Taine!G342,Vistalegre!G342)","v":0},0]
[337,"Paquete de papel A4 80gr./m2 colores pastel, intensos y fluorescentes, impresoas inkjet, láser y fotocopiadora (Clairefontaine)","Paquete 500 hojas",7,1,{"$f":"SOLICITUD!F343","v":0},0,{"$f":"MIN(DiaCash!G343,DisOfic!G343,Lablink!G343,Lyreco!G343,Ocaña!G343,Taine!G343,Vistalegre!G343)","v":0},0]
[338,"Paquete de papel A4 80gr./m2 colores intensos y fluorescentes, impresoas inkjet, láser y fotocopiadora (Clairefontaine)","Paquete 500 hojas",7,1,{"$f":"SOLICITUD!F344","v":0},0,{"$f":"MIN(DiaCash!G344,DisOfic!G344,Lablink!G344,Lyreco!G344,Ocaña!G344,Taine!G344,Vistalegre!G344)","v":0},0]
[339,"Caja de 5 Paquetes de papel A4 ecológico 75gr/m2 (Navigator Eco-Logical)","Caja de 5 Paquetes",20.75,1,{"$f":"SOLICITUD!F345","v":0},0,{"$f":"MIN(DiaCash!G345,DisOfic!G345,Lablink!G345,Lyreco!G345,Ocaña!G345,Taine!G345,Vistalegre!G345)","v":0},0]
[340,"Caja de 5 Paquetes de papel A4 Blanco 90 gr/m2 ","Caja de 5 Paquetes",24,1,{"$f":"SOLICITUD!F346","v":0},0,{"$f":"MIN(DiaCash!G346,DisOfic!G346,Lablink!G346,Lyreco!G346,Ocaña!G346,Taine!G346,Vistalegre!G346)","v":0},0]
[341,"Caja de 5 Paquetes de papel A4 Blanco 90 gr/m2 (Navigator)","Caja de 5 Paquetes",27.5,1,{"$f":"SOLICITUD!F347","v":0},0,{"$f":"MIN(DiaCash!G347,DisOfic!G347,Lablink!G347,Lyreco!G347,Ocaña!G347,Taine!G347,Vistalegre!G347)","v":0},0]
[342,"Caja de 5 Paquetes de papel A4 80gr./m2, para impresoras inkjet, láser y fotocopiadora reciclado","Caja de 5 Paquetes",19,1,{"$f":"SOLICITUD!F348","v":0},0,{"$f":"MIN(DiaCash!G348,DisOfic!G348,Lablink!G348,Lyreco!G348,Ocaña!G348,Taine!G348,Vistalegre!G348)","v":0},0]
[343,"Paquete de papel verjurado A4 90 gr/m2 blanco (Apli)","Paquete 100 hojas",5.9,1,{"$f":"SOLICITUD!F349","v":0},0,{"$f":"MIN(DiaCash!G349,DisOfic!G349,Lablink!G349,Lyreco!G349,Ocaña!G349,Taine!G349,Vistalegre!G349)","v":0},0]
[344,"Paquete de papel verjurado A4 100 color crema 90 gr/m2 (Apli)","Paquete 100 hojas",5.9,1,{"$f":"SOLICITUD!F350","v":0},0,{"$f":"MIN(DiaCash!G350,DisOfic!G350,Lablink!G350,Lyreco!G350,Ocaña!G350,Taine!G350,Vistalegre!G350)","v":0},0]
[350,"Boligrado Pentel BK-77 Superb (boligrado de punta fina 0.7 mm y tinta base de aceite)","12 Unidades",7.56,1,{"$f":"SOLICITUD!F351","v":0},{"$f":"IF(F351>0,IF(E351=\"Excluido\",\"Excluido1\",IF(F351>0,IF(F351<E351,\"Excluido2\",D351*F351),0)),0)","v":0},{"$f":"MIN(DiaCash!G351,DisOfic!G351,Lablink!G351,Lyreco!G351,Ocaña!G351,Taine!G351,Vistalegre!G351)","v":0},{"$f":"IF(G351<=H351,G351,0)","v":0}]
[351,"50 tapas encuadernar gofrado A4 Negro","50 unidades",10.7,1,{"$f":"SOLICITUD!F352","v":0},0,{"$f":"MIN(DiaCash!G352,DisOfic!G352,Lablink!G352,Lyreco!G352,Ocaña!G352,Taine!G352,Vistalegre!G352)","v":0},0]
[352,"Cinta doble cara 19x33 mm","Unidad",5.9,1,{"$f":"SOLICITUD!F353","v":0},0,{"$f":"MIN(DiaCash!G353,DisOfic!G353,Lablink!G353,Lyreco!G353,Ocaña!G353,Taine!G353,Vistalegre!G353)","v":0},0]
[353,"Bolsas para plastificar carnet tamaño 60x90 mm y grosor 200 micras.","-"," - ","-",{"$f":"SOLICITUD!F354","v":0},0,{"$f":"MIN(DiaCash!G354,DisOfic!G354,Lablink!G354,Lyreco!G354,Ocaña!G354,Taine!G354,Vistalegre!G354)","v":0},0]
[354,"Bolsas para plastificar tamaño A3 grosor 125 micras","100 unidades",20.6,1,{"$f":"SOLICITUD!F355","v":0},0,{"$f":"MIN(DiaCash!G355,DisOfic!G355,Lablink!G355,Lyreco!G355,Ocaña!G355,Taine!G355,Vistalegre!G355)","v":0},0]
[355,"Sobres de tamaño 229x324 con tira de silicona","250 unidades",11,1,{"$f":"SOLICITUD!F356","v":0},0,{"$f":"MIN(DiaCash!G356,DisOfic!G356,Lablink!G356,Lyreco!G356,Ocaña!G356,Taine!G356,Vistalegre!G356)","v":0},0]
[356,"Minas Super Polymer 0.35 HB","-"," - ","-",{"$f":"SOLICITUD!F357","v":0},0,{"$f":"MIN(DiaCash!G357,DisOfic!G357,Lablink!G357,Lyreco!G357,Ocaña!G357,Taine!G357,Vistalegre!G357)","v":0},0]
[357,"Minas Super Polymer 0.35 2H","-"," - ","-",{"$f":"SOLICITUD!F358","v":0},0,{"$f":"MIN(DiaCash!G358,DisOfic!G358,Lablink!G358,Lyreco!G358,Ocaña!G358,Taine!G358,Vistalegre!G358)","v":0},0]
[358,"Cuaderno Cuadros A4 160H (marca SAM, Enri, tec)","Unidad",4.25,1,{"$f":"SOLICITUD!F359","v":0},0,{"$f":"MIN(DiaCash!G359,DisOfic!G359,Lablink!G359,Lyreco!G359,Ocaña!G359,Taine!G359,Vistalegre!G359)","v":0},0]
[359,"Fichas rayadas 160x220 (paquete de 100 hojas)","-"," - ","-",{"$f":"SOLICITUD!F360","v":0},0,{"$f":"MIN(DiaCash!G360,DisOfic!G360,Lablink!G360,Lyreco!G360,Ocaña!G360,Taine!G360,Vistalegre!G360)","v":0},0]
[360,"Portablocks con pinza y solapa","Unidad",3.99,1,{"$f":"SOLICITUD!F361","v":0},0,{"$f":"MIN(DiaCash!G361,DisOfic!G361,Lablink!G361,Lyreco!G361,Ocaña!G361,Taine!G361,Vistalegre!G361)","v":0},0]
[361,"Pack 100 Fundas multitaladro folio PP Cristal","100 unidades",6.99,1,{"$f":"SOLICITUD!F362","v":0},0,{"$f":"MIN(DiaCash!G362,DisOfic!G362,Lablink!G362,Lyreco!G362,Ocaña!G362,Taine!G362,Vistalegre!G362)","v":0},0]
[362,"Sobre burbuja/acolchado tamaño 350x470 mm ","10 unidades",8.42,1,{"$f":"SOLICITUD!F363","v":0},0,{"$f":"MIN(DiaCash!G363,DisOfic!G363,Lablink!G363,Lyreco!G363,Ocaña!G363,Taine!G363,Vistalegre!G363)","v":0},0]
[363,"Sobre burbuja/acolchado tamaño 300x445 mm ","10 unidades",3.55,1,{"$f":"SOLICITUD!F364","v":0},0,{"$f":"MIN(DiaCash!G364,DisOfic!G364,Lablink!G364,Lyreco!G364,Ocaña!G364,Taine!G364,Vistalegre!G364)","v":0},0]
[364,"Sobre burbuja/acolchado tamaño 120x215 mm","10 unidades",1.66,1,{"$f":"SOLICITUD!F365","v":0},0,{"$f":"MIN(DiaCash!G365,DisOfic!G365,Lablink!G365,Lyreco!G365,Ocaña!G365,Taine!G365,Vistalegre!G365)","v":0},0]
[365,"Sobre burbuja/acolchado tamaño 220x340 mm","10 unidades",3.71,1,{"$f":"SOLICITUD!F366","v":0},0,{"$f":"MIN(DiaCash!G366,DisOfic!G366,Lablink!G366,Lyreco!G366,Ocaña!G366,Taine!G366,Vistalegre!G366)","v":0},0]
[366,"Sobre burbuja/acolchado tamaño 220x265 mm","10 unidades",2.96,1,{"$f":"SOLICITUD!F367","v":0},0,{"$f":"MIN(DiaCash!G367,DisOfic!G367,Lablink!G367,Lyreco!G367,Ocaña!G367,Taine!G367,Vistalegre!G367)","v":0},0]
[367,"Carpeta Polipropileno A4 Gomas Solapas","Unidad",0.67,1,{"$f":"SOLICITUD!F368","v":0},0,{"$f":"MIN(DiaCash!G368,DisOfic!G368,Lablink!G368,Lyreco!G368,Ocaña!G368,Taine!G368,Vistalegre!G368)","v":0},0]
[368,"Roller Pilot V-5 Azul","Unidad",1.1399999999999999,1,{"$f":"SOLICITUD!F369","v":0},0,{"$f":"MIN(DiaCash!G369,DisOfic!G369,Lablink!G369,Lyreco!G369,Ocaña!G369,Taine!G369,Vistalegre!G369)","v":0},0]
[369,"Roller Pilot V-5 Negro","Unidad",1.1399999999999999,1,{"$f":"SOLICITUD!F370","v":0},0,{"$f":"MIN(DiaCash!G370,DisOfic!G370,Lablink!G370,Lyreco!G370,Ocaña!G370,Taine!G370,Vistalegre!G370)","v":0},0]
[370,"Roller Pilot V-5 Rojo","Unidad",1.1399999999999999,1,{"$f":"SOLICITUD!F371","v":0},0,{"$f":"MIN(DiaCash!G371,DisOfic!G371,Lablink!G371,Lyreco!G371,Ocaña!G371,Taine!G371,Vistalegre!G371)","v":0},0]
[371,"Sobres blancos para entrega de títulos en mano 30 x 42 cm.","-"," - ","-",{"$f":"SOLICITUD!F372","v":0},0,{"$f":"MIN(DiaCash!G372,DisOfic!G372,Lablink!G372,Lyreco!G372,Ocaña!G372,Taine!G372,Vistalegre!G372)","v":0},0]
[372,"Dosier flexible con pinza A4 60 hojas     ","Unidad",1.3,1,{"$f":"SOLICITUD!F373","v":0},0,{"$f":"MIN(DiaCash!G373,DisOfic!G373,Lablink!G373,Lyreco!G373,Ocaña!G373,Taine!G373,Vistalegre!G373)","v":0},0]
[373,"Dosier flexible con pinza A4 30 hojas     ","Unidad",1.1000000000000001,1,{"$f":"SOLICITUD!F374","v":0},0,{"$f":"MIN(DiaCash!G374,DisOfic!G374,Lablink!G374,Lyreco!G374,Ocaña!G374,Taine!G374,Vistalegre!G374)","v":0},0]
[374,"Rollos de papel térmico para las máquinas CIGES 8x8 cm","8 unidades",8.24,1,{"$f":"SOLICITUD!F375","v":0},0,{"$f":"MIN(DiaCash!G375,DisOfic!G375,Lablink!G375,Lyreco!G375,Ocaña!G375,Taine!G375,Vistalegre!G375)","v":0},0]
[null,null,null,null,null,null,null,null,{"$f":"SUM(I7:I375)","v":0}]
[null,null,null,null,null,null,null,null,{"$f":"COUNTIF(I7:I375,\">0\")","v":0}]

{"sheet":"Ocaña","index":7,"n_rows":377,"n_cols":9,"rows_kept":377,"cut":false,"hidden":false,"merged":[]}
[]
[]
[null,"REPRODUCCIONES OCAÑA, S.L.","Importe pedido mínimo:",0]
[]
[null,"LOTES 1, 2 Y 3 (Granada, Ceuta y Melilla respectivamente)"]
["Referencia","Descripción del artículo","Precio Referido a:","Precio (IVA excluido)","Ud.Mínima Servicio","Cantidad Solicitada","Precio Total","Menor Precio","Seleccionable?"]
[1,"Lapiceros de Grafito. Dureza Hb 2 ","Enavse 12 unidades",0.88400000000000001,1,{"$f":"SOLICITUD!F7","v":0},{"$f":"IF(F7>0,IF(E7=\"Excluido\",\"Excluido1\",IF(F7>0,IF(F7<E7,\"Excluido2\",D7*F7),0)),0)","v":0},{"$f":"MIN(DiaCash!G7,DisOfic!G7,Lablink!G7,Lyreco!G7,Ocaña!G7,Taine!G7,Vistalegre!G7)","v":0},{"$f":"IF(G7<=H7,G7,0)","v":0}]
[2,"Lapiceros de Grafito. Dureza Hb, 2 (Staedtler)","Enavse 12 unidades",2.6619999999999999,1,{"$f":"SOLICITUD!F8","v":0},{"$f":"IF(F8>0,IF(E8=\"Excluido\",\"Excluido1\",IF(F8>0,IF(F8<E8,\"Excluido2\",D8*F8),0)),0)","v":0},{"$f":"MIN(DiaCash!G8,DisOfic!G8,Lablink!G8,Lyreco!G8,Ocaña!G8,Taine!G8,Vistalegre!G8)","v":0},{"$f":"IF(G8<=H8,G8,0)","v":0}]
[3,"Minas de Grafito. Calibre 0,5 mm, diferentes durezas (Staedtler, Faber-Castell)","Envase 12 unidades",2.7719999999999998,1,{"$f":"SOLICITUD!F9","v":0},0,{"$f":"MIN(DiaCash!G9,DisOfic!G9,Lablink!G9,Lyreco!G9,Ocaña!G9,Taine!G9,Vistalegre!G9)","v":0},0]
[4,"Minas de Grafito. Calibre 0,7 mm, diferentes durezas (Staedtler, Faber-Castell)","Envase 12 unidades",2.7719999999999998,1,{"$f":"SOLICITUD!F10","v":0},0,{"$f":"MIN(DiaCash!G10,DisOfic!G10,Lablink!G10,Lyreco!G10,Ocaña!G10,Taine!G10,Vistalegre!G10)","v":0},0]
[5,"Portaminas Recargable de Puntera Retráctil, Pulsador y Clip, 0,5 mm.","Unidad",0.1474,1,{"$f":"SOLICITUD!F11","v":0},0,{"$f":"MIN(DiaCash!G11,DisOfic!G11,Lablink!G11,Lyreco!G11,Ocaña!G11,Taine!G11,Vistalegre!G11)","v":0},0]
[6,"Portaminas Recargable de Puntera Retráctil, Pulsador y Clip, 0,7 mm.","Unidad",0.18920000000000001,1,{"$f":"SOLICITUD!F12","v":0},0,{"$f":"MIN(DiaCash!G12,DisOfic!G12,Lablink!G12,Lyreco!G12,Ocaña!G12,Taine!G12,Vistalegre!G12)","v":0},0]
[7,"Portaminas Recargable de Puntera Retráctil, Pulsador y Clip, 0,5 mm. (Staedtler, Faber Castell)","Unidad",0.67230000000000001,1,{"$f":"SOLICITUD!F13","v":0},0,{"$f":"MIN(DiaCash!G13,DisOfic!G13,Lablink!G13,Lyreco!G13,Ocaña!G13,Taine!G13,Vistalegre!G13)","v":0},0]
[8,"Portaminas Recargable de Puntera Retráctil, Pulsador y Clip, 0,7 mm. (Staedtler, Faber Castell)","Unidad",0.67230000000000001,1,{"$f":"SOLICITUD!F14","v":0},0,{"$f":"MIN(DiaCash!G14,DisOfic!G14,Lablink!G14,Lyreco!G14,Ocaña!G14,Taine!G14,Vistalegre!G14)","v":0},0]
[9,"Lapiz Bicolor azul/rojo ","Envase 12 unidades",0.61599999999999999,1,{"$f":"SOLICITUD!F15","v":0},0,{"$f":"MIN(DiaCash!G15,DisOfic!G15,Lablink!G15,Lyreco!G15,Ocaña!G15,Taine!G15,Vistalegre!G15)","v":0},0]
[10,"Lapiz Bicolor azul/rojo  (Faber-Castell)","Envase 12 unidades",3.8557000000000001,1,{"$f":"SOLICITUD!F16","v":0},0,{"$f":"MIN(DiaCash!G16,DisOfic!G16,Lablink!G16,Lyreco!G16,Ocaña!G16,Taine!G16,Vistalegre!G16)","v":0},0]
[11,"Afila Lapiceros doble entrada metálico","Unidad",0.16170000000000001,1,{"$f":"SOLICITUD!F17","v":0},0,{"$f":"MIN(DiaCash!G17,DisOfic!G17,Lablink!G17,Lyreco!G17,Ocaña!G17,Taine!G17,Vistalegre!G17)","v":0},0]
[12,"Afila Lapiceros doble entrada metálico (Faibo)","Unidad",0.18970000000000001,1,{"$f":"SOLICITUD!F18","v":0},0,{"$f":"MIN(DiaCash!G18,DisOfic!G18,Lablink!G18,Lyreco!G18,Ocaña!G18,Taine!G18,Vistalegre!G18)","v":0},0]
[13,"Afila Lapiceros una entrada metálico","Unidad",9.3200000000000005E-2,1,{"$f":"SOLICITUD!F19","v":0},0,{"$f":"MIN(DiaCash!G19,DisOfic!G19,Lablink!G19,Lyreco!G19,Ocaña!G19,Taine!G19,Vistalegre!G19)","v":0},0]
[14,"Afila Lapiceros una entrada metálico (Faibo)","Unidad",9.3200000000000005E-2,1,{"$f":"SOLICITUD!F20","v":0},0,{"$f":"MIN(DiaCash!G20,DisOfic!G20,Lablink!G20,Lyreco!G20,Ocaña!G20,Taine!G20,Vistalegre!G20)","v":0},0]
[15,"Bolígrafo con capuchón, tinta a base de aceite, ancho de escritura 0,42 mm, escritura fina (Bic)","Unidad",0.15529999999999999,1,{"$f":"SOLICITUD!F21","v":0},0,{"$f":"MIN(DiaCash!G21,DisOfic!G21,Lablink!G21,Lyreco!G21,Ocaña!G21,Taine!G21,Vistalegre!G21)","v":0},0]
[16,"Bolígrafo borrable (Pilot)","Unidad",1.1538999999999999,1,{"$f":"SOLICITUD!F22","v":0},0,{"$f":"MIN(DiaCash!G22,DisOfic!G22,Lablink!G22,Lyreco!G22,Ocaña!G22,Taine!G22,Vistalegre!G22)","v":0},0]
[17,"Bolígrafo con capuchón, tinta a base de aceite, ancho de escritura 1,0mm, escritura normal, colores","Unidad",6.1899999999999997E-2,1,{"$f":"SOLICITUD!F23","v":0},0,{"$f":"MIN(DiaCash!G23,DisOfic!G23,Lablink!G23,Lyreco!G23,Ocaña!G23,Taine!G23,Vistalegre!G23)","v":0},0]
[18,"Bolígrafo con capuchón, tinta a base de aceite, ancho de escritura 1,0mm, escritura normal, colores (Bic)","Unidad",0.18340000000000001,1,{"$f":"SOLICITUD!F24","v":0},0,{"$f":"MIN(DiaCash!G24,DisOfic!G24,Lablink!G24,Lyreco!G24,Ocaña!G24,Taine!G24,Vistalegre!G24)","v":0},0]
[19,"Bolígrafo con capuchón, tinta a base de aceite, ancho de escritura 0,5mm, escritura fina, colores (Bic)","Unidad",0.18360000000000001,1,{"$f":"SOLICITUD!F25","v":0},0,{"$f":"MIN(DiaCash!G25,DisOfic!G25,Lablink!G25,Lyreco!G25,Ocaña!G25,Taine!G25,Vistalegre!G25)","v":0},0]
[20,"Bolígrafo uso común capuchón tinta gel, colores (Bic, Pilot)","Unidad",0.45250000000000001,1,{"$f":"SOLICITUD!F26","v":0},0,{"$f":"MIN(DiaCash!G26,DisOfic!G26,Lablink!G26,Lyreco!G26,Ocaña!G26,Taine!G26,Vistalegre!G26)","v":0},0]
[21,"Bolígrafo uso común capuchón, tinta base de aceite (Pilot)","Unidad",0.63239999999999996,1,{"$f":"SOLICITUD!F27","v":0},0,{"$f":"MIN(DiaCash!G27,DisOfic!G27,Lablink!G27,Lyreco!G27,Ocaña!G27,Taine!G27,Vistalegre!G27)","v":0},0]
[22,"Bolígrafo retráctil tinta gel  ","Unidad",0.219,1,{"$f":"SOLICITUD!F28","v":0},0,{"$f":"MIN(DiaCash!G28,DisOfic!G28,Lablink!G28,Lyreco!G28,Ocaña!G28,Taine!G28,Vistalegre!G28)","v":0},0]
[23,"Bolígrafo retráctil tinta gel  (Pilot)","Unidad",0.89159999999999995,1,{"$f":"SOLICITUD!F29","v":0},0,{"$f":"MIN(DiaCash!G29,DisOfic!G29,Lablink!G29,Lyreco!G29,Ocaña!G29,Taine!G29,Vistalegre!G29)","v":0},0]
[24,"Pluma desechable (Pilot)","Unidad",1.4332,1,{"$f":"SOLICITUD!F30","v":0},0,{"$f":"MIN(DiaCash!G30,DisOfic!G30,Lablink!G30,Lyreco!G30,Ocaña!G30,Taine!G30,Vistalegre!G30)","v":0},0]
[25,"Marcadores Fluorescentes. Ancho de Trazo entre 2 Y 5 mm","Unidad",0.20030000000000001,1,{"$f":"SOLICITUD!F31","v":0},0,{"$f":"MIN(DiaCash!G31,DisOfic!G31,Lablink!G31,Lyreco!G31,Ocaña!G31,Taine!G31,Vistalegre!G31)","v":0},0]
[26,"Marcadores Fluorescentes. Ancho de Trazo entre 2 Y 5 mm (Faber Castell, Stabilo)","Unidad",0.48099999999999998,1,{"$f":"SOLICITUD!F32","v":0},0,{"$f":"MIN(DiaCash!G32,DisOfic!G32,Lablink!G32,Lyreco!G32,Ocaña!G32,Taine!G32,Vistalegre!G32)","v":0},0]
[27,"Roller Retráctil Tinta Gel. Trazo entre 0,4 Y 0,7 mm.","Unidad",0.59009999999999996,1,{"$f":"SOLICITUD!F33","v":0},0,{"$f":"MIN(DiaCash!G33,DisOfic!G33,Lablink!G33,Lyreco!G33,Ocaña!G33,Taine!G33,Vistalegre!G33)","v":0},0]
[28,"Roller Retráctil Tinta Gel. Trazo entre 0,4 Y 0,7 mm. (Pilot)","Unidad",0.89159999999999995,1,{"$f":"SOLICITUD!F34","v":0},0,{"$f":"MIN(DiaCash!G34,DisOfic!G34,Lablink!G34,Lyreco!G34,Ocaña!G34,Taine!G34,Vistalegre!G34)","v":0},0]
[29,"Roller Tinta Gel con capuchón. Trazo entre  0,4 Y 0,7 mm.","Unidad",0.16639999999999999,1,{"$f":"SOLICITUD!F35","v":0},0,{"$f":"MIN(DiaCash!G35,DisOfic!G35,Lablink!G35,Lyreco!G35,Ocaña!G35,Taine!G35,Vistalegre!G35)","v":0},0]
[30,"Roller Tinta Gel con capuchón. Trazo entre  0,4 Y 0,7 mm. (Pilot)","Unidad",0.75,1,{"$f":"SOLICITUD!F36","v":0},0,{"$f":"MIN(DiaCash!G36,DisOfic!G36,Lablink!G36,Lyreco!G36,Ocaña!G36,Taine!G36,Vistalegre!G36)","v":0},0]
[31,"Roller Tinta Líquida con capuchón. Trazo entre 0,5 Y 0,7 mm.","Unidad",0.23300000000000001,1,{"$f":"SOLICITUD!F37","v":0},0,{"$f":"MIN(DiaCash!G37,DisOfic!G37,Lablink!G37,Lyreco!G37,Ocaña!G37,Taine!G37,Vistalegre!G37)","v":0},0]
[32,"Roller Tinta Líquida con capuchón. Trazo entre 0,5 Y 0,7 mm. (Pilot)","Unidad",1.026,1,{"$f":"SOLICITUD!F38","v":0},0,{"$f":"MIN(DiaCash!G38,DisOfic!G38,Lablink!G38,Lyreco!G38,Ocaña!G38,Taine!G38,Vistalegre!G38)","v":0},0]
[33,"Rotulador Punta Fibra. Trazo entre 0,4 Y 1 mm.","Unidad",0.16250000000000001,1,{"$f":"SOLICITUD!F39","v":0},0,{"$f":"MIN(DiaCash!G39,DisOfic!G39,Lablink!G39,Lyreco!G39,Ocaña!G39,Taine!G39,Vistalegre!G39)","v":0},0]
[34,"Rotulador Punta Fibra. Trazo entre 0,4 Y 1 mm. (Edding)","Unidad",0.39829999999999999,1,{"$f":"SOLICITUD!F40","v":0},0,{"$f":"MIN(DiaCash!G40,DisOfic!G40,Lablink!G40,Lyreco!G40,Ocaña!G40,Taine!G40,Vistalegre!G40)","v":0},0]
[35,"Rotulador indeleble punta 0,6 mm (Staedtler)","Unidad",0.85799999999999998,1,{"$f":"SOLICITUD!F41","v":0},0,{"$f":"MIN(DiaCash!G41,DisOfic!G41,Lablink!G41,Lyreco!G41,Ocaña!G41,Taine!G41,Vistalegre!G41)","v":0},0]
[36,"Rotulador Permanente. Trazo entre 0,7 Y 2 mm Punta Cónica","Unidad",0.27689999999999998,1,{"$f":"SOLICITUD!F42","v":0},0,{"$f":"MIN(DiaCash!G42,DisOfic!G42,Lablink!G42,Lyreco!G42,Ocaña!G42,Taine!G42,Vistalegre!G42)","v":0},0]
[37,"Rotulador Permanente. Trazo entre 0,7 Y 2 mm Punta Cónica (Edding)","Unidad",1.3233999999999999,1,{"$f":"SOLICITUD!F43","v":0},0,{"$f":"MIN(DiaCash!G43,DisOfic!G43,Lablink!G43,Lyreco!G43,Ocaña!G43,Taine!G43,Vistalegre!G43)","v":0},0]
[38,"Rotulador Permanente. Trazo entre 1,5-3 mm  Punta Cómica (Edding)","Unidad",0.6391,1,{"$f":"SOLICITUD!F44","v":0},0,{"$f":"MIN(DiaCash!G44,DisOfic!G44,Lablink!G44,Lyreco!G44,Ocaña!G44,Taine!G44,Vistalegre!G44)","v":0},0]
[39,"Rotulador Permanente. Trazo entre 2 Y 7 mm Punta Cónica","Unidad",0.247,1,{"$f":"SOLICITUD!F45","v":0},0,{"$f":"MIN(DiaCash!G45,DisOfic!G45,Lablink!G45,Lyreco!G45,Ocaña!G45,Taine!G45,Vistalegre!G45)","v":0},0]
[40,"Rotulador Permanente. Trazo entre 2 Y 7 mm Punta Cónica (Edding)","Unidad",1.6,1,{"$f":"SOLICITUD!F46","v":0},0,{"$f":"MIN(DiaCash!G46,DisOfic!G46,Lablink!G46,Lyreco!G46,Ocaña!G46,Taine!G46,Vistalegre!G46)","v":0},0]
[41,"Rotulador Permanente. Trazo entre 2 Y 7 mm Punta Biselada","Unidad",0.247,1,{"$f":"SOLICITUD!F47","v":0},0,{"$f":"MIN(DiaCash!G47,DisOfic!G47,Lablink!G47,Lyreco!G47,Ocaña!G47,Taine!G47,Vistalegre!G47)","v":0},0]
[42,"Rotulador Permanente. Trazo entre 2 Y 7 mm Punta Biselada (Edding)","Unidad",1.4,1,{"$f":"SOLICITUD!F48","v":0},0,{"$f":"MIN(DiaCash!G48,DisOfic!G48,Lablink!G48,Lyreco!G48,Ocaña!G48,Taine!G48,Vistalegre!G48)","v":0},0]
[43,"Rotulador Permanente. Trazo entre 8 Y 16 mm Punta Biselada","Unidad",1.0096000000000001,1,{"$f":"SOLICITUD!F49","v":0},0,{"$f":"MIN(DiaCash!G49,DisOfic!G49,Lablink!G49,Lyreco!G49,Ocaña!G49,Taine!G49,Vistalegre!G49)","v":0},0]
[44,"Rotulador Permanente. Trazo entre 8 Y 16 mm Punta Biselada (Edding)","Unidad",4.4915000000000003,1,{"$f":"SOLICITUD!F50","v":0},0,{"$f":"MIN(DiaCash!G50,DisOfic!G50,Lablink!G50,Lyreco!G50,Ocaña!G50,Taine!G50,Vistalegre!G50)","v":0},0]
[45,"Rotulador Borrable de Punta Biselada para Pizarra Blanca. Trazo Entre 2 Y 5 mm","Unidad",0.25919999999999999,1,{"$f":"SOLICITUD!F51","v":0},0,{"$f":"MIN(DiaCash!G51,DisOfic!G51,Lablink!G51,Lyreco!G51,Ocaña!G51,Taine!G51,Vistalegre!G51)","v":0},0]
[46,"Rotulador Borrable de Punta Biselada para Pizarra Blanca. Trazo Entre 2 Y 5 mm (Bic)","Unidad",0.62029999999999996,1,{"$f":"SOLICITUD!F52","v":0},0,{"$f":"MIN(DiaCash!G52,DisOfic!G52,Lablink!G52,Lyreco!G52,Ocaña!G52,Taine!G52,Vistalegre!G52)","v":0},0]
[47,"Rotulador Borrable de Punta Conica para Pizarra Blanca. Trazo Entre 1 Y 4 mm","Unidad",0.312,1,{"$f":"SOLICITUD!F53","v":0},0,{"$f":"MIN(DiaCash!G53,DisOfic!G53,Lablink!G53,Lyreco!G53,Ocaña!G53,Taine!G53,Vistalegre!G53)","v":0},0]
[48,"Rotulador Borrable de Punta Conica para Pizarra Blanca. Trazo Entre 1 Y 4 mm (Bic)","Unidad",0.58889999999999998,1,{"$f":"SOLICITUD!F54","v":0},0,{"$f":"MIN(DiaCash!G54,DisOfic!G54,Lablink!G54,Lyreco!G54,Ocaña!G54,Taine!G54,Vistalegre!G54)","v":0},0]
[49,"Borrador para Pizarra Blanca","Unidad",0.504,1,{"$f":"SOLICITUD!F55","v":0},0,{"$f":"MIN(DiaCash!G55,DisOfic!G55,Lablink!G55,Lyreco!G55,Ocaña!G55,Taine!G55,Vistalegre!G55)","v":0},0]
[50,"Recambios Borrador de Pizarra Blanca ","Envase 10 unidades",1.363,1,{"$f":"SOLICITUD!F56","v":0},0,{"$f":"MIN(DiaCash!G56,DisOfic!G56,Lablink!G56,Lyreco!G56,Ocaña!G56,Taine!G56,Vistalegre!G56)","v":0},0]
[51,"Puntero laser rojo (Trust)","Unidad",16.763999999999999,1,{"$f":"SOLICITUD!F57","v":0},0,{"$f":"MIN(DiaCash!G57,DisOfic!G57,Lablink!G57,Lyreco!G57,Ocaña!G57,Taine!G57,Vistalegre!G57)","v":0},0]
[52,"Pizarra blanca magnética esmaltada. Marco aluminio/plástico 60x90 cm (hxa) (Nobo)","Unidad",16.992000000000001,1,{"$f":"SOLICITUD!F58","v":0},0,{"$f":"MIN(DiaCash!G58,DisOfic!G58,Lablink!G58,Lyreco!G58,Ocaña!G58,Taine!G58,Vistalegre!G58)","v":0},0]
[53,"Pizarra blanca magnética esmaltada. Marco aluminio/plástico 90x120 cm (hxa) (Nobo)","Unidad",27.443999999999999,1,{"$f":"SOLICITUD!F59","v":0},0,{"$f":"MIN(DiaCash!G59,DisOfic!G59,Lablink!G59,Lyreco!G59,Ocaña!G59,Taine!G59,Vistalegre!G59)","v":0},0]
[54,"Pizarra blanca magnética esmaltada. Marco aluminio/plástico 100x150 cm (hxa) (Nobo)","Unidad",59.892000000000003,1,{"$f":"SOLICITUD!F60","v":0},0,{"$f":"MIN(DiaCash!G60,DisOfic!G60,Lablink!G60,Lyreco!G60,Ocaña!G60,Taine!G60,Vistalegre!G60)","v":0},0]
[55,"Pizarra caballete con superficie lacada magnética. Marco y bandeja portamarcadores en aluminio. Brazos laterales magnéticos que triplican la superficie de lectura. Pies telescópicos con altura regulable. Para usar con o sin block de papel 1000x700 mm (hxa) (Bi-Office)","Unidad",91.98,1,{"$f":"SOLICITUD!F61","v":0},0,{"$f":"MIN(DiaCash!G61,DisOfic!G61,Lablink!G61,Lyreco!G61,Ocaña!G61,Taine!G61,Vistalegre!G61)","v":0},0]
[56,"Cinta Correctora con dispensador desechable tipo Roller. Anchos \nde 4,2 A 6 mm. Largos de 8,5 A 12 Mts.","Unidad",1.1145,1,{"$f":"SOLICITUD!F62","v":0},0,{"$f":"MIN(DiaCash!G62,DisOfic!G62,Lablink!G62,Lyreco!G62,Ocaña!G62,Taine!G62,Vistalegre!G62)","v":0},0]
[57,"Cinta Correctora con dispensador desechable tipo Roller. Anchos \nde 4,2 A 6 mm. Largos de 8,5 A 12 Mts. (Pritt Roller)","Unidad",1.0287999999999999,1,{"$f":"SOLICITUD!F63","v":0},0,{"$f":"MIN(DiaCash!G63,DisOfic!G63,Lablink!G63,Lyreco!G63,Ocaña!G63,Taine!G63,Vistalegre!G63)","v":0},0]
[58,"Corrector Líquido de secado rápido con pincel aplicador 20 Ml","Unidad",0.28660000000000002,1,{"$f":"SOLICITUD!F64","v":0},0,{"$f":"MIN(DiaCash!G64,DisOfic!G64,Lablink!G64,Lyreco!G64,Ocaña!G64,Taine!G64,Vistalegre!G64)","v":0},0]
[59,"Corrector Líquido de secado rápido con pincel aplicador 20 Ml (Tippex)","Unidad",0.36680000000000001,1,{"$f":"SOLICITUD!F65","v":0},0,{"$f":"MIN(DiaCash!G65,DisOfic!G65,Lablink!G65,Lyreco!G65,Ocaña!G65,Taine!G65,Vistalegre!G65)","v":0},0]
[60,"Lápiz corrector con capuchón ajustable punta metálica secado rápido, de 7 a 12 ml (Pritt)","Unidad",1.3112999999999999,1,{"$f":"SOLICITUD!F66","v":0},0,{"$f":"MIN(DiaCash!G66,DisOfic!G66,Lablink!G66,Lyreco!G66,Ocaña!G66,Taine!G66,Vistalegre!G66)","v":0},0]
[61,"Goma para borrar grafito","Unidad",5.1999999999999998E-2,1,{"$f":"SOLICITUD!F67","v":0},0,{"$f":"MIN(DiaCash!G67,DisOfic!G67,Lablink!G67,Lyreco!G67,Ocaña!G67,Taine!G67,Vistalegre!G67)","v":0},0]
[62,"Atril de sobremesa ajustable. Tamaño A4 y mayor","Unidad",1.4332,1,{"$f":"SOLICITUD!F68","v":0},0,{"$f":"MIN(DiaCash!G68,DisOfic!G68,Lablink!G68,Lyreco!G68,Ocaña!G68,Taine!G68,Vistalegre!G68)","v":0},0]
[63,"Bandeja Apilable Sobremesa Plástico . Tamaño minimo apx. 24X34 cms.","Unidad",1.03,1,{"$f":"SOLICITUD!F69","v":0},0,{"$f":"MIN(DiaCash!G69,DisOfic!G69,Lablink!G69,Lyreco!G69,Ocaña!G69,Taine!G69,Vistalegre!G69)","v":0},0]
[64,"Bandeja Apilable Sobremesa Acero Cromado. Tamaño minimo apx. 24X34 cms.","Unidad",2.8443999999999998,1,{"$f":"SOLICITUD!F70","v":0},0,{"$f":"MIN(DiaCash!G70,DisOfic!G70,Lablink!G70,Lyreco!G70,Ocaña!G70,Taine!G70,Vistalegre!G70)","v":0},0]
[65,"Cubilete para lápices ","Unidad",0.59379999999999999,1,{"$f":"SOLICITUD!F71","v":0},0,{"$f":"MIN(DiaCash!G71,DisOfic!G71,Lablink!G71,Lyreco!G71,Ocaña!G71,Taine!G71,Vistalegre!G71)","v":0},0]
[66,"Regla de Plástico milimetrada transparente 40 cm","Unidad",0.28999999999999998,1,{"$f":"SOLICITUD!F72","v":0},{"$f":"IF(F72>0,IF(E72=\"Excluido\",\"Excluido1\",IF(F72>0,IF(F72<E72,\"Excluido2\",D72*F72),0)),0)","v":0},{"$f":"MIN(DiaCash!G72,DisOfic!G72,Lablink!G72,Lyreco!G72,Ocaña!G72,Taine!G72,Vistalegre!G72)","v":0},{"$f":"IF(G72<=H72,G72,0)","v":0}]
[67,"Regla de Plástico milimetrada transparente 40 cm (Staedtler, Faber-Castell)","Unidad",0.61560000000000004,1,{"$f":"SOLICITUD!F73","v":0},0,{"$f":"MIN(DiaCash!G73,DisOfic!G73,Lablink!G73,Lyreco!G73,Ocaña!G73,Taine!G73,Vistalegre!G73)","v":0},0]
[68,"Escuadra y Cartabon transparente 30 ó 40 cm ","Unidad",0.57410000000000005,1,{"$f":"SOLICITUD!F74","v":0},0,{"$f":"MIN(DiaCash!G74,DisOfic!G74,Lablink!G74,Lyreco!G74,Ocaña!G74,Taine!G74,Vistalegre!G74)","v":0},0]
[69,"Escuadra y Cartabon transparente 30 ó 40 cm (Staedtler, Faber-Castell)","Unidad",0.50229999999999997,1,{"$f":"SOLICITUD!F75","v":0},0,{"$f":"MIN(DiaCash!G75,DisOfic!G75,Lablink!G75,Lyreco!G75,Ocaña!G75,Taine!G75,Vistalegre!G75)","v":0},0]
[70,"Abrecartas Acero Inoxidable 170 mm aprox.","Unidad",1.111,1,{"$f":"SOLICITUD!F76","v":0},0,{"$f":"MIN(DiaCash!G76,DisOfic!G76,Lablink!G76,Lyreco!G76,Ocaña!G76,Taine!G76,Vistalegre!G76)","v":0},0]
[71,"Bloque Calendario 82X116 mm, Papel de 60 gr/m2 mínimo","Unidad",0.65400000000000003,1,{"$f":"SOLICITUD!F77","v":0},0,{"$f":"MIN(DiaCash!G77,DisOfic!G77,Lablink!G77,Lyreco!G77,Ocaña!G77,Taine!G77,Vistalegre!G77)","v":0},0]
[72,"Base para Bloque Calendario en baquelita","Unidad",0.95399999999999996,1,{"$f":"SOLICITUD!F78","v":0},0,{"$f":"MIN(DiaCash!G78,DisOfic!G78,Lablink!G78,Lyreco!G78,Ocaña!G78,Taine!G78,Vistalegre!G78)","v":0},0]
[73,"Chincheta metálica ","Envase 100 Unidades",0.30359999999999998,1,{"$f":"SOLICITUD!F79","v":0},0,{"$f":"MIN(DiaCash!G79,DisOfic!G79,Lablink!G79,Lyreco!G79,Ocaña!G79,Taine!G79,Vistalegre!G79)","v":0},0]
[74,"Chincheta señalizadoras colores (Apli)","Envase 50 unidades",0.315,1,{"$f":"SOLICITUD!F80","v":0},0,{"$f":"MIN(DiaCash!G80,DisOfic!G80,Lablink!G80,Lyreco!G80,Ocaña!G80,Taine!G80,Vistalegre!G80)","v":0},0]
[75,"Portarrollos para Cinta Adhesiva Hasta 25 mm de ancho y hasta 33 mts de largo","Unidad",1.4976,1,{"$f":"SOLICITUD!F81","v":0},0,{"$f":"MIN(DiaCash!G81,DisOfic!G81,Lablink!G81,Lyreco!G81,Ocaña!G81,Taine!G81,Vistalegre!G81)","v":0},0]
[76,"Portarrollos para Cinta Adhesiva Hasta 25 mm de ancho y hasta 33 mts de largo (Scotch)","Unidad",1.4976,1,{"$f":"SOLICITUD!F82","v":0},0,{"$f":"MIN(DiaCash!G82,DisOfic!G82,Lablink!G82,Lyreco!G82,Ocaña!G82,Taine!G82,Vistalegre!G82)","v":0},0]
[77,"Portarrollos para Cinta Adhesiva Hasta 25 mm de ancho y hasta 66 mts de largo","Unidad",2.145,1,{"$f":"SOLICITUD!F83","v":0},0,{"$f":"MIN(DiaCash!G83,DisOfic!G83,Lablink!G83,Lyreco!G83,Ocaña!G83,Taine!G83,Vistalegre!G83)","v":0},0]
[78,"Portarrollos para Cinta Adhesiva Hasta 25 mm de ancho y hasta 66 mts de largo (Scotch)","Unidad",2.145,1,{"$f":"SOLICITUD!F84","v":0},0,{"$f":"MIN(DiaCash!G84,DisOfic!G84,Lablink!G84,Lyreco!G84,Ocaña!G84,Taine!G84,Vistalegre!G84)","v":0},0]
[79,"Cinta Adhesiva Transparente 12 mm X 33 mts.","Unidad",0.19109999999999999,1,{"$f":"SOLICITUD!F85","v":0},0,{"$f":"MIN(DiaCash!G85,DisOfic!G85,Lablink!G85,Lyreco!G85,Ocaña!G85,Taine!G85,Vistalegre!G85)","v":0},0]
[80,"Cinta Adhesiva Transparente 19 mm X 33 mts.","Unidad",0.25700000000000001,1,{"$f":"SOLICITUD!F86","v":0},0,{"$f":"MIN(DiaCash!G86,DisOfic!G86,Lablink!G86,Lyreco!G86,Ocaña!G86,Taine!G86,Vistalegre!G86)","v":0},0]
[81,"Cinta Adhesiva Transparente 19 mm X 66 mts.","Unidad",0.31850000000000001,1,{"$f":"SOLICITUD!F87","v":0},0,{"$f":"MIN(DiaCash!G87,DisOfic!G87,Lablink!G87,Lyreco!G87,Ocaña!G87,Taine!G87,Vistalegre!G87)","v":0},0]
[82,"Cinta Adhesiva Invisible 19 mm x 33 mts.","Unidad",0.46200000000000002,1,{"$f":"SOLICITUD!F88","v":0},0,{"$f":"MIN(DiaCash!G88,DisOfic!G88,Lablink!G88,Lyreco!G88,Ocaña!G88,Taine!G88,Vistalegre!G88)","v":0},0]
[83,"Cinta Adhesiva Invisible 12 mm x 33 mts. (Scotch Magic)","Unidad",1.7509999999999999,1,{"$f":"SOLICITUD!F89","v":0},0,{"$f":"MIN(DiaCash!G89,DisOfic!G89,Lablink!G89,Lyreco!G89,Ocaña!G89,Taine!G89,Vistalegre!G89)","v":0},0]
[84,"Cinta Adhesiva Invisible 19 mm x 33 mts. (Scotch Magic)","Unidad",0.4824,1,{"$f":"SOLICITUD!F90","v":0},0,{"$f":"MIN(DiaCash!G90,DisOfic!G90,Lablink!G90,Lyreco!G90,Ocaña!G90,Taine!G90,Vistalegre!G90)","v":0},0]
[85,"Cinta Adhesiva Transparente 19 mm X 66 mts. (Scotch)","Unidad",0.44640000000000002,1,{"$f":"SOLICITUD!F91","v":0},0,{"$f":"MIN(DiaCash!G91,DisOfic!G91,Lablink!G91,Lyreco!G91,Ocaña!G91,Taine!G91,Vistalegre!G91)","v":0},0]
[86,"Precintadora Manual hasta 50 mm de ancho","Unidad",3.3515999999999999,1,{"$f":"SOLICITUD!F92","v":0},0,{"$f":"MIN(DiaCash!G92,DisOfic!G92,Lablink!G92,Lyreco!G92,Ocaña!G92,Taine!G92,Vistalegre!G92)","v":0},0]
[87,"Cinta Adhesiva para embalaje (Precinto) 48-55 mm x 66 mts mínimo","Unidad",0.68520000000000003,1,{"$f":"SOLICITUD!F93","v":0},0,{"$f":"MIN(DiaCash!G93,DisOfic!G93,Lablink!G93,Lyreco!G93,Ocaña!G93,Taine!G93,Vistalegre!G93)","v":0},0]
[88,"Cinta Adhesiva para embalaje (Precinto) 50 mm x 76 mts mínimo","Unidad",0.68520000000000003,1,{"$f":"SOLICITUD!F94","v":0},0,{"$f":"MIN(DiaCash!G94,DisOfic!G94,Lablink!G94,Lyreco!G94,Ocaña!G94,Taine!G94,Vistalegre!G94)","v":0},0]
[89,"Clips Mariposa metálicos niquelados. Número 20. 50 mm","Envase 25 unidades",0.88919999999999999,1,{"$f":"SOLICITUD!F95","v":0},0,{"$f":"MIN(DiaCash!G95,DisOfic!G95,Lablink!G95,Lyreco!G95,Ocaña!G95,Taine!G95,Vistalegre!G95)","v":0},0]
[90,"Clips Mariposa  metálicos niquelados. Número 10. 40 mm","Envase 50 unidades",0.88270000000000004,1,{"$f":"SOLICITUD!F96","v":0},0,{"$f":"MIN(DiaCash!G96,DisOfic!G96,Lablink!G96,Lyreco!G96,Ocaña!G96,Taine!G96,Vistalegre!G96)","v":0},0]
[91,"Clips Labiados redondos metálicos pulidos. Número 1. 20 mm","Envase 100 unidades",0.18,1,{"$f":"SOLICITUD!F97","v":0},0,{"$f":"MIN(DiaCash!G97,DisOfic!G97,Lablink!G97,Lyreco!G97,Ocaña!G97,Taine!G97,Vistalegre!G97)","v":0},0]
[92,"Clips Labiados redondos metálicos pulidos. Número 1,5. 25 mm","Envase 100 unidades",0.20300000000000001,1,{"$f":"SOLICITUD!F98","v":0},0,{"$f":"MIN(DiaCash!G98,DisOfic!G98,Lablink!G98,Lyreco!G98,Ocaña!G98,Taine!G98,Vistalegre!G98)","v":0},0]
[93,"Clips Labiados redondos metálicos pulidos. Número 2. 32 mm","Envase 100 unidades",0.23,1,{"$f":"SOLICITUD!F99","v":0},0,{"$f":"MIN(DiaCash!G99,DisOfic!G99,Lablink!G99,Lyreco!G99,Ocaña!G99,Taine!G99,Vistalegre!G99)","v":0},0]
[94,"Clips Labiados redondos metálicos pulidos. Número 3. 40 mm","Envase 100 unidades",0.42,1,{"$f":"SOLICITUD!F100","v":0},0,{"$f":"MIN(DiaCash!G100,DisOfic!G100,Lablink!G100,Lyreco!G100,Ocaña!G100,Taine!G100,Vistalegre!G100)","v":0},0]
[95,"Pinza doble clip negra 19 mm ","Envase 12 unidades",0.25919999999999999,1,{"$f":"SOLICITUD!F101","v":0},0,{"$f":"MIN(DiaCash!G101,DisOfic!G101,Lablink!G101,Lyreco!G101,Ocaña!G101,Taine!G101,Vistalegre!G101)","v":0},0]
[96,"Pinza doble clip negra 25 mm ","Envase 12 unidades",0.38879999999999998,1,{"$f":"SOLICITUD!F102","v":0},0,{"$f":"MIN(DiaCash!G102,DisOfic!G102,Lablink!G102,Lyreco!G102,Ocaña!G102,Taine!G102,Vistalegre!G102)","v":0},0]
[97,"Pinza doble clip negra 32 mm ","Envase 12 unidades",0.60619999999999996,1,{"$f":"SOLICITUD!F103","v":0},0,{"$f":"MIN(DiaCash!G103,DisOfic!G103,Lablink!G103,Lyreco!G103,Ocaña!G103,Taine!G103,Vistalegre!G103)","v":0},0]
[98,"Pinza doble clip negra 40 mm ","Envase 12 unidades",0.96479999999999999,1,{"$f":"SOLICITUD!F104","v":0},0,{"$f":"MIN(DiaCash!G104,DisOfic!G104,Lablink!G104,Lyreco!G104,Ocaña!G104,Taine!G104,Vistalegre!G104)","v":0},0]
[99,"Pinza doble clip negra 50 mm ","Envase 12 unidades",1.4688000000000001,1,{"$f":"SOLICITUD!F105","v":0},0,{"$f":"MIN(DiaCash!G105,DisOfic!G105,Lablink!G105,Lyreco!G105,Ocaña!G105,Taine!G105,Vistalegre!G105)","v":0},0]
[100,"Porta clips imantado con rodillo","Unidad",0.9,1,{"$f":"SOLICITUD!F106","v":0},0,{"$f":"MIN(DiaCash!G106,DisOfic!G106,Lablink!G106,Lyreco!G106,Ocaña!G106,Taine!G106,Vistalegre!G106)","v":0},0]
[101,"Porta clips imantado redondo","Unidad",0.71399999999999997,1,{"$f":"SOLICITUD!F107","v":0},0,{"$f":"MIN(DiaCash!G107,DisOfic!G107,Lablink!G107,Lyreco!G107,Ocaña!G107,Taine!G107,Vistalegre!G107)","v":0},0]
[102,"Cutter hoja 18 mm.","Unidad",0.31850000000000001,1,{"$f":"SOLICITUD!F108","v":0},0,{"$f":"MIN(DiaCash!G108,DisOfic!G108,Lablink!G108,Lyreco!G108,Ocaña!G108,Taine!G108,Vistalegre!G108)","v":0},0]
[103,"Cutter hoja 9 mm.","Unidad",0.19109999999999999,1,{"$f":"SOLICITUD!F109","v":0},0,{"$f":"MIN(DiaCash!G109,DisOfic!G109,Lablink!G109,Lyreco!G109,Ocaña!G109,Taine!G109,Vistalegre!G109)","v":0},0]
[104,"Recambios para Cutter 18 mm","Envase 10 Unidades",0.50309999999999999,1,{"$f":"SOLICITUD!F110","v":0},0,{"$f":"MIN(DiaCash!G110,DisOfic!G110,Lablink!G110,Lyreco!G110,Ocaña!G110,Taine!G110,Vistalegre!G110)","v":0},0]
[105,"Recambios para Cutter 9 mm","Envase 10 Unidades",0.34710000000000002,1,{"$f":"SOLICITUD!F111","v":0},0,{"$f":"MIN(DiaCash!G111,DisOfic!G111,Lablink!G111,Lyreco!G111,Ocaña!G111,Taine!G111,Vistalegre!G111)","v":0},0]
[106,"Gomas Elásticas tamaños de 80 A 100 mm","Envase 100 gr.",0.52600000000000002,1,{"$f":"SOLICITUD!F112","v":0},0,{"$f":"MIN(DiaCash!G112,DisOfic!G112,Lablink!G112,Lyreco!G112,Ocaña!G112,Taine!G112,Vistalegre!G112)","v":0},0]
[107,"Gomas Elásticas tamaños Hasta 60 mm","Envase 100 gr.",0.68899999999999995,1,{"$f":"SOLICITUD!F113","v":0},0,{"$f":"MIN(DiaCash!G113,DisOfic!G113,Lablink!G113,Lyreco!G113,Ocaña!G113,Taine!G113,Vistalegre!G113)","v":0},0]
[108,"Pegamento en Barra (Barra 20 gr)","Unidad",0.18959999999999999,1,{"$f":"SOLICITUD!F114","v":0},0,{"$f":"MIN(DiaCash!G114,DisOfic!G114,Lablink!G114,Lyreco!G114,Ocaña!G114,Taine!G114,Vistalegre!G114)","v":0},0]
[109,"Pegamento en Barra (Barra 20 gr) (Pritt)","Unidad",1.2152000000000001,1,{"$f":"SOLICITUD!F115","v":0},0,{"$f":"MIN(DiaCash!G115,DisOfic!G115,Lablink!G115,Lyreco!G115,Ocaña!G115,Taine!G115,Vistalegre!G115)","v":0},0]
[110,"Pegamento en Barra (Barra 40 gr)","Unidad",0.26640000000000003,1,{"$f":"SOLICITUD!F116","v":0},0,{"$f":"MIN(DiaCash!G116,DisOfic!G116,Lablink!G116,Lyreco!G116,Ocaña!G116,Taine!G116,Vistalegre!G116)","v":0},0]
[111,"Pegamento en Barra (Barra 40 gr) (Pritt)","Unidad",1.5711999999999999,1,{"$f":"SOLICITUD!F117","v":0},0,{"$f":"MIN(DiaCash!G117,DisOfic!G117,Lablink!G117,Lyreco!G117,Ocaña!G117,Taine!G117,Vistalegre!G117)","v":0},0]
[112,"Pegamento Instantáneo Cianocrilato (Tubo 3 gr)","Unidad",0.40039999999999998,1,{"$f":"SOLICITUD!F118","v":0},0,{"$f":"MIN(DiaCash!G118,DisOfic!G118,Lablink!G118,Lyreco!G118,Ocaña!G118,Taine!G118,Vistalegre!G118)","v":0},0]
[113,"Pegamento Instantáneo Cianocrilato (Tubo 3 gr) (Loctite)","Unidad",0.66,1,{"$f":"SOLICITUD!F119","v":0},0,{"$f":"MIN(DiaCash!G119,DisOfic!G119,Lablink!G119,Lyreco!G119,Ocaña!G119,Taine!G119,Vistalegre!G119)","v":0},0]
[114,"Pegamento Instantáneo Cianocrilato Con Pincel Aplicador (5 gr)","Unidad",1.8282,1,{"$f":"SOLICITUD!F120","v":0},0,{"$f":"MIN(DiaCash!G120,DisOfic!G120,Lablink!G120,Lyreco!G120,Ocaña!G120,Taine!G120,Vistalegre!G120)","v":0},0]
[115,"Pegamento Instantáneo Cianocrilato Con Pincel Aplicador (5 gr) (Loctite)","Unidad",1.8282,1,{"$f":"SOLICITUD!F121","v":0},0,{"$f":"MIN(DiaCash!G121,DisOfic!G121,Lablink!G121,Lyreco!G121,Ocaña!G121,Taine!G121,Vistalegre!G121)","v":0},0]
[116,"Pegamento Universal (Tubo 35 gr)","Unidad",0.51239999999999997,1,{"$f":"SOLICITUD!F122","v":0},0,{"$f":"MIN(DiaCash!G122,DisOfic!G122,Lablink!G122,Lyreco!G122,Ocaña!G122,Taine!G122,Vistalegre!G122)","v":0},0]
[117,"Pegamento Universal (Tubo 35 gr) (Imedio)","Unidad",1.218,1,{"$f":"SOLICITUD!F123","v":0},0,{"$f":"MIN(DiaCash!G123,DisOfic!G123,Lablink!G123,Lyreco!G123,Ocaña!G123,Taine!G123,Vistalegre!G123)","v":0},0]
[118,"Tijera hoja acero inoxidable. Mango ergonomico. Longitud 150 mm","Unidad",0.53300000000000003,1,{"$f":"SOLICITUD!F124","v":0},0,{"$f":"MIN(DiaCash!G124,DisOfic!G124,Lablink!G124,Lyreco!G124,Ocaña!G124,Taine!G124,Vistalegre!G124)","v":0},0]
[119,"Tijera hoja acero Inoxidable. Mango ergonomico. Longitud 210 mm","Unidad",0.8528,1,{"$f":"SOLICITUD!F125","v":0},0,{"$f":"MIN(DiaCash!G125,DisOfic!G125,Lablink!G125,Lyreco!G125,Ocaña!G125,Taine!G125,Vistalegre!G125)","v":0},0]
[120,"Tijera hoja acero inoxidable. 150 mm Longitud. (Westcott)","Unidad",2.7719999999999998,1,{"$f":"SOLICITUD!F126","v":0},0,{"$f":"MIN(DiaCash!G126,DisOfic!G126,Lablink!G126,Lyreco!G126,Ocaña!G126,Taine!G126,Vistalegre!G126)","v":0},0]
[121,"Tijera hoja acero inoxidable. 210 mm Longitud. (Westcott)","Unidad",3.2759999999999998,1,{"$f":"SOLICITUD!F127","v":0},0,{"$f":"MIN(DiaCash!G127,DisOfic!G127,Lablink!G127,Lyreco!G127,Ocaña!G127,Taine!G127,Vistalegre!G127)","v":0},0]
[122,"Calculadora sobremesa de oficina","Unidad",3.5009000000000001,1,{"$f":"SOLICITUD!F128","v":0},0,{"$f":"MIN(DiaCash!G128,DisOfic!G128,Lablink!G128,Lyreco!G128,Ocaña!G128,Taine!G128,Vistalegre!G128)","v":0},0]
[123,"Calculadora sobremesa de oficina (Casio)","Unidad",4.4160000000000004,1,{"$f":"SOLICITUD!F129","v":0},0,{"$f":"MIN(DiaCash!G129,DisOfic!G129,Lablink!G129,Lyreco!G129,Ocaña!G129,Taine!G129,Vistalegre!G129)","v":0},0]
[124,"Calculadora científica 12 dígitos (Casio)","Unidad",8.0039999999999996,1,{"$f":"SOLICITUD!F130","v":0},0,{"$f":"MIN(DiaCash!G130,DisOfic!G130,Lablink!G130,Lyreco!G130,Ocaña!G130,Taine!G130,Vistalegre!G130)","v":0},0]
[125,"Grapadora sobremesa metálica. Capacidad mínima 30 hojas de papel 80 gr/m2","Unidad",2.7543000000000002,1,{"$f":"SOLICITUD!F131","v":0},0,{"$f":"MIN(DiaCash!G131,DisOfic!G131,Lablink!G131,Lyreco!G131,Ocaña!G131,Taine!G131,Vistalegre!G131)","v":0},0]
[126,"Grapadora sobremesa metálica. Capacidad mínima 30 hojas de papel 80 gr/m2 (Petrus)","Unidad",16.857700000000001,1,{"$f":"SOLICITUD!F132","v":0},0,{"$f":"MIN(DiaCash!G132,DisOfic!G132,Lablink!G132,Lyreco!G132,Ocaña!G132,Taine!G132,Vistalegre!G132)","v":0},0]
[127,"Grapadora sobremesa . Capacidad mínima 20 hojas de papel 80 gr/m2","Unidad",1.6471,1,{"$f":"SOLICITUD!F133","v":0},0,{"$f":"MIN(DiaCash!G133,DisOfic!G133,Lablink!G133,Lyreco!G133,Ocaña!G133,Taine!G133,Vistalegre!G133)","v":0},0]
[128,"Grapadora Tenaza Metalica. Capacidad mínima 40 hojas de papel 80 gr/m2","Unidad",3.8220000000000001,1,{"$f":"SOLICITUD!F134","v":0},0,{"$f":"MIN(DiaCash!G134,DisOfic!G134,Lablink!G134,Lyreco!G134,Ocaña!G134,Taine!G134,Vistalegre!G134)","v":0},0]
[129,"Grapadora Tenaza Metalica. Capacidad mínima 40 hojas de papel 80 gr/m2 (Petrus)","Unidad",18.837,1,{"$f":"SOLICITUD!F135","v":0},0,{"$f":"MIN(DiaCash!G135,DisOfic!G135,Lablink!G135,Lyreco!G135,Ocaña!G135,Taine!G135,Vistalegre!G135)","v":0},0]
[130,"Grapadora Tenaza. Capacidad mínima 20 hojas de papel 80 gr/m2","Unidad",2.5024999999999999,1,{"$f":"SOLICITUD!F136","v":0},{"$f":"IF(F136>0,IF(E136=\"Excluido\",\"Excluido1\",IF(F136>0,IF(F136<E136,\"Excluido2\",D136*F136),0)),0)","v":0},{"$f":"MIN(DiaCash!G136,DisOfic!G136,Lablink!G136,Lyreco!G136,Ocaña!G136,Taine!G136,Vistalegre!G136)","v":0},{"$f":"IF(G136<=H136,G136,0)","v":0}]
[131,"Grapas Cobreadas o Galvanizadas 22/6 o equivalente","Envase 1000 unidades",0.2457,1,{"$f":"SOLICITUD!F137","v":0},0,{"$f":"MIN(DiaCash!G137,DisOfic!G137,Lablink!G137,Lyreco!G137,Ocaña!G137,Taine!G137,Vistalegre!G137)","v":0},0]
[132,"Grapas Cobreadas o Galvanizadas 22/6 o equivalente (Petrus)","Envase 1000 unidades",0.45500000000000002,1,{"$f":"SOLICITUD!F138","v":0},0,{"$f":"MIN(DiaCash!G138,DisOfic!G138,Lablink!G138,Lyreco!G138,Ocaña!G138,Taine!G138,Vistalegre!G138)","v":0},0]
[133,"Grapas Cobreadas o Galvanizadas 24/6 o equivalente","Envase 1000 unidades",0.22489999999999999,1,{"$f":"SOLICITUD!F139","v":0},0,{"$f":"MIN(DiaCash!G139,DisOfic!G139,Lablink!G139,Lyreco!G139,Ocaña!G139,Taine!G139,Vistalegre!G139)","v":0},0]
[134,"Grapas Cobreadas o Galvanizadas 24/6 o equivalente (Petrus)","Envase 1000 unidades",0.28599999999999998,1,{"$f":"SOLICITUD!F140","v":0},0,{"$f":"MIN(DiaCash!G140,DisOfic!G140,Lablink!G140,Lyreco!G140,Ocaña!G140,Taine!G140,Vistalegre!G140)","v":0},0]
[135,"Grapas Cobreadas o Galvanizadas 23/6 o equivalente","Envase 1000 unidades",0.2457,1,{"$f":"SOLICITUD!F141","v":0},0,{"$f":"MIN(DiaCash!G141,DisOfic!G141,Lablink!G141,Lyreco!G141,Ocaña!G141,Taine!G141,Vistalegre!G141)","v":0},0]
[136,"Grapas Cobreadas o Galvanizadas 23/6 o equivalente (Petrus)","Envase 1000 unidades",0.45500000000000002,1,{"$f":"SOLICITUD!F142","v":0},0,{"$f":"MIN(DiaCash!G142,DisOfic!G142,Lablink!G142,Lyreco!G142,Ocaña!G142,Taine!G142,Vistalegre!G142)","v":0},0]
[137,"Grapas Cobreadas o Galvanizadas 23/8 o equivalente","Envase 1000 unidades",0.40949999999999998,1,{"$f":"SOLICITUD!F143","v":0},0,{"$f":"MIN(DiaCash!G143,DisOfic!G143,Lablink!G143,Lyreco!G143,Ocaña!G143,Taine!G143,Vistalegre!G143)","v":0},0]
[138,"Grapas Cobreadas o Galvanizadas 23/8 o equivalente (Petrus)","Envase 1000 unidades",0.8,1,{"$f":"SOLICITUD!F144","v":0},0,{"$f":"MIN(DiaCash!G144,DisOfic!G144,Lablink!G144,Lyreco!G144,Ocaña!G144,Taine!G144,Vistalegre!G144)","v":0},0]
[139,"Grapas Cobreadas o Galvanizadas 23/10 o equivalente","Envase 1000 unidades",0.52500000000000002,1,{"$f":"SOLICITUD!F145","v":0},0,{"$f":"MIN(DiaCash!G145,DisOfic!G145,Lablink!G145,Lyreco!G145,Ocaña!G145,Taine!G145,Vistalegre!G145)","v":0},0]
[140,"Grapas Cobreadas o Galvanizadas 23/10 o equivalente (Petrus)","Envase 1000 unidades",1.0335000000000001,1,{"$f":"SOLICITUD!F146","v":0},0,{"$f":"MIN(DiaCash!G146,DisOfic!G146,Lablink!G146,Lyreco!G146,Ocaña!G146,Taine!G146,Vistalegre!G146)","v":0},0]
[141,"Grapas Cobreadas o Galvanizadas 23/12 o equivalente","Envase 1000 unidades",0.6825,1,{"$f":"SOLICITUD!F147","v":0},0,{"$f":"MIN(DiaCash!G147,DisOfic!G147,Lablink!G147,Lyreco!G147,Ocaña!G147,Taine!G147,Vistalegre!G147)","v":0},0]
[142,"Grapas Cobreadas o Galvanizadas 23/12 o equivalente (Petrus)","Envase 1000 unidades",1.2382,1,{"$f":"SOLICITUD!F148","v":0},0,{"$f":"MIN(DiaCash!G148,DisOfic!G148,Lablink!G148,Lyreco!G148,Ocaña!G148,Taine!G148,Vistalegre!G148)","v":0},0]
[143,"Grapas Cobreadas o Galvanizadas 23/13 o equivalente","Envase 1000 unidades",0.62790000000000001,1,{"$f":"SOLICITUD!F149","v":0},0,{"$f":"MIN(DiaCash!G149,DisOfic!G149,Lablink!G149,Lyreco!G149,Ocaña!G149,Taine!G149,Vistalegre!G149)","v":0},0]
[144,"Grapas Cobreadas o Galvanizadas 23/13 o equivalente (Petrus)","Envase 1000 unidades",1.4722,1,{"$f":"SOLICITUD!F150","v":0},0,{"$f":"MIN(DiaCash!G150,DisOfic!G150,Lablink!G150,Lyreco!G150,Ocaña!G150,Taine!G150,Vistalegre!G150)","v":0},0]
[145,"Grapas Cobreadas o Galvanizadas 23/15 o equivalente","Envase 1000 unidades",0.80989999999999995,1,{"$f":"SOLICITUD!F151","v":0},0,{"$f":"MIN(DiaCash!G151,DisOfic!G151,Lablink!G151,Lyreco!G151,Ocaña!G151,Taine!G151,Vistalegre!G151)","v":0},0]
[146,"Grapas Cobreadas o Galvanizadas 23/15 o equivalente (Petrus)","Envase 1000 unidades",1.4235,1,{"$f":"SOLICITUD!F152","v":0},0,{"$f":"MIN(DiaCash!G152,DisOfic!G152,Lablink!G152,Lyreco!G152,Ocaña!G152,Taine!G152,Vistalegre!G152)","v":0},0]
[147,"Grapas Cobreadas o Galvanizadas 23/17 o equivalente","Envase 1000 unidades",1.0465,1,{"$f":"SOLICITUD!F153","v":0},0,{"$f":"MIN(DiaCash!G153,DisOfic!G153,Lablink!G153,Lyreco!G153,Ocaña!G153,Taine!G153,Vistalegre!G153)","v":0},0]
[148,"Grapas Cobreadas o Galvanizadas 23/17 o equivalente (Petrus)","Envase 1000 unidades",1.17,1,{"$f":"SOLICITUD!F154","v":0},0,{"$f":"MIN(DiaCash!G154,DisOfic!G154,Lablink!G154,Lyreco!G154,Ocaña!G154,Taine!G154,Vistalegre!G154)","v":0},0]
[149,"Grapas Cobreadas o Galvanizadas 23/20 o equivalente","Envase 1000 unidades",1.2284999999999999,1,{"$f":"SOLICITUD!F155","v":0},0,{"$f":"MIN(DiaCash!G155,DisOfic!G155,Lablink!G155,Lyreco!G155,Ocaña!G155,Taine!G155,Vistalegre!G155)","v":0},0]
[150,"Grapas Cobreadas o Galvanizadas 23/20 o equivalente (Petrus)","Envase 1000 unidades",1.3552,1,{"$f":"SOLICITUD!F156","v":0},0,{"$f":"MIN(DiaCash!G156,DisOfic!G156,Lablink!G156,Lyreco!G156,Ocaña!G156,Taine!G156,Vistalegre!G156)","v":0},0]
[151,"Grapas Cobreadas o Galvanizadas 23/24 o equivalente","Envase 1000 unidades",3.4020000000000001,1,{"$f":"SOLICITUD!F157","v":0},0,{"$f":"MIN(DiaCash!G157,DisOfic!G157,Lablink!G157,Lyreco!G157,Ocaña!G157,Taine!G157,Vistalegre!G157)","v":0},0]
[152,"Grapas Cobreadas o Galvanizadas 23/24 o equivalente (Petrus)","Envase 1000 unidades",5.3689999999999998,1,{"$f":"SOLICITUD!F158","v":0},0,{"$f":"MIN(DiaCash!G158,DisOfic!G158,Lablink!G158,Lyreco!G158,Ocaña!G158,Taine!G158,Vistalegre!G158)","v":0},0]
[153,"Grapas Galvanizadas 26/6 o equivalente","Envase 1000 unidades",0.30220000000000002,1,{"$f":"SOLICITUD!F159","v":0},0,{"$f":"MIN(DiaCash!G159,DisOfic!G159,Lablink!G159,Lyreco!G159,Ocaña!G159,Taine!G159,Vistalegre!G159)","v":0},0]
[154,"Grapas Galvanizadas 26/6 o equivalente (Petrus)","Envase 1000 unidades",0.30220000000000002,1,{"$f":"SOLICITUD!F160","v":0},0,{"$f":"MIN(DiaCash!G160,DisOfic!G160,Lablink!G160,Lyreco!G160,Ocaña!G160,Taine!G160,Vistalegre!G160)","v":0},0]
[155,"Grapas Galvanizadas 26/8 o equivalente","Envase 5000 unidades",4.3319999999999999,1,{"$f":"SOLICITUD!F161","v":0},0,{"$f":"MIN(DiaCash!G161,DisOfic!G161,Lablink!G161,Lyreco!G161,Ocaña!G161,Taine!G161,Vistalegre!G161)","v":0},0]
[156,"Grapas Galvanizadas 26/8 o equivalente (Petrus)","Envase 5000 unidades",4.3319999999999999,1,{"$f":"SOLICITUD!F162","v":0},0,{"$f":"MIN(DiaCash!G162,DisOfic!G162,Lablink!G162,Lyreco!G162,Ocaña!G162,Taine!G162,Vistalegre!G162)","v":0},0]
[157,"Quita Grapas tipo pinza cuerpo metálico","Unidad",0.33400000000000002,1,{"$f":"SOLICITUD!F163","v":0},0,{"$f":"MIN(DiaCash!G163,DisOfic!G163,Lablink!G163,Lyreco!G163,Ocaña!G163,Taine!G163,Vistalegre!G163)","v":0},0]
[158,"Quita Grapas tipo pinza cuerpo metálico (Petrus, Novus)","Unidad",0.46800000000000003,1,{"$f":"SOLICITUD!F164","v":0},0,{"$f":"MIN(DiaCash!G164,DisOfic!G164,Lablink!G164,Lyreco!G164,Ocaña!G164,Taine!G164,Vistalegre!G164)","v":0},0]
[159,"Perforadora  para papel 4 punzones. Capacidad Minima 30 hojas de 80gr/m2. Guia de posicicionamiento y deposito desperdicios. Distancia entre taladros 80mm","Unidad",34.735999999999997,1,{"$f":"SOLICITUD!F165","v":0},0,{"$f":"MIN(DiaCash!G165,DisOfic!G165,Lablink!G165,Lyreco!G165,Ocaña!G165,Taine!G165,Vistalegre!G165)","v":0},0]
[160,"Perforadora  para papel 4 punzones. Capacidad Minima 30 hojas de 80gr/m2. Guia de posicicionamiento y deposito desperdicios. Distancia entre taladros 80mm (Petrus)","Unidad",34.735999999999997,1,{"$f":"SOLICITUD!F166","v":0},0,{"$f":"MIN(DiaCash!G166,DisOfic!G166,Lablink!G166,Lyreco!G166,Ocaña!G166,Taine!G166,Vistalegre!G166)","v":0},0]
[161,"Perforadora  para papel 2 Punzones. Capacidad mínima 20 hojas de 80gr/m2. Guia de posicicionamiento y deposito desperdicios. Distancia entre taladros 80mm ","Unidad",2.4115000000000002,1,{"$f":"SOLICITUD!F167","v":0},0,{"$f":"MIN(DiaCash!G167,DisOfic!G167,Lablink!G167,Lyreco!G167,Ocaña!G167,Taine!G167,Vistalegre!G167)","v":0},0]
[162,"Perforadora  para papel 2 Punzones. Capacidad mínima 20 hojas de 80gr/m2. Guia de posicicionamiento y deposito desperdicios. Distancia entre taladros 80mm (Petrus)","Unidad",7.5561999999999996,1,{"$f":"SOLICITUD!F168","v":0},0,{"$f":"MIN(DiaCash!G168,DisOfic!G168,Lablink!G168,Lyreco!G168,Ocaña!G168,Taine!G168,Vistalegre!G168)","v":0},0]
[163,"Perforadora  para papel 2 Punzones. Capacidad mínima 60 hojas de 80gr/m2. Guia de Posicicionamiento y deposito desperdicios. Distancia entre taladros 80mm","Unidad",15.957000000000001,1,{"$f":"SOLICITUD!F169","v":0},0,{"$f":"MIN(DiaCash!G169,DisOfic!G169,Lablink!G169,Lyreco!G169,Ocaña!G169,Taine!G169,Vistalegre!G169)","v":0},0]
[164,"Perforadora  para papel 2 Punzones. Capacidad mínima 60 hojas de 80gr/m2. Guia de Posicicionamiento y deposito desperdicios. Distancia entre taladros 80mm (Petrus)","Unidad",18.7102,1,{"$f":"SOLICITUD!F170","v":0},0,{"$f":"MIN(DiaCash!G170,DisOfic!G170,Lablink!G170,Lyreco!G170,Ocaña!G170,Taine!G170,Vistalegre!G170)","v":0},0]
[165,"Papelera metálica rejilla cuadrada o redonda. Mínimo:  30cm altura X 25cm diámetro","Unidad",2.6520000000000001,1,{"$f":"SOLICITUD!F171","v":0},0,{"$f":"MIN(DiaCash!G171,DisOfic!G171,Lablink!G171,Lyreco!G171,Ocaña!G171,Taine!G171,Vistalegre!G171)","v":0},0]
[166,"Fechador de entintaje automático. Con placa de texto altura mínima de impresión de 4 mm.","Unidad",5.0049999999999999,1,{"$f":"SOLICITUD!F172","v":0},0,{"$f":"MIN(DiaCash!G172,DisOfic!G172,Lablink!G172,Lyreco!G172,Ocaña!G172,Taine!G172,Vistalegre!G172)","v":0},0]
[167,"Numerador automático de 6 dígitos con armazón metálico y ruedas. Altura de impresión mínima de 4, 5 mm.","Unidad",33.799999999999997,1,{"$f":"SOLICITUD!F173","v":0},0,{"$f":"MIN(DiaCash!G173,DisOfic!G173,Lablink!G173,Lyreco!G173,Ocaña!G173,Taine!G173,Vistalegre!G173)","v":0},0]
[168,"Sello de caucho circular grabado. Tamaño área para texto de hasta 50 mm  de diámetro.","Unidad",6.5,1,{"$f":"SOLICITUD!F174","v":0},0,{"$f":"MIN(DiaCash!G174,DisOfic!G174,Lablink!G174,Lyreco!G174,Ocaña!G174,Taine!G174,Vistalegre!G174)","v":0},0]
[169,"Sello de caucho rectangular grabado. Tamaño área para texto de hasta 50x50 mm.","Unidad",6.5,1,{"$f":"SOLICITUD!F175","v":0},0,{"$f":"MIN(DiaCash!G175,DisOfic!G175,Lablink!G175,Lyreco!G175,Ocaña!G175,Taine!G175,Vistalegre!G175)","v":0},0]
[170,"Sello de caucho rectangular grabado. Tamaño área para texto de hasta 80x80 mm.","Unidad",6.5,1,{"$f":"SOLICITUD!F176","v":0},0,{"$f":"MIN(DiaCash!G176,DisOfic!G176,Lablink!G176,Lyreco!G176,Ocaña!G176,Taine!G176,Vistalegre!G176)","v":0},0]
[171,"Sello de Caucho Autoentintado Rectangular hasta 45X18 mm ","Unidad",12.09,1,{"$f":"SOLICITUD!F177","v":0},0,{"$f":"MIN(DiaCash!G177,DisOfic!G177,Lablink!G177,Lyreco!G177,Ocaña!G177,Taine!G177,Vistalegre!G177)","v":0},0]
[172,"Sello de Caucho Autoentintado Rectangular de 46X19 hasta 70X30 mm","Unidad",14.3,1,{"$f":"SOLICITUD!F178","v":0},0,{"$f":"MIN(DiaCash!G178,DisOfic!G178,Lablink!G178,Lyreco!G178,Ocaña!G178,Taine!G178,Vistalegre!G178)","v":0},0]
[173,"Sello de Caucho Autoentintado Redondo hasta 30 mm","Unidad",15.145,1,{"$f":"SOLICITUD!F179","v":0},0,{"$f":"MIN(DiaCash!G179,DisOfic!G179,Lablink!G179,Lyreco!G179,Ocaña!G179,Taine!G179,Vistalegre!G179)","v":0},0]
[174,"Sello de Caucho Autoentintado Redondo de 31 a 50 mm","Unidad",13.98,1,{"$f":"SOLICITUD!F180","v":0},0,{"$f":"MIN(DiaCash!G180,DisOfic!G180,Lablink!G180,Lyreco!G180,Ocaña!G180,Taine!G180,Vistalegre!G180)","v":0},0]
[175,"Sello de Caucho Autoentintado Cuadrado hasta 30 mm","Unidad",15.145,1,{"$f":"SOLICITUD!F181","v":0},0,{"$f":"MIN(DiaCash!G181,DisOfic!G181,Lablink!G181,Lyreco!G181,Ocaña!G181,Taine!G181,Vistalegre!G181)","v":0},0]
[176,"Sello de Caucho Autoentintado Cuadrado de 31 a 50 mm","Unidad",15.6,1,{"$f":"SOLICITUD!F182","v":0},0,{"$f":"MIN(DiaCash!G182,DisOfic!G182,Lablink!G182,Lyreco!G182,Ocaña!G182,Taine!G182,Vistalegre!G182)","v":0},0]
[177,"Tampón para sellos.N1, 90 X160 mm.","Unidad",2.4780000000000002,1,{"$f":"SOLICITUD!F183","v":0},0,{"$f":"MIN(DiaCash!G183,DisOfic!G183,Lablink!G183,Lyreco!G183,Ocaña!G183,Taine!G183,Vistalegre!G183)","v":0},0]
[178,"Tampón para sellos.N2, 70 X110 mm.","Unidad",1.1339999999999999,1,{"$f":"SOLICITUD!F184","v":0},0,{"$f":"MIN(DiaCash!G184,DisOfic!G184,Lablink!G184,Lyreco!G184,Ocaña!G184,Taine!G184,Vistalegre!G184)","v":0},0]
[179,"Tinta de sellar para tampón.(30 ML)","Unidad",0.47039999999999998,1,{"$f":"SOLICITUD!F185","v":0},0,{"$f":"MIN(DiaCash!G185,DisOfic!G185,Lablink!G185,Lyreco!G185,Ocaña!G185,Taine!G185,Vistalegre!G185)","v":0},0]
[180,"Almohadilla para sello autoentintado. Hasta 30X50 mm","Unidad",1.1000000000000001,1,{"$f":"SOLICITUD!F186","v":0},0,{"$f":"MIN(DiaCash!G186,DisOfic!G186,Lablink!G186,Lyreco!G186,Ocaña!G186,Taine!G186,Vistalegre!G186)","v":0},0]
[181,"Almohadilla para sello autoentintado. Hasta 70X30 mm","Unidad",1.9319999999999999,1,{"$f":"SOLICITUD!F187","v":0},0,{"$f":"MIN(DiaCash!G187,DisOfic!G187,Lablink!G187,Lyreco!G187,Ocaña!G187,Taine!G187,Vistalegre!G187)","v":0},0]
[182,"Portasellos de sobremesa 6 plazas","Unidad",1.974,1,{"$f":"SOLICITUD!F188","v":0},0,{"$f":"MIN(DiaCash!G188,DisOfic!G188,Lablink!G188,Lyreco!G188,Ocaña!G188,Taine!G188,Vistalegre!G188)","v":0},0]
[183,"Portasellos de sobremesa 8 plazas","Unidad",2.3730000000000002,1,{"$f":"SOLICITUD!F189","v":0},0,{"$f":"MIN(DiaCash!G189,DisOfic!G189,Lablink!G189,Lyreco!G189,Ocaña!G189,Taine!G189,Vistalegre!G189)","v":0},0]
[184,"Portasellos de sobremesa 10 plazas","Unidad",2.6145,1,{"$f":"SOLICITUD!F190","v":0},0,{"$f":"MIN(DiaCash!G190,DisOfic!G190,Lablink!G190,Lyreco!G190,Ocaña!G190,Taine!G190,Vistalegre!G190)","v":0},0]
[185,"Archivador de palanca a-z sin caja. Cartón forrado en plástico . Con cantonera metálica. Dos anillas. Lomo de  75 mm. Tamaño A4.","Unidad",1.302,1,{"$f":"SOLICITUD!F191","v":0},0,{"$f":"MIN(DiaCash!G191,DisOfic!G191,Lablink!G191,Lyreco!G191,Ocaña!G191,Taine!G191,Vistalegre!G191)","v":0},0]
[186,"Archivador de palanca a-z sin caja. Cartón forrado en plástico . Con cantonera metálica. Dos anillas. Lomo de  75 mm. Tamaño folio.","Unidad",1.323,1,{"$f":"SOLICITUD!F192","v":0},0,{"$f":"MIN(DiaCash!G192,DisOfic!G192,Lablink!G192,Lyreco!G192,Ocaña!G192,Taine!G192,Vistalegre!G192)","v":0},0]
[187,"Archivador de palanca a-z sin caja.Cartón jaspeado. Con cantonera metálica. Dos anillas. Lomo de  75 mm. Tamaño A4.","Unidad",0.96609999999999996,1,{"$f":"SOLICITUD!F193","v":0},0,{"$f":"MIN(DiaCash!G193,DisOfic!G193,Lablink!G193,Lyreco!G193,Ocaña!G193,Taine!G193,Vistalegre!G193)","v":0},0]
[188,"Archivador de palanca a-z sin caja.Cartón jaspeado. Con cantonera metálica. Dos anillas. Lomo de  75 mm. Tamaño folio.","Unidad",0.96609999999999996,1,{"$f":"SOLICITUD!F194","v":0},0,{"$f":"MIN(DiaCash!G194,DisOfic!G194,Lablink!G194,Lyreco!G194,Ocaña!G194,Taine!G194,Vistalegre!G194)","v":0},0]
[189,"Caja de cartón color blanco para archivo definitivo. Tamaño folio  Lomo 100 mm aprox.","Unidad",0.30159999999999998,1,{"$f":"SOLICITUD!F195","v":0},0,{"$f":"MIN(DiaCash!G195,DisOfic!G195,Lablink!G195,Lyreco!G195,Ocaña!G195,Taine!G195,Vistalegre!G195)","v":0},0]
[190,"Caja de cartón color blanco para archivo definitivo. Tamaño folio prolongado Lomo 115 mm aprox.","Unidad",0.375,1,{"$f":"SOLICITUD!F196","v":0},0,{"$f":"MIN(DiaCash!G196,DisOfic!G196,Lablink!G196,Lyreco!G196,Ocaña!G196,Taine!G196,Vistalegre!G196)","v":0},0]
[191,"Caja de cartón color blanco para archivo definitivo. Tamaño folio prolongado. Lomo 100 mm aprox.","Unidad",0.41599999999999998,1,{"$f":"SOLICITUD!F197","v":0},0,{"$f":"MIN(DiaCash!G197,DisOfic!G197,Lablink!G197,Lyreco!G197,Ocaña!G197,Taine!G197,Vistalegre!G197)","v":0},0]
[192,"Caja para archivador de palanca a-z. Misma calidad y dimensiones compatibles con el archivador de palanca a-z. Tamaño A4. Lomo de  75 mm.","Unidad",0.39550000000000002,1,{"$f":"SOLICITUD!F198","v":0},0,{"$f":"MIN(DiaCash!G198,DisOfic!G198,Lablink!G198,Lyreco!G198,Ocaña!G198,Taine!G198,Vistalegre!G198)","v":0},0]
[193,"Caja para archivador de palanca a-z. Misma calidad y dimensiones compatibles con el archivador de palanca a-z. Tamaño folio. Lomo de  75 mm.","Unidad",0.39550000000000002,1,{"$f":"SOLICITUD!F199","v":0},0,{"$f":"MIN(DiaCash!G199,DisOfic!G199,Lablink!G199,Lyreco!G199,Ocaña!G199,Taine!G199,Vistalegre!G199)","v":0},0]
[194,"Archivador de 2 anillas 25 mm. Fabricado en cartón forrado en plástico tanto en el exterior como en el interior. Dos anillas. Lomo de 40 mm. Tamaño A4.","Unidad",1.9624999999999999,1,{"$f":"SOLICITUD!F200","v":0},{"$f":"IF(F200>0,IF(E200=\"Excluido\",\"Excluido1\",IF(F200>0,IF(F200<E200,\"Excluido2\",D200*F200),0)),0)","v":0},{"$f":"MIN(DiaCash!G200,DisOfic!G200,Lablink!G200,Lyreco!G200,Ocaña!G200,Taine!G200,Vistalegre!G200)","v":0},{"$f":"IF(G200<=H200,G200,0)","v":0}]
[195,"Archivador de 2 anillas 25 mm. Fabricado en cartón forrado en plástico tanto en el exterior como en el interior. Dos anillas. Lomo de 40 mm. Tamaño folio.","Unidad",1.9624999999999999,1,{"$f":"SOLICITUD!F201","v":0},0,{"$f":"MIN(DiaCash!G201,DisOfic!G201,Lablink!G201,Lyreco!G201,Ocaña!G201,Taine!G201,Vistalegre!G201)","v":0},0]
[196,"Archivador de 4 anillas 25 mm. Fabricado en cartón forrado en plástico tanto en el exterior como en el interior. Lomo de 40 mm. Tamaño A4.","Unidad",2,1,{"$f":"SOLICITUD!F202","v":0},0,{"$f":"MIN(DiaCash!G202,DisOfic!G202,Lablink!G202,Lyreco!G202,Ocaña!G202,Taine!G202,Vistalegre!G202)","v":0},0]
[197,"Archivador de 4 anillas 25 mm. Fabricado en cartón forrado en plástico tanto en el exterior como en el interior. Lomo de 40 mm. Tamaño folio.","Unidad",2.2000000000000002,1,{"$f":"SOLICITUD!F203","v":0},0,{"$f":"MIN(DiaCash!G203,DisOfic!G203,Lablink!G203,Lyreco!G203,Ocaña!G203,Taine!G203,Vistalegre!G203)","v":0},0]
[198,"Archivador de 4 anillas 40 mm. Fabricado en cartón forrado en plástico tanto en el exterior como en el interior. Lomo de 60 mm. Tamaño A4.","Unidad",2.2000000000000002,1,{"$f":"SOLICITUD!F204","v":0},0,{"$f":"MIN(DiaCash!G204,DisOfic!G204,Lablink!G204,Lyreco!G204,Ocaña!G204,Taine!G204,Vistalegre!G204)","v":0},0]
[199,"Archivador de 4 anillas 40 mm. Fabricado en cartón forrado en plástico tanto en el exterior como en el interior. Lomo de 60 mm. Tamaño folio.","Unidad",2.4,1,{"$f":"SOLICITUD!F205","v":0},0,{"$f":"MIN(DiaCash!G205,DisOfic!G205,Lablink!G205,Lyreco!G205,Ocaña!G205,Taine!G205,Vistalegre!G205)","v":0},0]
[200,"Separadores de plástico tamaño folio 5 pestañas 2 o 4 perforaciones","Unidad",0.32400000000000001,1,{"$f":"SOLICITUD!F206","v":0},0,{"$f":"MIN(DiaCash!G206,DisOfic!G206,Lablink!G206,Lyreco!G206,Ocaña!G206,Taine!G206,Vistalegre!G206)","v":0},0]
[201,"Carpeta clasificadora forrada, con fuelle-acordeón. Índice alfabético (a-z) o numérico (1-31) . Tamaño folio. 12 departamentos mínimo.","Unidad",5.4340000000000002,1,{"$f":"SOLICITUD!F207","v":0},0,{"$f":"MIN(DiaCash!G207,DisOfic!G207,Lablink!G207,Lyreco!G207,Ocaña!G207,Taine!G207,Vistalegre!G207)","v":0},0]
[202,"Carpeta clasificadora forrada, con fuelle-acordeón. Índice alfabético (a-z) o numérico (1-31) . Tamaño folio. 20 departamentos mínimo.","Unidad",5.4340000000000002,1,{"$f":"SOLICITUD!F208","v":0},0,{"$f":"MIN(DiaCash!G208,DisOfic!G208,Lablink!G208,Lyreco!G208,Ocaña!G208,Taine!G208,Vistalegre!G208)","v":0},0]
[203,"Carpeta colgante de armario  . Tamaño A4.  Visor vertical o lateral rígido 13 cm. Varilla de plástico o metálica. Medida entre ejes 330 mm.  Cartón de 230 gr/m2 mínimo.  Lomo en 15 mm .","Unidad",0.53410000000000002,1,{"$f":"SOLICITUD!F209","v":0},0,{"$f":"MIN(DiaCash!G209,DisOfic!G209,Lablink!G209,Lyreco!G209,Ocaña!G209,Taine!G209,Vistalegre!G209)","v":0},0]
[204,"Carpeta colgante de armario  . Tamaño A4. Visor vertical o lateral rígido 13 cm. Varilla de plástico o metálica.  Medida entre ejes 330 mm . Cartón de 230gr/m2 mínimo. Lomo en 30mm.","Unidad",0.53410000000000002,1,{"$f":"SOLICITUD!F210","v":0},0,{"$f":"MIN(DiaCash!G210,DisOfic!G210,Lablink!G210,Lyreco!G210,Ocaña!G210,Taine!G210,Vistalegre!G210)","v":0},0]
[205,"Carpeta colgante de armario  . Tamaño A4.  Visor vertical o lateral rígido 13 cm. Varilla de plástico o metálica. Medida entre ejes 330 mm . Cartón de 230 gr/m2 mínimo. Lomo en v.","Unidad",0.36099999999999999,1,{"$f":"SOLICITUD!F211","v":0},0,{"$f":"MIN(DiaCash!G211,DisOfic!G211,Lablink!G211,Lyreco!G211,Ocaña!G211,Taine!G211,Vistalegre!G211)","v":0},0]
[206,"Carpeta colgante de armario  . Tamaño folio. Visor vertical o lateral rígido de 13 cm. Medida entre ejes 365 mm.  Cartón de 230gr/m2 mínimo. Lomo en v.","Unidad",0.38969999999999999,1,{"$f":"SOLICITUD!F212","v":0},0,{"$f":"MIN(DiaCash!G212,DisOfic!G212,Lablink!G212,Lyreco!G212,Ocaña!G212,Taine!G212,Vistalegre!G212)","v":0},0]
[207,"Carpeta colgante de cajón . Tamaño A4. Visor horizontal o superior .Varilla de plástico o metálica. Medida entre ejes 330 mm. Cartón kraft de 230gr/m2 mínimo.Lomo 15 mm ","Unidad",0.53410000000000002,1,{"$f":"SOLICITUD!F213","v":0},0,{"$f":"MIN(DiaCash!G213,DisOfic!G213,Lablink!G213,Lyreco!G213,Ocaña!G213,Taine!G213,Vistalegre!G213)","v":0},0]
[208,"Carpeta colgante de cajón . Tamaño folio. Visor horizontal o superior .Varilla de plástico o metálica. Medida entre ejes 365 mm.  Cartón de 230gr/m2 mínimo. Lomo 15 mm","Unidad",0.62080000000000002,1,{"$f":"SOLICITUD!F214","v":0},0,{"$f":"MIN(DiaCash!G214,DisOfic!G214,Lablink!G214,Lyreco!G214,Ocaña!G214,Taine!G214,Vistalegre!G214)","v":0},0]
[209,"Carpeta colgante de cajón . Tamaño folio. Visor horizontal o superior .Varilla de plástico o metálica. Medida entre ejes 365 mm. Cartón de 230gr/m2 mínimo. Lomo en 30 mm","Unidad",0.50900000000000001,1,{"$f":"SOLICITUD!F215","v":0},0,{"$f":"MIN(DiaCash!G215,DisOfic!G215,Lablink!G215,Lyreco!G215,Ocaña!G215,Taine!G215,Vistalegre!G215)","v":0},0]
[210,"Carpeta colgante de cajón . Tamaño A4.Visor horizontal o superior .Varilla de plástico o metálica. Medida entre ejes 330 mm. Cartón kraft de 230gr/m2 mínimo. Lomo en v.","Unidad",0.38979999999999998,1,{"$f":"SOLICITUD!F216","v":0},0,{"$f":"MIN(DiaCash!G216,DisOfic!G216,Lablink!G216,Lyreco!G216,Ocaña!G216,Taine!G216,Vistalegre!G216)","v":0},0]
[211,"Carpeta colgante de cajón . Tamaño folio prolongado. Visor horizontal o superior. Varilla de plástico o metálica.  Medida entre ejes 390 mm. Cartón kraft de 230gr/m2 mínimo. Lomo en v.","Unidad",0.46189999999999998,1,{"$f":"SOLICITUD!F217","v":0},0,{"$f":"MIN(DiaCash!G217,DisOfic!G217,Lablink!G217,Lyreco!G217,Ocaña!G217,Taine!G217,Vistalegre!G217)","v":0},0]
[212,"Carpeta de cartulina con gomas y 3 solapas. Gramaje de 380 gr/m2 mínimo Medidas 320 x 240 mm aprox.","Unidad",0.42430000000000001,1,{"$f":"SOLICITUD!F218","v":0},0,{"$f":"MIN(DiaCash!G218,DisOfic!G218,Lablink!G218,Lyreco!G218,Ocaña!G218,Taine!G218,Vistalegre!G218)","v":0},0]
[213,"Carpeta proyectos. Cartón gomas montadas. Lomo 50 mm.","Unidad",1.62,1,{"$f":"SOLICITUD!F219","v":0},0,{"$f":"MIN(DiaCash!G219,DisOfic!G219,Lablink!G219,Lyreco!G219,Ocaña!G219,Taine!G219,Vistalegre!G219)","v":0},0]
[214,"Carpeta proyectos. Cartón gomas montadas. Lomo 90 mm.","Unidad",1.74,1,{"$f":"SOLICITUD!F220","v":0},0,{"$f":"MIN(DiaCash!G220,DisOfic!G220,Lablink!G220,Lyreco!G220,Ocaña!G220,Taine!G220,Vistalegre!G220)","v":0},0]
[215,"Carpetas de fundas. Cubiertas en plástico semirrígido opaco. Fundas interiores soldadas al lomo. Número de fundas interiores: 10.","Unidad",0.82799999999999996,1,{"$f":"SOLICITUD!F221","v":0},0,{"$f":"MIN(DiaCash!G221,DisOfic!G221,Lablink!G221,Lyreco!G221,Ocaña!G221,Taine!G221,Vistalegre!G221)","v":0},0]
[216,"Carpetas de fundas. Cubiertas en plástico semirrígido opaco. Fundas interiores soldadas al lomo. Número de fundas interiores: 20.","Unidad",1.1160000000000001,1,{"$f":"SOLICITUD!F222","v":0},0,{"$f":"MIN(DiaCash!G222,DisOfic!G222,Lablink!G222,Lyreco!G222,Ocaña!G222,Taine!G222,Vistalegre!G222)","v":0},0]
[217,"Carpetas de fundas. Cubiertas en plástico semirrígido opaco. Fundas interiores soldadas al lomo. Número de fundas interiores: 30.","Unidad",1.3049999999999999,1,{"$f":"SOLICITUD!F223","v":0},0,{"$f":"MIN(DiaCash!G223,DisOfic!G223,Lablink!G223,Lyreco!G223,Ocaña!G223,Taine!G223,Vistalegre!G223)","v":0},0]
[218,"Carpetas de fundas. Cubiertas en plástico semirrígido opaco. Fundas interiores soldadas al lomo. Número de fundas interiores: 40.","Unidad",1.629,1,{"$f":"SOLICITUD!F224","v":0},0,{"$f":"MIN(DiaCash!G224,DisOfic!G224,Lablink!G224,Lyreco!G224,Ocaña!G224,Taine!G224,Vistalegre!G224)","v":0},0]
[219,"Carpetas de fundas. Cubiertas en plástico semirrígido opaco. Fundas interiores soldadas al lomo. Número de fundas interiores: 60.","Unidad",2.0430000000000001,1,{"$f":"SOLICITUD!F225","v":0},0,{"$f":"MIN(DiaCash!G225,DisOfic!G225,Lablink!G225,Lyreco!G225,Ocaña!G225,Taine!G225,Vistalegre!G225)","v":0},0]
[220,"Índice plástico varios colores. Juego de solapas tipo 1 a 10 de plástico mínimo de 120 micras . Tamaño  A4 o superior.","Unidad",0.42,1,{"$f":"SOLICITUD!F226","v":0},0,{"$f":"MIN(DiaCash!G226,DisOfic!G226,Lablink!G226,Lyreco!G226,Ocaña!G226,Taine!G226,Vistalegre!G226)","v":0},0]
[221,"Índice plástico varios colores. Juego de solapas tipo A a Z de plástico espesor mínimo de 120 micras . Tamaño  A4 o superior.","Unidad",1.056,1,{"$f":"SOLICITUD!F227","v":0},0,{"$f":"MIN(DiaCash!G227,DisOfic!G227,Lablink!G227,Lyreco!G227,Ocaña!G227,Taine!G227,Vistalegre!G227)","v":0},0]
[222,"Subcarpeta cartulina. Gramaje 170 gr/m2 mínimo. Tamaño A4.","Unidad",5.62E-2,1,{"$f":"SOLICITUD!F228","v":0},0,{"$f":"MIN(DiaCash!G228,DisOfic!G228,Lablink!G228,Lyreco!G228,Ocaña!G228,Taine!G228,Vistalegre!G228)","v":0},0]
[223,"Subcarpeta cartulina. Gramaje 170 gr/m2 mínimo. Tamaño folio.","Unidad",5.62E-2,1,{"$f":"SOLICITUD!F229","v":0},0,{"$f":"MIN(DiaCash!G229,DisOfic!G229,Lablink!G229,Lyreco!G229,Ocaña!G229,Taine!G229,Vistalegre!G229)","v":0},0]
[224,"Subcarpeta cartulina. Gramaje 210 gr/m2 mínimo. Tamaño A4.","Unidad",9.74E-2,1,{"$f":"SOLICITUD!F230","v":0},0,{"$f":"MIN(DiaCash!G230,DisOfic!G230,Lablink!G230,Lyreco!G230,Ocaña!G230,Taine!G230,Vistalegre!G230)","v":0},0]
[225,"Subcarpeta cartulina. Gramaje 210 gr/m2 mínimo. Tamaño folio.","Unidad",9.74E-2,1,{"$f":"SOLICITUD!F231","v":0},0,{"$f":"MIN(DiaCash!G231,DisOfic!G231,Lablink!G231,Lyreco!G231,Ocaña!G231,Taine!G231,Vistalegre!G231)","v":0},0]
[226,"Tubo portaplanos de plástico","Unidad",1.044,1,{"$f":"SOLICITUD!F232","v":0},0,{"$f":"MIN(DiaCash!G232,DisOfic!G232,Lablink!G232,Lyreco!G232,Ocaña!G232,Taine!G232,Vistalegre!G232)","v":0},0]
[227,"Visores plásticos (rígido o flexible con/sin efecto lupa, visión superior o lateral, con/sin etiquetas ).","Unidad",9.8199999999999996E-2,1,{"$f":"SOLICITUD!F233","v":0},0,{"$f":"MIN(DiaCash!G233,DisOfic!G233,Lablink!G233,Lyreco!G233,Ocaña!G233,Taine!G233,Vistalegre!G233)","v":0},0]
[228,"Dossier con fastener. Portada transparente, contraportada opaca.  Fastener metálico. Tamaño A4.","Unidad",0.33279999999999998,1,{"$f":"SOLICITUD!F234","v":0},0,{"$f":"MIN(DiaCash!G234,DisOfic!G234,Lablink!G234,Lyreco!G234,Ocaña!G234,Taine!G234,Vistalegre!G234)","v":0},0]
[229,"Dossier con fastener. Portada transparente, contraportada opaca.  Fastener metálico. Tamaño folio.","Unidad",0.33260000000000001,1,{"$f":"SOLICITUD!F235","v":0},0,{"$f":"MIN(DiaCash!G235,DisOfic!G235,Lablink!G235,Lyreco!G235,Ocaña!G235,Taine!G235,Vistalegre!G235)","v":0},0]
[230,"Dossier uñero en plástico. Apertura superior y lateral. Tamaño folio","Envase 100 unidades",4.8479999999999999,1,{"$f":"SOLICITUD!F236","v":0},0,{"$f":"MIN(DiaCash!G236,DisOfic!G236,Lablink!G236,Lyreco!G236,Ocaña!G236,Taine!G236,Vistalegre!G236)","v":0},0]
[231,"Funda plástico transparente antiestática multitaladro. Tamaño A4. Grosor de 60 micras mínimo.","Envase 100 unidades",3.3959999999999999,1,{"$f":"SOLICITUD!F237","v":0},0,{"$f":"MIN(DiaCash!G237,DisOfic!G237,Lablink!G237,Lyreco!G237,Ocaña!G237,Taine!G237,Vistalegre!G237)","v":0},0]
[232,"Funda plástico transparente antiestática multitaladro. Tamaño folio. Grosor de 60 micras mínimo.","Envase 100 unidades",3.3959999999999999,1,{"$f":"SOLICITUD!F238","v":0},0,{"$f":"MIN(DiaCash!G238,DisOfic!G238,Lablink!G238,Lyreco!G238,Ocaña!G238,Taine!G238,Vistalegre!G238)","v":0},0]
[233,"Bolsas para plastificar tamaño A4. 80 micras mínimo","Envase 100 unidades",7.1369999999999996,1,{"$f":"SOLICITUD!F239","v":0},0,{"$f":"MIN(DiaCash!G239,DisOfic!G239,Lablink!G239,Lyreco!G239,Ocaña!G239,Taine!G239,Vistalegre!G239)","v":0},0]
[234,"Portafirmas fabricado en plástico color negro, tapas acolchadas  con refuerzo en base y escalonados . Medidas 335 x 245 mm aprox. Con 18 departamentos mínimo de doble cartulina y lomo tipo fuelle.","Unidad",21.948,1,{"$f":"SOLICITUD!F240","v":0},0,{"$f":"MIN(DiaCash!G240,DisOfic!G240,Lablink!G240,Lyreco!G240,Ocaña!G240,Taine!G240,Vistalegre!G240)","v":0},0]
[235,"Bloc de notas. Liso o cuadrícula. De 80-90 hojas aprox. Gramaje 60 gr/m2 mínimo.Tamaño A4 o folio.","Unidad",1.08,1,{"$f":"SOLICITUD!F241","v":0},0,{"$f":"MIN(DiaCash!G241,DisOfic!G241,Lablink!G241,Lyreco!G241,Ocaña!G241,Taine!G241,Vistalegre!G241)","v":0},0]
[236,"Bloc de notas. Liso o cuadrícula. De 80-90 hojas aprox. Gramaje 60 gr/m2 mínimo.Tamaño A4 o folio. (Enri)","Unidad",1.08,1,{"$f":"SOLICITUD!F242","v":0},0,{"$f":"MIN(DiaCash!G242,DisOfic!G242,Lablink!G242,Lyreco!G242,Ocaña!G242,Taine!G242,Vistalegre!G242)","v":0},0]
[237,"Bloc de notas. Liso o cuadrícula. De 80-90 hojas aprox. Gramaje 60 gr/m2 mínimo.Tamaño A5 o 4º.","Unidad",0.58799999999999997,1,{"$f":"SOLICITUD!F243","v":0},0,{"$f":"MIN(DiaCash!G243,DisOfic!G243,Lablink!G243,Lyreco!G243,Ocaña!G243,Taine!G243,Vistalegre!G243)","v":0},0]
[238,"Bloc de notas. Liso o cuadrícula. De 80-90 hojas aprox. Gramaje 60 gr/m2 mínimo.Tamaño A5 o 4º. (Enri)","Unidad",0.58799999999999997,1,{"$f":"SOLICITUD!F244","v":0},0,{"$f":"MIN(DiaCash!G244,DisOfic!G244,Lablink!G244,Lyreco!G244,Ocaña!G244,Taine!G244,Vistalegre!G244)","v":0},0]
[239,"Bloc de notas. Liso o cuadrícula. De 80-90 hojas aprox. Gramaje 60 gr/m2 mínimo.Tamaño A6 u 8º.","Unidad",0.36,1,{"$f":"SOLICITUD!F245","v":0},0,{"$f":"MIN(DiaCash!G245,DisOfic!G245,Lablink!G245,Lyreco!G245,Ocaña!G245,Taine!G245,Vistalegre!G245)","v":0},0]
[240,"Bloc de notas. Liso o cuadrícula. De 80-90 hojas aprox. Gramaje 60 gr/m2 mínimo.Tamaño A6 u 8º. (Enri)","Unidad",0.36,1,{"$f":"SOLICITUD!F246","v":0},0,{"$f":"MIN(DiaCash!G246,DisOfic!G246,Lablink!G246,Lyreco!G246,Ocaña!G246,Taine!G246,Vistalegre!G246)","v":0},0]
[241,"Bloc de papel liso, para caballete (pizarra de papel) 70 gr/m2 mínimo . Medidas 650 x 900 mm aprox, (mínimo 25 hojas por bloc aprox.).","Unidad",3.492,1,{"$f":"SOLICITUD!F247","v":0},0,{"$f":"MIN(DiaCash!G247,DisOfic!G247,Lablink!G247,Lyreco!G247,Ocaña!G247,Taine!G247,Vistalegre!G247)","v":0},0]
[242,"Bloc de papel liso, para caballete (pizarra de papel) 70 gr/m2 mínimo . Medidas 650 x 900 mm aprox, (mínimo 25 hojas por bloc aprox.). (Enri)","Unidad",3.492,1,{"$f":"SOLICITUD!F248","v":0},0,{"$f":"MIN(DiaCash!G248,DisOfic!G248,Lablink!G248,Lyreco!G248,Ocaña!G248,Taine!G248,Vistalegre!G248)","v":0},0]
[243,"Cuaderno espiral cubierta cartón duro. Liso o cuadrícula. De 80-90 hojas aprox. Gramaje 60 gr/m2 mínimo.Tamaño A4 o folio.","Unidad",0.83640000000000003,1,{"$f":"SOLICITUD!F249","v":0},0,{"$f":"MIN(DiaCash!G249,DisOfic!G249,Lablink!G249,Lyreco!G249,Ocaña!G249,Taine!G249,Vistalegre!G249)","v":0},0]
[244,"Cuaderno espiral cubierta cartón duro. Liso o cuadrícula. De 80-90 hojas aprox. Gramaje 60 gr/m2 mínimo.Tamaño A4 o folio. (Enri)","Unidad",1.1759999999999999,1,{"$f":"SOLICITUD!F250","v":0},0,{"$f":"MIN(DiaCash!G250,DisOfic!G250,Lablink!G250,Lyreco!G250,Ocaña!G250,Taine!G250,Vistalegre!G250)","v":0},0]
[245,"Cuaderno espiral cubierta cartón duro. Liso o cuadrícula. De 80-90 hojas aprox. Gramaje 60 gr/m2 mínimo. Tamaño A5 o 4º.","Unidad",0.50149999999999995,1,{"$f":"SOLICITUD!F251","v":0},0,{"$f":"MIN(DiaCash!G251,DisOfic!G251,Lablink!G251,Lyreco!G251,Ocaña!G251,Taine!G251,Vistalegre!G251)","v":0},0]
[246,"Cuaderno espiral cubierta cartón duro. Liso o cuadrícula. De 80-90 hojas aprox. Gramaje 60 gr/m2 mínimo. Tamaño A5 o 4º. (Enri)","Unidad",0.74399999999999999,1,{"$f":"SOLICITUD!F252","v":0},0,{"$f":"MIN(DiaCash!G252,DisOfic!G252,Lablink!G252,Lyreco!G252,Ocaña!G252,Taine!G252,Vistalegre!G252)","v":0},0]
[247,"Cuaderno espiral cubierta cartón duro. Liso o cuadrícula. De 80-90 hojas aprox. Gramaje 60 gr/m2 mínimo.Tamaño A6 u 8º.","Unidad",0.40789999999999998,1,{"$f":"SOLICITUD!F253","v":0},0,{"$f":"MIN(DiaCash!G253,DisOfic!G253,Lablink!G253,Lyreco!G253,Ocaña!G253,Taine!G253,Vistalegre!G253)","v":0},0]
[248,"Cuaderno espiral cubierta cartón duro. Liso o cuadrícula. De 80-90 hojas aprox. Gramaje 60 gr/m2 mínimo.Tamaño A6 u 8º. (Enri)","Unidad",0.55200000000000005,1,{"$f":"SOLICITUD!F254","v":0},0,{"$f":"MIN(DiaCash!G254,DisOfic!G254,Lablink!G254,Lyreco!G254,Ocaña!G254,Taine!G254,Vistalegre!G254)","v":0},0]
[249,"Cuaderno espiral cubierta plastificada. Liso o cuadrícula. De 80-90 hojas aprox. Gramaje 60 gr/m2 mínimo.Tamaño A4 o folio.","Unidad",1.2,1,{"$f":"SOLICITUD!F255","v":0},0,{"$f":"MIN(DiaCash!G255,DisOfic!G255,Lablink!G255,Lyreco!G255,Ocaña!G255,Taine!G255,Vistalegre!G255)","v":0},0]
[250,"Cuaderno espiral cubierta plastificada. Liso o cuadrícula. De 80-90 hojas aprox. Gramaje 60 gr/m2 mínimo.Tamaño A4 o folio. (Enri)","Unidad",1.272,1,{"$f":"SOLICITUD!F256","v":0},0,{"$f":"MIN(DiaCash!G256,DisOfic!G256,Lablink!G256,Lyreco!G256,Ocaña!G256,Taine!G256,Vistalegre!G256)","v":0},0]
[251,"Cuaderno espiral cubierta plastificada. Liso o cuadrícula. De 80-90 hojas aprox. Gramaje 60 gr/m2 mínimo.Tamaño A5 o 4º.","Unidad",0.8,1,{"$f":"SOLICITUD!F257","v":0},0,{"$f":"MIN(DiaCash!G257,DisOfic!G257,Lablink!G257,Lyreco!G257,Ocaña!G257,Taine!G257,Vistalegre!G257)","v":0},0]
[252,"Cuaderno espiral cubierta plastificada. Liso o cuadrícula. De 80-90 hojas aprox. Gramaje 60 gr/m2 mínimo.Tamaño A5 o 4º. (Enri)","Unidad",0.82799999999999996,1,{"$f":"SOLICITUD!F258","v":0},0,{"$f":"MIN(DiaCash!G258,DisOfic!G258,Lablink!G258,Lyreco!G258,Ocaña!G258,Taine!G258,Vistalegre!G258)","v":0},0]
[253,"Cuaderno espiral cubierta plastificada. Liso o cuadrícula. De 80-90 hojas aprox. Gramaje 60 gr/m2 mínimo.Tamaño A6 u 8º.","Unidad",0.72629999999999995,1,{"$f":"SOLICITUD!F259","v":0},0,{"$f":"MIN(DiaCash!G259,DisOfic!G259,Lablink!G259,Lyreco!G259,Ocaña!G259,Taine!G259,Vistalegre!G259)","v":0},0]
[254,"Cuaderno espiral cubierta plastificada. Liso o cuadrícula. De 80-90 hojas aprox. Gramaje 60 gr/m2 mínimo.Tamaño A6 u 8º. (Enri)","Unidad",0.48,1,{"$f":"SOLICITUD!F260","v":0},0,{"$f":"MIN(DiaCash!G260,DisOfic!G260,Lablink!G260,Lyreco!G260,Ocaña!G260,Taine!G260,Vistalegre!G260)","v":0},0]
[255,"Cuaderno espiral cubierta plastificada. Liso o cuadrícula. De 80-90 hojas aprox. Gramaje 60 gr/m2 mínimo.Tamaño A7 u 16º.","Unidad",0.5,1,{"$f":"SOLICITUD!F261","v":0},0,{"$f":"MIN(DiaCash!G261,DisOfic!G261,Lablink!G261,Lyreco!G261,Ocaña!G261,Taine!G261,Vistalegre!G261)","v":0},0]
[256,"Cuaderno espiral cubierta plastificada. Liso o cuadrícula. De 80-90 hojas aprox. Gramaje 60 gr/m2 mínimo.Tamaño A7 u 16º. (Enri)","Unidad",0.32400000000000001,1,{"$f":"SOLICITUD!F262","v":0},0,{"$f":"MIN(DiaCash!G262,DisOfic!G262,Lablink!G262,Lyreco!G262,Ocaña!G262,Taine!G262,Vistalegre!G262)","v":0},0]
[257,"Banderitas/Index autoadhesivas colores surtidos ","Taco 100 unidades",0.1,1,{"$f":"SOLICITUD!F263","v":0},0,{"$f":"MIN(DiaCash!G263,DisOfic!G263,Lablink!G263,Lyreco!G263,Ocaña!G263,Taine!G263,Vistalegre!G263)","v":0},0]
[258,"Banderitas/Index pack 5 mininotas neon Post-it","Taco 100 unidades",0.66979999999999995,1,{"$f":"SOLICITUD!F264","v":0},{"$f":"IF(F264>0,IF(E264=\"Excluido\",\"Excluido1\",IF(F264>0,IF(F264<E264,\"Excluido2\",D264*F264),0)),0)","v":0},{"$f":"MIN(DiaCash!G264,DisOfic!G264,Lablink!G264,Lyreco!G264,Ocaña!G264,Taine!G264,Vistalegre!G264)","v":0},{"$f":"IF(G264<=H264,G264,0)","v":0}]
[259,"Blocs de notas autoadhesivas amarillas. Medidas 38 x 51 mm, 100 hojas.","Taco 100 unidades",8.2000000000000003E-2,1,{"$f":"SOLICITUD!F265","v":0},0,{"$f":"MIN(DiaCash!G265,DisOfic!G265,Lablink!G265,Lyreco!G265,Ocaña!G265,Taine!G265,Vistalegre!G265)","v":0},0]
[260,"Blocs de notas autoadhesivas amarillas. Medidas 38 x 51 mm, 100 hojas. (Post-it)","Taco 100 unidades",0.36399999999999999,1,{"$f":"SOLICITUD!F266","v":0},0,{"$f":"MIN(DiaCash!G266,DisOfic!G266,Lablink!G266,Lyreco!G266,Ocaña!G266,Taine!G266,Vistalegre!G266)","v":0},0]
[261,"Blocs de notas autoadhesivas amarillas. Medidas 76 x 76 mm, 100 hojas.","Taco 100 unidades",0.17899999999999999,1,{"$f":"SOLICITUD!F267","v":0},0,{"$f":"MIN(DiaCash!G267,DisOfic!G267,Lablink!G267,Lyreco!G267,Ocaña!G267,Taine!G267,Vistalegre!G267)","v":0},0]
[262,"Blocs de notas autoadhesivas de colores. Medidas 76 x 76 mm, 100 hojas. (Post-it)","Taco 100 unidades",0.49,1,{"$f":"SOLICITUD!F268","v":0},0,{"$f":"MIN(DiaCash!G268,DisOfic!G268,Lablink!G268,Lyreco!G268,Ocaña!G268,Taine!G268,Vistalegre!G268)","v":0},0]
[263,"Blocs de notas autoadhesivas amarillas. Medidas 76 x 127 mm, 100 hojas.","Taco 100 unidades",0.27600000000000002,1,{"$f":"SOLICITUD!F269","v":0},0,{"$f":"MIN(DiaCash!G269,DisOfic!G269,Lablink!G269,Lyreco!G269,Ocaña!G269,Taine!G269,Vistalegre!G269)","v":0},0]
[264,"Blocs de notas autoadhesivas amarillas. Medidas 76 x 127 mm, 100 hojas. (Post-it)","Taco 100 unidades",0.39129999999999998,1,{"$f":"SOLICITUD!F270","v":0},0,{"$f":"MIN(DiaCash!G270,DisOfic!G270,Lablink!G270,Lyreco!G270,Ocaña!G270,Taine!G270,Vistalegre!G270)","v":0},0]
[265,"Etiquetas adhesivas. En formato  A4, número de etiquetas por hoja según el tamaño de etiqueta. ","Paquete 100 hojas",4.3940000000000001,1,{"$f":"SOLICITUD!F271","v":0},0,{"$f":"MIN(DiaCash!G271,DisOfic!G271,Lablink!G271,Lyreco!G271,Ocaña!G271,Taine!G271,Vistalegre!G271)","v":0},0]
[266,"Etiquetas adhesivas. En formato  A4, número de etiquetas por hoja según el tamaño de\netiqueta. ","Paquete 25 hojas",4.5,1,{"$f":"SOLICITUD!F272","v":0},0,{"$f":"MIN(DiaCash!G272,DisOfic!G272,Lablink!G272,Lyreco!G272,Ocaña!G272,Taine!G272,Vistalegre!G272)","v":0},0]
[267,"Etiquetas adhesivas. En formato  A4, número de etiquetas por hoja según el tamaño de\netiqueta. ","Paquete 10 hojas",1.651,1,{"$f":"SOLICITUD!F273","v":0},0,{"$f":"MIN(DiaCash!G273,DisOfic!G273,Lablink!G273,Lyreco!G273,Ocaña!G273,Taine!G273,Vistalegre!G273)","v":0},0]
[268,"Carpeta de cartulina  por una cara plegada y solapa al pie. Tamaño mínimo A4.  Gramaje mínimo 170 gr/m2.","Unidad",0.20899999999999999,1,{"$f":"SOLICITUD!F274","v":0},0,{"$f":"MIN(DiaCash!G274,DisOfic!G274,Lablink!G274,Lyreco!G274,Ocaña!G274,Taine!G274,Vistalegre!G274)","v":0},0]
[269,"Carpeta de cartulina  por una cara plegada y solapa al pie. Tamaño mínimo A4.  Gramaje mínimo  210  gr/m2.","Unidad",0.33379999999999999,1,{"$f":"SOLICITUD!F275","v":0},0,{"$f":"MIN(DiaCash!G275,DisOfic!G275,Lablink!G275,Lyreco!G275,Ocaña!G275,Taine!G275,Vistalegre!G275)","v":0},0]
[270,"Carpeta de cartulina con dos bolsillos. Tamaño mínimo A4.  Gramaje mínimo 170 gr/m2.","Unidad",0.5242,1,{"$f":"SOLICITUD!F276","v":0},0,{"$f":"MIN(DiaCash!G276,DisOfic!G276,Lablink!G276,Lyreco!G276,Ocaña!G276,Taine!G276,Vistalegre!G276)","v":0},0]
[271,"Carpeta de cartulina con dos bolsillos. Tamaño mínimo  A4 Gramaje mínimo  210  gr/m2.","Unidad",0.52410000000000001,1,{"$f":"SOLICITUD!F277","v":0},0,{"$f":"MIN(DiaCash!G277,DisOfic!G277,Lablink!G277,Lyreco!G277,Ocaña!G277,Taine!G277,Vistalegre!G277)","v":0},0]
[272,"Carpeta de cartulina. Tamaño A4.  Gramaje mínimo 170 gr/m2.","Unidad",6.0999999999999999E-2,1,{"$f":"SOLICITUD!F278","v":0},0,{"$f":"MIN(DiaCash!G278,DisOfic!G278,Lablink!G278,Lyreco!G278,Ocaña!G278,Taine!G278,Vistalegre!G278)","v":0},0]
[273,"Carpeta de cartulina. Tamaño folio gramaje 210 gr/m2.","Unidad",0.1056,1,{"$f":"SOLICITUD!F279","v":0},0,{"$f":"MIN(DiaCash!G279,DisOfic!G279,Lablink!G279,Lyreco!G279,Ocaña!G279,Taine!G279,Vistalegre!G279)","v":0},0]
[274,"Canutillos plásticos. Redondos y ovalados, de 6 mm.","Paquete 200",3.7389999999999999,1,{"$f":"SOLICITUD!F280","v":0},0,{"$f":"MIN(DiaCash!G280,DisOfic!G280,Lablink!G280,Lyreco!G280,Ocaña!G280,Taine!G280,Vistalegre!G280)","v":0},0]
[275,"Canutillos plásticos. Redondos y ovalados, de 8 mm.","Paquete 100",2.2320000000000002,1,{"$f":"SOLICITUD!F281","v":0},0,{"$f":"MIN(DiaCash!G281,DisOfic!G281,Lablink!G281,Lyreco!G281,Ocaña!G281,Taine!G281,Vistalegre!G281)","v":0},0]
[276,"Canutillos plásticos. Redondos y ovalados, de 10 mm.","Paquete 100",2.988,1,{"$f":"SOLICITUD!F282","v":0},0,{"$f":"MIN(DiaCash!G282,DisOfic!G282,Lablink!G282,Lyreco!G282,Ocaña!G282,Taine!G282,Vistalegre!G282)","v":0},0]
[277,"Canutillos plásticos. Redondos y ovalados, de 12 mm.","Paquete 100",3.7320000000000002,1,{"$f":"SOLICITUD!F283","v":0},0,{"$f":"MIN(DiaCash!G283,DisOfic!G283,Lablink!G283,Lyreco!G283,Ocaña!G283,Taine!G283,Vistalegre!G283)","v":0},0]
[278,"Canutillos plásticos. Redondos y ovalados, de 14 mm.","Paquete 100",4.26,1,{"$f":"SOLICITUD!F284","v":0},0,{"$f":"MIN(DiaCash!G284,DisOfic!G284,Lablink!G284,Lyreco!G284,Ocaña!G284,Taine!G284,Vistalegre!G284)","v":0},0]
[279,"Canutillos plásticos. Redondos y ovalados, de 16 mm.","Paquete 100",5.6040000000000001,1,{"$f":"SOLICITUD!F285","v":0},0,{"$f":"MIN(DiaCash!G285,DisOfic!G285,Lablink!G285,Lyreco!G285,Ocaña!G285,Taine!G285,Vistalegre!G285)","v":0},0]
[280,"Canutillos plásticos. Redondos y ovalados, de 18 mm.","Paquete 100",6.2039999999999997,1,{"$f":"SOLICITUD!F286","v":0},0,{"$f":"MIN(DiaCash!G286,DisOfic!G286,Lablink!G286,Lyreco!G286,Ocaña!G286,Taine!G286,Vistalegre!G286)","v":0},0]
[281,"Canutillos plásticos. Redondos y ovalados, de 22 mm.","Paquete 50",4.0739999999999998,1,{"$f":"SOLICITUD!F287","v":0},0,{"$f":"MIN(DiaCash!G287,DisOfic!G287,Lablink!G287,Lyreco!G287,Ocaña!G287,Taine!G287,Vistalegre!G287)","v":0},0]
[282,"Canutillos plásticos. Redondos y ovalados, de 25 mm.","Paquete 50",5.1180000000000003,1,{"$f":"SOLICITUD!F288","v":0},0,{"$f":"MIN(DiaCash!G288,DisOfic!G288,Lablink!G288,Lyreco!G288,Ocaña!G288,Taine!G288,Vistalegre!G288)","v":0},0]
[283,"Canutillos plásticos. Redondos y ovalados, de 28 mm.","Paquete 50",5.52,1,{"$f":"SOLICITUD!F289","v":0},0,{"$f":"MIN(DiaCash!G289,DisOfic!G289,Lablink!G289,Lyreco!G289,Ocaña!G289,Taine!G289,Vistalegre!G289)","v":0},0]
[284,"Canutillos plásticos. Redondos y ovalados, de 32 mm.","Paquete 50",8.1219999999999999,1,{"$f":"SOLICITUD!F290","v":0},0,{"$f":"MIN(DiaCash!G290,DisOfic!G290,Lablink!G290,Lyreco!G290,Ocaña!G290,Taine!G290,Vistalegre!G290)","v":0},0]
[285,"Canutillos plásticos. Redondos y ovalados, de 45 mm.","Paquete 25",4.7847999999999997,1,{"$f":"SOLICITUD!F291","v":0},0,{"$f":"MIN(DiaCash!G291,DisOfic!G291,Lablink!G291,Lyreco!G291,Ocaña!G291,Taine!G291,Vistalegre!G291)","v":0},0]
[286,"Canutillos plásticos. Redondos y ovalados, de 51 mm.","Paquete 25",5.5086000000000004,1,{"$f":"SOLICITUD!F292","v":0},0,{"$f":"MIN(DiaCash!G292,DisOfic!G292,Lablink!G292,Lyreco!G292,Ocaña!G292,Taine!G292,Vistalegre!G292)","v":0},0]
[287,"Espirales metálicas de encuadernación. Paso 5:1, de diámetro 8 mm.","Paquete 100",4.3079999999999998,1,{"$f":"SOLICITUD!F293","v":0},0,{"$f":"MIN(DiaCash!G293,DisOfic!G293,Lablink!G293,Lyreco!G293,Ocaña!G293,Taine!G293,Vistalegre!G293)","v":0},0]
[288,"Espirales metálicas de encuadernación. Paso 5:1, de diámetro 10 mm.","Paquete 100",5.3520000000000003,1,{"$f":"SOLICITUD!F294","v":0},0,{"$f":"MIN(DiaCash!G294,DisOfic!G294,Lablink!G294,Lyreco!G294,Ocaña!G294,Taine!G294,Vistalegre!G294)","v":0},0]
[289,"Espirales metálicas de encuadernación. Paso 5:1, de diámetro 12 mm.","Paquete 100",5.82,1,{"$f":"SOLICITUD!F295","v":0},0,{"$f":"MIN(DiaCash!G295,DisOfic!G295,Lablink!G295,Lyreco!G295,Ocaña!G295,Taine!G295,Vistalegre!G295)","v":0},0]
[290,"Espirales metálicas de encuadernación. Paso 5:1, de diámetro 14 mm.","Paquete 100",6.7560000000000002,1,{"$f":"SOLICITUD!F296","v":0},0,{"$f":"MIN(DiaCash!G296,DisOfic!G296,Lablink!G296,Lyreco!G296,Ocaña!G296,Taine!G296,Vistalegre!G296)","v":0},0]
[291,"Espirales metálicas de encuadernación. Paso 5:1, de diámetro 16 mm.","Paquete 100",9.3119999999999994,1,{"$f":"SOLICITUD!F297","v":0},0,{"$f":"MIN(DiaCash!G297,DisOfic!G297,Lablink!G297,Lyreco!G297,Ocaña!G297,Taine!G297,Vistalegre!G297)","v":0},0]
[292,"Espirales metálicas de encuadernación. Paso 5:1, de diámetro 18 mm.","Paquete 100",10.476000000000001,1,{"$f":"SOLICITUD!F298","v":0},0,{"$f":"MIN(DiaCash!G298,DisOfic!G298,Lablink!G298,Lyreco!G298,Ocaña!G298,Taine!G298,Vistalegre!G298)","v":0},0]
[293,"Espirales metálicas de encuadernación. Paso 5:1, de diámetro 20 mm.","Paquete 100",11.064,1,{"$f":"SOLICITUD!F299","v":0},0,{"$f":"MIN(DiaCash!G299,DisOfic!G299,Lablink!G299,Lyreco!G299,Ocaña!G299,Taine!G299,Vistalegre!G299)","v":0},0]
[294,"Espirales metálicas de encuadernación. Paso 5:1, de diámetro 22 mm.","Paquete 100",13.848000000000001,1,{"$f":"SOLICITUD!F300","v":0},0,{"$f":"MIN(DiaCash!G300,DisOfic!G300,Lablink!G300,Lyreco!G300,Ocaña!G300,Taine!G300,Vistalegre!G300)","v":0},0]
[295,"Espirales metálicas de encuadernación. Paso 5:1, de diámetro 24 mm.","Paquete 100",14.784000000000001,1,{"$f":"SOLICITUD!F301","v":0},0,{"$f":"MIN(DiaCash!G301,DisOfic!G301,Lablink!G301,Lyreco!G301,Ocaña!G301,Taine!G301,Vistalegre!G301)","v":0},0]
[296,"Espirales metálicas de encuadernación. Paso 5:1, de diámetro 28 mm.","Paquete 50",8.4359999999999999,1,{"$f":"SOLICITUD!F302","v":0},0,{"$f":"MIN(DiaCash!G302,DisOfic!G302,Lablink!G302,Lyreco!G302,Ocaña!G302,Taine!G302,Vistalegre!G302)","v":0},0]
[297,"Espirales metálicas de encuadernación. Paso 5:1, de diámetro 30 mm. ","Paquete 50",9.3719999999999999,1,{"$f":"SOLICITUD!F303","v":0},0,{"$f":"MIN(DiaCash!G303,DisOfic!G303,Lablink!G303,Lyreco!G303,Ocaña!G303,Taine!G303,Vistalegre!G303)","v":0},0]
[298,"Espirales metálicas de encuadernación. Paso 5:1, de diámetro 34 mm. ","Paquete 50",9.9480000000000004,1,{"$f":"SOLICITUD!F304","v":0},0,{"$f":"MIN(DiaCash!G304,DisOfic!G304,Lablink!G304,Lyreco!G304,Ocaña!G304,Taine!G304,Vistalegre!G304)","v":0},0]
[299,"Espirales metálicas de encuadernación. Paso 5:1, de diámetro 38 mm. ","Paquete 50",9,1,{"$f":"SOLICITUD!F305","v":0},0,{"$f":"MIN(DiaCash!G305,DisOfic!G305,Lablink!G305,Lyreco!G305,Ocaña!G305,Taine!G305,Vistalegre!G305)","v":0},0]
[300,"Espirales metálicas de encuadernación. Paso 5:1, de diámetro 40 mm o superior.","Paquete 25",6.12,1,{"$f":"SOLICITUD!F306","v":0},0,{"$f":"MIN(DiaCash!G306,DisOfic!G306,Lablink!G306,Lyreco!G306,Ocaña!G306,Taine!G306,Vistalegre!G306)","v":0},0]
[301,"Cartulina. Tamaño A4. Gramaje 185 gr/m2 mínimo.","Paquete 50",1.407,1,{"$f":"SOLICITUD!F307","v":0},0,{"$f":"MIN(DiaCash!G307,DisOfic!G307,Lablink!G307,Lyreco!G307,Ocaña!G307,Taine!G307,Vistalegre!G307)","v":0},0]
[302,"Cartulina. Tamaño A4. Gramaje 220 gr/m2 mínimo.","Paquete 50",4.1580000000000004,1,{"$f":"SOLICITUD!F308","v":0},0,{"$f":"MIN(DiaCash!G308,DisOfic!G308,Lablink!G308,Lyreco!G308,Ocaña!G308,Taine!G308,Vistalegre!G308)","v":0},0]
[303,"Cartulina. Tamaño A3. Gramaje 185 gr/m2 mínimo.","Paquete 25",1.302,1,{"$f":"SOLICITUD!F309","v":0},0,{"$f":"MIN(DiaCash!G309,DisOfic!G309,Lablink!G309,Lyreco!G309,Ocaña!G309,Taine!G309,Vistalegre!G309)","v":0},0]
[304,"Cartulina. Tamaño A3. Gramaje 220 gr/m2 mínimo.","Paquete 25",6.0374999999999996,1,{"$f":"SOLICITUD!F310","v":0},0,{"$f":"MIN(DiaCash!G310,DisOfic!G310,Lablink!G310,Lyreco!G310,Ocaña!G310,Taine!G310,Vistalegre!G310)","v":0},0]
[305,"Pastener  metálico con compresor y correderas . ","Unidad",3.1399999999999997E-2,1,{"$f":"SOLICITUD!F311","v":0},0,{"$f":"MIN(DiaCash!G311,DisOfic!G311,Lablink!G311,Lyreco!G311,Ocaña!G311,Taine!G311,Vistalegre!G311)","v":0},0]
[306,"Cubiertas de plástico. Tamaño A4, espesor mínimo 180 micras.","Unidad",3.9600000000000003E-2,1,{"$f":"SOLICITUD!F312","v":0},0,{"$f":"MIN(DiaCash!G312,DisOfic!G312,Lablink!G312,Lyreco!G312,Ocaña!G312,Taine!G312,Vistalegre!G312)","v":0},0]
[307,"Cubiertas de plástico. Tamaño A3, espesor mínimo 180 micras.","Unidad",7.1400000000000005E-2,1,{"$f":"SOLICITUD!F313","v":0},0,{"$f":"MIN(DiaCash!G313,DisOfic!G313,Lablink!G313,Lyreco!G313,Ocaña!G313,Taine!G313,Vistalegre!G313)","v":0},0]
[308,"Bobina de rafia de plástico. (bobina 400 gr)","Unidad",2.0506000000000002,1,{"$f":"SOLICITUD!F314","v":0},0,{"$f":"MIN(DiaCash!G314,DisOfic!G314,Lablink!G314,Lyreco!G314,Ocaña!G314,Taine!G314,Vistalegre!G314)","v":0},0]
[309,"Cinta balduque en rollo algodón 100% . Medidas 19mm x 14m aprox.","Unidad",2.2559999999999998,1,{"$f":"SOLICITUD!F315","v":0},0,{"$f":"MIN(DiaCash!G315,DisOfic!G315,Lablink!G315,Lyreco!G315,Ocaña!G315,Taine!G315,Vistalegre!G315)","v":0},0]
[310,"Caja de embalaje cartón, canal sencillo, 4 solapas. Medidas 355x265x270 mm aprox.","Unidad",0.68400000000000005,1,{"$f":"SOLICITUD!F316","v":0},0,{"$f":"MIN(DiaCash!G316,DisOfic!G316,Lablink!G316,Lyreco!G316,Ocaña!G316,Taine!G316,Vistalegre!G316)","v":0},0]
[311,"Caja de embalaje cartón, canal sencillo, 4 solapas. Medidas 400x325x420 mm aprox.","Unidad",1.1759999999999999,1,{"$f":"SOLICITUD!F317","v":0},0,{"$f":"MIN(DiaCash!G317,DisOfic!G317,Lablink!G317,Lyreco!G317,Ocaña!G317,Taine!G317,Vistalegre!G317)","v":0},0]
[312,"Caja embalaje cartón, doble canal, 4 solapas. Medidas 400x400x400 mm aprox.","Unidad",1.76,1,{"$f":"SOLICITUD!F318","v":0},0,{"$f":"MIN(DiaCash!G318,DisOfic!G318,Lablink!G318,Lyreco!G318,Ocaña!G318,Taine!G318,Vistalegre!G318)","v":0},0]
[313,"Papel embalar. Medidas ancho 1 m.  Gramaje 70 gr/m2 mínimo.(bobina 25 kg)","Bobina 25 Kg",59.334000000000003,1,{"$f":"SOLICITUD!F319","v":0},0,{"$f":"MIN(DiaCash!G319,DisOfic!G319,Lablink!G319,Lyreco!G319,Ocaña!G319,Taine!G319,Vistalegre!G319)","v":0},0]
[314,"Papel embalar. Medidas ancho 1 m.  Gramaje 70 gr/m2 mínimo.(bobina 25 kg)","Bobina 25 Kg",60,1,{"$f":"SOLICITUD!F320","v":0},0,{"$f":"MIN(DiaCash!G320,DisOfic!G320,Lablink!G320,Lyreco!G320,Ocaña!G320,Taine!G320,Vistalegre!G320)","v":0},0]
[315,"Papel embalar. Medidas ancho 1 m.  Gramaje 70 gr/m2 mínimo.(bobina 55 kg)","Bobina 55 Kg",88.4,1,{"$f":"SOLICITUD!F321","v":0},0,{"$f":"MIN(DiaCash!G321,DisOfic!G321,Lablink!G321,Lyreco!G321,Ocaña!G321,Taine!G321,Vistalegre!G321)","v":0},0]
[316,"Papel embalar. Medidas ancho 1 m.  Gramaje 70 gr/m2 mínimo.(bobina 55 kg)","Bobina 55 Kg",88.4,1,{"$f":"SOLICITUD!F322","v":0},0,{"$f":"MIN(DiaCash!G322,DisOfic!G322,Lablink!G322,Lyreco!G322,Ocaña!G322,Taine!G322,Vistalegre!G322)","v":0},0]
[317,"Bolsa de correo interno de papel kraft. Tamaño 250 x 353 mm aprox.  Gramaje mínimo 100 gr/m2.","Caja 250 unidades",30.75,1,{"$f":"SOLICITUD!F323","v":0},0,{"$f":"MIN(DiaCash!G323,DisOfic!G323,Lablink!G323,Lyreco!G323,Ocaña!G323,Taine!G323,Vistalegre!G323)","v":0},0]
[318,"Bolsa de papel kraft armado. Tamaño 310 x 410 mm aprox.  Gramaje mínimo 110 gr/m2.","Caja 100 unidades",34.44,1,{"$f":"SOLICITUD!F324","v":0},0,{"$f":"MIN(DiaCash!G324,DisOfic!G324,Lablink!G324,Lyreco!G324,Ocaña!G324,Taine!G324,Vistalegre!G324)","v":0},0]
[319,"Sobre autopegue con ventana a la derecha o izquierda. Tamaño 115x225 mm aprox.  Gramaje mínimo 90 gr/m2.","Caja 500 unidades",8.2522000000000002,1,{"$f":"SOLICITUD!F325","v":0},0,{"$f":"MIN(DiaCash!G325,DisOfic!G325,Lablink!G325,Lyreco!G325,Ocaña!G325,Taine!G325,Vistalegre!G325)","v":0},0]
[320,"Sobre autopegue sin ventana. Tamaño 120x176 mm aprox.  Gramaje mínimo 90 gr/m2.","Caja 500 unidades",7.5566000000000004,1,{"$f":"SOLICITUD!F326","v":0},0,{"$f":"MIN(DiaCash!G326,DisOfic!G326,Lablink!G326,Lyreco!G326,Ocaña!G326,Taine!G326,Vistalegre!G326)","v":0},0]
[321,"Sobre autopegue sin ventana. Tamaño 115x225 mm aprox.  Gramaje mínimo 90 gr/m2.","Caja 500 unidades",7.165,1,{"$f":"SOLICITUD!F327","v":0},0,{"$f":"MIN(DiaCash!G327,DisOfic!G327,Lablink!G327,Lyreco!G327,Ocaña!G327,Taine!G327,Vistalegre!G327)","v":0},0]
[322,"Sobre autopegue sin ventana. Tamaño 176x231 mm aprox.  Gramaje mínimo 90 gr/m2.","Caja 500 unidades",16.5517,1,{"$f":"SOLICITUD!F328","v":0},{"$f":"IF(F328>0,IF(E328=\"Excluido\",\"Excluido1\",IF(F328>0,IF(F328<E328,\"Excluido2\",D328*F328),0)),0)","v":0},{"$f":"MIN(DiaCash!G328,DisOfic!G328,Lablink!G328,Lyreco!G328,Ocaña!G328,Taine!G328,Vistalegre!G328)","v":0},{"$f":"IF(G328<=H328,G328,0)","v":0}]
[323,"Sobre autopegue sin ventana. Tamaño 260x360 mm aprox.  Gramaje mínimo 90 gr/m2.","Caja 250 unidades",17.513999999999999,1,{"$f":"SOLICITUD!F329","v":0},0,{"$f":"MIN(DiaCash!G329,DisOfic!G329,Lablink!G329,Lyreco!G329,Ocaña!G329,Taine!G329,Vistalegre!G329)","v":0},0]
[324,"Sobre bolsa burbuja. Tamaño 270 x 360 mm aprox.  Gramaje mínimo 110 gr/m2.","Paquete 10 unidades",2.2660999999999998,1,{"$f":"SOLICITUD!F330","v":0},0,{"$f":"MIN(DiaCash!G330,DisOfic!G330,Lablink!G330,Lyreco!G330,Ocaña!G330,Taine!G330,Vistalegre!G330)","v":0},0]
[325,"Sobre bolsa fuelle papel kraft. Tamaño 280 x 410 x 30 mm aprox. Gramaje mínimo 110 gr/m2.","Caja 100 unidades",20.004000000000001,2.5,{"$f":"SOLICITUD!F331","v":0},0,{"$f":"MIN(DiaCash!G331,DisOfic!G331,Lablink!G331,Lyreco!G331,Ocaña!G331,Taine!G331,Vistalegre!G331)","v":0},0]
[326,"Sobre plástico, cierre broche o velcro. Tamaño A4 / folio.","Unidad",0.192,1,{"$f":"SOLICITUD!F332","v":0},0,{"$f":"MIN(DiaCash!G332,DisOfic!G332,Lablink!G332,Lyreco!G332,Ocaña!G332,Taine!G332,Vistalegre!G332)","v":0},0]
[327,"Sobre plástico, cierre broche o velcro. Tamaño A3.","Unidad",0.85199999999999998,1,{"$f":"SOLICITUD!F333","v":0},0,{"$f":"MIN(DiaCash!G333,DisOfic!G333,Lablink!G333,Lyreco!G333,Ocaña!G333,Taine!G333,Vistalegre!G333)","v":0},0]
[328,"Tubos planos cartón 4x46 cm (diam. X altura)","Unidad",0.58320000000000005,1,{"$f":"SOLICITUD!F334","v":0},0,{"$f":"MIN(DiaCash!G334,DisOfic!G334,Lablink!G334,Lyreco!G334,Ocaña!G334,Taine!G334,Vistalegre!G334)","v":0},0]
[329,"Tubos planos cartón 60x64 cm (diam. X altura)","Unidad",1.0395000000000001,1,{"$f":"SOLICITUD!F335","v":0},0,{"$f":"MIN(DiaCash!G335,DisOfic!G335,Lablink!G335,Lyreco!G335,Ocaña!G335,Taine!G335,Vistalegre!G335)","v":0},0]
[330,"Tubos envíos cartón 6x46 cm (diam. X altura)","Unidad",0.80920000000000003,1,{"$f":"SOLICITUD!F336","v":0},0,{"$f":"MIN(DiaCash!G336,DisOfic!G336,Lablink!G336,Lyreco!G336,Ocaña!G336,Taine!G336,Vistalegre!G336)","v":0},0]
[331,"Rollo de papel para calculadora 57mm 65mts.","Unidad",0.27560000000000001,1,{"$f":"SOLICITUD!F337","v":0},0,{"$f":"MIN(DiaCash!G337,DisOfic!G337,Lablink!G337,Lyreco!G337,Ocaña!G337,Taine!G337,Vistalegre!G337)","v":0},0]
[332,"Tablero de corcho para anuncios con marco de madera 60 x 90 cm (hxa) (Bi-Office)","Unidad",5.8959999999999999,1,{"$f":"SOLICITUD!F338","v":0},0,{"$f":"MIN(DiaCash!G338,DisOfic!G338,Lablink!G338,Lyreco!G338,Ocaña!G338,Taine!G338,Vistalegre!G338)","v":0},0]
[333,"Caja de 5 Paquetes de papel A4 80gr./m2, para impresoras inkjet, láser y fotocopiadora","Caja de 5 Paquetes",16,1,{"$f":"SOLICITUD!F339","v":0},0,{"$f":"MIN(DiaCash!G339,DisOfic!G339,Lablink!G339,Lyreco!G339,Ocaña!G339,Taine!G339,Vistalegre!G339)","v":0},0]
[334,"Caja de 5 Paquetes de papel A4 80gr./m2, para impresoras inkjet, láser y fotocopiadora (Navigator)","Caja de 5 Paquetes",21,1,{"$f":"SOLICITUD!F340","v":0},0,{"$f":"MIN(DiaCash!G340,DisOfic!G340,Lablink!G340,Lyreco!G340,Ocaña!G340,Taine!G340,Vistalegre!G340)","v":0},0]
[335,"Paquete de papel A3 80gr./m2, para impresoras inkjet, láser y fotocopiadora ","Paquete 500 hojas",7,1,{"$f":"SOLICITUD!F341","v":0},0,{"$f":"MIN(DiaCash!G341,DisOfic!G341,Lablink!G341,Lyreco!G341,Ocaña!G341,Taine!G341,Vistalegre!G341)","v":0},0]
[336,"Paquete de papel A3 80gr./m2, para impresoras inkjet, láser y fotocopiadora (Navigator)","Paquete 500 hojas",7.6,1,{"$f":"SOLICITUD!F342","v":0},0,{"$f":"MIN(DiaCash!G342,DisOfic!G342,Lablink!G342,Lyreco!G342,Ocaña!G342,Taine!G342,Vistalegre!G342)","v":0},0]
[337,"Paquete de papel A4 80gr./m2 colores pastel, intensos y fluorescentes, impresoas inkjet, láser y fotocopiadora (Clairefontaine)","Paquete 500 hojas",7,1,{"$f":"SOLICITUD!F343","v":0},0,{"$f":"MIN(DiaCash!G343,DisOfic!G343,Lablink!G343,Lyreco!G343,Ocaña!G343,Taine!G343,Vistalegre!G343)","v":0},0]
[338,"Paquete de papel A4 80gr./m2 colores intensos y fluorescentes, impresoas inkjet, láser y fotocopiadora (Clairefontaine)","Paquete 500 hojas",7,1,{"$f":"SOLICITUD!F344","v":0},0,{"$f":"MIN(DiaCash!G344,DisOfic!G344,Lablink!G344,Lyreco!G344,Ocaña!G344,Taine!G344,Vistalegre!G344)","v":0},0]
[339,"Caja de 5 Paquetes de papel A4 ecológico 75gr/m2 (Navigator Eco-Logical)","Caja de 5 Paquetes",20.75,1,{"$f":"SOLICITUD!F345","v":0},0,{"$f":"MIN(DiaCash!G345,DisOfic!G345,Lablink!G345,Lyreco!G345,Ocaña!G345,Taine!G345,Vistalegre!G345)","v":0},0]
[340,"Caja de 5 Paquetes de papel A4 Blanco 90 gr/m2 ","Caja de 5 Paquetes",24,1,{"$f":"SOLICITUD!F346","v":0},0,{"$f":"MIN(DiaCash!G346,DisOfic!G346,Lablink!G346,Lyreco!G346,Ocaña!G346,Taine!G346,Vistalegre!G346)","v":0},0]
[341,"Caja de 5 Paquetes de papel A4 Blanco 90 gr/m2 (Navigator)","Caja de 5 Paquetes",27.5,1,{"$f":"SOLICITUD!F347","v":0},0,{"$f":"MIN(DiaCash!G347,DisOfic!G347,Lablink!G347,Lyreco!G347,Ocaña!G347,Taine!G347,Vistalegre!G347)","v":0},0]
[342,"Caja de 5 Paquetes de papel A4 80gr./m2, para impresoras inkjet, láser y fotocopiadora reciclado","Caja de 5 Paquetes",19,1,{"$f":"SOLICITUD!F348","v":0},0,{"$f":"MIN(DiaCash!G348,DisOfic!G348,Lablink!G348,Lyreco!G348,Ocaña!G348,Taine!G348,Vistalegre!G348)","v":0},0]
[343,"Paquete de papel verjurado A4 90 gr/m2 blanco (Apli)","Paquete 100 hojas",5.9,1,{"$f":"SOLICITUD!F349","v":0},0,{"$f":"MIN(DiaCash!G349,DisOfic!G349,Lablink!G349,Lyreco!G349,Ocaña!G349,Taine!G349,Vistalegre!G349)","v":0},0]
[344,"Paquete de papel verjurado A4 100 color crema 90 gr/m2 (Apli)","Paquete 100 hojas",5.9,1,{"$f":"SOLICITUD!F350","v":0},0,{"$f":"MIN(DiaCash!G350,DisOfic!G350,Lablink!G350,Lyreco!G350,Ocaña!G350,Taine!G350,Vistalegre!G350)","v":0},0]
[350,"Boligrado Pentel BK-77 Superb (boligrado de punta fina 0.7 mm y tinta base de aceite)","12 unidades",10.368,1,{"$f":"SOLICITUD!F351","v":0},{"$f":"IF(F351>0,IF(E351=\"Excluido\",\"Excluido1\",IF(F351>0,IF(F351<E351,\"Excluido2\",D351*F351),0)),0)","v":0},{"$f":"MIN(DiaCash!G351,DisOfic!G351,Lablink!G351,Lyreco!G351,Ocaña!G351,Taine!G351,Vistalegre!G351)","v":0},{"$f":"IF(G351<=H351,G351,0)","v":0}]
[351,"50 tapas encuadernar gofrado A4 Negro","50 unidades",8.07,1,{"$f":"SOLICITUD!F352","v":0},0,{"$f":"MIN(DiaCash!G352,DisOfic!G352,Lablink!G352,Lyreco!G352,Ocaña!G352,Taine!G352,Vistalegre!G352)","v":0},0]
[352,"Cinta doble cara 19x33 mm","Unidad",12.3795,1,{"$f":"SOLICITUD!F353","v":0},0,{"$f":"MIN(DiaCash!G353,DisOfic!G353,Lablink!G353,Lyreco!G353,Ocaña!G353,Taine!G353,Vistalegre!G353)","v":0},0]
[353,"Bolsas para plastificar carnet tamaño 60x90 mm y grosor 200 micras.","100 unidades",4.32,1,{"$f":"SOLICITUD!F354","v":0},0,{"$f":"MIN(DiaCash!G354,DisOfic!G354,Lablink!G354,Lyreco!G354,Ocaña!G354,Taine!G354,Vistalegre!G354)","v":0},0]
[354,"Bolsas para plastificar tamaño A3 grosor 125 micras","100 unidades",18.13,1,{"$f":"SOLICITUD!F355","v":0},0,{"$f":"MIN(DiaCash!G355,DisOfic!G355,Lablink!G355,Lyreco!G355,Ocaña!G355,Taine!G355,Vistalegre!G355)","v":0},0]
[355,"Sobres de tamaño 229x324 con tira de silicona","250 unidades",18.0563,1,{"$f":"SOLICITUD!F356","v":0},0,{"$f":"MIN(DiaCash!G356,DisOfic!G356,Lablink!G356,Lyreco!G356,Ocaña!G356,Taine!G356,Vistalegre!G356)","v":0},0]
[356,"Minas Super Polymer 0.35 HB","12 unidades",0.81,1,{"$f":"SOLICITUD!F357","v":0},0,{"$f":"MIN(DiaCash!G357,DisOfic!G357,Lablink!G357,Lyreco!G357,Ocaña!G357,Taine!G357,Vistalegre!G357)","v":0},0]
[357,"Minas Super Polymer 0.35 2H","12 unidades",0.81,1,{"$f":"SOLICITUD!F358","v":0},0,{"$f":"MIN(DiaCash!G358,DisOfic!G358,Lablink!G358,Lyreco!G358,Ocaña!G358,Taine!G358,Vistalegre!G358)","v":0},0]
[358,"Cuaderno Cuadros A4 160H (marca SAM, Enri, tec)","Unidad",2.3018000000000001,1,{"$f":"SOLICITUD!F359","v":0},0,{"$f":"MIN(DiaCash!G359,DisOfic!G359,Lablink!G359,Lyreco!G359,Ocaña!G359,Taine!G359,Vistalegre!G359)","v":0},0]
[359,"Fichas rayadas 160x220 (paquete de 100 hojas)","100 unidades",2.7404999999999999,1,{"$f":"SOLICITUD!F360","v":0},0,{"$f":"MIN(DiaCash!G360,DisOfic!G360,Lablink!G360,Lyreco!G360,Ocaña!G360,Taine!G360,Vistalegre!G360)","v":0},0]
[360,"Portablocks con pinza y solapa","Unidad",3.3075000000000001,1,{"$f":"SOLICITUD!F361","v":0},0,{"$f":"MIN(DiaCash!G361,DisOfic!G361,Lablink!G361,Lyreco!G361,Ocaña!G361,Taine!G361,Vistalegre!G361)","v":0},0]
[361,"Pack 100 Fundas multitaladro folio PP Cristal","100 unidades",4.9950000000000001,1,{"$f":"SOLICITUD!F362","v":0},0,{"$f":"MIN(DiaCash!G362,DisOfic!G362,Lablink!G362,Lyreco!G362,Ocaña!G362,Taine!G362,Vistalegre!G362)","v":0},0]
[362,"Sobre burbuja/acolchado tamaño 350x470 mm ","10 unidades",4.6913999999999998,1,{"$f":"SOLICITUD!F363","v":0},0,{"$f":"MIN(DiaCash!G363,DisOfic!G363,Lablink!G363,Lyreco!G363,Ocaña!G363,Taine!G363,Vistalegre!G363)","v":0},0]
[363,"Sobre burbuja/acolchado tamaño 300x445 mm ","10 unidades",3.8820000000000001,1,{"$f":"SOLICITUD!F364","v":0},0,{"$f":"MIN(DiaCash!G364,DisOfic!G364,Lablink!G364,Lyreco!G364,Ocaña!G364,Taine!G364,Vistalegre!G364)","v":0},0]
[364,"Sobre burbuja/acolchado tamaño 120x215 mm","11 unidades",1.1319999999999999,1,{"$f":"SOLICITUD!F365","v":0},0,{"$f":"MIN(DiaCash!G365,DisOfic!G365,Lablink!G365,Lyreco!G365,Ocaña!G365,Taine!G365,Vistalegre!G365)","v":0},0]
[365,"Sobre burbuja/acolchado tamaño 220x340 mm","10 unidades",2.4906000000000001,1,{"$f":"SOLICITUD!F366","v":0},0,{"$f":"MIN(DiaCash!G366,DisOfic!G366,Lablink!G366,Lyreco!G366,Ocaña!G366,Taine!G366,Vistalegre!G366)","v":0},0]
[366,"Sobre burbuja/acolchado tamaño 220x265 mm","10 unidades",1.9410000000000001,1,{"$f":"SOLICITUD!F367","v":0},0,{"$f":"MIN(DiaCash!G367,DisOfic!G367,Lablink!G367,Lyreco!G367,Ocaña!G367,Taine!G367,Vistalegre!G367)","v":0},0]
[367,"Carpeta Polipropileno A4 Gomas Solapas","Unidad",0.79800000000000004,1,{"$f":"SOLICITUD!F368","v":0},0,{"$f":"MIN(DiaCash!G368,DisOfic!G368,Lablink!G368,Lyreco!G368,Ocaña!G368,Taine!G368,Vistalegre!G368)","v":0},0]
[368,"Roller Pilot V-5 Azul","Unidad",1.2015,1,{"$f":"SOLICITUD!F369","v":0},0,{"$f":"MIN(DiaCash!G369,DisOfic!G369,Lablink!G369,Lyreco!G369,Ocaña!G369,Taine!G369,Vistalegre!G369)","v":0},0]
[369,"Roller Pilot V-5 Negro","Unidad",1.2015,1,{"$f":"SOLICITUD!F370","v":0},0,{"$f":"MIN(DiaCash!G370,DisOfic!G370,Lablink!G370,Lyreco!G370,Ocaña!G370,Taine!G370,Vistalegre!G370)","v":0},0]
[370,"Roller Pilot V-5 Rojo","Unidad",1.2015,1,{"$f":"SOLICITUD!F371","v":0},0,{"$f":"MIN(DiaCash!G371,DisOfic!G371,Lablink!G371,Lyreco!G371,Ocaña!G371,Taine!G371,Vistalegre!G371)","v":0},0]
[371,"Sobres blancos para entrega de títulos en mano 30 x 42 cm.","250 unidades",37.799999999999997,1,{"$f":"SOLICITUD!F372","v":0},0,{"$f":"MIN(DiaCash!G372,DisOfic!G372,Lablink!G372,Lyreco!G372,Ocaña!G372,Taine!G372,Vistalegre!G372)","v":0},0]
[372,"Dosier flexible con pinza A4 60 hojas     ","Unidad",0.91490000000000005,1,{"$f":"SOLICITUD!F373","v":0},0,{"$f":"MIN(DiaCash!G373,DisOfic!G373,Lablink!G373,Lyreco!G373,Ocaña!G373,Taine!G373,Vistalegre!G373)","v":0},0]
[373,"Dosier flexible con pinza A4 30 hojas     ","Unidad",0.83220000000000005,1,{"$f":"SOLICITUD!F374","v":0},0,{"$f":"MIN(DiaCash!G374,DisOfic!G374,Lablink!G374,Lyreco!G374,Ocaña!G374,Taine!G374,Vistalegre!G374)","v":0},0]
[374,"Rollos de papel térmico para las máquinas CIGES 8x8 cm","8 unidades",8.7584,1,{"$f":"SOLICITUD!F375","v":0},0,{"$f":"MIN(DiaCash!G375,DisOfic!G375,Lablink!G375,Lyreco!G375,Ocaña!G375,Taine!G375,Vistalegre!G375)","v":0},0]
[null,null,null,null,null,null,null,null,{"$f":"SUM(I7:I375)","v":0}]
[null,null,null,null,null,null,null,null,{"$f":"COUNTIF(I7:I375,\">0\")","v":0}]

{"sheet":"Taine","index":8,"n_rows":377,"n_cols":9,"rows_kept":377,"cut":false,"hidden":false,"merged":[]}
[]
[]
[null,"TECNICA TAINE S.L.","Importe pedido mínimo:",35]
[]
[null,"LOTES 1, 2 Y 3 (Granada, Ceuta y Melilla respectivamente)"]
["Referencia","Descripción del artículo","Precio Referido a:","Precio (IVA excluido)","Ud.Mínima Servicio","Cantidad Solicitada","Precio Total","Menor Precio","Seleccionable?"]
[1,"Lapiceros de Grafito. Dureza Hb 2 ","Enavse 12 unidades",0.62,1,{"$f":"SOLICITUD!F7","v":0},{"$f":"IF(F7>0,IF(E7=\"Excluido\",\"Excluido1\",IF(F7>0,IF(F7<E7,\"Excluido2\",D7*F7),0)),0)","v":0},{"$f":"MIN(DiaCash!G7,DisOfic!G7,Lablink!G7,Lyreco!G7,Ocaña!G7,Taine!G7,Vistalegre!G7)","v":0},{"$f":"IF(G7<=H7,G7,0)","v":0}]
[2,"Lapiceros de Grafito. Dureza Hb, 2 (Staedtler)","Enavse 12 unidades",3.5,1,{"$f":"SOLICITUD!F8","v":0},{"$f":"IF(F8>0,IF(E8=\"Excluido\",\"Excluido1\",IF(F8>0,IF(F8<E8,\"Excluido2\",D8*F8),0)),0)","v":0},{"$f":"MIN(DiaCash!G8,DisOfic!G8,Lablink!G8,Lyreco!G8,Ocaña!G8,Taine!G8,Vistalegre!G8)","v":0},{"$f":"IF(G8<=H8,G8,0)","v":0}]
[3,"Minas de Grafito. Calibre 0,5 mm, diferentes durezas (Staedtler, Faber-Castell)","Envase 12 unidades",0.28000000000000003,1,{"$f":"SOLICITUD!F9","v":0},0,{"$f":"MIN(DiaCash!G9,DisOfic!G9,Lablink!G9,Lyreco!G9,Ocaña!G9,Taine!G9,Vistalegre!G9)","v":0},0]
[4,"Minas de Grafito. Calibre 0,7 mm, diferentes durezas (Staedtler, Faber-Castell)","Envase 12 unidades",0.6,1,{"$f":"SOLICITUD!F10","v":0},0,{"$f":"MIN(DiaCash!G10,DisOfic!G10,Lablink!G10,Lyreco!G10,Ocaña!G10,Taine!G10,Vistalegre!G10)","v":0},0]
[5,"Portaminas Recargable de Puntera Retráctil, Pulsador y Clip, 0,5 mm.","Unidad",0.3,1,{"$f":"SOLICITUD!F11","v":0},0,{"$f":"MIN(DiaCash!G11,DisOfic!G11,Lablink!G11,Lyreco!G11,Ocaña!G11,Taine!G11,Vistalegre!G11)","v":0},0]
[6,"Portaminas Recargable de Puntera Retráctil, Pulsador y Clip, 0,7 mm.","Unidad",0.32,1,{"$f":"SOLICITUD!F12","v":0},0,{"$f":"MIN(DiaCash!G12,DisOfic!G12,Lablink!G12,Lyreco!G12,Ocaña!G12,Taine!G12,Vistalegre!G12)","v":0},0]
[7,"Portaminas Recargable de Puntera Retráctil, Pulsador y Clip, 0,5 mm. (Staedtler, Faber Castell)","Unidad",1.1000000000000001,1,{"$f":"SOLICITUD!F13","v":0},0,{"$f":"MIN(DiaCash!G13,DisOfic!G13,Lablink!G13,Lyreco!G13,Ocaña!G13,Taine!G13,Vistalegre!G13)","v":0},0]
[8,"Portaminas Recargable de Puntera Retráctil, Pulsador y Clip, 0,7 mm. (Staedtler, Faber Castell)","Unidad",1.1000000000000001,1,{"$f":"SOLICITUD!F14","v":0},0,{"$f":"MIN(DiaCash!G14,DisOfic!G14,Lablink!G14,Lyreco!G14,Ocaña!G14,Taine!G14,Vistalegre!G14)","v":0},0]
[9,"Lapiz Bicolor azul/rojo ","Envase 12 unidades",3.5,1,{"$f":"SOLICITUD!F15","v":0},0,{"$f":"MIN(DiaCash!G15,DisOfic!G15,Lablink!G15,Lyreco!G15,Ocaña!G15,Taine!G15,Vistalegre!G15)","v":0},0]
[10,"Lapiz Bicolor azul/rojo  (Faber-Castell)","Envase 12 unidades",4.8,1,{"$f":"SOLICITUD!F16","v":0},0,{"$f":"MIN(DiaCash!G16,DisOfic!G16,Lablink!G16,Lyreco!G16,Ocaña!G16,Taine!G16,Vistalegre!G16)","v":0},0]
[11,"Afila Lapiceros doble entrada metálico","Unidad",0.12,1,{"$f":"SOLICITUD!F17","v":0},0,{"$f":"MIN(DiaCash!G17,DisOfic!G17,Lablink!G17,Lyreco!G17,Ocaña!G17,Taine!G17,Vistalegre!G17)","v":0},0]
[12,"Afila Lapiceros doble entrada metálico (Faibo)","Unidad",0.24,1,{"$f":"SOLICITUD!F18","v":0},0,{"$f":"MIN(DiaCash!G18,DisOfic!G18,Lablink!G18,Lyreco!G18,Ocaña!G18,Taine!G18,Vistalegre!G18)","v":0},0]
[13,"Afila Lapiceros una entrada metálico","Unidad",0.15,1,{"$f":"SOLICITUD!F19","v":0},0,{"$f":"MIN(DiaCash!G19,DisOfic!G19,Lablink!G19,Lyreco!G19,Ocaña!G19,Taine!G19,Vistalegre!G19)","v":0},0]
[14,"Afila Lapiceros una entrada metálico (Faibo)","Unidad",0.12,1,{"$f":"SOLICITUD!F20","v":0},0,{"$f":"MIN(DiaCash!G20,DisOfic!G20,Lablink!G20,Lyreco!G20,Ocaña!G20,Taine!G20,Vistalegre!G20)","v":0},0]
[15,"Bolígrafo con capuchón, tinta a base de aceite, ancho de escritura 0,42 mm, escritura fina (Bic)","Unidad",0.35,12,{"$f":"SOLICITUD!F21","v":0},0,{"$f":"MIN(DiaCash!G21,DisOfic!G21,Lablink!G21,Lyreco!G21,Ocaña!G21,Taine!G21,Vistalegre!G21)","v":0},0]
[16,"Bolígrafo borrable (Pilot)","Unidad",1.46,1,{"$f":"SOLICITUD!F22","v":0},0,{"$f":"MIN(DiaCash!G22,DisOfic!G22,Lablink!G22,Lyreco!G22,Ocaña!G22,Taine!G22,Vistalegre!G22)","v":0},0]
[17,"Bolígrafo con capuchón, tinta a base de aceite, ancho de escritura 1,0mm, escritura normal, colores","Unidad",0.08,1,{"$f":"SOLICITUD!F23","v":0},0,{"$f":"MIN(DiaCash!G23,DisOfic!G23,Lablink!G23,Lyreco!G23,Ocaña!G23,Taine!G23,Vistalegre!G23)","v":0},0]
[18,"Bolígrafo con capuchón, tinta a base de aceite, ancho de escritura 1,0mm, escritura normal, colores (Bic)","Unidad",0.18,1,{"$f":"SOLICITUD!F24","v":0},0,{"$f":"MIN(DiaCash!G24,DisOfic!G24,Lablink!G24,Lyreco!G24,Ocaña!G24,Taine!G24,Vistalegre!G24)","v":0},0]
[19,"Bolígrafo con capuchón, tinta a base de aceite, ancho de escritura 0,5mm, escritura fina, colores (Bic)","Unidad",0.2,1,{"$f":"SOLICITUD!F25","v":0},0,{"$f":"MIN(DiaCash!G25,DisOfic!G25,Lablink!G25,Lyreco!G25,Ocaña!G25,Taine!G25,Vistalegre!G25)","v":0},0]
[20,"Bolígrafo uso común capuchón tinta gel, colores (Bic, Pilot)","Unidad",0.83,1,{"$f":"SOLICITUD!F26","v":0},0,{"$f":"MIN(DiaCash!G26,DisOfic!G26,Lablink!G26,Lyreco!G26,Ocaña!G26,Taine!G26,Vistalegre!G26)","v":0},0]
[21,"Bolígrafo uso común capuchón, tinta base de aceite (Pilot)","Unidad",0.69,12,{"$f":"SOLICITUD!F27","v":0},0,{"$f":"MIN(DiaCash!G27,DisOfic!G27,Lablink!G27,Lyreco!G27,Ocaña!G27,Taine!G27,Vistalegre!G27)","v":0},0]
[22,"Bolígrafo retráctil tinta gel  ","Unidad",0.19,12,{"$f":"SOLICITUD!F28","v":0},0,{"$f":"MIN(DiaCash!G28,DisOfic!G28,Lablink!G28,Lyreco!G28,Ocaña!G28,Taine!G28,Vistalegre!G28)","v":0},0]
[23,"Bolígrafo retráctil tinta gel  (Pilot)","Unidad",0.74,12,{"$f":"SOLICITUD!F29","v":0},0,{"$f":"MIN(DiaCash!G29,DisOfic!G29,Lablink!G29,Lyreco!G29,Ocaña!G29,Taine!G29,Vistalegre!G29)","v":0},0]
[24,"Pluma desechable (Pilot)","Unidad",1.75,1,{"$f":"SOLICITUD!F30","v":0},0,{"$f":"MIN(DiaCash!G30,DisOfic!G30,Lablink!G30,Lyreco!G30,Ocaña!G30,Taine!G30,Vistalegre!G30)","v":0},0]
[25,"Marcadores Fluorescentes. Ancho de Trazo entre 2 Y 5 mm","Unidad",0.22,12,{"$f":"SOLICITUD!F31","v":0},0,{"$f":"MIN(DiaCash!G31,DisOfic!G31,Lablink!G31,Lyreco!G31,Ocaña!G31,Taine!G31,Vistalegre!G31)","v":0},0]
[26,"Marcadores Fluorescentes. Ancho de Trazo entre 2 Y 5 mm (Faber Castell, Stabilo)","Unidad",0.41,12,{"$f":"SOLICITUD!F32","v":0},0,{"$f":"MIN(DiaCash!G32,DisOfic!G32,Lablink!G32,Lyreco!G32,Ocaña!G32,Taine!G32,Vistalegre!G32)","v":0},0]
[27,"Roller Retráctil Tinta Gel. Trazo entre 0,4 Y 0,7 mm.","Unidad",0.5,12,{"$f":"SOLICITUD!F33","v":0},0,{"$f":"MIN(DiaCash!G33,DisOfic!G33,Lablink!G33,Lyreco!G33,Ocaña!G33,Taine!G33,Vistalegre!G33)","v":0},0]
[28,"Roller Retráctil Tinta Gel. Trazo entre 0,4 Y 0,7 mm. (Pilot)","Unidad",0.96,12,{"$f":"SOLICITUD!F34","v":0},0,{"$f":"MIN(DiaCash!G34,DisOfic!G34,Lablink!G34,Lyreco!G34,Ocaña!G34,Taine!G34,Vistalegre!G34)","v":0},0]
[29,"Roller Tinta Gel con capuchón. Trazo entre  0,4 Y 0,7 mm.","Unidad",0.4,12,{"$f":"SOLICITUD!F35","v":0},0,{"$f":"MIN(DiaCash!G35,DisOfic!G35,Lablink!G35,Lyreco!G35,Ocaña!G35,Taine!G35,Vistalegre!G35)","v":0},0]
[30,"Roller Tinta Gel con capuchón. Trazo entre  0,4 Y 0,7 mm. (Pilot)","Unidad",0.96,12,{"$f":"SOLICITUD!F36","v":0},0,{"$f":"MIN(DiaCash!G36,DisOfic!G36,Lablink!G36,Lyreco!G36,Ocaña!G36,Taine!G36,Vistalegre!G36)","v":0},0]
[31,"Roller Tinta Líquida con capuchón. Trazo entre 0,5 Y 0,7 mm.","Unidad",0.23300000000000001,12,{"$f":"SOLICITUD!F37","v":0},0,{"$f":"MIN(DiaCash!G37,DisOfic!G37,Lablink!G37,Lyreco!G37,Ocaña!G37,Taine!G37,Vistalegre!G37)","v":0},0]
[32,"Roller Tinta Líquida con capuchón. Trazo entre 0,5 Y 0,7 mm. (Pilot)","Unidad",1.08,1,{"$f":"SOLICITUD!F38","v":0},0,{"$f":"MIN(DiaCash!G38,DisOfic!G38,Lablink!G38,Lyreco!G38,Ocaña!G38,Taine!G38,Vistalegre!G38)","v":0},0]
[33,"Rotulador Punta Fibra. Trazo entre 0,4 Y 1 mm.","Unidad",0.23,10,{"$f":"SOLICITUD!F39","v":0},0,{"$f":"MIN(DiaCash!G39,DisOfic!G39,Lablink!G39,Lyreco!G39,Ocaña!G39,Taine!G39,Vistalegre!G39)","v":0},0]
[34,"Rotulador Punta Fibra. Trazo entre 0,4 Y 1 mm. (Edding)","Unidad",0.42,10,{"$f":"SOLICITUD!F40","v":0},0,{"$f":"MIN(DiaCash!G40,DisOfic!G40,Lablink!G40,Lyreco!G40,Ocaña!G40,Taine!G40,Vistalegre!G40)","v":0},0]
[35,"Rotulador indeleble punta 0,6 mm (Staedtler)","Unidad",0.78,10,{"$f":"SOLICITUD!F41","v":0},0,{"$f":"MIN(DiaCash!G41,DisOfic!G41,Lablink!G41,Lyreco!G41,Ocaña!G41,Taine!G41,Vistalegre!G41)","v":0},0]
[36,"Rotulador Permanente. Trazo entre 0,7 Y 2 mm Punta Cónica","Unidad",0.26,10,{"$f":"SOLICITUD!F42","v":0},0,{"$f":"MIN(DiaCash!G42,DisOfic!G42,Lablink!G42,Lyreco!G42,Ocaña!G42,Taine!G42,Vistalegre!G42)","v":0},0]
[37,"Rotulador Permanente. Trazo entre 0,7 Y 2 mm Punta Cónica (Edding)","Unidad",1.1399999999999999,10,{"$f":"SOLICITUD!F43","v":0},0,{"$f":"MIN(DiaCash!G43,DisOfic!G43,Lablink!G43,Lyreco!G43,Ocaña!G43,Taine!G43,Vistalegre!G43)","v":0},0]
[38,"Rotulador Permanente. Trazo entre 1,5-3 mm  Punta Cómica (Edding)","Unidad",1.4,10,{"$f":"SOLICITUD!F44","v":0},0,{"$f":"MIN(DiaCash!G44,DisOfic!G44,Lablink!G44,Lyreco!G44,Ocaña!G44,Taine!G44,Vistalegre!G44)","v":0},0]
[39,"Rotulador Permanente. Trazo entre 2 Y 7 mm Punta Cónica","Unidad",0.6,10,{"$f":"SOLICITUD!F45","v":0},0,{"$f":"MIN(DiaCash!G45,DisOfic!G45,Lablink!G45,Lyreco!G45,Ocaña!G45,Taine!G45,Vistalegre!G45)","v":0},0]
[40,"Rotulador Permanente. Trazo entre 2 Y 7 mm Punta Cónica (Edding)","Unidad",1.6,10,{"$f":"SOLICITUD!F46","v":0},0,{"$f":"MIN(DiaCash!G46,DisOfic!G46,Lablink!G46,Lyreco!G46,Ocaña!G46,Taine!G46,Vistalegre!G46)","v":0},0]
[41,"Rotulador Permanente. Trazo entre 2 Y 7 mm Punta Biselada","Unidad",0.49,10,{"$f":"SOLICITUD!F47","v":0},0,{"$f":"MIN(DiaCash!G47,DisOfic!G47,Lablink!G47,Lyreco!G47,Ocaña!G47,Taine!G47,Vistalegre!G47)","v":0},0]
[42,"Rotulador Permanente. Trazo entre 2 Y 7 mm Punta Biselada (Edding)","Unidad",1.4,10,{"$f":"SOLICITUD!F48","v":0},0,{"$f":"MIN(DiaCash!G48,DisOfic!G48,Lablink!G48,Lyreco!G48,Ocaña!G48,Taine!G48,Vistalegre!G48)","v":0},0]
[43,"Rotulador Permanente. Trazo entre 8 Y 16 mm Punta Biselada","Unidad",1.2,12,{"$f":"SOLICITUD!F49","v":0},0,{"$f":"MIN(DiaCash!G49,DisOfic!G49,Lablink!G49,Lyreco!G49,Ocaña!G49,Taine!G49,Vistalegre!G49)","v":0},0]
[44,"Rotulador Permanente. Trazo entre 8 Y 16 mm Punta Biselada (Edding)","Unidad",4.32,5,{"$f":"SOLICITUD!F50","v":0},0,{"$f":"MIN(DiaCash!G50,DisOfic!G50,Lablink!G50,Lyreco!G50,Ocaña!G50,Taine!G50,Vistalegre!G50)","v":0},0]
[45,"Rotulador Borrable de Punta Biselada para Pizarra Blanca. Trazo Entre 2 Y 5 mm","Unidad",0.26,12,{"$f":"SOLICITUD!F51","v":0},0,{"$f":"MIN(DiaCash!G51,DisOfic!G51,Lablink!G51,Lyreco!G51,Ocaña!G51,Taine!G51,Vistalegre!G51)","v":0},0]
[46,"Rotulador Borrable de Punta Biselada para Pizarra Blanca. Trazo Entre 2 Y 5 mm (Bic)","Unidad",0.7,12,{"$f":"SOLICITUD!F52","v":0},0,{"$f":"MIN(DiaCash!G52,DisOfic!G52,Lablink!G52,Lyreco!G52,Ocaña!G52,Taine!G52,Vistalegre!G52)","v":0},0]
[47,"Rotulador Borrable de Punta Conica para Pizarra Blanca. Trazo Entre 1 Y 4 mm","Unidad",0.26,12,{"$f":"SOLICITUD!F53","v":0},0,{"$f":"MIN(DiaCash!G53,DisOfic!G53,Lablink!G53,Lyreco!G53,Ocaña!G53,Taine!G53,Vistalegre!G53)","v":0},0]
[48,"Rotulador Borrable de Punta Conica para Pizarra Blanca. Trazo Entre 1 Y 4 mm (Bic)","Unidad",0.6,12,{"$f":"SOLICITUD!F54","v":0},0,{"$f":"MIN(DiaCash!G54,DisOfic!G54,Lablink!G54,Lyreco!G54,Ocaña!G54,Taine!G54,Vistalegre!G54)","v":0},0]
[49,"Borrador para Pizarra Blanca","Unidad",0.82,1,{"$f":"SOLICITUD!F55","v":0},0,{"$f":"MIN(DiaCash!G55,DisOfic!G55,Lablink!G55,Lyreco!G55,Ocaña!G55,Taine!G55,Vistalegre!G55)","v":0},0]
[50,"Recambios Borrador de Pizarra Blanca ","Envase 10 unidades",1.36,1,{"$f":"SOLICITUD!F56","v":0},0,{"$f":"MIN(DiaCash!G56,DisOfic!G56,Lablink!G56,Lyreco!G56,Ocaña!G56,Taine!G56,Vistalegre!G56)","v":0},0]
[51,"Puntero laser rojo (Trust)","Unidad",21.5,1,{"$f":"SOLICITUD!F57","v":0},0,{"$f":"MIN(DiaCash!G57,DisOfic!G57,Lablink!G57,Lyreco!G57,Ocaña!G57,Taine!G57,Vistalegre!G57)","v":0},0]
[52,"Pizarra blanca magnética esmaltada. Marco aluminio/plástico 60x90 cm (hxa) (Nobo)","Unidad",14.16,1,{"$f":"SOLICITUD!F58","v":0},0,{"$f":"MIN(DiaCash!G58,DisOfic!G58,Lablink!G58,Lyreco!G58,Ocaña!G58,Taine!G58,Vistalegre!G58)","v":0},0]
[53,"Pizarra blanca magnética esmaltada. Marco aluminio/plástico 90x120 cm (hxa) (Nobo)","Unidad",29.7,1,{"$f":"SOLICITUD!F59","v":0},0,{"$f":"MIN(DiaCash!G59,DisOfic!G59,Lablink!G59,Lyreco!G59,Ocaña!G59,Taine!G59,Vistalegre!G59)","v":0},0]
[54,"Pizarra blanca magnética esmaltada. Marco aluminio/plástico 100x150 cm (hxa) (Nobo)","Unidad",64.88,1,{"$f":"SOLICITUD!F60","v":0},0,{"$f":"MIN(DiaCash!G60,DisOfic!G60,Lablink!G60,Lyreco!G60,Ocaña!G60,Taine!G60,Vistalegre!G60)","v":0},0]
[55,"Pizarra caballete con superficie lacada magnética. Marco y bandeja portamarcadores en aluminio. Brazos laterales magnéticos que triplican la superficie de lectura. Pies telescópicos con altura regulable. Para usar con o sin block de papel 1000x700 mm (hxa) (Bi-Office)","Unidad",110,1,{"$f":"SOLICITUD!F61","v":0},0,{"$f":"MIN(DiaCash!G61,DisOfic!G61,Lablink!G61,Lyreco!G61,Ocaña!G61,Taine!G61,Vistalegre!G61)","v":0},0]
[56,"Cinta Correctora con dispensador desechable tipo Roller. Anchos \nde 4,2 A 6 mm. Largos de 8,5 A 12 Mts.","Unidad",0.65,12,{"$f":"SOLICITUD!F62","v":0},0,{"$f":"MIN(DiaCash!G62,DisOfic!G62,Lablink!G62,Lyreco!G62,Ocaña!G62,Taine!G62,Vistalegre!G62)","v":0},0]
[57,"Cinta Correctora con dispensador desechable tipo Roller. Anchos \nde 4,2 A 6 mm. Largos de 8,5 A 12 Mts. (Pritt Roller)","Unidad",1.65,20,{"$f":"SOLICITUD!F63","v":0},0,{"$f":"MIN(DiaCash!G63,DisOfic!G63,Lablink!G63,Lyreco!G63,Ocaña!G63,Taine!G63,Vistalegre!G63)","v":0},0]
[58,"Corrector Líquido de secado rápido con pincel aplicador 20 Ml","Unidad",0.3,10,{"$f":"SOLICITUD!F64","v":0},0,{"$f":"MIN(DiaCash!G64,DisOfic!G64,Lablink!G64,Lyreco!G64,Ocaña!G64,Taine!G64,Vistalegre!G64)","v":0},0]
[59,"Corrector Líquido de secado rápido con pincel aplicador 20 Ml (Tippex)","Unidad",1.1000000000000001,10,{"$f":"SOLICITUD!F65","v":0},0,{"$f":"MIN(DiaCash!G65,DisOfic!G65,Lablink!G65,Lyreco!G65,Ocaña!G65,Taine!G65,Vistalegre!G65)","v":0},0]
[60,"Lápiz corrector con capuchón ajustable punta metálica secado rápido, de 7 a 12 ml (Pritt)","Unidad",1.8,10,{"$f":"SOLICITUD!F66","v":0},0,{"$f":"MIN(DiaCash!G66,DisOfic!G66,Lablink!G66,Lyreco!G66,Ocaña!G66,Taine!G66,Vistalegre!G66)","v":0},0]
[61,"Goma para borrar grafito","Unidad",0.09,30,{"$f":"SOLICITUD!F67","v":0},0,{"$f":"MIN(DiaCash!G67,DisOfic!G67,Lablink!G67,Lyreco!G67,Ocaña!G67,Taine!G67,Vistalegre!G67)","v":0},0]
[62,"Atril de sobremesa ajustable. Tamaño A4 y mayor","Unidad",10.119999999999999,1,{"$f":"SOLICITUD!F68","v":0},0,{"$f":"MIN(DiaCash!G68,DisOfic!G68,Lablink!G68,Lyreco!G68,Ocaña!G68,Taine!G68,Vistalegre!G68)","v":0},0]
[63,"Bandeja Apilable Sobremesa Plástico . Tamaño minimo apx. 24X34 cms.","Unidad",0.95,1,{"$f":"SOLICITUD!F69","v":0},0,{"$f":"MIN(DiaCash!G69,DisOfic!G69,Lablink!G69,Lyreco!G69,Ocaña!G69,Taine!G69,Vistalegre!G69)","v":0},0]
[64,"Bandeja Apilable Sobremesa Acero Cromado. Tamaño minimo apx. 24X34 cms.","Unidad",3.69,1,{"$f":"SOLICITUD!F70","v":0},0,{"$f":"MIN(DiaCash!G70,DisOfic!G70,Lablink!G70,Lyreco!G70,Ocaña!G70,Taine!G70,Vistalegre!G70)","v":0},0]
[65,"Cubilete para lápices ","Unidad",0.53,1,{"$f":"SOLICITUD!F71","v":0},0,{"$f":"MIN(DiaCash!G71,DisOfic!G71,Lablink!G71,Lyreco!G71,Ocaña!G71,Taine!G71,Vistalegre!G71)","v":0},0]
[66,"Regla de Plástico milimetrada transparente 40 cm","Unidad",0.22,1,{"$f":"SOLICITUD!F72","v":0},{"$f":"IF(F72>0,IF(E72=\"Excluido\",\"Excluido1\",IF(F72>0,IF(F72<E72,\"Excluido2\",D72*F72),0)),0)","v":0},{"$f":"MIN(DiaCash!G72,DisOfic!G72,Lablink!G72,Lyreco!G72,Ocaña!G72,Taine!G72,Vistalegre!G72)","v":0},{"$f":"IF(G72<=H72,G72,0)","v":0}]
[67,"Regla de Plástico milimetrada transparente 40 cm (Staedtler, Faber-Castell)","Unidad",4.3,1,{"$f":"SOLICITUD!F73","v":0},0,{"$f":"MIN(DiaCash!G73,DisOfic!G73,Lablink!G73,Lyreco!G73,Ocaña!G73,Taine!G73,Vistalegre!G73)","v":0},0]
[68,"Escuadra y Cartabon transparente 30 ó 40 cm ","Unidad",1.02,1,{"$f":"SOLICITUD!F74","v":0},0,{"$f":"MIN(DiaCash!G74,DisOfic!G74,Lablink!G74,Lyreco!G74,Ocaña!G74,Taine!G74,Vistalegre!G74)","v":0},0]
[69,"Escuadra y Cartabon transparente 30 ó 40 cm (Staedtler, Faber-Castell)","Unidad",3.25,1,{"$f":"SOLICITUD!F75","v":0},0,{"$f":"MIN(DiaCash!G75,DisOfic!G75,Lablink!G75,Lyreco!G75,Ocaña!G75,Taine!G75,Vistalegre!G75)","v":0},0]
[70,"Abrecartas Acero Inoxidable 170 mm aprox.","Unidad",0.95,1,{"$f":"SOLICITUD!F76","v":0},0,{"$f":"MIN(DiaCash!G76,DisOfic!G76,Lablink!G76,Lyreco!G76,Ocaña!G76,Taine!G76,Vistalegre!G76)","v":0},0]
[71,"Bloque Calendario 82X116 mm, Papel de 60 gr/m2 mínimo","Unidad",0.65400000000000003,1,{"$f":"SOLICITUD!F77","v":0},0,{"$f":"MIN(DiaCash!G77,DisOfic!G77,Lablink!G77,Lyreco!G77,Ocaña!G77,Taine!G77,Vistalegre!G77)","v":0},0]
[72,"Base para Bloque Calendario en baquelita","Unidad",0.93,1,{"$f":"SOLICITUD!F78","v":0},0,{"$f":"MIN(DiaCash!G78,DisOfic!G78,Lablink!G78,Lyreco!G78,Ocaña!G78,Taine!G78,Vistalegre!G78)","v":0},0]
[73,"Chincheta metálica ","Envase 100 Unidades",0.31,1,{"$f":"SOLICITUD!F79","v":0},0,{"$f":"MIN(DiaCash!G79,DisOfic!G79,Lablink!G79,Lyreco!G79,Ocaña!G79,Taine!G79,Vistalegre!G79)","v":0},0]
[74,"Chincheta señalizadoras colores (Apli)","Envase 50 unidades",0.4,1,{"$f":"SOLICITUD!F80","v":0},0,{"$f":"MIN(DiaCash!G80,DisOfic!G80,Lablink!G80,Lyreco!G80,Ocaña!G80,Taine!G80,Vistalegre!G80)","v":0},0]
[75,"Portarrollos para Cinta Adhesiva Hasta 25 mm de ancho y hasta 33 mts de largo","Unidad",1.25,1,{"$f":"SOLICITUD!F81","v":0},0,{"$f":"MIN(DiaCash!G81,DisOfic!G81,Lablink!G81,Lyreco!G81,Ocaña!G81,Taine!G81,Vistalegre!G81)","v":0},0]
[76,"Portarrollos para Cinta Adhesiva Hasta 25 mm de ancho y hasta 33 mts de largo (Scotch)","Unidad",3.5,1,{"$f":"SOLICITUD!F82","v":0},0,{"$f":"MIN(DiaCash!G82,DisOfic!G82,Lablink!G82,Lyreco!G82,Ocaña!G82,Taine!G82,Vistalegre!G82)","v":0},0]
[77,"Portarrollos para Cinta Adhesiva Hasta 25 mm de ancho y hasta 66 mts de largo","Unidad",2.14,1,{"$f":"SOLICITUD!F83","v":0},0,{"$f":"MIN(DiaCash!G83,DisOfic!G83,Lablink!G83,Lyreco!G83,Ocaña!G83,Taine!G83,Vistalegre!G83)","v":0},0]
[78,"Portarrollos para Cinta Adhesiva Hasta 25 mm de ancho y hasta 66 mts de largo (Scotch)","Unidad",6.5,1,{"$f":"SOLICITUD!F84","v":0},0,{"$f":"MIN(DiaCash!G84,DisOfic!G84,Lablink!G84,Lyreco!G84,Ocaña!G84,Taine!G84,Vistalegre!G84)","v":0},0]
[79,"Cinta Adhesiva Transparente 12 mm X 33 mts.","Unidad",0.18,1,{"$f":"SOLICITUD!F85","v":0},0,{"$f":"MIN(DiaCash!G85,DisOfic!G85,Lablink!G85,Lyreco!G85,Ocaña!G85,Taine!G85,Vistalegre!G85)","v":0},0]
[80,"Cinta Adhesiva Transparente 19 mm X 33 mts.","Unidad",0.24,1,{"$f":"SOLICITUD!F86","v":0},0,{"$f":"MIN(DiaCash!G86,DisOfic!G86,Lablink!G86,Lyreco!G86,Ocaña!G86,Taine!G86,Vistalegre!G86)","v":0},0]
[81,"Cinta Adhesiva Transparente 19 mm X 66 mts.","Unidad",0.42,1,{"$f":"SOLICITUD!F87","v":0},0,{"$f":"MIN(DiaCash!G87,DisOfic!G87,Lablink!G87,Lyreco!G87,Ocaña!G87,Taine!G87,Vistalegre!G87)","v":0},0]
[82,"Cinta Adhesiva Invisible 19 mm x 33 mts.","Unidad",0.55000000000000004,1,{"$f":"SOLICITUD!F88","v":0},0,{"$f":"MIN(DiaCash!G88,DisOfic!G88,Lablink!G88,Lyreco!G88,Ocaña!G88,Taine!G88,Vistalegre!G88)","v":0},0]
[83,"Cinta Adhesiva Invisible 12 mm x 33 mts. (Scotch Magic)","Unidad",1.83,1,{"$f":"SOLICITUD!F89","v":0},0,{"$f":"MIN(DiaCash!G89,DisOfic!G89,Lablink!G89,Lyreco!G89,Ocaña!G89,Taine!G89,Vistalegre!G89)","v":0},0]
[84,"Cinta Adhesiva Invisible 19 mm x 33 mts. (Scotch Magic)","Unidad",2,1,{"$f":"SOLICITUD!F90","v":0},0,{"$f":"MIN(DiaCash!G90,DisOfic!G90,Lablink!G90,Lyreco!G90,Ocaña!G90,Taine!G90,Vistalegre!G90)","v":0},0]
[85,"Cinta Adhesiva Transparente 19 mm X 66 mts. (Scotch)","Unidad",1.5,12,{"$f":"SOLICITUD!F91","v":0},0,{"$f":"MIN(DiaCash!G91,DisOfic!G91,Lablink!G91,Lyreco!G91,Ocaña!G91,Taine!G91,Vistalegre!G91)","v":0},0]
[86,"Precintadora Manual hasta 50 mm de ancho","Unidad",4,1,{"$f":"SOLICITUD!F92","v":0},0,{"$f":"MIN(DiaCash!G92,DisOfic!G92,Lablink!G92,Lyreco!G92,Ocaña!G92,Taine!G92,Vistalegre!G92)","v":0},0]
[87,"Cinta Adhesiva para embalaje (Precinto) 48-55 mm x 66 mts mínimo","Unidad",0.69,1,{"$f":"SOLICITUD!F93","v":0},0,{"$f":"MIN(DiaCash!G93,DisOfic!G93,Lablink!G93,Lyreco!G93,Ocaña!G93,Taine!G93,Vistalegre!G93)","v":0},0]
[88,"Cinta Adhesiva para embalaje (Precinto) 50 mm x 76 mts mínimo","Unidad",0.9,6,{"$f":"SOLICITUD!F94","v":0},0,{"$f":"MIN(DiaCash!G94,DisOfic!G94,Lablink!G94,Lyreco!G94,Ocaña!G94,Taine!G94,Vistalegre!G94)","v":0},0]
[89,"Clips Mariposa metálicos niquelados. Número 20. 50 mm","Envase 25 unidades",0.95,1,{"$f":"SOLICITUD!F95","v":0},0,{"$f":"MIN(DiaCash!G95,DisOfic!G95,Lablink!G95,Lyreco!G95,Ocaña!G95,Taine!G95,Vistalegre!G95)","v":0},0]
[90,"Clips Mariposa  metálicos niquelados. Número 10. 40 mm","Envase 50 unidades",0.95,1,{"$f":"SOLICITUD!F96","v":0},0,{"$f":"MIN(DiaCash!G96,DisOfic!G96,Lablink!G96,Lyreco!G96,Ocaña!G96,Taine!G96,Vistalegre!G96)","v":0},0]
[91,"Clips Labiados redondos metálicos pulidos. Número 1. 20 mm","Envase 100 unidades",0.18,1,{"$f":"SOLICITUD!F97","v":0},0,{"$f":"MIN(DiaCash!G97,DisOfic!G97,Lablink!G97,Lyreco!G97,Ocaña!G97,Taine!G97,Vistalegre!G97)","v":0},0]
[92,"Clips Labiados redondos metálicos pulidos. Número 1,5. 25 mm","Envase 100 unidades",0.19,1,{"$f":"SOLICITUD!F98","v":0},0,{"$f":"MIN(DiaCash!G98,DisOfic!G98,Lablink!G98,Lyreco!G98,Ocaña!G98,Taine!G98,Vistalegre!G98)","v":0},0]
[93,"Clips Labiados redondos metálicos pulidos. Número 2. 32 mm","Envase 100 unidades",0.2,1,{"$f":"SOLICITUD!F99","v":0},0,{"$f":"MIN(DiaCash!G99,DisOfic!G99,Lablink!G99,Lyreco!G99,Ocaña!G99,Taine!G99,Vistalegre!G99)","v":0},0]
[94,"Clips Labiados redondos metálicos pulidos. Número 3. 40 mm","Envase 100 unidades",0.4,1,{"$f":"SOLICITUD!F100","v":0},0,{"$f":"MIN(DiaCash!G100,DisOfic!G100,Lablink!G100,Lyreco!G100,Ocaña!G100,Taine!G100,Vistalegre!G100)","v":0},0]
[95,"Pinza doble clip negra 19 mm ","Envase 12 unidades",0.65,1,{"$f":"SOLICITUD!F101","v":0},0,{"$f":"MIN(DiaCash!G101,DisOfic!G101,Lablink!G101,Lyreco!G101,Ocaña!G101,Taine!G101,Vistalegre!G101)","v":0},0]
[96,"Pinza doble clip negra 25 mm ","Envase 12 unidades",0.7,1,{"$f":"SOLICITUD!F102","v":0},0,{"$f":"MIN(DiaCash!G102,DisOfic!G102,Lablink!G102,Lyreco!G102,Ocaña!G102,Taine!G102,Vistalegre!G102)","v":0},0]
[97,"Pinza doble clip negra 32 mm ","Envase 12 unidades",0.8,1,{"$f":"SOLICITUD!F103","v":0},0,{"$f":"MIN(DiaCash!G103,DisOfic!G103,Lablink!G103,Lyreco!G103,Ocaña!G103,Taine!G103,Vistalegre!G103)","v":0},0]
[98,"Pinza doble clip negra 40 mm ","Envase 12 unidades",0.99,1,{"$f":"SOLICITUD!F104","v":0},0,{"$f":"MIN(DiaCash!G104,DisOfic!G104,Lablink!G104,Lyreco!G104,Ocaña!G104,Taine!G104,Vistalegre!G104)","v":0},0]
[99,"Pinza doble clip negra 50 mm ","Envase 12 unidades",1.35,1,{"$f":"SOLICITUD!F105","v":0},0,{"$f":"MIN(DiaCash!G105,DisOfic!G105,Lablink!G105,Lyreco!G105,Ocaña!G105,Taine!G105,Vistalegre!G105)","v":0},0]
[100,"Porta clips imantado con rodillo","Unidad",0.9,1,{"$f":"SOLICITUD!F106","v":0},0,{"$f":"MIN(DiaCash!G106,DisOfic!G106,Lablink!G106,Lyreco!G106,Ocaña!G106,Taine!G106,Vistalegre!G106)","v":0},0]
[101,"Porta clips imantado redondo","Unidad",0.75,1,{"$f":"SOLICITUD!F107","v":0},0,{"$f":"MIN(DiaCash!G107,DisOfic!G107,Lablink!G107,Lyreco!G107,Ocaña!G107,Taine!G107,Vistalegre!G107)","v":0},0]
[102,"Cutter hoja 18 mm.","Unidad",0.35,1,{"$f":"SOLICITUD!F108","v":0},0,{"$f":"MIN(DiaCash!G108,DisOfic!G108,Lablink!G108,Lyreco!G108,Ocaña!G108,Taine!G108,Vistalegre!G108)","v":0},0]
[103,"Cutter hoja 9 mm.","Unidad",0.3,1,{"$f":"SOLICITUD!F109","v":0},0,{"$f":"MIN(DiaCash!G109,DisOfic!G109,Lablink!G109,Lyreco!G109,Ocaña!G109,Taine!G109,Vistalegre!G109)","v":0},0]
[104,"Recambios para Cutter 18 mm","Envase 10 Unidades",0.75,1,{"$f":"SOLICITUD!F110","v":0},0,{"$f":"MIN(DiaCash!G110,DisOfic!G110,Lablink!G110,Lyreco!G110,Ocaña!G110,Taine!G110,Vistalegre!G110)","v":0},0]
[105,"Recambios para Cutter 9 mm","Envase 10 Unidades",0.43,1,{"$f":"SOLICITUD!F111","v":0},0,{"$f":"MIN(DiaCash!G111,DisOfic!G111,Lablink!G111,Lyreco!G111,Ocaña!G111,Taine!G111,Vistalegre!G111)","v":0},0]
[106,"Gomas Elásticas tamaños de 80 A 100 mm","Envase 100 gr.",0.5,1,{"$f":"SOLICITUD!F112","v":0},0,{"$f":"MIN(DiaCash!G112,DisOfic!G112,Lablink!G112,Lyreco!G112,Ocaña!G112,Taine!G112,Vistalegre!G112)","v":0},0]
[107,"Gomas Elásticas tamaños Hasta 60 mm","Envase 100 gr.",0.5,1,{"$f":"SOLICITUD!F113","v":0},0,{"$f":"MIN(DiaCash!G113,DisOfic!G113,Lablink!G113,Lyreco!G113,Ocaña!G113,Taine!G113,Vistalegre!G113)","v":0},0]
[108,"Pegamento en Barra (Barra 20 gr)","Unidad",0.25,1,{"$f":"SOLICITUD!F114","v":0},0,{"$f":"MIN(DiaCash!G114,DisOfic!G114,Lablink!G114,Lyreco!G114,Ocaña!G114,Taine!G114,Vistalegre!G114)","v":0},0]
[109,"Pegamento en Barra (Barra 20 gr) (Pritt)","Unidad",1.2,1,{"$f":"SOLICITUD!F115","v":0},0,{"$f":"MIN(DiaCash!G115,DisOfic!G115,Lablink!G115,Lyreco!G115,Ocaña!G115,Taine!G115,Vistalegre!G115)","v":0},0]
[110,"Pegamento en Barra (Barra 40 gr)","Unidad",0.45,1,{"$f":"SOLICITUD!F116","v":0},0,{"$f":"MIN(DiaCash!G116,DisOfic!G116,Lablink!G116,Lyreco!G116,Ocaña!G116,Taine!G116,Vistalegre!G116)","v":0},0]
[111,"Pegamento en Barra (Barra 40 gr) (Pritt)","Unidad",1.8,1,{"$f":"SOLICITUD!F117","v":0},0,{"$f":"MIN(DiaCash!G117,DisOfic!G117,Lablink!G117,Lyreco!G117,Ocaña!G117,Taine!G117,Vistalegre!G117)","v":0},0]
[112,"Pegamento Instantáneo Cianocrilato (Tubo 3 gr)","Unidad",0.47,1,{"$f":"SOLICITUD!F118","v":0},0,{"$f":"MIN(DiaCash!G118,DisOfic!G118,Lablink!G118,Lyreco!G118,Ocaña!G118,Taine!G118,Vistalegre!G118)","v":0},0]
[113,"Pegamento Instantáneo Cianocrilato (Tubo 3 gr) (Loctite)","Unidad",3.1,1,{"$f":"SOLICITUD!F119","v":0},0,{"$f":"MIN(DiaCash!G119,DisOfic!G119,Lablink!G119,Lyreco!G119,Ocaña!G119,Taine!G119,Vistalegre!G119)","v":0},0]
[114,"Pegamento Instantáneo Cianocrilato Con Pincel Aplicador (5 gr)","Unidad",2.6,1,{"$f":"SOLICITUD!F120","v":0},0,{"$f":"MIN(DiaCash!G120,DisOfic!G120,Lablink!G120,Lyreco!G120,Ocaña!G120,Taine!G120,Vistalegre!G120)","v":0},0]
[115,"Pegamento Instantáneo Cianocrilato Con Pincel Aplicador (5 gr) (Loctite)","Unidad",4,1,{"$f":"SOLICITUD!F121","v":0},0,{"$f":"MIN(DiaCash!G121,DisOfic!G121,Lablink!G121,Lyreco!G121,Ocaña!G121,Taine!G121,Vistalegre!G121)","v":0},0]
[116,"Pegamento Universal (Tubo 35 gr)","Unidad",0.6,1,{"$f":"SOLICITUD!F122","v":0},0,{"$f":"MIN(DiaCash!G122,DisOfic!G122,Lablink!G122,Lyreco!G122,Ocaña!G122,Taine!G122,Vistalegre!G122)","v":0},0]
[117,"Pegamento Universal (Tubo 35 gr) (Imedio)","Unidad",1.35,1,{"$f":"SOLICITUD!F123","v":0},0,{"$f":"MIN(DiaCash!G123,DisOfic!G123,Lablink!G123,Lyreco!G123,Ocaña!G123,Taine!G123,Vistalegre!G123)","v":0},0]
[118,"Tijera hoja acero inoxidable. Mango ergonomico. Longitud 150 mm","Unidad",0.45,1,{"$f":"SOLICITUD!F124","v":0},0,{"$f":"MIN(DiaCash!G124,DisOfic!G124,Lablink!G124,Lyreco!G124,Ocaña!G124,Taine!G124,Vistalegre!G124)","v":0},0]
[119,"Tijera hoja acero Inoxidable. Mango ergonomico. Longitud 210 mm","Unidad",0.65,1,{"$f":"SOLICITUD!F125","v":0},0,{"$f":"MIN(DiaCash!G125,DisOfic!G125,Lablink!G125,Lyreco!G125,Ocaña!G125,Taine!G125,Vistalegre!G125)","v":0},0]
[120,"Tijera hoja acero inoxidable. 150 mm Longitud. (Westcott)","Unidad",1.84,1,{"$f":"SOLICITUD!F126","v":0},0,{"$f":"MIN(DiaCash!G126,DisOfic!G126,Lablink!G126,Lyreco!G126,Ocaña!G126,Taine!G126,Vistalegre!G126)","v":0},0]
[121,"Tijera hoja acero inoxidable. 210 mm Longitud. (Westcott)","Unidad",1.02,1,{"$f":"SOLICITUD!F127","v":0},0,{"$f":"MIN(DiaCash!G127,DisOfic!G127,Lablink!G127,Lyreco!G127,Ocaña!G127,Taine!G127,Vistalegre!G127)","v":0},0]
[122,"Calculadora sobremesa de oficina","Unidad",4.5,1,{"$f":"SOLICITUD!F128","v":0},0,{"$f":"MIN(DiaCash!G128,DisOfic!G128,Lablink!G128,Lyreco!G128,Ocaña!G128,Taine!G128,Vistalegre!G128)","v":0},0]
[123,"Calculadora sobremesa de oficina (Casio)","Unidad",8.9499999999999993,1,{"$f":"SOLICITUD!F129","v":0},0,{"$f":"MIN(DiaCash!G129,DisOfic!G129,Lablink!G129,Lyreco!G129,Ocaña!G129,Taine!G129,Vistalegre!G129)","v":0},0]
[124,"Calculadora científica 12 dígitos (Casio)","Unidad",9.25,1,{"$f":"SOLICITUD!F130","v":0},0,{"$f":"MIN(DiaCash!G130,DisOfic!G130,Lablink!G130,Lyreco!G130,Ocaña!G130,Taine!G130,Vistalegre!G130)","v":0},0]
[125,"Grapadora sobremesa metálica. Capacidad mínima 30 hojas de papel 80 gr/m2","Unidad",6.5,1,{"$f":"SOLICITUD!F131","v":0},0,{"$f":"MIN(DiaCash!G131,DisOfic!G131,Lablink!G131,Lyreco!G131,Ocaña!G131,Taine!G131,Vistalegre!G131)","v":0},0]
[126,"Grapadora sobremesa metálica. Capacidad mínima 30 hojas de papel 80 gr/m2 (Petrus)","Unidad",16.75,1,{"$f":"SOLICITUD!F132","v":0},0,{"$f":"MIN(DiaCash!G132,DisOfic!G132,Lablink!G132,Lyreco!G132,Ocaña!G132,Taine!G132,Vistalegre!G132)","v":0},0]
[127,"Grapadora sobremesa . Capacidad mínima 20 hojas de papel 80 gr/m2","Unidad",1.49,1,{"$f":"SOLICITUD!F133","v":0},0,{"$f":"MIN(DiaCash!G133,DisOfic!G133,Lablink!G133,Lyreco!G133,Ocaña!G133,Taine!G133,Vistalegre!G133)","v":0},0]
[128,"Grapadora Tenaza Metalica. Capacidad mínima 40 hojas de papel 80 gr/m2","Unidad",7.5,1,{"$f":"SOLICITUD!F134","v":0},0,{"$f":"MIN(DiaCash!G134,DisOfic!G134,Lablink!G134,Lyreco!G134,Ocaña!G134,Taine!G134,Vistalegre!G134)","v":0},0]
[129,"Grapadora Tenaza Metalica. Capacidad mínima 40 hojas de papel 80 gr/m2 (Petrus)","Unidad",18.850000000000001,1,{"$f":"SOLICITUD!F135","v":0},0,{"$f":"MIN(DiaCash!G135,DisOfic!G135,Lablink!G135,Lyreco!G135,Ocaña!G135,Taine!G135,Vistalegre!G135)","v":0},0]
[130,"Grapadora Tenaza. Capacidad mínima 20 hojas de papel 80 gr/m2","Unidad",5,1,{"$f":"SOLICITUD!F136","v":0},{"$f":"IF(F136>0,IF(E136=\"Excluido\",\"Excluido1\",IF(F136>0,IF(F136<E136,\"Excluido2\",D136*F136),0)),0)","v":0},{"$f":"MIN(DiaCash!G136,DisOfic!G136,Lablink!G136,Lyreco!G136,Ocaña!G136,Taine!G136,Vistalegre!G136)","v":0},{"$f":"IF(G136<=H136,G136,0)","v":0}]
[131,"Grapas Cobreadas o Galvanizadas 22/6 o equivalente","Envase 1000 unidades",0.25,1,{"$f":"SOLICITUD!F137","v":0},0,{"$f":"MIN(DiaCash!G137,DisOfic!G137,Lablink!G137,Lyreco!G137,Ocaña!G137,Taine!G137,Vistalegre!G137)","v":0},0]
[132,"Grapas Cobreadas o Galvanizadas 22/6 o equivalente (Petrus)","Envase 1000 unidades",0.46,1,{"$f":"SOLICITUD!F138","v":0},0,{"$f":"MIN(DiaCash!G138,DisOfic!G138,Lablink!G138,Lyreco!G138,Ocaña!G138,Taine!G138,Vistalegre!G138)","v":0},0]
[133,"Grapas Cobreadas o Galvanizadas 24/6 o equivalente","Envase 1000 unidades",0.3,1,{"$f":"SOLICITUD!F139","v":0},0,{"$f":"MIN(DiaCash!G139,DisOfic!G139,Lablink!G139,Lyreco!G139,Ocaña!G139,Taine!G139,Vistalegre!G139)","v":0},0]
[134,"Grapas Cobreadas o Galvanizadas 24/6 o equivalente (Petrus)","Envase 1000 unidades",0.46,1,{"$f":"SOLICITUD!F140","v":0},0,{"$f":"MIN(DiaCash!G140,DisOfic!G140,Lablink!G140,Lyreco!G140,Ocaña!G140,Taine!G140,Vistalegre!G140)","v":0},0]
[135,"Grapas Cobreadas o Galvanizadas 23/6 o equivalente","Envase 1000 unidades",0.3,1,{"$f":"SOLICITUD!F141","v":0},0,{"$f":"MIN(DiaCash!G141,DisOfic!G141,Lablink!G141,Lyreco!G141,Ocaña!G141,Taine!G141,Vistalegre!G141)","v":0},0]
[136,"Grapas Cobreadas o Galvanizadas 23/6 o equivalente (Petrus)","Envase 1000 unidades",0.46,1,{"$f":"SOLICITUD!F142","v":0},0,{"$f":"MIN(DiaCash!G142,DisOfic!G142,Lablink!G142,Lyreco!G142,Ocaña!G142,Taine!G142,Vistalegre!G142)","v":0},0]
[137,"Grapas Cobreadas o Galvanizadas 23/8 o equivalente","Envase 1000 unidades",0.5,10,{"$f":"SOLICITUD!F143","v":0},0,{"$f":"MIN(DiaCash!G143,DisOfic!G143,Lablink!G143,Lyreco!G143,Ocaña!G143,Taine!G143,Vistalegre!G143)","v":0},0]
[138,"Grapas Cobreadas o Galvanizadas 23/8 o equivalente (Petrus)","Envase 1000 unidades",0.8,10,{"$f":"SOLICITUD!F144","v":0},0,{"$f":"MIN(DiaCash!G144,DisOfic!G144,Lablink!G144,Lyreco!G144,Ocaña!G144,Taine!G144,Vistalegre!G144)","v":0},0]
[139,"Grapas Cobreadas o Galvanizadas 23/10 o equivalente","Envase 1000 unidades",0.5,10,{"$f":"SOLICITUD!F145","v":0},0,{"$f":"MIN(DiaCash!G145,DisOfic!G145,Lablink!G145,Lyreco!G145,Ocaña!G145,Taine!G145,Vistalegre!G145)","v":0},0]
[140,"Grapas Cobreadas o Galvanizadas 23/10 o equivalente (Petrus)","Envase 1000 unidades",1.1299999999999999,10,{"$f":"SOLICITUD!F146","v":0},0,{"$f":"MIN(DiaCash!G146,DisOfic!G146,Lablink!G146,Lyreco!G146,Ocaña!G146,Taine!G146,Vistalegre!G146)","v":0},0]
[141,"Grapas Cobreadas o Galvanizadas 23/12 o equivalente","Envase 1000 unidades",0.69,10,{"$f":"SOLICITUD!F147","v":0},0,{"$f":"MIN(DiaCash!G147,DisOfic!G147,Lablink!G147,Lyreco!G147,Ocaña!G147,Taine!G147,Vistalegre!G147)","v":0},0]
[142,"Grapas Cobreadas o Galvanizadas 23/12 o equivalente (Petrus)","Envase 1000 unidades",1.4,10,{"$f":"SOLICITUD!F148","v":0},0,{"$f":"MIN(DiaCash!G148,DisOfic!G148,Lablink!G148,Lyreco!G148,Ocaña!G148,Taine!G148,Vistalegre!G148)","v":0},0]
[143,"Grapas Cobreadas o Galvanizadas 23/13 o equivalente","Envase 1000 unidades",0.69,10,{"$f":"SOLICITUD!F149","v":0},0,{"$f":"MIN(DiaCash!G149,DisOfic!G149,Lablink!G149,Lyreco!G149,Ocaña!G149,Taine!G149,Vistalegre!G149)","v":0},0]
[144,"Grapas Cobreadas o Galvanizadas 23/13 o equivalente (Petrus)","Envase 1000 unidades",1.5,10,{"$f":"SOLICITUD!F150","v":0},0,{"$f":"MIN(DiaCash!G150,DisOfic!G150,Lablink!G150,Lyreco!G150,Ocaña!G150,Taine!G150,Vistalegre!G150)","v":0},0]
[145,"Grapas Cobreadas o Galvanizadas 23/15 o equivalente","Envase 1000 unidades",0.89,10,{"$f":"SOLICITUD!F151","v":0},0,{"$f":"MIN(DiaCash!G151,DisOfic!G151,Lablink!G151,Lyreco!G151,Ocaña!G151,Taine!G151,Vistalegre!G151)","v":0},0]
[146,"Grapas Cobreadas o Galvanizadas 23/15 o equivalente (Petrus)","Envase 1000 unidades",1.6,10,{"$f":"SOLICITUD!F152","v":0},0,{"$f":"MIN(DiaCash!G152,DisOfic!G152,Lablink!G152,Lyreco!G152,Ocaña!G152,Taine!G152,Vistalegre!G152)","v":0},0]
[147,"Grapas Cobreadas o Galvanizadas 23/17 o equivalente","Envase 1000 unidades",1.5,10,{"$f":"SOLICITUD!F153","v":0},0,{"$f":"MIN(DiaCash!G153,DisOfic!G153,Lablink!G153,Lyreco!G153,Ocaña!G153,Taine!G153,Vistalegre!G153)","v":0},0]
[148,"Grapas Cobreadas o Galvanizadas 23/17 o equivalente (Petrus)","Envase 1000 unidades",4.07,5,{"$f":"SOLICITUD!F154","v":0},0,{"$f":"MIN(DiaCash!G154,DisOfic!G154,Lablink!G154,Lyreco!G154,Ocaña!G154,Taine!G154,Vistalegre!G154)","v":0},0]
[149,"Grapas Cobreadas o Galvanizadas 23/20 o equivalente","Envase 1000 unidades",2.95,10,{"$f":"SOLICITUD!F155","v":0},0,{"$f":"MIN(DiaCash!G155,DisOfic!G155,Lablink!G155,Lyreco!G155,Ocaña!G155,Taine!G155,Vistalegre!G155)","v":0},0]
[150,"Grapas Cobreadas o Galvanizadas 23/20 o equivalente (Petrus)","Envase 1000 unidades",4.75,5,{"$f":"SOLICITUD!F156","v":0},0,{"$f":"MIN(DiaCash!G156,DisOfic!G156,Lablink!G156,Lyreco!G156,Ocaña!G156,Taine!G156,Vistalegre!G156)","v":0},0]
[151,"Grapas Cobreadas o Galvanizadas 23/24 o equivalente","Envase 1000 unidades",3.1,10,{"$f":"SOLICITUD!F157","v":0},0,{"$f":"MIN(DiaCash!G157,DisOfic!G157,Lablink!G157,Lyreco!G157,Ocaña!G157,Taine!G157,Vistalegre!G157)","v":0},0]
[152,"Grapas Cobreadas o Galvanizadas 23/24 o equivalente (Petrus)","Envase 1000 unidades",5.51,5,{"$f":"SOLICITUD!F158","v":0},0,{"$f":"MIN(DiaCash!G158,DisOfic!G158,Lablink!G158,Lyreco!G158,Ocaña!G158,Taine!G158,Vistalegre!G158)","v":0},0]
[153,"Grapas Galvanizadas 26/6 o equivalente","Envase 1000 unidades",0.435,1,{"$f":"SOLICITUD!F159","v":0},0,{"$f":"MIN(DiaCash!G159,DisOfic!G159,Lablink!G159,Lyreco!G159,Ocaña!G159,Taine!G159,Vistalegre!G159)","v":0},0]
[154,"Grapas Galvanizadas 26/6 o equivalente (Petrus)","Envase 1000 unidades",0.65,20,{"$f":"SOLICITUD!F160","v":0},0,{"$f":"MIN(DiaCash!G160,DisOfic!G160,Lablink!G160,Lyreco!G160,Ocaña!G160,Taine!G160,Vistalegre!G160)","v":0},0]
[155,"Grapas Galvanizadas 26/8 o equivalente","Envase 5000 unidades",4.74,1,{"$f":"SOLICITUD!F161","v":0},0,{"$f":"MIN(DiaCash!G161,DisOfic!G161,Lablink!G161,Lyreco!G161,Ocaña!G161,Taine!G161,Vistalegre!G161)","v":0},0]
[156,"Grapas Galvanizadas 26/8 o equivalente (Petrus)","Envase 5000 unidades",4.75,1,{"$f":"SOLICITUD!F162","v":0},0,{"$f":"MIN(DiaCash!G162,DisOfic!G162,Lablink!G162,Lyreco!G162,Ocaña!G162,Taine!G162,Vistalegre!G162)","v":0},0]
[157,"Quita Grapas tipo pinza cuerpo metálico","Unidad",0.33,1,{"$f":"SOLICITUD!F163","v":0},0,{"$f":"MIN(DiaCash!G163,DisOfic!G163,Lablink!G163,Lyreco!G163,Ocaña!G163,Taine!G163,Vistalegre!G163)","v":0},0]
[158,"Quita Grapas tipo pinza cuerpo metálico (Petrus, Novus)","Unidad",1.1100000000000001,1,{"$f":"SOLICITUD!F164","v":0},0,{"$f":"MIN(DiaCash!G164,DisOfic!G164,Lablink!G164,Lyreco!G164,Ocaña!G164,Taine!G164,Vistalegre!G164)","v":0},0]
[159,"Perforadora  para papel 4 punzones. Capacidad Minima 30 hojas de 80gr/m2. Guia de posicicionamiento y deposito desperdicios. Distancia entre taladros 80mm","Unidad",34.729999999999997,1,{"$f":"SOLICITUD!F165","v":0},0,{"$f":"MIN(DiaCash!G165,DisOfic!G165,Lablink!G165,Lyreco!G165,Ocaña!G165,Taine!G165,Vistalegre!G165)","v":0},0]
[160,"Perforadora  para papel 4 punzones. Capacidad Minima 30 hojas de 80gr/m2. Guia de posicicionamiento y deposito desperdicios. Distancia entre taladros 80mm (Petrus)","Unidad",39.47,1,{"$f":"SOLICITUD!F166","v":0},0,{"$f":"MIN(DiaCash!G166,DisOfic!G166,Lablink!G166,Lyreco!G166,Ocaña!G166,Taine!G166,Vistalegre!G166)","v":0},0]
[161,"Perforadora  para papel 2 Punzones. Capacidad mínima 20 hojas de 80gr/m2. Guia de posicicionamiento y deposito desperdicios. Distancia entre taladros 80mm ","Unidad",5.0199999999999996,1,{"$f":"SOLICITUD!F167","v":0},0,{"$f":"MIN(DiaCash!G167,DisOfic!G167,Lablink!G167,Lyreco!G167,Ocaña!G167,Taine!G167,Vistalegre!G167)","v":0},0]
[162,"Perforadora  para papel 2 Punzones. Capacidad mínima 20 hojas de 80gr/m2. Guia de posicicionamiento y deposito desperdicios. Distancia entre taladros 80mm (Petrus)","Unidad",9.99,1,{"$f":"SOLICITUD!F168","v":0},0,{"$f":"MIN(DiaCash!G168,DisOfic!G168,Lablink!G168,Lyreco!G168,Ocaña!G168,Taine!G168,Vistalegre!G168)","v":0},0]
[163,"Perforadora  para papel 2 Punzones. Capacidad mínima 60 hojas de 80gr/m2. Guia de Posicicionamiento y deposito desperdicios. Distancia entre taladros 80mm","Unidad",12,1,{"$f":"SOLICITUD!F169","v":0},0,{"$f":"MIN(DiaCash!G169,DisOfic!G169,Lablink!G169,Lyreco!G169,Ocaña!G169,Taine!G169,Vistalegre!G169)","v":0},0]
[164,"Perforadora  para papel 2 Punzones. Capacidad mínima 60 hojas de 80gr/m2. Guia de Posicicionamiento y deposito desperdicios. Distancia entre taladros 80mm (Petrus)","Unidad",20.399999999999999,1,{"$f":"SOLICITUD!F170","v":0},0,{"$f":"MIN(DiaCash!G170,DisOfic!G170,Lablink!G170,Lyreco!G170,Ocaña!G170,Taine!G170,Vistalegre!G170)","v":0},0]
[165,"Papelera metálica rejilla cuadrada o redonda. Mínimo:  30cm altura X 25cm diámetro","Unidad",3.7,1,{"$f":"SOLICITUD!F171","v":0},0,{"$f":"MIN(DiaCash!G171,DisOfic!G171,Lablink!G171,Lyreco!G171,Ocaña!G171,Taine!G171,Vistalegre!G171)","v":0},0]
[166,"Fechador de entintaje automático. Con placa de texto altura mínima de impresión de 4 mm.","Unidad",19.11,1,{"$f":"SOLICITUD!F172","v":0},0,{"$f":"MIN(DiaCash!G172,DisOfic!G172,Lablink!G172,Lyreco!G172,Ocaña!G172,Taine!G172,Vistalegre!G172)","v":0},0]
[167,"Numerador automático de 6 dígitos con armazón metálico y ruedas. Altura de impresión mínima de 4, 5 mm.","Unidad",30,1,{"$f":"SOLICITUD!F173","v":0},0,{"$f":"MIN(DiaCash!G173,DisOfic!G173,Lablink!G173,Lyreco!G173,Ocaña!G173,Taine!G173,Vistalegre!G173)","v":0},0]
[168,"Sello de caucho circular grabado. Tamaño área para texto de hasta 50 mm  de diámetro.","Unidad",8,1,{"$f":"SOLICITUD!F174","v":0},0,{"$f":"MIN(DiaCash!G174,DisOfic!G174,Lablink!G174,Lyreco!G174,Ocaña!G174,Taine!G174,Vistalegre!G174)","v":0},0]
[169,"Sello de caucho rectangular grabado. Tamaño área para texto de hasta 50x50 mm.","Unidad",7.5,1,{"$f":"SOLICITUD!F175","v":0},0,{"$f":"MIN(DiaCash!G175,DisOfic!G175,Lablink!G175,Lyreco!G175,Ocaña!G175,Taine!G175,Vistalegre!G175)","v":0},0]
[170,"Sello de caucho rectangular grabado. Tamaño área para texto de hasta 80x80 mm.","Unidad",9.75,1,{"$f":"SOLICITUD!F176","v":0},0,{"$f":"MIN(DiaCash!G176,DisOfic!G176,Lablink!G176,Lyreco!G176,Ocaña!G176,Taine!G176,Vistalegre!G176)","v":0},0]
[171,"Sello de Caucho Autoentintado Rectangular hasta 45X18 mm ","Unidad",12.5,1,{"$f":"SOLICITUD!F177","v":0},0,{"$f":"MIN(DiaCash!G177,DisOfic!G177,Lablink!G177,Lyreco!G177,Ocaña!G177,Taine!G177,Vistalegre!G177)","v":0},0]
[172,"Sello de Caucho Autoentintado Rectangular de 46X19 hasta 70X30 mm","Unidad",17.8,1,{"$f":"SOLICITUD!F178","v":0},0,{"$f":"MIN(DiaCash!G178,DisOfic!G178,Lablink!G178,Lyreco!G178,Ocaña!G178,Taine!G178,Vistalegre!G178)","v":0},0]
[173,"Sello de Caucho Autoentintado Redondo hasta 30 mm","Unidad",15.13,1,{"$f":"SOLICITUD!F179","v":0},0,{"$f":"MIN(DiaCash!G179,DisOfic!G179,Lablink!G179,Lyreco!G179,Ocaña!G179,Taine!G179,Vistalegre!G179)","v":0},0]
[174,"Sello de Caucho Autoentintado Redondo de 31 a 50 mm","Unidad",19.95,1,{"$f":"SOLICITUD!F180","v":0},0,{"$f":"MIN(DiaCash!G180,DisOfic!G180,Lablink!G180,Lyreco!G180,Ocaña!G180,Taine!G180,Vistalegre!G180)","v":0},0]
[175,"Sello de Caucho Autoentintado Cuadrado hasta 30 mm","Unidad",12.5,1,{"$f":"SOLICITUD!F181","v":0},0,{"$f":"MIN(DiaCash!G181,DisOfic!G181,Lablink!G181,Lyreco!G181,Ocaña!G181,Taine!G181,Vistalegre!G181)","v":0},0]
[176,"Sello de Caucho Autoentintado Cuadrado de 31 a 50 mm","Unidad",17.5,1,{"$f":"SOLICITUD!F182","v":0},0,{"$f":"MIN(DiaCash!G182,DisOfic!G182,Lablink!G182,Lyreco!G182,Ocaña!G182,Taine!G182,Vistalegre!G182)","v":0},0]
[177,"Tampón para sellos.N1, 90 X160 mm.","Unidad",3.01,1,{"$f":"SOLICITUD!F183","v":0},0,{"$f":"MIN(DiaCash!G183,DisOfic!G183,Lablink!G183,Lyreco!G183,Ocaña!G183,Taine!G183,Vistalegre!G183)","v":0},0]
[178,"Tampón para sellos.N2, 70 X110 mm.","Unidad",1.2,1,{"$f":"SOLICITUD!F184","v":0},0,{"$f":"MIN(DiaCash!G184,DisOfic!G184,Lablink!G184,Lyreco!G184,Ocaña!G184,Taine!G184,Vistalegre!G184)","v":0},0]
[179,"Tinta de sellar para tampón.(30 ML)","Unidad",0.39,1,{"$f":"SOLICITUD!F185","v":0},0,{"$f":"MIN(DiaCash!G185,DisOfic!G185,Lablink!G185,Lyreco!G185,Ocaña!G185,Taine!G185,Vistalegre!G185)","v":0},0]
[180,"Almohadilla para sello autoentintado. Hasta 30X50 mm","Unidad",1.1000000000000001,1,{"$f":"SOLICITUD!F186","v":0},0,{"$f":"MIN(DiaCash!G186,DisOfic!G186,Lablink!G186,Lyreco!G186,Ocaña!G186,Taine!G186,Vistalegre!G186)","v":0},0]
[181,"Almohadilla para sello autoentintado. Hasta 70X30 mm","Unidad",2,1,{"$f":"SOLICITUD!F187","v":0},0,{"$f":"MIN(DiaCash!G187,DisOfic!G187,Lablink!G187,Lyreco!G187,Ocaña!G187,Taine!G187,Vistalegre!G187)","v":0},0]
[182,"Portasellos de sobremesa 6 plazas","Unidad",3,1,{"$f":"SOLICITUD!F188","v":0},0,{"$f":"MIN(DiaCash!G188,DisOfic!G188,Lablink!G188,Lyreco!G188,Ocaña!G188,Taine!G188,Vistalegre!G188)","v":0},0]
[183,"Portasellos de sobremesa 8 plazas","Unidad",3.2,1,{"$f":"SOLICITUD!F189","v":0},0,{"$f":"MIN(DiaCash!G189,DisOfic!G189,Lablink!G189,Lyreco!G189,Ocaña!G189,Taine!G189,Vistalegre!G189)","v":0},0]
[184,"Portasellos de sobremesa 10 plazas","Unidad",3.6,1,{"$f":"SOLICITUD!F190","v":0},0,{"$f":"MIN(DiaCash!G190,DisOfic!G190,Lablink!G190,Lyreco!G190,Ocaña!G190,Taine!G190,Vistalegre!G190)","v":0},0]
[185,"Archivador de palanca a-z sin caja. Cartón forrado en plástico . Con cantonera metálica. Dos anillas. Lomo de  75 mm. Tamaño A4.","Unidad",1.28,1,{"$f":"SOLICITUD!F191","v":0},0,{"$f":"MIN(DiaCash!G191,DisOfic!G191,Lablink!G191,Lyreco!G191,Ocaña!G191,Taine!G191,Vistalegre!G191)","v":0},0]
[186,"Archivador de palanca a-z sin caja. Cartón forrado en plástico . Con cantonera metálica. Dos anillas. Lomo de  75 mm. Tamaño folio.","Unidad",1.28,1,{"$f":"SOLICITUD!F192","v":0},0,{"$f":"MIN(DiaCash!G192,DisOfic!G192,Lablink!G192,Lyreco!G192,Ocaña!G192,Taine!G192,Vistalegre!G192)","v":0},0]
[187,"Archivador de palanca a-z sin caja.Cartón jaspeado. Con cantonera metálica. Dos anillas. Lomo de  75 mm. Tamaño A4.","Unidad",0.97,1,{"$f":"SOLICITUD!F193","v":0},0,{"$f":"MIN(DiaCash!G193,DisOfic!G193,Lablink!G193,Lyreco!G193,Ocaña!G193,Taine!G193,Vistalegre!G193)","v":0},0]
[188,"Archivador de palanca a-z sin caja.Cartón jaspeado. Con cantonera metálica. Dos anillas. Lomo de  75 mm. Tamaño folio.","Unidad",0.97,1,{"$f":"SOLICITUD!F194","v":0},0,{"$f":"MIN(DiaCash!G194,DisOfic!G194,Lablink!G194,Lyreco!G194,Ocaña!G194,Taine!G194,Vistalegre!G194)","v":0},0]
[189,"Caja de cartón color blanco para archivo definitivo. Tamaño folio  Lomo 100 mm aprox.","Unidad",0.28999999999999998,50,{"$f":"SOLICITUD!F195","v":0},0,{"$f":"MIN(DiaCash!G195,DisOfic!G195,Lablink!G195,Lyreco!G195,Ocaña!G195,Taine!G195,Vistalegre!G195)","v":0},0]
[190,"Caja de cartón color blanco para archivo definitivo. Tamaño folio prolongado Lomo 115 mm aprox.","Unidad",0.35,50,{"$f":"SOLICITUD!F196","v":0},0,{"$f":"MIN(DiaCash!G196,DisOfic!G196,Lablink!G196,Lyreco!G196,Ocaña!G196,Taine!G196,Vistalegre!G196)","v":0},0]
[191,"Caja de cartón color blanco para archivo definitivo. Tamaño folio prolongado. Lomo 100 mm aprox.","Unidad",0.49,10,{"$f":"SOLICITUD!F197","v":0},0,{"$f":"MIN(DiaCash!G197,DisOfic!G197,Lablink!G197,Lyreco!G197,Ocaña!G197,Taine!G197,Vistalegre!G197)","v":0},0]
[192,"Caja para archivador de palanca a-z. Misma calidad y dimensiones compatibles con el archivador de palanca a-z. Tamaño A4. Lomo de  75 mm.","Unidad",0.37,1,{"$f":"SOLICITUD!F198","v":0},0,{"$f":"MIN(DiaCash!G198,DisOfic!G198,Lablink!G198,Lyreco!G198,Ocaña!G198,Taine!G198,Vistalegre!G198)","v":0},0]
[193,"Caja para archivador de palanca a-z. Misma calidad y dimensiones compatibles con el archivador de palanca a-z. Tamaño folio. Lomo de  75 mm.","Unidad",0.37,1,{"$f":"SOLICITUD!F199","v":0},0,{"$f":"MIN(DiaCash!G199,DisOfic!G199,Lablink!G199,Lyreco!G199,Ocaña!G199,Taine!G199,Vistalegre!G199)","v":0},0]
[194,"Archivador de 2 anillas 25 mm. Fabricado en cartón forrado en plástico tanto en el exterior como en el interior. Dos anillas. Lomo de 40 mm. Tamaño A4.","Unidad",1.75,1,{"$f":"SOLICITUD!F200","v":0},{"$f":"IF(F200>0,IF(E200=\"Excluido\",\"Excluido1\",IF(F200>0,IF(F200<E200,\"Excluido2\",D200*F200),0)),0)","v":0},{"$f":"MIN(DiaCash!G200,DisOfic!G200,Lablink!G200,Lyreco!G200,Ocaña!G200,Taine!G200,Vistalegre!G200)","v":0},{"$f":"IF(G200<=H200,G200,0)","v":0}]
[195,"Archivador de 2 anillas 25 mm. Fabricado en cartón forrado en plástico tanto en el exterior como en el interior. Dos anillas. Lomo de 40 mm. Tamaño folio.","Unidad",1.85,1,{"$f":"SOLICITUD!F201","v":0},0,{"$f":"MIN(DiaCash!G201,DisOfic!G201,Lablink!G201,Lyreco!G201,Ocaña!G201,Taine!G201,Vistalegre!G201)","v":0},0]
[196,"Archivador de 4 anillas 25 mm. Fabricado en cartón forrado en plástico tanto en el exterior como en el interior. Lomo de 40 mm. Tamaño A4.","Unidad",1.75,1,{"$f":"SOLICITUD!F202","v":0},0,{"$f":"MIN(DiaCash!G202,DisOfic!G202,Lablink!G202,Lyreco!G202,Ocaña!G202,Taine!G202,Vistalegre!G202)","v":0},0]
[197,"Archivador de 4 anillas 25 mm. Fabricado en cartón forrado en plástico tanto en el exterior como en el interior. Lomo de 40 mm. Tamaño folio.","Unidad",1.85,1,{"$f":"SOLICITUD!F203","v":0},0,{"$f":"MIN(DiaCash!G203,DisOfic!G203,Lablink!G203,Lyreco!G203,Ocaña!G203,Taine!G203,Vistalegre!G203)","v":0},0]
[198,"Archivador de 4 anillas 40 mm. Fabricado en cartón forrado en plástico tanto en el exterior como en el interior. Lomo de 60 mm. Tamaño A4.","Unidad",1.85,1,{"$f":"SOLICITUD!F204","v":0},0,{"$f":"MIN(DiaCash!G204,DisOfic!G204,Lablink!G204,Lyreco!G204,Ocaña!G204,Taine!G204,Vistalegre!G204)","v":0},0]
[199,"Archivador de 4 anillas 40 mm. Fabricado en cartón forrado en plástico tanto en el exterior como en el interior. Lomo de 60 mm. Tamaño folio.","Unidad",2.2000000000000002,1,{"$f":"SOLICITUD!F205","v":0},0,{"$f":"MIN(DiaCash!G205,DisOfic!G205,Lablink!G205,Lyreco!G205,Ocaña!G205,Taine!G205,Vistalegre!G205)","v":0},0]
[200,"Separadores de plástico tamaño folio 5 pestañas 2 o 4 perforaciones","Unidad",0.45,1,{"$f":"SOLICITUD!F206","v":0},0,{"$f":"MIN(DiaCash!G206,DisOfic!G206,Lablink!G206,Lyreco!G206,Ocaña!G206,Taine!G206,Vistalegre!G206)","v":0},0]
[201,"Carpeta clasificadora forrada, con fuelle-acordeón. Índice alfabético (a-z) o numérico (1-31) . Tamaño folio. 12 departamentos mínimo.","Unidad",5.5,1,{"$f":"SOLICITUD!F207","v":0},0,{"$f":"MIN(DiaCash!G207,DisOfic!G207,Lablink!G207,Lyreco!G207,Ocaña!G207,Taine!G207,Vistalegre!G207)","v":0},0]
[202,"Carpeta clasificadora forrada, con fuelle-acordeón. Índice alfabético (a-z) o numérico (1-31) . Tamaño folio. 20 departamentos mínimo.","Unidad",7.2,1,{"$f":"SOLICITUD!F208","v":0},0,{"$f":"MIN(DiaCash!G208,DisOfic!G208,Lablink!G208,Lyreco!G208,Ocaña!G208,Taine!G208,Vistalegre!G208)","v":0},0]
[203,"Carpeta colgante de armario  . Tamaño A4.  Visor vertical o lateral rígido 13 cm. Varilla de plástico o metálica. Medida entre ejes 330 mm.  Cartón de 230 gr/m2 mínimo.  Lomo en 15 mm .","Unidad",0.65,1,{"$f":"SOLICITUD!F209","v":0},0,{"$f":"MIN(DiaCash!G209,DisOfic!G209,Lablink!G209,Lyreco!G209,Ocaña!G209,Taine!G209,Vistalegre!G209)","v":0},0]
[204,"Carpeta colgante de armario  . Tamaño A4. Visor vertical o lateral rígido 13 cm. Varilla de plástico o metálica.  Medida entre ejes 330 mm . Cartón de 230gr/m2 mínimo. Lomo en 30mm.","Unidad",0.66,1,{"$f":"SOLICITUD!F210","v":0},0,{"$f":"MIN(DiaCash!G210,DisOfic!G210,Lablink!G210,Lyreco!G210,Ocaña!G210,Taine!G210,Vistalegre!G210)","v":0},0]
[205,"Carpeta colgante de armario  . Tamaño A4.  Visor vertical o lateral rígido 13 cm. Varilla de plástico o metálica. Medida entre ejes 330 mm . Cartón de 230 gr/m2 mínimo. Lomo en v.","Unidad",0.49,1,{"$f":"SOLICITUD!F211","v":0},0,{"$f":"MIN(DiaCash!G211,DisOfic!G211,Lablink!G211,Lyreco!G211,Ocaña!G211,Taine!G211,Vistalegre!G211)","v":0},0]
[206,"Carpeta colgante de armario  . Tamaño folio. Visor vertical o lateral rígido de 13 cm. Medida entre ejes 365 mm.  Cartón de 230gr/m2 mínimo. Lomo en v.","Unidad",0.56000000000000005,1,{"$f":"SOLICITUD!F212","v":0},0,{"$f":"MIN(DiaCash!G212,DisOfic!G212,Lablink!G212,Lyreco!G212,Ocaña!G212,Taine!G212,Vistalegre!G212)","v":0},0]
[207,"Carpeta colgante de cajón . Tamaño A4. Visor horizontal o superior .Varilla de plástico o metálica. Medida entre ejes 330 mm. Cartón kraft de 230gr/m2 mínimo.Lomo 15 mm ","Unidad",0.56999999999999995,1,{"$f":"SOLICITUD!F213","v":0},0,{"$f":"MIN(DiaCash!G213,DisOfic!G213,Lablink!G213,Lyreco!G213,Ocaña!G213,Taine!G213,Vistalegre!G213)","v":0},0]
[208,"Carpeta colgante de cajón . Tamaño folio. Visor horizontal o superior .Varilla de plástico o metálica. Medida entre ejes 365 mm.  Cartón de 230gr/m2 mínimo. Lomo 15 mm","Unidad",0.66,1,{"$f":"SOLICITUD!F214","v":0},0,{"$f":"MIN(DiaCash!G214,DisOfic!G214,Lablink!G214,Lyreco!G214,Ocaña!G214,Taine!G214,Vistalegre!G214)","v":0},0]
[209,"Carpeta colgante de cajón . Tamaño folio. Visor horizontal o superior .Varilla de plástico o metálica. Medida entre ejes 365 mm. Cartón de 230gr/m2 mínimo. Lomo en 30 mm","Unidad",0.66,1,{"$f":"SOLICITUD!F215","v":0},0,{"$f":"MIN(DiaCash!G215,DisOfic!G215,Lablink!G215,Lyreco!G215,Ocaña!G215,Taine!G215,Vistalegre!G215)","v":0},0]
[210,"Carpeta colgante de cajón . Tamaño A4.Visor horizontal o superior .Varilla de plástico o metálica. Medida entre ejes 330 mm. Cartón kraft de 230gr/m2 mínimo. Lomo en v.","Unidad",0.42,1,{"$f":"SOLICITUD!F216","v":0},0,{"$f":"MIN(DiaCash!G216,DisOfic!G216,Lablink!G216,Lyreco!G216,Ocaña!G216,Taine!G216,Vistalegre!G216)","v":0},0]
[211,"Carpeta colgante de cajón . Tamaño folio prolongado. Visor horizontal o superior. Varilla de plástico o metálica.  Medida entre ejes 390 mm. Cartón kraft de 230gr/m2 mínimo. Lomo en v.","Unidad",0.49,1,{"$f":"SOLICITUD!F217","v":0},0,{"$f":"MIN(DiaCash!G217,DisOfic!G217,Lablink!G217,Lyreco!G217,Ocaña!G217,Taine!G217,Vistalegre!G217)","v":0},0]
[212,"Carpeta de cartulina con gomas y 3 solapas. Gramaje de 380 gr/m2 mínimo Medidas 320 x 240 mm aprox.","Unidad",0.45,1,{"$f":"SOLICITUD!F218","v":0},0,{"$f":"MIN(DiaCash!G218,DisOfic!G218,Lablink!G218,Lyreco!G218,Ocaña!G218,Taine!G218,Vistalegre!G218)","v":0},0]
[213,"Carpeta proyectos. Cartón gomas montadas. Lomo 50 mm.","Unidad",1.65,1,{"$f":"SOLICITUD!F219","v":0},0,{"$f":"MIN(DiaCash!G219,DisOfic!G219,Lablink!G219,Lyreco!G219,Ocaña!G219,Taine!G219,Vistalegre!G219)","v":0},0]
[214,"Carpeta proyectos. Cartón gomas montadas. Lomo 90 mm.","Unidad",2.08,1,{"$f":"SOLICITUD!F220","v":0},0,{"$f":"MIN(DiaCash!G220,DisOfic!G220,Lablink!G220,Lyreco!G220,Ocaña!G220,Taine!G220,Vistalegre!G220)","v":0},0]
[215,"Carpetas de fundas. Cubiertas en plástico semirrígido opaco. Fundas interiores soldadas al lomo. Número de fundas interiores: 10.","Unidad",1.1499999999999999,1,{"$f":"SOLICITUD!F221","v":0},0,{"$f":"MIN(DiaCash!G221,DisOfic!G221,Lablink!G221,Lyreco!G221,Ocaña!G221,Taine!G221,Vistalegre!G221)","v":0},0]
[216,"Carpetas de fundas. Cubiertas en plástico semirrígido opaco. Fundas interiores soldadas al lomo. Número de fundas interiores: 20.","Unidad",1.35,1,{"$f":"SOLICITUD!F222","v":0},0,{"$f":"MIN(DiaCash!G222,DisOfic!G222,Lablink!G222,Lyreco!G222,Ocaña!G222,Taine!G222,Vistalegre!G222)","v":0},0]
[217,"Carpetas de fundas. Cubiertas en plástico semirrígido opaco. Fundas interiores soldadas al lomo. Número de fundas interiores: 30.","Unidad",1.75,1,{"$f":"SOLICITUD!F223","v":0},0,{"$f":"MIN(DiaCash!G223,DisOfic!G223,Lablink!G223,Lyreco!G223,Ocaña!G223,Taine!G223,Vistalegre!G223)","v":0},0]
[218,"Carpetas de fundas. Cubiertas en plástico semirrígido opaco. Fundas interiores soldadas al lomo. Número de fundas interiores: 40.","Unidad",2.04,1,{"$f":"SOLICITUD!F224","v":0},0,{"$f":"MIN(DiaCash!G224,DisOfic!G224,Lablink!G224,Lyreco!G224,Ocaña!G224,Taine!G224,Vistalegre!G224)","v":0},0]
[219,"Carpetas de fundas. Cubiertas en plástico semirrígido opaco. Fundas interiores soldadas al lomo. Número de fundas interiores: 60.","Unidad",2.4,1,{"$f":"SOLICITUD!F225","v":0},0,{"$f":"MIN(DiaCash!G225,DisOfic!G225,Lablink!G225,Lyreco!G225,Ocaña!G225,Taine!G225,Vistalegre!G225)","v":0},0]
[220,"Índice plástico varios colores. Juego de solapas tipo 1 a 10 de plástico mínimo de 120 micras . Tamaño  A4 o superior.","Unidad",0.5,1,{"$f":"SOLICITUD!F226","v":0},0,{"$f":"MIN(DiaCash!G226,DisOfic!G226,Lablink!G226,Lyreco!G226,Ocaña!G226,Taine!G226,Vistalegre!G226)","v":0},0]
[221,"Índice plástico varios colores. Juego de solapas tipo A a Z de plástico espesor mínimo de 120 micras . Tamaño  A4 o superior.","Unidad",1.07,1,{"$f":"SOLICITUD!F227","v":0},0,{"$f":"MIN(DiaCash!G227,DisOfic!G227,Lablink!G227,Lyreco!G227,Ocaña!G227,Taine!G227,Vistalegre!G227)","v":0},0]
[222,"Subcarpeta cartulina. Gramaje 170 gr/m2 mínimo. Tamaño A4.","Unidad",7.0000000000000007E-2,25,{"$f":"SOLICITUD!F228","v":0},0,{"$f":"MIN(DiaCash!G228,DisOfic!G228,Lablink!G228,Lyreco!G228,Ocaña!G228,Taine!G228,Vistalegre!G228)","v":0},0]
[223,"Subcarpeta cartulina. Gramaje 170 gr/m2 mínimo. Tamaño folio.","Unidad",0.09,25,{"$f":"SOLICITUD!F229","v":0},0,{"$f":"MIN(DiaCash!G229,DisOfic!G229,Lablink!G229,Lyreco!G229,Ocaña!G229,Taine!G229,Vistalegre!G229)","v":0},0]
[224,"Subcarpeta cartulina. Gramaje 210 gr/m2 mínimo. Tamaño A4.","Unidad",0.1,25,{"$f":"SOLICITUD!F230","v":0},0,{"$f":"MIN(DiaCash!G230,DisOfic!G230,Lablink!G230,Lyreco!G230,Ocaña!G230,Taine!G230,Vistalegre!G230)","v":0},0]
[225,"Subcarpeta cartulina. Gramaje 210 gr/m2 mínimo. Tamaño folio.","Unidad",0.1,25,{"$f":"SOLICITUD!F231","v":0},0,{"$f":"MIN(DiaCash!G231,DisOfic!G231,Lablink!G231,Lyreco!G231,Ocaña!G231,Taine!G231,Vistalegre!G231)","v":0},0]
[226,"Tubo portaplanos de plástico","Unidad",1.01,1,{"$f":"SOLICITUD!F232","v":0},0,{"$f":"MIN(DiaCash!G232,DisOfic!G232,Lablink!G232,Lyreco!G232,Ocaña!G232,Taine!G232,Vistalegre!G232)","v":0},0]
[227,"Visores plásticos (rígido o flexible con/sin efecto lupa, visión superior o lateral, con/sin etiquetas ).","Unidad",9.9000000000000005E-2,25,{"$f":"SOLICITUD!F233","v":0},0,{"$f":"MIN(DiaCash!G233,DisOfic!G233,Lablink!G233,Lyreco!G233,Ocaña!G233,Taine!G233,Vistalegre!G233)","v":0},0]
[228,"Dossier con fastener. Portada transparente, contraportada opaca.  Fastener metálico. Tamaño A4.","Unidad",0.33,10,{"$f":"SOLICITUD!F234","v":0},0,{"$f":"MIN(DiaCash!G234,DisOfic!G234,Lablink!G234,Lyreco!G234,Ocaña!G234,Taine!G234,Vistalegre!G234)","v":0},0]
[229,"Dossier con fastener. Portada transparente, contraportada opaca.  Fastener metálico. Tamaño folio.","Unidad",0.38,10,{"$f":"SOLICITUD!F235","v":0},0,{"$f":"MIN(DiaCash!G235,DisOfic!G235,Lablink!G235,Lyreco!G235,Ocaña!G235,Taine!G235,Vistalegre!G235)","v":0},0]
[230,"Dossier uñero en plástico. Apertura superior y lateral. Tamaño folio","Envase 100 unidades",6,1,{"$f":"SOLICITUD!F236","v":0},0,{"$f":"MIN(DiaCash!G236,DisOfic!G236,Lablink!G236,Lyreco!G236,Ocaña!G236,Taine!G236,Vistalegre!G236)","v":0},0]
[231,"Funda plástico transparente antiestática multitaladro. Tamaño A4. Grosor de 60 micras mínimo.","Envase 100 unidades",3.7,1,{"$f":"SOLICITUD!F237","v":0},0,{"$f":"MIN(DiaCash!G237,DisOfic!G237,Lablink!G237,Lyreco!G237,Ocaña!G237,Taine!G237,Vistalegre!G237)","v":0},0]
[232,"Funda plástico transparente antiestática multitaladro. Tamaño folio. Grosor de 60 micras mínimo.","Envase 100 unidades",3.51,1,{"$f":"SOLICITUD!F238","v":0},0,{"$f":"MIN(DiaCash!G238,DisOfic!G238,Lablink!G238,Lyreco!G238,Ocaña!G238,Taine!G238,Vistalegre!G238)","v":0},0]
[233,"Bolsas para plastificar tamaño A4. 80 micras mínimo","Envase 100 unidades",4.5,1,{"$f":"SOLICITUD!F239","v":0},0,{"$f":"MIN(DiaCash!G239,DisOfic!G239,Lablink!G239,Lyreco!G239,Ocaña!G239,Taine!G239,Vistalegre!G239)","v":0},0]
[234,"Portafirmas fabricado en plástico color negro, tapas acolchadas  con refuerzo en base y escalonados . Medidas 335 x 245 mm aprox. Con 18 departamentos mínimo de doble cartulina y lomo tipo fuelle.","Unidad",23.75,1,{"$f":"SOLICITUD!F240","v":0},0,{"$f":"MIN(DiaCash!G240,DisOfic!G240,Lablink!G240,Lyreco!G240,Ocaña!G240,Taine!G240,Vistalegre!G240)","v":0},0]
[235,"Bloc de notas. Liso o cuadrícula. De 80-90 hojas aprox. Gramaje 60 gr/m2 mínimo.Tamaño A4 o folio.","Unidad",1.4,10,{"$f":"SOLICITUD!F241","v":0},0,{"$f":"MIN(DiaCash!G241,DisOfic!G241,Lablink!G241,Lyreco!G241,Ocaña!G241,Taine!G241,Vistalegre!G241)","v":0},0]
[236,"Bloc de notas. Liso o cuadrícula. De 80-90 hojas aprox. Gramaje 60 gr/m2 mínimo.Tamaño A4 o folio. (Enri)","Unidad",1.08,1,{"$f":"SOLICITUD!F242","v":0},0,{"$f":"MIN(DiaCash!G242,DisOfic!G242,Lablink!G242,Lyreco!G242,Ocaña!G242,Taine!G242,Vistalegre!G242)","v":0},0]
[237,"Bloc de notas. Liso o cuadrícula. De 80-90 hojas aprox. Gramaje 60 gr/m2 mínimo.Tamaño A5 o 4º.","Unidad",0.75,10,{"$f":"SOLICITUD!F243","v":0},0,{"$f":"MIN(DiaCash!G243,DisOfic!G243,Lablink!G243,Lyreco!G243,Ocaña!G243,Taine!G243,Vistalegre!G243)","v":0},0]
[238,"Bloc de notas. Liso o cuadrícula. De 80-90 hojas aprox. Gramaje 60 gr/m2 mínimo.Tamaño A5 o 4º. (Enri)","Unidad",0.59,1,{"$f":"SOLICITUD!F244","v":0},0,{"$f":"MIN(DiaCash!G244,DisOfic!G244,Lablink!G244,Lyreco!G244,Ocaña!G244,Taine!G244,Vistalegre!G244)","v":0},0]
[239,"Bloc de notas. Liso o cuadrícula. De 80-90 hojas aprox. Gramaje 60 gr/m2 mínimo.Tamaño A6 u 8º.","Unidad",0.45,10,{"$f":"SOLICITUD!F245","v":0},0,{"$f":"MIN(DiaCash!G245,DisOfic!G245,Lablink!G245,Lyreco!G245,Ocaña!G245,Taine!G245,Vistalegre!G245)","v":0},0]
[240,"Bloc de notas. Liso o cuadrícula. De 80-90 hojas aprox. Gramaje 60 gr/m2 mínimo.Tamaño A6 u 8º. (Enri)","Unidad",0.36,1,{"$f":"SOLICITUD!F246","v":0},0,{"$f":"MIN(DiaCash!G246,DisOfic!G246,Lablink!G246,Lyreco!G246,Ocaña!G246,Taine!G246,Vistalegre!G246)","v":0},0]
[241,"Bloc de papel liso, para caballete (pizarra de papel) 70 gr/m2 mínimo . Medidas 650 x 900 mm aprox, (mínimo 25 hojas por bloc aprox.).","Unidad",3.5,1,{"$f":"SOLICITUD!F247","v":0},0,{"$f":"MIN(DiaCash!G247,DisOfic!G247,Lablink!G247,Lyreco!G247,Ocaña!G247,Taine!G247,Vistalegre!G247)","v":0},0]
[242,"Bloc de papel liso, para caballete (pizarra de papel) 70 gr/m2 mínimo . Medidas 650 x 900 mm aprox, (mínimo 25 hojas por bloc aprox.). (Enri)","Unidad",null,null,{"$f":"SOLICITUD!F248","v":0},0,{"$f":"MIN(DiaCash!G248,DisOfic!G248,Lablink!G248,Lyreco!G248,Ocaña!G248,Taine!G248,Vistalegre!G248)","v":0},0]
[243,"Cuaderno espiral cubierta cartón duro. Liso o cuadrícula. De 80-90 hojas aprox. Gramaje 60 gr/m2 mínimo.Tamaño A4 o folio.","Unidad",1.0900000000000001,10,{"$f":"SOLICITUD!F249","v":0},0,{"$f":"MIN(DiaCash!G249,DisOfic!G249,Lablink!G249,Lyreco!G249,Ocaña!G249,Taine!G249,Vistalegre!G249)","v":0},0]
[244,"Cuaderno espiral cubierta cartón duro. Liso o cuadrícula. De 80-90 hojas aprox. Gramaje 60 gr/m2 mínimo.Tamaño A4 o folio. (Enri)","Unidad",1.01,1,{"$f":"SOLICITUD!F250","v":0},0,{"$f":"MIN(DiaCash!G250,DisOfic!G250,Lablink!G250,Lyreco!G250,Ocaña!G250,Taine!G250,Vistalegre!G250)","v":0},0]
[245,"Cuaderno espiral cubierta cartón duro. Liso o cuadrícula. De 80-90 hojas aprox. Gramaje 60 gr/m2 mínimo. Tamaño A5 o 4º.","Unidad",0.81200000000000006,10,{"$f":"SOLICITUD!F251","v":0},0,{"$f":"MIN(DiaCash!G251,DisOfic!G251,Lablink!G251,Lyreco!G251,Ocaña!G251,Taine!G251,Vistalegre!G251)","v":0},0]
[246,"Cuaderno espiral cubierta cartón duro. Liso o cuadrícula. De 80-90 hojas aprox. Gramaje 60 gr/m2 mínimo. Tamaño A5 o 4º. (Enri)","Unidad",0.65,1,{"$f":"SOLICITUD!F252","v":0},0,{"$f":"MIN(DiaCash!G252,DisOfic!G252,Lablink!G252,Lyreco!G252,Ocaña!G252,Taine!G252,Vistalegre!G252)","v":0},0]
[247,"Cuaderno espiral cubierta cartón duro. Liso o cuadrícula. De 80-90 hojas aprox. Gramaje 60 gr/m2 mínimo.Tamaño A6 u 8º.","Unidad",0.52900000000000003,1,{"$f":"SOLICITUD!F253","v":0},0,{"$f":"MIN(DiaCash!G253,DisOfic!G253,Lablink!G253,Lyreco!G253,Ocaña!G253,Taine!G253,Vistalegre!G253)","v":0},0]
[248,"Cuaderno espiral cubierta cartón duro. Liso o cuadrícula. De 80-90 hojas aprox. Gramaje 60 gr/m2 mínimo.Tamaño A6 u 8º. (Enri)","Unidad",0.56000000000000005,1,{"$f":"SOLICITUD!F254","v":0},0,{"$f":"MIN(DiaCash!G254,DisOfic!G254,Lablink!G254,Lyreco!G254,Ocaña!G254,Taine!G254,Vistalegre!G254)","v":0},0]
[249,"Cuaderno espiral cubierta plastificada. Liso o cuadrícula. De 80-90 hojas aprox. Gramaje 60 gr/m2 mínimo.Tamaño A4 o folio.","Unidad",1.2,10,{"$f":"SOLICITUD!F255","v":0},0,{"$f":"MIN(DiaCash!G255,DisOfic!G255,Lablink!G255,Lyreco!G255,Ocaña!G255,Taine!G255,Vistalegre!G255)","v":0},0]
[250,"Cuaderno espiral cubierta plastificada. Liso o cuadrícula. De 80-90 hojas aprox. Gramaje 60 gr/m2 mínimo.Tamaño A4 o folio. (Enri)","Unidad",0.72,1,{"$f":"SOLICITUD!F256","v":0},0,{"$f":"MIN(DiaCash!G256,DisOfic!G256,Lablink!G256,Lyreco!G256,Ocaña!G256,Taine!G256,Vistalegre!G256)","v":0},0]
[251,"Cuaderno espiral cubierta plastificada. Liso o cuadrícula. De 80-90 hojas aprox. Gramaje 60 gr/m2 mínimo.Tamaño A5 o 4º.","Unidad",0.76,10,{"$f":"SOLICITUD!F257","v":0},0,{"$f":"MIN(DiaCash!G257,DisOfic!G257,Lablink!G257,Lyreco!G257,Ocaña!G257,Taine!G257,Vistalegre!G257)","v":0},0]
[252,"Cuaderno espiral cubierta plastificada. Liso o cuadrícula. De 80-90 hojas aprox. Gramaje 60 gr/m2 mínimo.Tamaño A5 o 4º. (Enri)","Unidad",0.47,1,{"$f":"SOLICITUD!F258","v":0},0,{"$f":"MIN(DiaCash!G258,DisOfic!G258,Lablink!G258,Lyreco!G258,Ocaña!G258,Taine!G258,Vistalegre!G258)","v":0},0]
[253,"Cuaderno espiral cubierta plastificada. Liso o cuadrícula. De 80-90 hojas aprox. Gramaje 60 gr/m2 mínimo.Tamaño A6 u 8º.","Unidad",0.75,10,{"$f":"SOLICITUD!F259","v":0},0,{"$f":"MIN(DiaCash!G259,DisOfic!G259,Lablink!G259,Lyreco!G259,Ocaña!G259,Taine!G259,Vistalegre!G259)","v":0},0]
[254,"Cuaderno espiral cubierta plastificada. Liso o cuadrícula. De 80-90 hojas aprox. Gramaje 60 gr/m2 mínimo.Tamaño A6 u 8º. (Enri)","Unidad",0.48,1,{"$f":"SOLICITUD!F260","v":0},0,{"$f":"MIN(DiaCash!G260,DisOfic!G260,Lablink!G260,Lyreco!G260,Ocaña!G260,Taine!G260,Vistalegre!G260)","v":0},0]
[255,"Cuaderno espiral cubierta plastificada. Liso o cuadrícula. De 80-90 hojas aprox. Gramaje 60 gr/m2 mínimo.Tamaño A7 u 16º.","Unidad",0.5,10,{"$f":"SOLICITUD!F261","v":0},0,{"$f":"MIN(DiaCash!G261,DisOfic!G261,Lablink!G261,Lyreco!G261,Ocaña!G261,Taine!G261,Vistalegre!G261)","v":0},0]
[256,"Cuaderno espiral cubierta plastificada. Liso o cuadrícula. De 80-90 hojas aprox. Gramaje 60 gr/m2 mínimo.Tamaño A7 u 16º. (Enri)","Unidad",0.33,1,{"$f":"SOLICITUD!F262","v":0},0,{"$f":"MIN(DiaCash!G262,DisOfic!G262,Lablink!G262,Lyreco!G262,Ocaña!G262,Taine!G262,Vistalegre!G262)","v":0},0]
[257,"Banderitas/Index autoadhesivas colores surtidos ","Taco 100 unidades",0.1,5,{"$f":"SOLICITUD!F263","v":0},0,{"$f":"MIN(DiaCash!G263,DisOfic!G263,Lablink!G263,Lyreco!G263,Ocaña!G263,Taine!G263,Vistalegre!G263)","v":0},0]
[258,"Banderitas/Index pack 5 mininotas neon Post-it","Taco 100 unidades",0.7,1,{"$f":"SOLICITUD!F264","v":0},{"$f":"IF(F264>0,IF(E264=\"Excluido\",\"Excluido1\",IF(F264>0,IF(F264<E264,\"Excluido2\",D264*F264),0)),0)","v":0},{"$f":"MIN(DiaCash!G264,DisOfic!G264,Lablink!G264,Lyreco!G264,Ocaña!G264,Taine!G264,Vistalegre!G264)","v":0},{"$f":"IF(G264<=H264,G264,0)","v":0}]
[259,"Blocs de notas autoadhesivas amarillas. Medidas 38 x 51 mm, 100 hojas.","Taco 100 unidades",8.2000000000000003E-2,3,{"$f":"SOLICITUD!F265","v":0},0,{"$f":"MIN(DiaCash!G265,DisOfic!G265,Lablink!G265,Lyreco!G265,Ocaña!G265,Taine!G265,Vistalegre!G265)","v":0},0]
[260,"Blocs de notas autoadhesivas amarillas. Medidas 38 x 51 mm, 100 hojas. (Post-it)","Taco 100 unidades",0.5,1,{"$f":"SOLICITUD!F266","v":0},0,{"$f":"MIN(DiaCash!G266,DisOfic!G266,Lablink!G266,Lyreco!G266,Ocaña!G266,Taine!G266,Vistalegre!G266)","v":0},0]
[261,"Blocs de notas autoadhesivas amarillas. Medidas 76 x 76 mm, 100 hojas.","Taco 100 unidades",0.17,1,{"$f":"SOLICITUD!F267","v":0},0,{"$f":"MIN(DiaCash!G267,DisOfic!G267,Lablink!G267,Lyreco!G267,Ocaña!G267,Taine!G267,Vistalegre!G267)","v":0},0]
[262,"Blocs de notas autoadhesivas de colores. Medidas 76 x 76 mm, 100 hojas. (Post-it)","Taco 100 unidades",0.75,1,{"$f":"SOLICITUD!F268","v":0},0,{"$f":"MIN(DiaCash!G268,DisOfic!G268,Lablink!G268,Lyreco!G268,Ocaña!G268,Taine!G268,Vistalegre!G268)","v":0},0]
[263,"Blocs de notas autoadhesivas amarillas. Medidas 76 x 127 mm, 100 hojas.","Taco 100 unidades",0.27600000000000002,1,{"$f":"SOLICITUD!F269","v":0},0,{"$f":"MIN(DiaCash!G269,DisOfic!G269,Lablink!G269,Lyreco!G269,Ocaña!G269,Taine!G269,Vistalegre!G269)","v":0},0]
[264,"Blocs de notas autoadhesivas amarillas. Medidas 76 x 127 mm, 100 hojas. (Post-it)","Taco 100 unidades",1.4,1,{"$f":"SOLICITUD!F270","v":0},0,{"$f":"MIN(DiaCash!G270,DisOfic!G270,Lablink!G270,Lyreco!G270,Ocaña!G270,Taine!G270,Vistalegre!G270)","v":0},0]
[265,"Etiquetas adhesivas. En formato  A4, número de etiquetas por hoja según el tamaño de etiqueta. ","Paquete 100 hojas",4.2,1,{"$f":"SOLICITUD!F271","v":0},0,{"$f":"MIN(DiaCash!G271,DisOfic!G271,Lablink!G271,Lyreco!G271,Ocaña!G271,Taine!G271,Vistalegre!G271)","v":0},0]
[266,"Etiquetas adhesivas. En formato  A4, número de etiquetas por hoja según el tamaño de\netiqueta. ","Paquete 25 hojas",4.5,1,{"$f":"SOLICITUD!F272","v":0},0,{"$f":"MIN(DiaCash!G272,DisOfic!G272,Lablink!G272,Lyreco!G272,Ocaña!G272,Taine!G272,Vistalegre!G272)","v":0},0]
[267,"Etiquetas adhesivas. En formato  A4, número de etiquetas por hoja según el tamaño de\netiqueta. ","Paquete 10 hojas",1.75,10,{"$f":"SOLICITUD!F273","v":0},0,{"$f":"MIN(DiaCash!G273,DisOfic!G273,Lablink!G273,Lyreco!G273,Ocaña!G273,Taine!G273,Vistalegre!G273)","v":0},0]
[268,"Carpeta de cartulina  por una cara plegada y solapa al pie. Tamaño mínimo A4.  Gramaje mínimo 170 gr/m2.","Unidad",0.19,50,{"$f":"SOLICITUD!F274","v":0},0,{"$f":"MIN(DiaCash!G274,DisOfic!G274,Lablink!G274,Lyreco!G274,Ocaña!G274,Taine!G274,Vistalegre!G274)","v":0},0]
[269,"Carpeta de cartulina  por una cara plegada y solapa al pie. Tamaño mínimo A4.  Gramaje mínimo  210  gr/m2.","Unidad",0.3,25,{"$f":"SOLICITUD!F275","v":0},0,{"$f":"MIN(DiaCash!G275,DisOfic!G275,Lablink!G275,Lyreco!G275,Ocaña!G275,Taine!G275,Vistalegre!G275)","v":0},0]
[270,"Carpeta de cartulina con dos bolsillos. Tamaño mínimo A4.  Gramaje mínimo 170 gr/m2.","Unidad",0.65,25,{"$f":"SOLICITUD!F276","v":0},0,{"$f":"MIN(DiaCash!G276,DisOfic!G276,Lablink!G276,Lyreco!G276,Ocaña!G276,Taine!G276,Vistalegre!G276)","v":0},0]
[271,"Carpeta de cartulina con dos bolsillos. Tamaño mínimo  A4 Gramaje mínimo  210  gr/m2.","Unidad",1.19,25,{"$f":"SOLICITUD!F277","v":0},0,{"$f":"MIN(DiaCash!G277,DisOfic!G277,Lablink!G277,Lyreco!G277,Ocaña!G277,Taine!G277,Vistalegre!G277)","v":0},0]
[272,"Carpeta de cartulina. Tamaño A4.  Gramaje mínimo 170 gr/m2.","Unidad",7.0000000000000007E-2,25,{"$f":"SOLICITUD!F278","v":0},0,{"$f":"MIN(DiaCash!G278,DisOfic!G278,Lablink!G278,Lyreco!G278,Ocaña!G278,Taine!G278,Vistalegre!G278)","v":0},0]
[273,"Carpeta de cartulina. Tamaño folio gramaje 210 gr/m2.","Unidad",0.1,25,{"$f":"SOLICITUD!F279","v":0},0,{"$f":"MIN(DiaCash!G279,DisOfic!G279,Lablink!G279,Lyreco!G279,Ocaña!G279,Taine!G279,Vistalegre!G279)","v":0},0]
[274,"Canutillos plásticos. Redondos y ovalados, de 6 mm.","Paquete 200",3.73,1,{"$f":"SOLICITUD!F280","v":0},0,{"$f":"MIN(DiaCash!G280,DisOfic!G280,Lablink!G280,Lyreco!G280,Ocaña!G280,Taine!G280,Vistalegre!G280)","v":0},0]
[275,"Canutillos plásticos. Redondos y ovalados, de 8 mm.","Paquete 100",3,1,{"$f":"SOLICITUD!F281","v":0},0,{"$f":"MIN(DiaCash!G281,DisOfic!G281,Lablink!G281,Lyreco!G281,Ocaña!G281,Taine!G281,Vistalegre!G281)","v":0},0]
[276,"Canutillos plásticos. Redondos y ovalados, de 10 mm.","Paquete 100",3.57,1,{"$f":"SOLICITUD!F282","v":0},0,{"$f":"MIN(DiaCash!G282,DisOfic!G282,Lablink!G282,Lyreco!G282,Ocaña!G282,Taine!G282,Vistalegre!G282)","v":0},0]
[277,"Canutillos plásticos. Redondos y ovalados, de 12 mm.","Paquete 100",5.32,1,{"$f":"SOLICITUD!F283","v":0},0,{"$f":"MIN(DiaCash!G283,DisOfic!G283,Lablink!G283,Lyreco!G283,Ocaña!G283,Taine!G283,Vistalegre!G283)","v":0},0]
[278,"Canutillos plásticos. Redondos y ovalados, de 14 mm.","Paquete 100",5.37,1,{"$f":"SOLICITUD!F284","v":0},0,{"$f":"MIN(DiaCash!G284,DisOfic!G284,Lablink!G284,Lyreco!G284,Ocaña!G284,Taine!G284,Vistalegre!G284)","v":0},0]
[279,"Canutillos plásticos. Redondos y ovalados, de 16 mm.","Paquete 100",6.1,1,{"$f":"SOLICITUD!F285","v":0},0,{"$f":"MIN(DiaCash!G285,DisOfic!G285,Lablink!G285,Lyreco!G285,Ocaña!G285,Taine!G285,Vistalegre!G285)","v":0},0]
[280,"Canutillos plásticos. Redondos y ovalados, de 18 mm.","Paquete 100",7.36,1,{"$f":"SOLICITUD!F286","v":0},0,{"$f":"MIN(DiaCash!G286,DisOfic!G286,Lablink!G286,Lyreco!G286,Ocaña!G286,Taine!G286,Vistalegre!G286)","v":0},0]
[281,"Canutillos plásticos. Redondos y ovalados, de 22 mm.","Paquete 50",6.01,1,{"$f":"SOLICITUD!F287","v":0},0,{"$f":"MIN(DiaCash!G287,DisOfic!G287,Lablink!G287,Lyreco!G287,Ocaña!G287,Taine!G287,Vistalegre!G287)","v":0},0]
[282,"Canutillos plásticos. Redondos y ovalados, de 25 mm.","Paquete 50",6.95,1,{"$f":"SOLICITUD!F288","v":0},0,{"$f":"MIN(DiaCash!G288,DisOfic!G288,Lablink!G288,Lyreco!G288,Ocaña!G288,Taine!G288,Vistalegre!G288)","v":0},0]
[283,"Canutillos plásticos. Redondos y ovalados, de 28 mm.","Paquete 50",8.1999999999999993,1,{"$f":"SOLICITUD!F289","v":0},0,{"$f":"MIN(DiaCash!G289,DisOfic!G289,Lablink!G289,Lyreco!G289,Ocaña!G289,Taine!G289,Vistalegre!G289)","v":0},0]
[284,"Canutillos plásticos. Redondos y ovalados, de 32 mm.","Paquete 50",8.17,1,{"$f":"SOLICITUD!F290","v":0},0,{"$f":"MIN(DiaCash!G290,DisOfic!G290,Lablink!G290,Lyreco!G290,Ocaña!G290,Taine!G290,Vistalegre!G290)","v":0},0]
[285,"Canutillos plásticos. Redondos y ovalados, de 45 mm.","Paquete 25",7.56,1,{"$f":"SOLICITUD!F291","v":0},0,{"$f":"MIN(DiaCash!G291,DisOfic!G291,Lablink!G291,Lyreco!G291,Ocaña!G291,Taine!G291,Vistalegre!G291)","v":0},0]
[286,"Canutillos plásticos. Redondos y ovalados, de 51 mm.","Paquete 25",8.6999999999999993,1,{"$f":"SOLICITUD!F292","v":0},0,{"$f":"MIN(DiaCash!G292,DisOfic!G292,Lablink!G292,Lyreco!G292,Ocaña!G292,Taine!G292,Vistalegre!G292)","v":0},0]
[287,"Espirales metálicas de encuadernación. Paso 5:1, de diámetro 8 mm.","Paquete 100",4.5,1,{"$f":"SOLICITUD!F293","v":0},0,{"$f":"MIN(DiaCash!G293,DisOfic!G293,Lablink!G293,Lyreco!G293,Ocaña!G293,Taine!G293,Vistalegre!G293)","v":0},0]
[288,"Espirales metálicas de encuadernación. Paso 5:1, de diámetro 10 mm.","Paquete 100",5.5,1,{"$f":"SOLICITUD!F294","v":0},0,{"$f":"MIN(DiaCash!G294,DisOfic!G294,Lablink!G294,Lyreco!G294,Ocaña!G294,Taine!G294,Vistalegre!G294)","v":0},0]
[289,"Espirales metálicas de encuadernación. Paso 5:1, de diámetro 12 mm.","Paquete 100",6.26,1,{"$f":"SOLICITUD!F295","v":0},0,{"$f":"MIN(DiaCash!G295,DisOfic!G295,Lablink!G295,Lyreco!G295,Ocaña!G295,Taine!G295,Vistalegre!G295)","v":0},0]
[290,"Espirales metálicas de encuadernación. Paso 5:1, de diámetro 14 mm.","Paquete 100",7.15,1,{"$f":"SOLICITUD!F296","v":0},0,{"$f":"MIN(DiaCash!G296,DisOfic!G296,Lablink!G296,Lyreco!G296,Ocaña!G296,Taine!G296,Vistalegre!G296)","v":0},0]
[291,"Espirales metálicas de encuadernación. Paso 5:1, de diámetro 16 mm.","Paquete 100",10.6,1,{"$f":"SOLICITUD!F297","v":0},0,{"$f":"MIN(DiaCash!G297,DisOfic!G297,Lablink!G297,Lyreco!G297,Ocaña!G297,Taine!G297,Vistalegre!G297)","v":0},0]
[292,"Espirales metálicas de encuadernación. Paso 5:1, de diámetro 18 mm.","Paquete 100",11.8,1,{"$f":"SOLICITUD!F298","v":0},0,{"$f":"MIN(DiaCash!G298,DisOfic!G298,Lablink!G298,Lyreco!G298,Ocaña!G298,Taine!G298,Vistalegre!G298)","v":0},0]
[293,"Espirales metálicas de encuadernación. Paso 5:1, de diámetro 20 mm.","Paquete 100",13.5,1,{"$f":"SOLICITUD!F299","v":0},0,{"$f":"MIN(DiaCash!G299,DisOfic!G299,Lablink!G299,Lyreco!G299,Ocaña!G299,Taine!G299,Vistalegre!G299)","v":0},0]
[294,"Espirales metálicas de encuadernación. Paso 5:1, de diámetro 22 mm.","Paquete 100",15.2,1,{"$f":"SOLICITUD!F300","v":0},0,{"$f":"MIN(DiaCash!G300,DisOfic!G300,Lablink!G300,Lyreco!G300,Ocaña!G300,Taine!G300,Vistalegre!G300)","v":0},0]
[295,"Espirales metálicas de encuadernación. Paso 5:1, de diámetro 24 mm.","Paquete 100",16.5,1,{"$f":"SOLICITUD!F301","v":0},0,{"$f":"MIN(DiaCash!G301,DisOfic!G301,Lablink!G301,Lyreco!G301,Ocaña!G301,Taine!G301,Vistalegre!G301)","v":0},0]
[296,"Espirales metálicas de encuadernación. Paso 5:1, de diámetro 28 mm.","Paquete 50",9.3000000000000007,1,{"$f":"SOLICITUD!F302","v":0},0,{"$f":"MIN(DiaCash!G302,DisOfic!G302,Lablink!G302,Lyreco!G302,Ocaña!G302,Taine!G302,Vistalegre!G302)","v":0},0]
[297,"Espirales metálicas de encuadernación. Paso 5:1, de diámetro 30 mm. ","Paquete 50",10.199999999999999,1,{"$f":"SOLICITUD!F303","v":0},0,{"$f":"MIN(DiaCash!G303,DisOfic!G303,Lablink!G303,Lyreco!G303,Ocaña!G303,Taine!G303,Vistalegre!G303)","v":0},0]
[298,"Espirales metálicas de encuadernación. Paso 5:1, de diámetro 34 mm. ","Paquete 50",11.8,1,{"$f":"SOLICITUD!F304","v":0},0,{"$f":"MIN(DiaCash!G304,DisOfic!G304,Lablink!G304,Lyreco!G304,Ocaña!G304,Taine!G304,Vistalegre!G304)","v":0},0]
[299,"Espirales metálicas de encuadernación. Paso 5:1, de diámetro 38 mm. ","Paquete 50",9,1,{"$f":"SOLICITUD!F305","v":0},0,{"$f":"MIN(DiaCash!G305,DisOfic!G305,Lablink!G305,Lyreco!G305,Ocaña!G305,Taine!G305,Vistalegre!G305)","v":0},0]
[300,"Espirales metálicas de encuadernación. Paso 5:1, de diámetro 40 mm o superior.","Paquete 25",14.1,1,{"$f":"SOLICITUD!F306","v":0},0,{"$f":"MIN(DiaCash!G306,DisOfic!G306,Lablink!G306,Lyreco!G306,Ocaña!G306,Taine!G306,Vistalegre!G306)","v":0},0]
[301,"Cartulina. Tamaño A4. Gramaje 185 gr/m2 mínimo.","Paquete 50",4.4999999999999998E-2,1,{"$f":"SOLICITUD!F307","v":0},0,{"$f":"MIN(DiaCash!G307,DisOfic!G307,Lablink!G307,Lyreco!G307,Ocaña!G307,Taine!G307,Vistalegre!G307)","v":0},0]
[302,"Cartulina. Tamaño A4. Gramaje 220 gr/m2 mínimo.","Paquete 50",0.3,1,{"$f":"SOLICITUD!F308","v":0},0,{"$f":"MIN(DiaCash!G308,DisOfic!G308,Lablink!G308,Lyreco!G308,Ocaña!G308,Taine!G308,Vistalegre!G308)","v":0},0]
[303,"Cartulina. Tamaño A3. Gramaje 185 gr/m2 mínimo.","Paquete 25",0.107,1,{"$f":"SOLICITUD!F309","v":0},0,{"$f":"MIN(DiaCash!G309,DisOfic!G309,Lablink!G309,Lyreco!G309,Ocaña!G309,Taine!G309,Vistalegre!G309)","v":0},0]
[304,"Cartulina. Tamaño A3. Gramaje 220 gr/m2 mínimo.","Paquete 25",0.68,1,{"$f":"SOLICITUD!F310","v":0},0,{"$f":"MIN(DiaCash!G310,DisOfic!G310,Lablink!G310,Lyreco!G310,Ocaña!G310,Taine!G310,Vistalegre!G310)","v":0},0]
[305,"Pastener  metálico con compresor y correderas . ","Unidad",0.03,1,{"$f":"SOLICITUD!F311","v":0},0,{"$f":"MIN(DiaCash!G311,DisOfic!G311,Lablink!G311,Lyreco!G311,Ocaña!G311,Taine!G311,Vistalegre!G311)","v":0},0]
[306,"Cubiertas de plástico. Tamaño A4, espesor mínimo 180 micras.","Unidad",0.04,1,{"$f":"SOLICITUD!F312","v":0},0,{"$f":"MIN(DiaCash!G312,DisOfic!G312,Lablink!G312,Lyreco!G312,Ocaña!G312,Taine!G312,Vistalegre!G312)","v":0},0]
[307,"Cubiertas de plástico. Tamaño A3, espesor mínimo 180 micras.","Unidad",0.109,1,{"$f":"SOLICITUD!F313","v":0},0,{"$f":"MIN(DiaCash!G313,DisOfic!G313,Lablink!G313,Lyreco!G313,Ocaña!G313,Taine!G313,Vistalegre!G313)","v":0},0]
[308,"Bobina de rafia de plástico. (bobina 400 gr)","Unidad",2.69,1,{"$f":"SOLICITUD!F314","v":0},0,{"$f":"MIN(DiaCash!G314,DisOfic!G314,Lablink!G314,Lyreco!G314,Ocaña!G314,Taine!G314,Vistalegre!G314)","v":0},0]
[309,"Cinta balduque en rollo algodón 100% . Medidas 19mm x 14m aprox.","Unidad",2.2559999999999998,10,{"$f":"SOLICITUD!F315","v":0},0,{"$f":"MIN(DiaCash!G315,DisOfic!G315,Lablink!G315,Lyreco!G315,Ocaña!G315,Taine!G315,Vistalegre!G315)","v":0},0]
[310,"Caja de embalaje cartón, canal sencillo, 4 solapas. Medidas 355x265x270 mm aprox.","Unidad",0.7,1,{"$f":"SOLICITUD!F316","v":0},0,{"$f":"MIN(DiaCash!G316,DisOfic!G316,Lablink!G316,Lyreco!G316,Ocaña!G316,Taine!G316,Vistalegre!G316)","v":0},0]
[311,"Caja de embalaje cartón, canal sencillo, 4 solapas. Medidas 400x325x420 mm aprox.","Unidad",1.2,1,{"$f":"SOLICITUD!F317","v":0},0,{"$f":"MIN(DiaCash!G317,DisOfic!G317,Lablink!G317,Lyreco!G317,Ocaña!G317,Taine!G317,Vistalegre!G317)","v":0},0]
[312,"Caja embalaje cartón, doble canal, 4 solapas. Medidas 400x400x400 mm aprox.","Unidad",1.5,1,{"$f":"SOLICITUD!F318","v":0},0,{"$f":"MIN(DiaCash!G318,DisOfic!G318,Lablink!G318,Lyreco!G318,Ocaña!G318,Taine!G318,Vistalegre!G318)","v":0},0]
[313,"Papel embalar. Medidas ancho 1 m.  Gramaje 70 gr/m2 mínimo.(bobina 25 kg)","Bobina 25 Kg",58.5,1,{"$f":"SOLICITUD!F319","v":0},0,{"$f":"MIN(DiaCash!G319,DisOfic!G319,Lablink!G319,Lyreco!G319,Ocaña!G319,Taine!G319,Vistalegre!G319)","v":0},0]
[314,"Papel embalar. Medidas ancho 1 m.  Gramaje 70 gr/m2 mínimo.(bobina 25 kg)","Bobina 25 Kg",58.5,1,{"$f":"SOLICITUD!F320","v":0},0,{"$f":"MIN(DiaCash!G320,DisOfic!G320,Lablink!G320,Lyreco!G320,Ocaña!G320,Taine!G320,Vistalegre!G320)","v":0},0]
[315,"Papel embalar. Medidas ancho 1 m.  Gramaje 70 gr/m2 mínimo.(bobina 55 kg)","Bobina 55 Kg",95,1,{"$f":"SOLICITUD!F321","v":0},0,{"$f":"MIN(DiaCash!G321,DisOfic!G321,Lablink!G321,Lyreco!G321,Ocaña!G321,Taine!G321,Vistalegre!G321)","v":0},0]
[316,"Papel embalar. Medidas ancho 1 m.  Gramaje 70 gr/m2 mínimo.(bobina 55 kg)","Bobina 55 Kg",95,1,{"$f":"SOLICITUD!F322","v":0},0,{"$f":"MIN(DiaCash!G322,DisOfic!G322,Lablink!G322,Lyreco!G322,Ocaña!G322,Taine!G322,Vistalegre!G322)","v":0},0]
[317,"Bolsa de correo interno de papel kraft. Tamaño 250 x 353 mm aprox.  Gramaje mínimo 100 gr/m2.","Caja 250 unidades",28.9,1,{"$f":"SOLICITUD!F323","v":0},0,{"$f":"MIN(DiaCash!G323,DisOfic!G323,Lablink!G323,Lyreco!G323,Ocaña!G323,Taine!G323,Vistalegre!G323)","v":0},0]
[318,"Bolsa de papel kraft armado. Tamaño 310 x 410 mm aprox.  Gramaje mínimo 110 gr/m2.","Caja 100 unidades",37.54,2.5,{"$f":"SOLICITUD!F324","v":0},0,{"$f":"MIN(DiaCash!G324,DisOfic!G324,Lablink!G324,Lyreco!G324,Ocaña!G324,Taine!G324,Vistalegre!G324)","v":0},0]
[319,"Sobre autopegue con ventana a la derecha o izquierda. Tamaño 115x225 mm aprox.  Gramaje mínimo 90 gr/m2.","Caja 500 unidades",9.0299999999999994,1,{"$f":"SOLICITUD!F325","v":0},0,{"$f":"MIN(DiaCash!G325,DisOfic!G325,Lablink!G325,Lyreco!G325,Ocaña!G325,Taine!G325,Vistalegre!G325)","v":0},0]
[320,"Sobre autopegue sin ventana. Tamaño 120x176 mm aprox.  Gramaje mínimo 90 gr/m2.","Caja 500 unidades",8.5,1,{"$f":"SOLICITUD!F326","v":0},0,{"$f":"MIN(DiaCash!G326,DisOfic!G326,Lablink!G326,Lyreco!G326,Ocaña!G326,Taine!G326,Vistalegre!G326)","v":0},0]
[321,"Sobre autopegue sin ventana. Tamaño 115x225 mm aprox.  Gramaje mínimo 90 gr/m2.","Caja 500 unidades",8.4,1,{"$f":"SOLICITUD!F327","v":0},0,{"$f":"MIN(DiaCash!G327,DisOfic!G327,Lablink!G327,Lyreco!G327,Ocaña!G327,Taine!G327,Vistalegre!G327)","v":0},0]
[322,"Sobre autopegue sin ventana. Tamaño 176x231 mm aprox.  Gramaje mínimo 90 gr/m2.","Caja 500 unidades",15.9,1,{"$f":"SOLICITUD!F328","v":0},{"$f":"IF(F328>0,IF(E328=\"Excluido\",\"Excluido1\",IF(F328>0,IF(F328<E328,\"Excluido2\",D328*F328),0)),0)","v":0},{"$f":"MIN(DiaCash!G328,DisOfic!G328,Lablink!G328,Lyreco!G328,Ocaña!G328,Taine!G328,Vistalegre!G328)","v":0},{"$f":"IF(G328<=H328,G328,0)","v":0}]
[323,"Sobre autopegue sin ventana. Tamaño 260x360 mm aprox.  Gramaje mínimo 90 gr/m2.","Caja 250 unidades",17.5,1,{"$f":"SOLICITUD!F329","v":0},0,{"$f":"MIN(DiaCash!G329,DisOfic!G329,Lablink!G329,Lyreco!G329,Ocaña!G329,Taine!G329,Vistalegre!G329)","v":0},0]
[324,"Sobre bolsa burbuja. Tamaño 270 x 360 mm aprox.  Gramaje mínimo 110 gr/m2.","Paquete 10 unidades",2.75,1,{"$f":"SOLICITUD!F330","v":0},0,{"$f":"MIN(DiaCash!G330,DisOfic!G330,Lablink!G330,Lyreco!G330,Ocaña!G330,Taine!G330,Vistalegre!G330)","v":0},0]
[325,"Sobre bolsa fuelle papel kraft. Tamaño 280 x 410 x 30 mm aprox. Gramaje mínimo 110 gr/m2.","Caja 100 unidades",25.4,1,{"$f":"SOLICITUD!F331","v":0},0,{"$f":"MIN(DiaCash!G331,DisOfic!G331,Lablink!G331,Lyreco!G331,Ocaña!G331,Taine!G331,Vistalegre!G331)","v":0},0]
[326,"Sobre plástico, cierre broche o velcro. Tamaño A4 / folio.","Unidad",0.28000000000000003,1,{"$f":"SOLICITUD!F332","v":0},0,{"$f":"MIN(DiaCash!G332,DisOfic!G332,Lablink!G332,Lyreco!G332,Ocaña!G332,Taine!G332,Vistalegre!G332)","v":0},0]
[327,"Sobre plástico, cierre broche o velcro. Tamaño A3.","Unidad",0.85,5,{"$f":"SOLICITUD!F333","v":0},0,{"$f":"MIN(DiaCash!G333,DisOfic!G333,Lablink!G333,Lyreco!G333,Ocaña!G333,Taine!G333,Vistalegre!G333)","v":0},0]
[328,"Tubos planos cartón 4x46 cm (diam. X altura)","Unidad",0.75,10,{"$f":"SOLICITUD!F334","v":0},0,{"$f":"MIN(DiaCash!G334,DisOfic!G334,Lablink!G334,Lyreco!G334,Ocaña!G334,Taine!G334,Vistalegre!G334)","v":0},0]
[329,"Tubos planos cartón 60x64 cm (diam. X altura)","Unidad",0.95,10,{"$f":"SOLICITUD!F335","v":0},0,{"$f":"MIN(DiaCash!G335,DisOfic!G335,Lablink!G335,Lyreco!G335,Ocaña!G335,Taine!G335,Vistalegre!G335)","v":0},0]
[330,"Tubos envíos cartón 6x46 cm (diam. X altura)","Unidad",0.95,10,{"$f":"SOLICITUD!F336","v":0},0,{"$f":"MIN(DiaCash!G336,DisOfic!G336,Lablink!G336,Lyreco!G336,Ocaña!G336,Taine!G336,Vistalegre!G336)","v":0},0]
[331,"Rollo de papel para calculadora 57mm 65mts.","Unidad",0.45,10,{"$f":"SOLICITUD!F337","v":0},0,{"$f":"MIN(DiaCash!G337,DisOfic!G337,Lablink!G337,Lyreco!G337,Ocaña!G337,Taine!G337,Vistalegre!G337)","v":0},0]
[332,"Tablero de corcho para anuncios con marco de madera 60 x 90 cm (hxa) (Bi-Office)","Unidad",6.5,1,{"$f":"SOLICITUD!F338","v":0},0,{"$f":"MIN(DiaCash!G338,DisOfic!G338,Lablink!G338,Lyreco!G338,Ocaña!G338,Taine!G338,Vistalegre!G338)","v":0},0]
[333,"Caja de 5 Paquetes de papel A4 80gr./m2, para impresoras inkjet, láser y fotocopiadora","Caja de 5 Paquetes",16,5,{"$f":"SOLICITUD!F339","v":0},0,{"$f":"MIN(DiaCash!G339,DisOfic!G339,Lablink!G339,Lyreco!G339,Ocaña!G339,Taine!G339,Vistalegre!G339)","v":0},0]
[334,"Caja de 5 Paquetes de papel A4 80gr./m2, para impresoras inkjet, láser y fotocopiadora (Navigator)","Caja de 5 Paquetes",21,5,{"$f":"SOLICITUD!F340","v":0},0,{"$f":"MIN(DiaCash!G340,DisOfic!G340,Lablink!G340,Lyreco!G340,Ocaña!G340,Taine!G340,Vistalegre!G340)","v":0},0]
[335,"Paquete de papel A3 80gr./m2, para impresoras inkjet, láser y fotocopiadora ","Paquete 500 hojas",7,1,{"$f":"SOLICITUD!F341","v":0},0,{"$f":"MIN(DiaCash!G341,DisOfic!G341,Lablink!G341,Lyreco!G341,Ocaña!G341,Taine!G341,Vistalegre!G341)","v":0},0]
[336,"Paquete de papel A3 80gr./m2, para impresoras inkjet, láser y fotocopiadora (Navigator)","Paquete 500 hojas",7.6,1,{"$f":"SOLICITUD!F342","v":0},0,{"$f":"MIN(DiaCash!G342,DisOfic!G342,Lablink!G342,Lyreco!G342,Ocaña!G342,Taine!G342,Vistalegre!G342)","v":0},0]
[337,"Paquete de papel A4 80gr./m2 colores pastel, intensos y fluorescentes, impresoas inkjet, láser y fotocopiadora (Clairefontaine)","Paquete 500 hojas",7,1,{"$f":"SOLICITUD!F343","v":0},0,{"$f":"MIN(DiaCash!G343,DisOfic!G343,Lablink!G343,Lyreco!G343,Ocaña!G343,Taine!G343,Vistalegre!G343)","v":0},0]
[338,"Paquete de papel A4 80gr./m2 colores intensos y fluorescentes, impresoas inkjet, láser y fotocopiadora (Clairefontaine)","Paquete 500 hojas",7,1,{"$f":"SOLICITUD!F344","v":0},0,{"$f":"MIN(DiaCash!G344,DisOfic!G344,Lablink!G344,Lyreco!G344,Ocaña!G344,Taine!G344,Vistalegre!G344)","v":0},0]
[339,"Caja de 5 Paquetes de papel A4 ecológico 75gr/m2 (Navigator Eco-Logical)","Caja de 5 Paquetes",20.75,5,{"$f":"SOLICITUD!F345","v":0},0,{"$f":"MIN(DiaCash!G345,DisOfic!G345,Lablink!G345,Lyreco!G345,Ocaña!G345,Taine!G345,Vistalegre!G345)","v":0},0]
[340,"Caja de 5 Paquetes de papel A4 Blanco 90 gr/m2 ","Caja de 5 Paquetes",24,5,{"$f":"SOLICITUD!F346","v":0},0,{"$f":"MIN(DiaCash!G346,DisOfic!G346,Lablink!G346,Lyreco!G346,Ocaña!G346,Taine!G346,Vistalegre!G346)","v":0},0]
[341,"Caja de 5 Paquetes de papel A4 Blanco 90 gr/m2 (Navigator)","Caja de 5 Paquetes",27.5,5,{"$f":"SOLICITUD!F347","v":0},0,{"$f":"MIN(DiaCash!G347,DisOfic!G347,Lablink!G347,Lyreco!G347,Ocaña!G347,Taine!G347,Vistalegre!G347)","v":0},0]
[342,"Caja de 5 Paquetes de papel A4 80gr./m2, para impresoras inkjet, láser y fotocopiadora reciclado","Caja de 5 Paquetes",19,5,{"$f":"SOLICITUD!F348","v":0},0,{"$f":"MIN(DiaCash!G348,DisOfic!G348,Lablink!G348,Lyreco!G348,Ocaña!G348,Taine!G348,Vistalegre!G348)","v":0},0]
[343,"Paquete de papel verjurado A4 90 gr/m2 blanco (Apli)","Paquete 100 hojas",5.9,1,{"$f":"SOLICITUD!F349","v":0},0,{"$f":"MIN(DiaCash!G349,DisOfic!G349,Lablink!G349,Lyreco!G349,Ocaña!G349,Taine!G349,Vistalegre!G349)","v":0},0]
[344,"Paquete de papel verjurado A4 100 color crema 90 gr/m2 (Apli)","Paquete 100 hojas",5.9,1,{"$f":"SOLICITUD!F350","v":0},0,{"$f":"MIN(DiaCash!G350,DisOfic!G350,Lablink!G350,Lyreco!G350,Ocaña!G350,Taine!G350,Vistalegre!G350)","v":0},0]
[350,"Boligrado Pentel BK-77 Superb (boligrado de punta fina 0.7 mm y tinta base de aceite)","12 unidades",11.88,1,{"$f":"SOLICITUD!F351","v":0},{"$f":"IF(F351>0,IF(E351=\"Excluido\",\"Excluido1\",IF(F351>0,IF(F351<E351,\"Excluido2\",D351*F351),0)),0)","v":0},{"$f":"MIN(DiaCash!G351,DisOfic!G351,Lablink!G351,Lyreco!G351,Ocaña!G351,Taine!G351,Vistalegre!G351)","v":0},{"$f":"IF(G351<=H351,G351,0)","v":0}]
[351,"50 tapas encuadernar gofrado A4 Negro","50 unidades",7.75,1,{"$f":"SOLICITUD!F352","v":0},0,{"$f":"MIN(DiaCash!G352,DisOfic!G352,Lablink!G352,Lyreco!G352,Ocaña!G352,Taine!G352,Vistalegre!G352)","v":0},0]
[352,"Cinta doble cara 19x33 mm","Unidad",1.75,1,{"$f":"SOLICITUD!F353","v":0},0,{"$f":"MIN(DiaCash!G353,DisOfic!G353,Lablink!G353,Lyreco!G353,Ocaña!G353,Taine!G353,Vistalegre!G353)","v":0},0]
[353,"Bolsas para plastificar carnet tamaño 60x90 mm y grosor 200 micras. ","100 unidades",3.6,1,{"$f":"SOLICITUD!F354","v":0},0,{"$f":"MIN(DiaCash!G354,DisOfic!G354,Lablink!G354,Lyreco!G354,Ocaña!G354,Taine!G354,Vistalegre!G354)","v":0},0]
[354,"Bolsas para plastificar tamaño A3 grosor 125 micras","100 unidades",20.69,1,{"$f":"SOLICITUD!F355","v":0},0,{"$f":"MIN(DiaCash!G355,DisOfic!G355,Lablink!G355,Lyreco!G355,Ocaña!G355,Taine!G355,Vistalegre!G355)","v":0},0]
[355,"Sobres de tamaño 229x324 con tira de silicona","250 unidades",15.4,1,{"$f":"SOLICITUD!F356","v":0},0,{"$f":"MIN(DiaCash!G356,DisOfic!G356,Lablink!G356,Lyreco!G356,Ocaña!G356,Taine!G356,Vistalegre!G356)","v":0},0]
[356,"Minas Super Polymer 0.35 HB","12 unidades",0.9,1,{"$f":"SOLICITUD!F357","v":0},0,{"$f":"MIN(DiaCash!G357,DisOfic!G357,Lablink!G357,Lyreco!G357,Ocaña!G357,Taine!G357,Vistalegre!G357)","v":0},0]
[357,"Minas Super Polymer 0.35 2H","12 unidades",0.9,1,{"$f":"SOLICITUD!F358","v":0},0,{"$f":"MIN(DiaCash!G358,DisOfic!G358,Lablink!G358,Lyreco!G358,Ocaña!G358,Taine!G358,Vistalegre!G358)","v":0},0]
[358,"Cuaderno Cuadros A4 160H (marca SAM, Enri, tec)","Unidad",3.6,1,{"$f":"SOLICITUD!F359","v":0},0,{"$f":"MIN(DiaCash!G359,DisOfic!G359,Lablink!G359,Lyreco!G359,Ocaña!G359,Taine!G359,Vistalegre!G359)","v":0},0]
[359,"Fichas rayadas 160x220 (paquete de 100 hojas)","100 unidades",3.05,1,{"$f":"SOLICITUD!F360","v":0},0,{"$f":"MIN(DiaCash!G360,DisOfic!G360,Lablink!G360,Lyreco!G360,Ocaña!G360,Taine!G360,Vistalegre!G360)","v":0},0]
[360,"Portablocks con pinza y solapa","Unidad",3.5,1,{"$f":"SOLICITUD!F361","v":0},0,{"$f":"MIN(DiaCash!G361,DisOfic!G361,Lablink!G361,Lyreco!G361,Ocaña!G361,Taine!G361,Vistalegre!G361)","v":0},0]
[361,"Pack 100 Fundas multitaladro folio PP Cristal","100 unidades",3.99,1,{"$f":"SOLICITUD!F362","v":0},0,{"$f":"MIN(DiaCash!G362,DisOfic!G362,Lablink!G362,Lyreco!G362,Ocaña!G362,Taine!G362,Vistalegre!G362)","v":0},0]
[362,"Sobre burbuja/acolchado tamaño 350x470 mm ","10 unidades",6.02,1,{"$f":"SOLICITUD!F363","v":0},0,{"$f":"MIN(DiaCash!G363,DisOfic!G363,Lablink!G363,Lyreco!G363,Ocaña!G363,Taine!G363,Vistalegre!G363)","v":0},0]
[363,"Sobre burbuja/acolchado tamaño 300x445 mm ","10 unidades",5.03,1,{"$f":"SOLICITUD!F364","v":0},0,{"$f":"MIN(DiaCash!G364,DisOfic!G364,Lablink!G364,Lyreco!G364,Ocaña!G364,Taine!G364,Vistalegre!G364)","v":0},0]
[364,"Sobre burbuja/acolchado tamaño 120x215 mm","10 unidades",1.53,1,{"$f":"SOLICITUD!F365","v":0},0,{"$f":"MIN(DiaCash!G365,DisOfic!G365,Lablink!G365,Lyreco!G365,Ocaña!G365,Taine!G365,Vistalegre!G365)","v":0},0]
[365,"Sobre burbuja/acolchado tamaño 220x340 mm","10 unidades",3.22,1,{"$f":"SOLICITUD!F366","v":0},0,{"$f":"MIN(DiaCash!G366,DisOfic!G366,Lablink!G366,Lyreco!G366,Ocaña!G366,Taine!G366,Vistalegre!G366)","v":0},0]
[366,"Sobre burbuja/acolchado tamaño 220x265 mm","10 unidades",2.66,1,{"$f":"SOLICITUD!F367","v":0},0,{"$f":"MIN(DiaCash!G367,DisOfic!G367,Lablink!G367,Lyreco!G367,Ocaña!G367,Taine!G367,Vistalegre!G367)","v":0},0]
[367,"Carpeta Polipropileno A4 Gomas Solapas","Unidad",1.45,1,{"$f":"SOLICITUD!F368","v":0},0,{"$f":"MIN(DiaCash!G368,DisOfic!G368,Lablink!G368,Lyreco!G368,Ocaña!G368,Taine!G368,Vistalegre!G368)","v":0},0]
[368,"Roller Pilot V-5 Azul","Unidad",1.08,1,{"$f":"SOLICITUD!F369","v":0},0,{"$f":"MIN(DiaCash!G369,DisOfic!G369,Lablink!G369,Lyreco!G369,Ocaña!G369,Taine!G369,Vistalegre!G369)","v":0},0]
[369,"Roller Pilot V-5 Negro","Unidad",1.08,1,{"$f":"SOLICITUD!F370","v":0},0,{"$f":"MIN(DiaCash!G370,DisOfic!G370,Lablink!G370,Lyreco!G370,Ocaña!G370,Taine!G370,Vistalegre!G370)","v":0},0]
[370,"Roller Pilot V-5 Rojo","Unidad",1.08,1,{"$f":"SOLICITUD!F371","v":0},0,{"$f":"MIN(DiaCash!G371,DisOfic!G371,Lablink!G371,Lyreco!G371,Ocaña!G371,Taine!G371,Vistalegre!G371)","v":0},0]
[371,"Sobres blancos para entrega de títulos en mano 30 x 42 cm. ","250 unidades",41.15,1,{"$f":"SOLICITUD!F372","v":0},0,{"$f":"MIN(DiaCash!G372,DisOfic!G372,Lablink!G372,Lyreco!G372,Ocaña!G372,Taine!G372,Vistalegre!G372)","v":0},0]
[372,"Dosier flexible con pinza A4 60 hojas  ","Unidad",1.18,1,{"$f":"SOLICITUD!F373","v":0},0,{"$f":"MIN(DiaCash!G373,DisOfic!G373,Lablink!G373,Lyreco!G373,Ocaña!G373,Taine!G373,Vistalegre!G373)","v":0},0]
[373,"Dosier flexible con pinza A4 30 hojas     ","Unidad",1.18,1,{"$f":"SOLICITUD!F374","v":0},0,{"$f":"MIN(DiaCash!G374,DisOfic!G374,Lablink!G374,Lyreco!G374,Ocaña!G374,Taine!G374,Vistalegre!G374)","v":0},0]
[374,"Rollos de papel térmico para las máquinas CIGES 8x8 cm","8 unidades",8.76,1,{"$f":"SOLICITUD!F375","v":0},0,{"$f":"MIN(DiaCash!G375,DisOfic!G375,Lablink!G375,Lyreco!G375,Ocaña!G375,Taine!G375,Vistalegre!G375)","v":0},0]
[null,null,null,null,null,null,null,null,{"$f":"SUM(I7:I375)","v":0}]
[null,null,null,null,null,null,null,null,{"$f":"COUNTIF(I7:I375,\">0\")","v":0}]

{"sheet":"Vistalegre","index":9,"n_rows":377,"n_cols":9,"rows_kept":377,"cut":false,"hidden":false,"merged":[]}
[]
[]
[null,"VISTALEGRE SUMINISTRO INTEGRAL A OFICINAS, S. L.","Importe pedido mínimo:",30]
[]
[null,"LOTES 1, 2 Y 3 (Granada, Ceuta y Melilla respectivamente)"]
["Referencia","Descripción del artículo","Precio Referido a:","Precio (IVA excluido)","Ud.Mínima Servicio","Cantidad Solicitada","Precio Total","Menor Precio","Seleccionable?"]
[1,"Lapiceros de Grafito. Dureza Hb 2 ","Enavse 12 unidades",0.5,1,{"$f":"SOLICITUD!F7","v":0},{"$f":"IF(F7>0,IF(E7=\"Excluido\",\"Excluido1\",IF(F7>0,IF(F7<E7,\"Excluido2\",D7*F7),0)),0)","v":0},{"$f":"MIN(DiaCash!G7,DisOfic!G7,Lablink!G7,Lyreco!G7,Ocaña!G7,Taine!G7,Vistalegre!G7)","v":0},{"$f":"IF(G7<=H7,G7,0)","v":0}]
[2,"Lapiceros de Grafito. Dureza Hb, 2 (Staedtler)","Enavse 12 unidades",0.53,1,{"$f":"SOLICITUD!F8","v":0},{"$f":"IF(F8>0,IF(E8=\"Excluido\",\"Excluido1\",IF(F8>0,IF(F8<E8,\"Excluido2\",D8*F8),0)),0)","v":0},{"$f":"MIN(DiaCash!G8,DisOfic!G8,Lablink!G8,Lyreco!G8,Ocaña!G8,Taine!G8,Vistalegre!G8)","v":0},{"$f":"IF(G8<=H8,G8,0)","v":0}]
[3,"Minas de Grafito. Calibre 0,5 mm, diferentes durezas (Staedtler, Faber-Castell)","Envase 12 unidades",0.78,1,{"$f":"SOLICITUD!F9","v":0},0,{"$f":"MIN(DiaCash!G9,DisOfic!G9,Lablink!G9,Lyreco!G9,Ocaña!G9,Taine!G9,Vistalegre!G9)","v":0},0]
[4,"Minas de Grafito. Calibre 0,7 mm, diferentes durezas (Staedtler, Faber-Castell)","Envase 12 unidades",0.72,1,{"$f":"SOLICITUD!F10","v":0},0,{"$f":"MIN(DiaCash!G10,DisOfic!G10,Lablink!G10,Lyreco!G10,Ocaña!G10,Taine!G10,Vistalegre!G10)","v":0},0]
[5,"Portaminas Recargable de Puntera Retráctil, Pulsador y Clip, 0,5 mm.","Unidad",0.15,1,{"$f":"SOLICITUD!F11","v":0},0,{"$f":"MIN(DiaCash!G11,DisOfic!G11,Lablink!G11,Lyreco!G11,Ocaña!G11,Taine!G11,Vistalegre!G11)","v":0},0]
[6,"Portaminas Recargable de Puntera Retráctil, Pulsador y Clip, 0,7 mm.","Unidad",0.15,1,{"$f":"SOLICITUD!F12","v":0},0,{"$f":"MIN(DiaCash!G12,DisOfic!G12,Lablink!G12,Lyreco!G12,Ocaña!G12,Taine!G12,Vistalegre!G12)","v":0},0]
[7,"Portaminas Recargable de Puntera Retráctil, Pulsador y Clip, 0,5 mm. (Staedtler, Faber Castell)","Unidad",0.15,1,{"$f":"SOLICITUD!F13","v":0},0,{"$f":"MIN(DiaCash!G13,DisOfic!G13,Lablink!G13,Lyreco!G13,Ocaña!G13,Taine!G13,Vistalegre!G13)","v":0},0]
[8,"Portaminas Recargable de Puntera Retráctil, Pulsador y Clip, 0,7 mm. (Staedtler, Faber Castell)","Unidad",0.15,1,{"$f":"SOLICITUD!F14","v":0},0,{"$f":"MIN(DiaCash!G14,DisOfic!G14,Lablink!G14,Lyreco!G14,Ocaña!G14,Taine!G14,Vistalegre!G14)","v":0},0]
[9,"Lapiz Bicolor azul/rojo ","Envase 12 unidades",1.79,1,{"$f":"SOLICITUD!F15","v":0},0,{"$f":"MIN(DiaCash!G15,DisOfic!G15,Lablink!G15,Lyreco!G15,Ocaña!G15,Taine!G15,Vistalegre!G15)","v":0},0]
[10,"Lapiz Bicolor azul/rojo  (Faber-Castell)","Envase 12 unidades",1.79,1,{"$f":"SOLICITUD!F16","v":0},0,{"$f":"MIN(DiaCash!G16,DisOfic!G16,Lablink!G16,Lyreco!G16,Ocaña!G16,Taine!G16,Vistalegre!G16)","v":0},0]
[11,"Afila Lapiceros doble entrada metálico","Unidad",0.19,1,{"$f":"SOLICITUD!F17","v":0},0,{"$f":"MIN(DiaCash!G17,DisOfic!G17,Lablink!G17,Lyreco!G17,Ocaña!G17,Taine!G17,Vistalegre!G17)","v":0},0]
[12,"Afila Lapiceros doble entrada metálico (Faibo)","Unidad",0.19,1,{"$f":"SOLICITUD!F18","v":0},0,{"$f":"MIN(DiaCash!G18,DisOfic!G18,Lablink!G18,Lyreco!G18,Ocaña!G18,Taine!G18,Vistalegre!G18)","v":0},0]
[13,"Afila Lapiceros una entrada metálico","Unidad",0.08,1,{"$f":"SOLICITUD!F19","v":0},0,{"$f":"MIN(DiaCash!G19,DisOfic!G19,Lablink!G19,Lyreco!G19,Ocaña!G19,Taine!G19,Vistalegre!G19)","v":0},0]
[14,"Afila Lapiceros una entrada metálico (Faibo)","Unidad",0.08,1,{"$f":"SOLICITUD!F20","v":0},0,{"$f":"MIN(DiaCash!G20,DisOfic!G20,Lablink!G20,Lyreco!G20,Ocaña!G20,Taine!G20,Vistalegre!G20)","v":0},0]
[15,"Bolígrafo con capuchón, tinta a base de aceite, ancho de escritura 0,42 mm, escritura fina (Bic)","Unidad",0.19,1,{"$f":"SOLICITUD!F21","v":0},0,{"$f":"MIN(DiaCash!G21,DisOfic!G21,Lablink!G21,Lyreco!G21,Ocaña!G21,Taine!G21,Vistalegre!G21)","v":0},0]
[16,"Bolígrafo borrable (Pilot)","Unidad",0.62,1,{"$f":"SOLICITUD!F22","v":0},0,{"$f":"MIN(DiaCash!G22,DisOfic!G22,Lablink!G22,Lyreco!G22,Ocaña!G22,Taine!G22,Vistalegre!G22)","v":0},0]
[17,"Bolígrafo con capuchón, tinta a base de aceite, ancho de escritura 1,0mm, escritura normal, colores","Unidad",0.04,1,{"$f":"SOLICITUD!F23","v":0},0,{"$f":"MIN(DiaCash!G23,DisOfic!G23,Lablink!G23,Lyreco!G23,Ocaña!G23,Taine!G23,Vistalegre!G23)","v":0},0]
[18,"Bolígrafo con capuchón, tinta a base de aceite, ancho de escritura 1,0mm, escritura normal, colores (Bic)","Unidad",0.04,1,{"$f":"SOLICITUD!F24","v":0},0,{"$f":"MIN(DiaCash!G24,DisOfic!G24,Lablink!G24,Lyreco!G24,Ocaña!G24,Taine!G24,Vistalegre!G24)","v":0},0]
[19,"Bolígrafo con capuchón, tinta a base de aceite, ancho de escritura 0,5mm, escritura fina, colores (Bic)","Unidad",0.19,1,{"$f":"SOLICITUD!F25","v":0},0,{"$f":"MIN(DiaCash!G25,DisOfic!G25,Lablink!G25,Lyreco!G25,Ocaña!G25,Taine!G25,Vistalegre!G25)","v":0},0]
[20,"Bolígrafo uso común capuchón tinta gel, colores (Bic, Pilot)","Unidad",0.2,1,{"$f":"SOLICITUD!F26","v":0},0,{"$f":"MIN(DiaCash!G26,DisOfic!G26,Lablink!G26,Lyreco!G26,Ocaña!G26,Taine!G26,Vistalegre!G26)","v":0},0]
[21,"Bolígrafo uso común capuchón, tinta base de aceite (Pilot)","Unidad",0.04,1,{"$f":"SOLICITUD!F27","v":0},0,{"$f":"MIN(DiaCash!G27,DisOfic!G27,Lablink!G27,Lyreco!G27,Ocaña!G27,Taine!G27,Vistalegre!G27)","v":0},0]
[22,"Bolígrafo retráctil tinta gel  ","Unidad",0.20899999999999999,1,{"$f":"SOLICITUD!F28","v":0},0,{"$f":"MIN(DiaCash!G28,DisOfic!G28,Lablink!G28,Lyreco!G28,Ocaña!G28,Taine!G28,Vistalegre!G28)","v":0},0]
[23,"Bolígrafo retráctil tinta gel  (Pilot)","Unidad",0.27,1,{"$f":"SOLICITUD!F29","v":0},0,{"$f":"MIN(DiaCash!G29,DisOfic!G29,Lablink!G29,Lyreco!G29,Ocaña!G29,Taine!G29,Vistalegre!G29)","v":0},0]
[24,"Pluma desechable (Pilot)","Unidad",1.71,1,{"$f":"SOLICITUD!F30","v":0},0,{"$f":"MIN(DiaCash!G30,DisOfic!G30,Lablink!G30,Lyreco!G30,Ocaña!G30,Taine!G30,Vistalegre!G30)","v":0},0]
[25,"Marcadores Fluorescentes. Ancho de Trazo entre 2 Y 5 mm","Unidad",0.2,1,{"$f":"SOLICITUD!F31","v":0},0,{"$f":"MIN(DiaCash!G31,DisOfic!G31,Lablink!G31,Lyreco!G31,Ocaña!G31,Taine!G31,Vistalegre!G31)","v":0},0]
[26,"Marcadores Fluorescentes. Ancho de Trazo entre 2 Y 5 mm (Faber Castell, Stabilo)","Unidad",0.2,1,{"$f":"SOLICITUD!F32","v":0},0,{"$f":"MIN(DiaCash!G32,DisOfic!G32,Lablink!G32,Lyreco!G32,Ocaña!G32,Taine!G32,Vistalegre!G32)","v":0},0]
[27,"Roller Retráctil Tinta Gel. Trazo entre 0,4 Y 0,7 mm.","Unidad",0.27,1,{"$f":"SOLICITUD!F33","v":0},0,{"$f":"MIN(DiaCash!G33,DisOfic!G33,Lablink!G33,Lyreco!G33,Ocaña!G33,Taine!G33,Vistalegre!G33)","v":0},0]
[28,"Roller Retráctil Tinta Gel. Trazo entre 0,4 Y 0,7 mm. (Pilot)","Unidad",0.27,1,{"$f":"SOLICITUD!F34","v":0},0,{"$f":"MIN(DiaCash!G34,DisOfic!G34,Lablink!G34,Lyreco!G34,Ocaña!G34,Taine!G34,Vistalegre!G34)","v":0},0]
[29,"Roller Tinta Gel con capuchón. Trazo entre  0,4 Y 0,7 mm.","Unidad",0.2,1,{"$f":"SOLICITUD!F35","v":0},0,{"$f":"MIN(DiaCash!G35,DisOfic!G35,Lablink!G35,Lyreco!G35,Ocaña!G35,Taine!G35,Vistalegre!G35)","v":0},0]
[30,"Roller Tinta Gel con capuchón. Trazo entre  0,4 Y 0,7 mm. (Pilot)","Unidad",0.2,1,{"$f":"SOLICITUD!F36","v":0},0,{"$f":"MIN(DiaCash!G36,DisOfic!G36,Lablink!G36,Lyreco!G36,Ocaña!G36,Taine!G36,Vistalegre!G36)","v":0},0]
[31,"Roller Tinta Líquida con capuchón. Trazo entre 0,5 Y 0,7 mm.","Unidad",0.223,1,{"$f":"SOLICITUD!F37","v":0},0,{"$f":"MIN(DiaCash!G37,DisOfic!G37,Lablink!G37,Lyreco!G37,Ocaña!G37,Taine!G37,Vistalegre!G37)","v":0},0]
[32,"Roller Tinta Líquida con capuchón. Trazo entre 0,5 Y 0,7 mm. (Pilot)","Unidad",0.25,1,{"$f":"SOLICITUD!F38","v":0},0,{"$f":"MIN(DiaCash!G38,DisOfic!G38,Lablink!G38,Lyreco!G38,Ocaña!G38,Taine!G38,Vistalegre!G38)","v":0},0]
[33,"Rotulador Punta Fibra. Trazo entre 0,4 Y 1 mm.","Unidad",0.09,1,{"$f":"SOLICITUD!F39","v":0},0,{"$f":"MIN(DiaCash!G39,DisOfic!G39,Lablink!G39,Lyreco!G39,Ocaña!G39,Taine!G39,Vistalegre!G39)","v":0},0]
[34,"Rotulador Punta Fibra. Trazo entre 0,4 Y 1 mm. (Edding)","Unidad",0.09,1,{"$f":"SOLICITUD!F40","v":0},0,{"$f":"MIN(DiaCash!G40,DisOfic!G40,Lablink!G40,Lyreco!G40,Ocaña!G40,Taine!G40,Vistalegre!G40)","v":0},0]
[35,"Rotulador indeleble punta 0,6 mm (Staedtler)","Unidad",0.22,1,{"$f":"SOLICITUD!F41","v":0},0,{"$f":"MIN(DiaCash!G41,DisOfic!G41,Lablink!G41,Lyreco!G41,Ocaña!G41,Taine!G41,Vistalegre!G41)","v":0},0]
[36,"Rotulador Permanente. Trazo entre 0,7 Y 2 mm Punta Cónica","Unidad",0.23,1,{"$f":"SOLICITUD!F42","v":0},0,{"$f":"MIN(DiaCash!G42,DisOfic!G42,Lablink!G42,Lyreco!G42,Ocaña!G42,Taine!G42,Vistalegre!G42)","v":0},0]
[37,"Rotulador Permanente. Trazo entre 0,7 Y 2 mm Punta Cónica (Edding)","Unidad",0.23,1,{"$f":"SOLICITUD!F43","v":0},0,{"$f":"MIN(DiaCash!G43,DisOfic!G43,Lablink!G43,Lyreco!G43,Ocaña!G43,Taine!G43,Vistalegre!G43)","v":0},0]
[38,"Rotulador Permanente. Trazo entre 1,5-3 mm  Punta Cómica (Edding)","Unidad",0.2,1,{"$f":"SOLICITUD!F44","v":0},0,{"$f":"MIN(DiaCash!G44,DisOfic!G44,Lablink!G44,Lyreco!G44,Ocaña!G44,Taine!G44,Vistalegre!G44)","v":0},0]
[39,"Rotulador Permanente. Trazo entre 2 Y 7 mm Punta Cónica","Unidad",0.18,1,{"$f":"SOLICITUD!F45","v":0},0,{"$f":"MIN(DiaCash!G45,DisOfic!G45,Lablink!G45,Lyreco!G45,Ocaña!G45,Taine!G45,Vistalegre!G45)","v":0},0]
[40,"Rotulador Permanente. Trazo entre 2 Y 7 mm Punta Cónica (Edding)","Unidad",0.18,1,{"$f":"SOLICITUD!F46","v":0},0,{"$f":"MIN(DiaCash!G46,DisOfic!G46,Lablink!G46,Lyreco!G46,Ocaña!G46,Taine!G46,Vistalegre!G46)","v":0},0]
[41,"Rotulador Permanente. Trazo entre 2 Y 7 mm Punta Biselada","Unidad",0.18,1,{"$f":"SOLICITUD!F47","v":0},0,{"$f":"MIN(DiaCash!G47,DisOfic!G47,Lablink!G47,Lyreco!G47,Ocaña!G47,Taine!G47,Vistalegre!G47)","v":0},0]
[42,"Rotulador Permanente. Trazo entre 2 Y 7 mm Punta Biselada (Edding)","Unidad",0.18,1,{"$f":"SOLICITUD!F48","v":0},0,{"$f":"MIN(DiaCash!G48,DisOfic!G48,Lablink!G48,Lyreco!G48,Ocaña!G48,Taine!G48,Vistalegre!G48)","v":0},0]
[43,"Rotulador Permanente. Trazo entre 8 Y 16 mm Punta Biselada","Unidad",1.19,1,{"$f":"SOLICITUD!F49","v":0},0,{"$f":"MIN(DiaCash!G49,DisOfic!G49,Lablink!G49,Lyreco!G49,Ocaña!G49,Taine!G49,Vistalegre!G49)","v":0},0]
[44,"Rotulador Permanente. Trazo entre 8 Y 16 mm Punta Biselada (Edding)","Unidad",3.47,1,{"$f":"SOLICITUD!F50","v":0},0,{"$f":"MIN(DiaCash!G50,DisOfic!G50,Lablink!G50,Lyreco!G50,Ocaña!G50,Taine!G50,Vistalegre!G50)","v":0},0]
[45,"Rotulador Borrable de Punta Biselada para Pizarra Blanca. Trazo Entre 2 Y 5 mm","Unidad",0.24,1,{"$f":"SOLICITUD!F51","v":0},0,{"$f":"MIN(DiaCash!G51,DisOfic!G51,Lablink!G51,Lyreco!G51,Ocaña!G51,Taine!G51,Vistalegre!G51)","v":0},0]
[46,"Rotulador Borrable de Punta Biselada para Pizarra Blanca. Trazo Entre 2 Y 5 mm (Bic)","Unidad",0.24,1,{"$f":"SOLICITUD!F52","v":0},0,{"$f":"MIN(DiaCash!G52,DisOfic!G52,Lablink!G52,Lyreco!G52,Ocaña!G52,Taine!G52,Vistalegre!G52)","v":0},0]
[47,"Rotulador Borrable de Punta Conica para Pizarra Blanca. Trazo Entre 1 Y 4 mm","Unidad",0.2,1,{"$f":"SOLICITUD!F53","v":0},0,{"$f":"MIN(DiaCash!G53,DisOfic!G53,Lablink!G53,Lyreco!G53,Ocaña!G53,Taine!G53,Vistalegre!G53)","v":0},0]
[48,"Rotulador Borrable de Punta Conica para Pizarra Blanca. Trazo Entre 1 Y 4 mm (Bic)","Unidad",0.2,1,{"$f":"SOLICITUD!F54","v":0},0,{"$f":"MIN(DiaCash!G54,DisOfic!G54,Lablink!G54,Lyreco!G54,Ocaña!G54,Taine!G54,Vistalegre!G54)","v":0},0]
[49,"Borrador para Pizarra Blanca","Unidad",1.68,1,{"$f":"SOLICITUD!F55","v":0},0,{"$f":"MIN(DiaCash!G55,DisOfic!G55,Lablink!G55,Lyreco!G55,Ocaña!G55,Taine!G55,Vistalegre!G55)","v":0},0]
[50,"Recambios Borrador de Pizarra Blanca ","Envase 10 unidades",1.353,1,{"$f":"SOLICITUD!F56","v":0},0,{"$f":"MIN(DiaCash!G56,DisOfic!G56,Lablink!G56,Lyreco!G56,Ocaña!G56,Taine!G56,Vistalegre!G56)","v":0},0]
[51,"Puntero laser rojo (Trust)","Unidad",21.49,1,{"$f":"SOLICITUD!F57","v":0},0,{"$f":"MIN(DiaCash!G57,DisOfic!G57,Lablink!G57,Lyreco!G57,Ocaña!G57,Taine!G57,Vistalegre!G57)","v":0},0]
[52,"Pizarra blanca magnética esmaltada. Marco aluminio/plástico 60x90 cm (hxa) (Nobo)","Unidad",20.389999999999997,1,{"$f":"SOLICITUD!F58","v":0},0,{"$f":"MIN(DiaCash!G58,DisOfic!G58,Lablink!G58,Lyreco!G58,Ocaña!G58,Taine!G58,Vistalegre!G58)","v":0},0]
[53,"Pizarra blanca magnética esmaltada. Marco aluminio/plástico 90x120 cm (hxa) (Nobo)","Unidad",37.630000000000003,1,{"$f":"SOLICITUD!F59","v":0},0,{"$f":"MIN(DiaCash!G59,DisOfic!G59,Lablink!G59,Lyreco!G59,Ocaña!G59,Taine!G59,Vistalegre!G59)","v":0},0]
[54,"Pizarra blanca magnética esmaltada. Marco aluminio/plástico 100x150 cm (hxa) (Nobo)","Unidad",59.64,1,{"$f":"SOLICITUD!F60","v":0},0,{"$f":"MIN(DiaCash!G60,DisOfic!G60,Lablink!G60,Lyreco!G60,Ocaña!G60,Taine!G60,Vistalegre!G60)","v":0},0]
[55,"Pizarra caballete con superficie lacada magnética. Marco y bandeja portamarcadores en aluminio. Brazos laterales magnéticos que triplican la superficie de lectura. Pies telescópicos con altura regulable. Para usar con o sin block de papel 1000x700 mm (hxa) (Bi-Office)","Unidad",43.62,1,{"$f":"SOLICITUD!F61","v":0},0,{"$f":"MIN(DiaCash!G61,DisOfic!G61,Lablink!G61,Lyreco!G61,Ocaña!G61,Taine!G61,Vistalegre!G61)","v":0},0]
[56,"Cinta Correctora con dispensador desechable tipo Roller. Anchos \nde 4,2 A 6 mm. Largos de 8,5 A 12 Mts.","Unidad",0.49,1,{"$f":"SOLICITUD!F62","v":0},0,{"$f":"MIN(DiaCash!G62,DisOfic!G62,Lablink!G62,Lyreco!G62,Ocaña!G62,Taine!G62,Vistalegre!G62)","v":0},0]
[57,"Cinta Correctora con dispensador desechable tipo Roller. Anchos \nde 4,2 A 6 mm. Largos de 8,5 A 12 Mts. (Pritt Roller)","Unidad",0.53,1,{"$f":"SOLICITUD!F63","v":0},0,{"$f":"MIN(DiaCash!G63,DisOfic!G63,Lablink!G63,Lyreco!G63,Ocaña!G63,Taine!G63,Vistalegre!G63)","v":0},0]
[58,"Corrector Líquido de secado rápido con pincel aplicador 20 Ml","Unidad",0.28000000000000003,1,{"$f":"SOLICITUD!F64","v":0},0,{"$f":"MIN(DiaCash!G64,DisOfic!G64,Lablink!G64,Lyreco!G64,Ocaña!G64,Taine!G64,Vistalegre!G64)","v":0},0]
[59,"Corrector Líquido de secado rápido con pincel aplicador 20 Ml (Tippex)","Unidad",0.24,1,{"$f":"SOLICITUD!F65","v":0},0,{"$f":"MIN(DiaCash!G65,DisOfic!G65,Lablink!G65,Lyreco!G65,Ocaña!G65,Taine!G65,Vistalegre!G65)","v":0},0]
[60,"Lápiz corrector con capuchón ajustable punta metálica secado rápido, de 7 a 12 ml (Pritt)","Unidad",0.42,1,{"$f":"SOLICITUD!F66","v":0},0,{"$f":"MIN(DiaCash!G66,DisOfic!G66,Lablink!G66,Lyreco!G66,Ocaña!G66,Taine!G66,Vistalegre!G66)","v":0},0]
[61,"Goma para borrar grafito","Unidad",7.0000000000000007E-2,1,{"$f":"SOLICITUD!F67","v":0},0,{"$f":"MIN(DiaCash!G67,DisOfic!G67,Lablink!G67,Lyreco!G67,Ocaña!G67,Taine!G67,Vistalegre!G67)","v":0},0]
[62,"Atril de sobremesa ajustable. Tamaño A4 y mayor","Unidad",10.112,1,{"$f":"SOLICITUD!F68","v":0},0,{"$f":"MIN(DiaCash!G68,DisOfic!G68,Lablink!G68,Lyreco!G68,Ocaña!G68,Taine!G68,Vistalegre!G68)","v":0},0]
[63,"Bandeja Apilable Sobremesa Plástico . Tamaño minimo apx. 24X34 cms.","Unidad",0.94,1,{"$f":"SOLICITUD!F69","v":0},0,{"$f":"MIN(DiaCash!G69,DisOfic!G69,Lablink!G69,Lyreco!G69,Ocaña!G69,Taine!G69,Vistalegre!G69)","v":0},0]
[64,"Bandeja Apilable Sobremesa Acero Cromado. Tamaño minimo apx. 24X34 cms.","Unidad",3.6830000000000003,1,{"$f":"SOLICITUD!F70","v":0},0,{"$f":"MIN(DiaCash!G70,DisOfic!G70,Lablink!G70,Lyreco!G70,Ocaña!G70,Taine!G70,Vistalegre!G70)","v":0},0]
[65,"Cubilete para lápices ","Unidad",0.53,1,{"$f":"SOLICITUD!F71","v":0},0,{"$f":"MIN(DiaCash!G71,DisOfic!G71,Lablink!G71,Lyreco!G71,Ocaña!G71,Taine!G71,Vistalegre!G71)","v":0},0]
[66,"Regla de Plástico milimetrada transparente 40 cm","Unidad",0.27,1,{"$f":"SOLICITUD!F72","v":0},{"$f":"IF(F72>0,IF(E72=\"Excluido\",\"Excluido1\",IF(F72>0,IF(F72<E72,\"Excluido2\",D72*F72),0)),0)","v":0},{"$f":"MIN(DiaCash!G72,DisOfic!G72,Lablink!G72,Lyreco!G72,Ocaña!G72,Taine!G72,Vistalegre!G72)","v":0},{"$f":"IF(G72<=H72,G72,0)","v":0}]
[67,"Regla de Plástico milimetrada transparente 40 cm (Staedtler, Faber-Castell)","Unidad",0.28999999999999998,1,{"$f":"SOLICITUD!F73","v":0},0,{"$f":"MIN(DiaCash!G73,DisOfic!G73,Lablink!G73,Lyreco!G73,Ocaña!G73,Taine!G73,Vistalegre!G73)","v":0},0]
[68,"Escuadra y Cartabon transparente 30 ó 40 cm ","Unidad",0.28000000000000003,1,{"$f":"SOLICITUD!F74","v":0},0,{"$f":"MIN(DiaCash!G74,DisOfic!G74,Lablink!G74,Lyreco!G74,Ocaña!G74,Taine!G74,Vistalegre!G74)","v":0},0]
[69,"Escuadra y Cartabon transparente 30 ó 40 cm (Staedtler, Faber-Castell)","Unidad",0.32,1,{"$f":"SOLICITUD!F75","v":0},0,{"$f":"MIN(DiaCash!G75,DisOfic!G75,Lablink!G75,Lyreco!G75,Ocaña!G75,Taine!G75,Vistalegre!G75)","v":0},0]
[70,"Abrecartas Acero Inoxidable 170 mm aprox.","Unidad",0.53,1,{"$f":"SOLICITUD!F76","v":0},0,{"$f":"MIN(DiaCash!G76,DisOfic!G76,Lablink!G76,Lyreco!G76,Ocaña!G76,Taine!G76,Vistalegre!G76)","v":0},0]
[71,"Bloque Calendario 82X116 mm, Papel de 60 gr/m2 mínimo","Unidad",0.6,1,{"$f":"SOLICITUD!F77","v":0},0,{"$f":"MIN(DiaCash!G77,DisOfic!G77,Lablink!G77,Lyreco!G77,Ocaña!G77,Taine!G77,Vistalegre!G77)","v":0},0]
[72,"Base para Bloque Calendario en baquelita","Unidad",0.92,1,{"$f":"SOLICITUD!F78","v":0},0,{"$f":"MIN(DiaCash!G78,DisOfic!G78,Lablink!G78,Lyreco!G78,Ocaña!G78,Taine!G78,Vistalegre!G78)","v":0},0]
[73,"Chincheta metálica ","Envase 100 Unidades",0.28000000000000003,1,{"$f":"SOLICITUD!F79","v":0},0,{"$f":"MIN(DiaCash!G79,DisOfic!G79,Lablink!G79,Lyreco!G79,Ocaña!G79,Taine!G79,Vistalegre!G79)","v":0},0]
[74,"Chincheta señalizadoras colores (Apli)","Envase 50 unidades",0.49,1,{"$f":"SOLICITUD!F80","v":0},0,{"$f":"MIN(DiaCash!G80,DisOfic!G80,Lablink!G80,Lyreco!G80,Ocaña!G80,Taine!G80,Vistalegre!G80)","v":0},0]
[75,"Portarrollos para Cinta Adhesiva Hasta 25 mm de ancho y hasta 33 mts de largo","Unidad",0.7,1,{"$f":"SOLICITUD!F81","v":0},0,{"$f":"MIN(DiaCash!G81,DisOfic!G81,Lablink!G81,Lyreco!G81,Ocaña!G81,Taine!G81,Vistalegre!G81)","v":0},0]
[76,"Portarrollos para Cinta Adhesiva Hasta 25 mm de ancho y hasta 33 mts de largo (Scotch)","Unidad",0.75,1,{"$f":"SOLICITUD!F82","v":0},0,{"$f":"MIN(DiaCash!G82,DisOfic!G82,Lablink!G82,Lyreco!G82,Ocaña!G82,Taine!G82,Vistalegre!G82)","v":0},0]
[77,"Portarrollos para Cinta Adhesiva Hasta 25 mm de ancho y hasta 66 mts de largo","Unidad",0.7,1,{"$f":"SOLICITUD!F83","v":0},0,{"$f":"MIN(DiaCash!G83,DisOfic!G83,Lablink!G83,Lyreco!G83,Ocaña!G83,Taine!G83,Vistalegre!G83)","v":0},0]
[78,"Portarrollos para Cinta Adhesiva Hasta 25 mm de ancho y hasta 66 mts de largo (Scotch)","Unidad",0.75,1,{"$f":"SOLICITUD!F84","v":0},0,{"$f":"MIN(DiaCash!G84,DisOfic!G84,Lablink!G84,Lyreco!G84,Ocaña!G84,Taine!G84,Vistalegre!G84)","v":0},0]
[79,"Cinta Adhesiva Transparente 12 mm X 33 mts.","Unidad",0.14000000000000001,1,{"$f":"SOLICITUD!F85","v":0},0,{"$f":"MIN(DiaCash!G85,DisOfic!G85,Lablink!G85,Lyreco!G85,Ocaña!G85,Taine!G85,Vistalegre!G85)","v":0},0]
[80,"Cinta Adhesiva Transparente 19 mm X 33 mts.","Unidad",0.16,1,{"$f":"SOLICITUD!F86","v":0},0,{"$f":"MIN(DiaCash!G86,DisOfic!G86,Lablink!G86,Lyreco!G86,Ocaña!G86,Taine!G86,Vistalegre!G86)","v":0},0]
[81,"Cinta Adhesiva Transparente 19 mm X 66 mts.","Unidad",0.38,1,{"$f":"SOLICITUD!F87","v":0},0,{"$f":"MIN(DiaCash!G87,DisOfic!G87,Lablink!G87,Lyreco!G87,Ocaña!G87,Taine!G87,Vistalegre!G87)","v":0},0]
[82,"Cinta Adhesiva Invisible 19 mm x 33 mts.","Unidad",0.16,1,{"$f":"SOLICITUD!F88","v":0},0,{"$f":"MIN(DiaCash!G88,DisOfic!G88,Lablink!G88,Lyreco!G88,Ocaña!G88,Taine!G88,Vistalegre!G88)","v":0},0]
[83,"Cinta Adhesiva Invisible 12 mm x 33 mts. (Scotch Magic)","Unidad",1.74,1,{"$f":"SOLICITUD!F89","v":0},0,{"$f":"MIN(DiaCash!G89,DisOfic!G89,Lablink!G89,Lyreco!G89,Ocaña!G89,Taine!G89,Vistalegre!G89)","v":0},0]
[84,"Cinta Adhesiva Invisible 19 mm x 33 mts. (Scotch Magic)","Unidad",0.31,1,{"$f":"SOLICITUD!F90","v":0},0,{"$f":"MIN(DiaCash!G90,DisOfic!G90,Lablink!G90,Lyreco!G90,Ocaña!G90,Taine!G90,Vistalegre!G90)","v":0},0]
[85,"Cinta Adhesiva Transparente 19 mm X 66 mts. (Scotch)","Unidad",0.38,1,{"$f":"SOLICITUD!F91","v":0},0,{"$f":"MIN(DiaCash!G91,DisOfic!G91,Lablink!G91,Lyreco!G91,Ocaña!G91,Taine!G91,Vistalegre!G91)","v":0},0]
[86,"Precintadora Manual hasta 50 mm de ancho","Unidad",2.5099999999999998,1,{"$f":"SOLICITUD!F92","v":0},0,{"$f":"MIN(DiaCash!G92,DisOfic!G92,Lablink!G92,Lyreco!G92,Ocaña!G92,Taine!G92,Vistalegre!G92)","v":0},0]
[87,"Cinta Adhesiva para embalaje (Precinto) 48-55 mm x 66 mts mínimo","Unidad",0.61,1,{"$f":"SOLICITUD!F93","v":0},0,{"$f":"MIN(DiaCash!G93,DisOfic!G93,Lablink!G93,Lyreco!G93,Ocaña!G93,Taine!G93,Vistalegre!G93)","v":0},0]
[88,"Cinta Adhesiva para embalaje (Precinto) 50 mm x 76 mts mínimo","Unidad",0.61,1,{"$f":"SOLICITUD!F94","v":0},0,{"$f":"MIN(DiaCash!G94,DisOfic!G94,Lablink!G94,Lyreco!G94,Ocaña!G94,Taine!G94,Vistalegre!G94)","v":0},0]
[89,"Clips Mariposa metálicos niquelados. Número 20. 50 mm","Envase 25 unidades",0.98,1,{"$f":"SOLICITUD!F95","v":0},0,{"$f":"MIN(DiaCash!G95,DisOfic!G95,Lablink!G95,Lyreco!G95,Ocaña!G95,Taine!G95,Vistalegre!G95)","v":0},0]
[90,"Clips Mariposa  metálicos niquelados. Número 10. 40 mm","Envase 50 unidades",0.82,1,{"$f":"SOLICITUD!F96","v":0},0,{"$f":"MIN(DiaCash!G96,DisOfic!G96,Lablink!G96,Lyreco!G96,Ocaña!G96,Taine!G96,Vistalegre!G96)","v":0},0]
[91,"Clips Labiados redondos metálicos pulidos. Número 1. 20 mm","Envase 100 unidades",0.14000000000000001,1,{"$f":"SOLICITUD!F97","v":0},0,{"$f":"MIN(DiaCash!G97,DisOfic!G97,Lablink!G97,Lyreco!G97,Ocaña!G97,Taine!G97,Vistalegre!G97)","v":0},0]
[92,"Clips Labiados redondos metálicos pulidos. Número 1,5. 25 mm","Envase 100 unidades",0.14000000000000001,1,{"$f":"SOLICITUD!F98","v":0},0,{"$f":"MIN(DiaCash!G98,DisOfic!G98,Lablink!G98,Lyreco!G98,Ocaña!G98,Taine!G98,Vistalegre!G98)","v":0},0]
[93,"Clips Labiados redondos metálicos pulidos. Número 2. 32 mm","Envase 100 unidades",0.17,1,{"$f":"SOLICITUD!F99","v":0},0,{"$f":"MIN(DiaCash!G99,DisOfic!G99,Lablink!G99,Lyreco!G99,Ocaña!G99,Taine!G99,Vistalegre!G99)","v":0},0]
[94,"Clips Labiados redondos metálicos pulidos. Número 3. 40 mm","Envase 100 unidades",0.35,1,{"$f":"SOLICITUD!F100","v":0},0,{"$f":"MIN(DiaCash!G100,DisOfic!G100,Lablink!G100,Lyreco!G100,Ocaña!G100,Taine!G100,Vistalegre!G100)","v":0},0]
[95,"Pinza doble clip negra 19 mm ","Envase 12 unidades",0.37,1,{"$f":"SOLICITUD!F101","v":0},0,{"$f":"MIN(DiaCash!G101,DisOfic!G101,Lablink!G101,Lyreco!G101,Ocaña!G101,Taine!G101,Vistalegre!G101)","v":0},0]
[96,"Pinza doble clip negra 25 mm ","Envase 12 unidades",0.62,1,{"$f":"SOLICITUD!F102","v":0},0,{"$f":"MIN(DiaCash!G102,DisOfic!G102,Lablink!G102,Lyreco!G102,Ocaña!G102,Taine!G102,Vistalegre!G102)","v":0},0]
[97,"Pinza doble clip negra 32 mm ","Envase 12 unidades",0.82,1,{"$f":"SOLICITUD!F103","v":0},0,{"$f":"MIN(DiaCash!G103,DisOfic!G103,Lablink!G103,Lyreco!G103,Ocaña!G103,Taine!G103,Vistalegre!G103)","v":0},0]
[98,"Pinza doble clip negra 40 mm ","Envase 12 unidades",1.26,1,{"$f":"SOLICITUD!F104","v":0},0,{"$f":"MIN(DiaCash!G104,DisOfic!G104,Lablink!G104,Lyreco!G104,Ocaña!G104,Taine!G104,Vistalegre!G104)","v":0},0]
[99,"Pinza doble clip negra 50 mm ","Envase 12 unidades",1.69,1,{"$f":"SOLICITUD!F105","v":0},0,{"$f":"MIN(DiaCash!G105,DisOfic!G105,Lablink!G105,Lyreco!G105,Ocaña!G105,Taine!G105,Vistalegre!G105)","v":0},0]
[100,"Porta clips imantado con rodillo","Unidad",0.89,1,{"$f":"SOLICITUD!F106","v":0},0,{"$f":"MIN(DiaCash!G106,DisOfic!G106,Lablink!G106,Lyreco!G106,Ocaña!G106,Taine!G106,Vistalegre!G106)","v":0},0]
[101,"Porta clips imantado redondo","Unidad",1.3,1,{"$f":"SOLICITUD!F107","v":0},0,{"$f":"MIN(DiaCash!G107,DisOfic!G107,Lablink!G107,Lyreco!G107,Ocaña!G107,Taine!G107,Vistalegre!G107)","v":0},0]
[102,"Cutter hoja 18 mm.","Unidad",0.23,1,{"$f":"SOLICITUD!F108","v":0},0,{"$f":"MIN(DiaCash!G108,DisOfic!G108,Lablink!G108,Lyreco!G108,Ocaña!G108,Taine!G108,Vistalegre!G108)","v":0},0]
[103,"Cutter hoja 9 mm.","Unidad",0.09,1,{"$f":"SOLICITUD!F109","v":0},0,{"$f":"MIN(DiaCash!G109,DisOfic!G109,Lablink!G109,Lyreco!G109,Ocaña!G109,Taine!G109,Vistalegre!G109)","v":0},0]
[104,"Recambios para Cutter 18 mm","Envase 10 Unidades",0.33,1,{"$f":"SOLICITUD!F110","v":0},0,{"$f":"MIN(DiaCash!G110,DisOfic!G110,Lablink!G110,Lyreco!G110,Ocaña!G110,Taine!G110,Vistalegre!G110)","v":0},0]
[105,"Recambios para Cutter 9 mm","Envase 10 Unidades",0.19,1,{"$f":"SOLICITUD!F111","v":0},0,{"$f":"MIN(DiaCash!G111,DisOfic!G111,Lablink!G111,Lyreco!G111,Ocaña!G111,Taine!G111,Vistalegre!G111)","v":0},0]
[106,"Gomas Elásticas tamaños de 80 A 100 mm","Envase 100 gr.",0.45,1,{"$f":"SOLICITUD!F112","v":0},0,{"$f":"MIN(DiaCash!G112,DisOfic!G112,Lablink!G112,Lyreco!G112,Ocaña!G112,Taine!G112,Vistalegre!G112)","v":0},0]
[107,"Gomas Elásticas tamaños Hasta 60 mm","Envase 100 gr.",0.46,1,{"$f":"SOLICITUD!F113","v":0},0,{"$f":"MIN(DiaCash!G113,DisOfic!G113,Lablink!G113,Lyreco!G113,Ocaña!G113,Taine!G113,Vistalegre!G113)","v":0},0]
[108,"Pegamento en Barra (Barra 20 gr)","Unidad",0.23,1,{"$f":"SOLICITUD!F114","v":0},0,{"$f":"MIN(DiaCash!G114,DisOfic!G114,Lablink!G114,Lyreco!G114,Ocaña!G114,Taine!G114,Vistalegre!G114)","v":0},0]
[109,"Pegamento en Barra (Barra 20 gr) (Pritt)","Unidad",0.23,1,{"$f":"SOLICITUD!F115","v":0},0,{"$f":"MIN(DiaCash!G115,DisOfic!G115,Lablink!G115,Lyreco!G115,Ocaña!G115,Taine!G115,Vistalegre!G115)","v":0},0]
[110,"Pegamento en Barra (Barra 40 gr)","Unidad",0.33,1,{"$f":"SOLICITUD!F116","v":0},0,{"$f":"MIN(DiaCash!G116,DisOfic!G116,Lablink!G116,Lyreco!G116,Ocaña!G116,Taine!G116,Vistalegre!G116)","v":0},0]
[111,"Pegamento en Barra (Barra 40 gr) (Pritt)","Unidad",0.35,1,{"$f":"SOLICITUD!F117","v":0},0,{"$f":"MIN(DiaCash!G117,DisOfic!G117,Lablink!G117,Lyreco!G117,Ocaña!G117,Taine!G117,Vistalegre!G117)","v":0},0]
[112,"Pegamento Instantáneo Cianocrilato (Tubo 3 gr)","Unidad",0.44,1,{"$f":"SOLICITUD!F118","v":0},0,{"$f":"MIN(DiaCash!G118,DisOfic!G118,Lablink!G118,Lyreco!G118,Ocaña!G118,Taine!G118,Vistalegre!G118)","v":0},0]
[113,"Pegamento Instantáneo Cianocrilato (Tubo 3 gr) (Loctite)","Unidad",0.44,1,{"$f":"SOLICITUD!F119","v":0},0,{"$f":"MIN(DiaCash!G119,DisOfic!G119,Lablink!G119,Lyreco!G119,Ocaña!G119,Taine!G119,Vistalegre!G119)","v":0},0]
[114,"Pegamento Instantáneo Cianocrilato Con Pincel Aplicador (5 gr)","Unidad",0.56999999999999995,1,{"$f":"SOLICITUD!F120","v":0},0,{"$f":"MIN(DiaCash!G120,DisOfic!G120,Lablink!G120,Lyreco!G120,Ocaña!G120,Taine!G120,Vistalegre!G120)","v":0},0]
[115,"Pegamento Instantáneo Cianocrilato Con Pincel Aplicador (5 gr) (Loctite)","Unidad",0.56999999999999995,1,{"$f":"SOLICITUD!F121","v":0},0,{"$f":"MIN(DiaCash!G121,DisOfic!G121,Lablink!G121,Lyreco!G121,Ocaña!G121,Taine!G121,Vistalegre!G121)","v":0},0]
[116,"Pegamento Universal (Tubo 35 gr)","Unidad",0.46,1,{"$f":"SOLICITUD!F122","v":0},0,{"$f":"MIN(DiaCash!G122,DisOfic!G122,Lablink!G122,Lyreco!G122,Ocaña!G122,Taine!G122,Vistalegre!G122)","v":0},0]
[117,"Pegamento Universal (Tubo 35 gr) (Imedio)","Unidad",0.46,1,{"$f":"SOLICITUD!F123","v":0},0,{"$f":"MIN(DiaCash!G123,DisOfic!G123,Lablink!G123,Lyreco!G123,Ocaña!G123,Taine!G123,Vistalegre!G123)","v":0},0]
[118,"Tijera hoja acero inoxidable. Mango ergonomico. Longitud 150 mm","Unidad",0.34,1,{"$f":"SOLICITUD!F124","v":0},0,{"$f":"MIN(DiaCash!G124,DisOfic!G124,Lablink!G124,Lyreco!G124,Ocaña!G124,Taine!G124,Vistalegre!G124)","v":0},0]
[119,"Tijera hoja acero Inoxidable. Mango ergonomico. Longitud 210 mm","Unidad",0.51,1,{"$f":"SOLICITUD!F125","v":0},0,{"$f":"MIN(DiaCash!G125,DisOfic!G125,Lablink!G125,Lyreco!G125,Ocaña!G125,Taine!G125,Vistalegre!G125)","v":0},0]
[120,"Tijera hoja acero inoxidable. 150 mm Longitud. (Westcott)","Unidad",0.38,1,{"$f":"SOLICITUD!F126","v":0},0,{"$f":"MIN(DiaCash!G126,DisOfic!G126,Lablink!G126,Lyreco!G126,Ocaña!G126,Taine!G126,Vistalegre!G126)","v":0},0]
[121,"Tijera hoja acero inoxidable. 210 mm Longitud. (Westcott)","Unidad",0.57999999999999996,1,{"$f":"SOLICITUD!F127","v":0},0,{"$f":"MIN(DiaCash!G127,DisOfic!G127,Lablink!G127,Lyreco!G127,Ocaña!G127,Taine!G127,Vistalegre!G127)","v":0},0]
[122,"Calculadora sobremesa de oficina","Unidad",2.06,1,{"$f":"SOLICITUD!F128","v":0},0,{"$f":"MIN(DiaCash!G128,DisOfic!G128,Lablink!G128,Lyreco!G128,Ocaña!G128,Taine!G128,Vistalegre!G128)","v":0},0]
[123,"Calculadora sobremesa de oficina (Casio)","Unidad",2.36,1,{"$f":"SOLICITUD!F129","v":0},0,{"$f":"MIN(DiaCash!G129,DisOfic!G129,Lablink!G129,Lyreco!G129,Ocaña!G129,Taine!G129,Vistalegre!G129)","v":0},0]
[124,"Calculadora científica 12 dígitos (Casio)","Unidad",2.36,1,{"$f":"SOLICITUD!F130","v":0},0,{"$f":"MIN(DiaCash!G130,DisOfic!G130,Lablink!G130,Lyreco!G130,Ocaña!G130,Taine!G130,Vistalegre!G130)","v":0},0]
[125,"Grapadora sobremesa metálica. Capacidad mínima 30 hojas de papel 80 gr/m2","Unidad",2.5499999999999998,1,{"$f":"SOLICITUD!F131","v":0},0,{"$f":"MIN(DiaCash!G131,DisOfic!G131,Lablink!G131,Lyreco!G131,Ocaña!G131,Taine!G131,Vistalegre!G131)","v":0},0]
[126,"Grapadora sobremesa metálica. Capacidad mínima 30 hojas de papel 80 gr/m2 (Petrus)","Unidad",2.5499999999999998,1,{"$f":"SOLICITUD!F132","v":0},0,{"$f":"MIN(DiaCash!G132,DisOfic!G132,Lablink!G132,Lyreco!G132,Ocaña!G132,Taine!G132,Vistalegre!G132)","v":0},0]
[127,"Grapadora sobremesa . Capacidad mínima 20 hojas de papel 80 gr/m2","Unidad",1.58,1,{"$f":"SOLICITUD!F133","v":0},0,{"$f":"MIN(DiaCash!G133,DisOfic!G133,Lablink!G133,Lyreco!G133,Ocaña!G133,Taine!G133,Vistalegre!G133)","v":0},0]
[128,"Grapadora Tenaza Metalica. Capacidad mínima 40 hojas de papel 80 gr/m2","Unidad",2.96,1,{"$f":"SOLICITUD!F134","v":0},0,{"$f":"MIN(DiaCash!G134,DisOfic!G134,Lablink!G134,Lyreco!G134,Ocaña!G134,Taine!G134,Vistalegre!G134)","v":0},0]
[129,"Grapadora Tenaza Metalica. Capacidad mínima 40 hojas de papel 80 gr/m2 (Petrus)","Unidad",2.96,1,{"$f":"SOLICITUD!F135","v":0},0,{"$f":"MIN(DiaCash!G135,DisOfic!G135,Lablink!G135,Lyreco!G135,Ocaña!G135,Taine!G135,Vistalegre!G135)","v":0},0]
[130,"Grapadora Tenaza. Capacidad mínima 20 hojas de papel 80 gr/m2","Unidad",1.86,1,{"$f":"SOLICITUD!F136","v":0},{"$f":"IF(F136>0,IF(E136=\"Excluido\",\"Excluido1\",IF(F136>0,IF(F136<E136,\"Excluido2\",D136*F136),0)),0)","v":0},{"$f":"MIN(DiaCash!G136,DisOfic!G136,Lablink!G136,Lyreco!G136,Ocaña!G136,Taine!G136,Vistalegre!G136)","v":0},{"$f":"IF(G136<=H136,G136,0)","v":0}]
[131,"Grapas Cobreadas o Galvanizadas 22/6 o equivalente","Envase 1000 unidades",0.12,1,{"$f":"SOLICITUD!F137","v":0},0,{"$f":"MIN(DiaCash!G137,DisOfic!G137,Lablink!G137,Lyreco!G137,Ocaña!G137,Taine!G137,Vistalegre!G137)","v":0},0]
[132,"Grapas Cobreadas o Galvanizadas 22/6 o equivalente (Petrus)","Envase 1000 unidades",0.12,1,{"$f":"SOLICITUD!F138","v":0},0,{"$f":"MIN(DiaCash!G138,DisOfic!G138,Lablink!G138,Lyreco!G138,Ocaña!G138,Taine!G138,Vistalegre!G138)","v":0},0]
[133,"Grapas Cobreadas o Galvanizadas 24/6 o equivalente","Envase 1000 unidades",0.12,1,{"$f":"SOLICITUD!F139","v":0},0,{"$f":"MIN(DiaCash!G139,DisOfic!G139,Lablink!G139,Lyreco!G139,Ocaña!G139,Taine!G139,Vistalegre!G139)","v":0},0]
[134,"Grapas Cobreadas o Galvanizadas 24/6 o equivalente (Petrus)","Envase 1000 unidades",0.12,1,{"$f":"SOLICITUD!F140","v":0},0,{"$f":"MIN(DiaCash!G140,DisOfic!G140,Lablink!G140,Lyreco!G140,Ocaña!G140,Taine!G140,Vistalegre!G140)","v":0},0]
[135,"Grapas Cobreadas o Galvanizadas 23/6 o equivalente","Envase 1000 unidades",0.18,1,{"$f":"SOLICITUD!F141","v":0},0,{"$f":"MIN(DiaCash!G141,DisOfic!G141,Lablink!G141,Lyreco!G141,Ocaña!G141,Taine!G141,Vistalegre!G141)","v":0},0]
[136,"Grapas Cobreadas o Galvanizadas 23/6 o equivalente (Petrus)","Envase 1000 unidades",0.19,1,{"$f":"SOLICITUD!F142","v":0},0,{"$f":"MIN(DiaCash!G142,DisOfic!G142,Lablink!G142,Lyreco!G142,Ocaña!G142,Taine!G142,Vistalegre!G142)","v":0},0]
[137,"Grapas Cobreadas o Galvanizadas 23/8 o equivalente","Envase 1000 unidades",0.39,1,{"$f":"SOLICITUD!F143","v":0},0,{"$f":"MIN(DiaCash!G143,DisOfic!G143,Lablink!G143,Lyreco!G143,Ocaña!G143,Taine!G143,Vistalegre!G143)","v":0},0]
[138,"Grapas Cobreadas o Galvanizadas 23/8 o equivalente (Petrus)","Envase 1000 unidades",0.39,1,{"$f":"SOLICITUD!F144","v":0},0,{"$f":"MIN(DiaCash!G144,DisOfic!G144,Lablink!G144,Lyreco!G144,Ocaña!G144,Taine!G144,Vistalegre!G144)","v":0},0]
[139,"Grapas Cobreadas o Galvanizadas 23/10 o equivalente","Envase 1000 unidades",0.39,1,{"$f":"SOLICITUD!F145","v":0},0,{"$f":"MIN(DiaCash!G145,DisOfic!G145,Lablink!G145,Lyreco!G145,Ocaña!G145,Taine!G145,Vistalegre!G145)","v":0},0]
[140,"Grapas Cobreadas o Galvanizadas 23/10 o equivalente (Petrus)","Envase 1000 unidades",0.41,1,{"$f":"SOLICITUD!F146","v":0},0,{"$f":"MIN(DiaCash!G146,DisOfic!G146,Lablink!G146,Lyreco!G146,Ocaña!G146,Taine!G146,Vistalegre!G146)","v":0},0]
[141,"Grapas Cobreadas o Galvanizadas 23/12 o equivalente","Envase 1000 unidades",1.0309999999999999,1,{"$f":"SOLICITUD!F147","v":0},0,{"$f":"MIN(DiaCash!G147,DisOfic!G147,Lablink!G147,Lyreco!G147,Ocaña!G147,Taine!G147,Vistalegre!G147)","v":0},0]
[142,"Grapas Cobreadas o Galvanizadas 23/12 o equivalente (Petrus)","Envase 1000 unidades",1.99,1,{"$f":"SOLICITUD!F148","v":0},0,{"$f":"MIN(DiaCash!G148,DisOfic!G148,Lablink!G148,Lyreco!G148,Ocaña!G148,Taine!G148,Vistalegre!G148)","v":0},0]
[143,"Grapas Cobreadas o Galvanizadas 23/13 o equivalente","Envase 1000 unidades",0.52,1,{"$f":"SOLICITUD!F149","v":0},0,{"$f":"MIN(DiaCash!G149,DisOfic!G149,Lablink!G149,Lyreco!G149,Ocaña!G149,Taine!G149,Vistalegre!G149)","v":0},0]
[144,"Grapas Cobreadas o Galvanizadas 23/13 o equivalente (Petrus)","Envase 1000 unidades",0.52,1,{"$f":"SOLICITUD!F150","v":0},0,{"$f":"MIN(DiaCash!G150,DisOfic!G150,Lablink!G150,Lyreco!G150,Ocaña!G150,Taine!G150,Vistalegre!G150)","v":0},0]
[145,"Grapas Cobreadas o Galvanizadas 23/15 o equivalente","Envase 1000 unidades",0.68,1,{"$f":"SOLICITUD!F151","v":0},0,{"$f":"MIN(DiaCash!G151,DisOfic!G151,Lablink!G151,Lyreco!G151,Ocaña!G151,Taine!G151,Vistalegre!G151)","v":0},0]
[146,"Grapas Cobreadas o Galvanizadas 23/15 o equivalente (Petrus)","Envase 1000 unidades",0.68,1,{"$f":"SOLICITUD!F152","v":0},0,{"$f":"MIN(DiaCash!G152,DisOfic!G152,Lablink!G152,Lyreco!G152,Ocaña!G152,Taine!G152,Vistalegre!G152)","v":0},0]
[147,"Grapas Cobreadas o Galvanizadas 23/17 o equivalente","Envase 1000 unidades",1,1,{"$f":"SOLICITUD!F153","v":0},0,{"$f":"MIN(DiaCash!G153,DisOfic!G153,Lablink!G153,Lyreco!G153,Ocaña!G153,Taine!G153,Vistalegre!G153)","v":0},0]
[148,"Grapas Cobreadas o Galvanizadas 23/17 o equivalente (Petrus)","Envase 1000 unidades",1,1,{"$f":"SOLICITUD!F154","v":0},0,{"$f":"MIN(DiaCash!G154,DisOfic!G154,Lablink!G154,Lyreco!G154,Ocaña!G154,Taine!G154,Vistalegre!G154)","v":0},0]
[149,"Grapas Cobreadas o Galvanizadas 23/20 o equivalente","Envase 1000 unidades",1.17,1,{"$f":"SOLICITUD!F155","v":0},0,{"$f":"MIN(DiaCash!G155,DisOfic!G155,Lablink!G155,Lyreco!G155,Ocaña!G155,Taine!G155,Vistalegre!G155)","v":0},0]
[150,"Grapas Cobreadas o Galvanizadas 23/20 o equivalente (Petrus)","Envase 1000 unidades",1.17,1,{"$f":"SOLICITUD!F156","v":0},0,{"$f":"MIN(DiaCash!G156,DisOfic!G156,Lablink!G156,Lyreco!G156,Ocaña!G156,Taine!G156,Vistalegre!G156)","v":0},0]
[151,"Grapas Cobreadas o Galvanizadas 23/24 o equivalente","Envase 1000 unidades",3.3920000000000003,1,{"$f":"SOLICITUD!F157","v":0},0,{"$f":"MIN(DiaCash!G157,DisOfic!G157,Lablink!G157,Lyreco!G157,Ocaña!G157,Taine!G157,Vistalegre!G157)","v":0},0]
[152,"Grapas Cobreadas o Galvanizadas 23/24 o equivalente (Petrus)","Envase 1000 unidades",5.99,1,{"$f":"SOLICITUD!F158","v":0},0,{"$f":"MIN(DiaCash!G158,DisOfic!G158,Lablink!G158,Lyreco!G158,Ocaña!G158,Taine!G158,Vistalegre!G158)","v":0},0]
[153,"Grapas Galvanizadas 26/6 o equivalente","Envase 1000 unidades",0.42499999999999999,1,{"$f":"SOLICITUD!F159","v":0},0,{"$f":"MIN(DiaCash!G159,DisOfic!G159,Lablink!G159,Lyreco!G159,Ocaña!G159,Taine!G159,Vistalegre!G159)","v":0},0]
[154,"Grapas Galvanizadas 26/6 o equivalente (Petrus)","Envase 1000 unidades",0.56999999999999995,1,{"$f":"SOLICITUD!F160","v":0},0,{"$f":"MIN(DiaCash!G160,DisOfic!G160,Lablink!G160,Lyreco!G160,Ocaña!G160,Taine!G160,Vistalegre!G160)","v":0},0]
[155,"Grapas Galvanizadas 26/8 o equivalente","Envase 5000 unidades",3.97,1,{"$f":"SOLICITUD!F161","v":0},0,{"$f":"MIN(DiaCash!G161,DisOfic!G161,Lablink!G161,Lyreco!G161,Ocaña!G161,Taine!G161,Vistalegre!G161)","v":0},0]
[156,"Grapas Galvanizadas 26/8 o equivalente (Petrus)","Envase 5000 unidades",4.2300000000000004,1,{"$f":"SOLICITUD!F162","v":0},0,{"$f":"MIN(DiaCash!G162,DisOfic!G162,Lablink!G162,Lyreco!G162,Ocaña!G162,Taine!G162,Vistalegre!G162)","v":0},0]
[157,"Quita Grapas tipo pinza cuerpo metálico","Unidad",0.21,1,{"$f":"SOLICITUD!F163","v":0},0,{"$f":"MIN(DiaCash!G163,DisOfic!G163,Lablink!G163,Lyreco!G163,Ocaña!G163,Taine!G163,Vistalegre!G163)","v":0},0]
[158,"Quita Grapas tipo pinza cuerpo metálico (Petrus, Novus)","Unidad",0.21,1,{"$f":"SOLICITUD!F164","v":0},0,{"$f":"MIN(DiaCash!G164,DisOfic!G164,Lablink!G164,Lyreco!G164,Ocaña!G164,Taine!G164,Vistalegre!G164)","v":0},0]
[159,"Perforadora  para papel 4 punzones. Capacidad Minima 30 hojas de 80gr/m2. Guia de posicicionamiento y deposito desperdicios. Distancia entre taladros 80mm","Unidad",34.725999999999999,1,{"$f":"SOLICITUD!F165","v":0},0,{"$f":"MIN(DiaCash!G165,DisOfic!G165,Lablink!G165,Lyreco!G165,Ocaña!G165,Taine!G165,Vistalegre!G165)","v":0},0]
[160,"Perforadora  para papel 4 punzones. Capacidad Minima 30 hojas de 80gr/m2. Guia de posicicionamiento y deposito desperdicios. Distancia entre taladros 80mm (Petrus)","Unidad",39.56,1,{"$f":"SOLICITUD!F166","v":0},0,{"$f":"MIN(DiaCash!G166,DisOfic!G166,Lablink!G166,Lyreco!G166,Ocaña!G166,Taine!G166,Vistalegre!G166)","v":0},0]
[161,"Perforadora  para papel 2 Punzones. Capacidad mínima 20 hojas de 80gr/m2. Guia de posicicionamiento y deposito desperdicios. Distancia entre taladros 80mm ","Unidad",1.56,1,{"$f":"SOLICITUD!F167","v":0},0,{"$f":"MIN(DiaCash!G167,DisOfic!G167,Lablink!G167,Lyreco!G167,Ocaña!G167,Taine!G167,Vistalegre!G167)","v":0},0]
[162,"Perforadora  para papel 2 Punzones. Capacidad mínima 20 hojas de 80gr/m2. Guia de posicicionamiento y deposito desperdicios. Distancia entre taladros 80mm (Petrus)","Unidad",1.66,1,{"$f":"SOLICITUD!F168","v":0},0,{"$f":"MIN(DiaCash!G168,DisOfic!G168,Lablink!G168,Lyreco!G168,Ocaña!G168,Taine!G168,Vistalegre!G168)","v":0},0]
[163,"Perforadora  para papel 2 Punzones. Capacidad mínima 60 hojas de 80gr/m2. Guia de Posicicionamiento y deposito desperdicios. Distancia entre taladros 80mm","Unidad",8.94,1,{"$f":"SOLICITUD!F169","v":0},0,{"$f":"MIN(DiaCash!G169,DisOfic!G169,Lablink!G169,Lyreco!G169,Ocaña!G169,Taine!G169,Vistalegre!G169)","v":0},0]
[164,"Perforadora  para papel 2 Punzones. Capacidad mínima 60 hojas de 80gr/m2. Guia de Posicicionamiento y deposito desperdicios. Distancia entre taladros 80mm (Petrus)","Unidad",9.5299999999999994,1,{"$f":"SOLICITUD!F170","v":0},0,{"$f":"MIN(DiaCash!G170,DisOfic!G170,Lablink!G170,Lyreco!G170,Ocaña!G170,Taine!G170,Vistalegre!G170)","v":0},0]
[165,"Papelera metálica rejilla cuadrada o redonda. Mínimo:  30cm altura X 25cm diámetro","Unidad",3.24,1,{"$f":"SOLICITUD!F171","v":0},0,{"$f":"MIN(DiaCash!G171,DisOfic!G171,Lablink!G171,Lyreco!G171,Ocaña!G171,Taine!G171,Vistalegre!G171)","v":0},0]
[166,"Fechador de entintaje automático. Con placa de texto altura mínima de impresión de 4 mm.","Unidad",20.363,1,{"$f":"SOLICITUD!F172","v":0},0,{"$f":"MIN(DiaCash!G172,DisOfic!G172,Lablink!G172,Lyreco!G172,Ocaña!G172,Taine!G172,Vistalegre!G172)","v":0},0]
[167,"Numerador automático de 6 dígitos con armazón metálico y ruedas. Altura de impresión mínima de 4, 5 mm.","Unidad",17.920000000000002,1,{"$f":"SOLICITUD!F173","v":0},0,{"$f":"MIN(DiaCash!G173,DisOfic!G173,Lablink!G173,Lyreco!G173,Ocaña!G173,Taine!G173,Vistalegre!G173)","v":0},0]
[168,"Sello de caucho circular grabado. Tamaño área para texto de hasta 50 mm  de diámetro.","Unidad",12.49,1,{"$f":"SOLICITUD!F174","v":0},0,{"$f":"MIN(DiaCash!G174,DisOfic!G174,Lablink!G174,Lyreco!G174,Ocaña!G174,Taine!G174,Vistalegre!G174)","v":0},0]
[169,"Sello de caucho rectangular grabado. Tamaño área para texto de hasta 50x50 mm.","Unidad",8.3090000000000011,1,{"$f":"SOLICITUD!F175","v":0},0,{"$f":"MIN(DiaCash!G175,DisOfic!G175,Lablink!G175,Lyreco!G175,Ocaña!G175,Taine!G175,Vistalegre!G175)","v":0},0]
[170,"Sello de caucho rectangular grabado. Tamaño área para texto de hasta 80x80 mm.","Unidad",19.326999999999998,1,{"$f":"SOLICITUD!F176","v":0},0,{"$f":"MIN(DiaCash!G176,DisOfic!G176,Lablink!G176,Lyreco!G176,Ocaña!G176,Taine!G176,Vistalegre!G176)","v":0},0]
[171,"Sello de Caucho Autoentintado Rectangular hasta 45X18 mm ","Unidad",15.99,1,{"$f":"SOLICITUD!F177","v":0},0,{"$f":"MIN(DiaCash!G177,DisOfic!G177,Lablink!G177,Lyreco!G177,Ocaña!G177,Taine!G177,Vistalegre!G177)","v":0},0]
[172,"Sello de Caucho Autoentintado Rectangular de 46X19 hasta 70X30 mm","Unidad",17.989999999999998,1,{"$f":"SOLICITUD!F178","v":0},0,{"$f":"MIN(DiaCash!G178,DisOfic!G178,Lablink!G178,Lyreco!G178,Ocaña!G178,Taine!G178,Vistalegre!G178)","v":0},0]
[173,"Sello de Caucho Autoentintado Redondo hasta 30 mm","Unidad",19.989999999999998,1,{"$f":"SOLICITUD!F179","v":0},0,{"$f":"MIN(DiaCash!G179,DisOfic!G179,Lablink!G179,Lyreco!G179,Ocaña!G179,Taine!G179,Vistalegre!G179)","v":0},0]
[174,"Sello de Caucho Autoentintado Redondo de 31 a 50 mm","Unidad",24.99,1,{"$f":"SOLICITUD!F180","v":0},0,{"$f":"MIN(DiaCash!G180,DisOfic!G180,Lablink!G180,Lyreco!G180,Ocaña!G180,Taine!G180,Vistalegre!G180)","v":0},0]
[175,"Sello de Caucho Autoentintado Cuadrado hasta 30 mm","Unidad",15.99,1,{"$f":"SOLICITUD!F181","v":0},0,{"$f":"MIN(DiaCash!G181,DisOfic!G181,Lablink!G181,Lyreco!G181,Ocaña!G181,Taine!G181,Vistalegre!G181)","v":0},0]
[176,"Sello de Caucho Autoentintado Cuadrado de 31 a 50 mm","Unidad",17.989999999999998,1,{"$f":"SOLICITUD!F182","v":0},0,{"$f":"MIN(DiaCash!G182,DisOfic!G182,Lablink!G182,Lyreco!G182,Ocaña!G182,Taine!G182,Vistalegre!G182)","v":0},0]
[177,"Tampón para sellos.N1, 90 X160 mm.","Unidad",2.29,1,{"$f":"SOLICITUD!F183","v":0},0,{"$f":"MIN(DiaCash!G183,DisOfic!G183,Lablink!G183,Lyreco!G183,Ocaña!G183,Taine!G183,Vistalegre!G183)","v":0},0]
[178,"Tampón para sellos.N2, 70 X110 mm.","Unidad",0.52,1,{"$f":"SOLICITUD!F184","v":0},0,{"$f":"MIN(DiaCash!G184,DisOfic!G184,Lablink!G184,Lyreco!G184,Ocaña!G184,Taine!G184,Vistalegre!G184)","v":0},0]
[179,"Tinta de sellar para tampón.(30 ML)","Unidad",0.21,1,{"$f":"SOLICITUD!F185","v":0},0,{"$f":"MIN(DiaCash!G185,DisOfic!G185,Lablink!G185,Lyreco!G185,Ocaña!G185,Taine!G185,Vistalegre!G185)","v":0},0]
[180,"Almohadilla para sello autoentintado. Hasta 30X50 mm","Unidad",1.0900000000000001,1,{"$f":"SOLICITUD!F186","v":0},0,{"$f":"MIN(DiaCash!G186,DisOfic!G186,Lablink!G186,Lyreco!G186,Ocaña!G186,Taine!G186,Vistalegre!G186)","v":0},0]
[181,"Almohadilla para sello autoentintado. Hasta 70X30 mm","Unidad",1.99,1,{"$f":"SOLICITUD!F187","v":0},0,{"$f":"MIN(DiaCash!G187,DisOfic!G187,Lablink!G187,Lyreco!G187,Ocaña!G187,Taine!G187,Vistalegre!G187)","v":0},0]
[182,"Portasellos de sobremesa 6 plazas","Unidad",3.63,1,{"$f":"SOLICITUD!F188","v":0},0,{"$f":"MIN(DiaCash!G188,DisOfic!G188,Lablink!G188,Lyreco!G188,Ocaña!G188,Taine!G188,Vistalegre!G188)","v":0},0]
[183,"Portasellos de sobremesa 8 plazas","Unidad",3.48,1,{"$f":"SOLICITUD!F189","v":0},0,{"$f":"MIN(DiaCash!G189,DisOfic!G189,Lablink!G189,Lyreco!G189,Ocaña!G189,Taine!G189,Vistalegre!G189)","v":0},0]
[184,"Portasellos de sobremesa 10 plazas","Unidad",3.82,1,{"$f":"SOLICITUD!F190","v":0},0,{"$f":"MIN(DiaCash!G190,DisOfic!G190,Lablink!G190,Lyreco!G190,Ocaña!G190,Taine!G190,Vistalegre!G190)","v":0},0]
[185,"Archivador de palanca a-z sin caja. Cartón forrado en plástico . Con cantonera metálica. Dos anillas. Lomo de  75 mm. Tamaño A4.","Unidad",1.03,1,{"$f":"SOLICITUD!F191","v":0},0,{"$f":"MIN(DiaCash!G191,DisOfic!G191,Lablink!G191,Lyreco!G191,Ocaña!G191,Taine!G191,Vistalegre!G191)","v":0},0]
[186,"Archivador de palanca a-z sin caja. Cartón forrado en plástico . Con cantonera metálica. Dos anillas. Lomo de  75 mm. Tamaño folio.","Unidad",0.98,1,{"$f":"SOLICITUD!F192","v":0},0,{"$f":"MIN(DiaCash!G192,DisOfic!G192,Lablink!G192,Lyreco!G192,Ocaña!G192,Taine!G192,Vistalegre!G192)","v":0},0]
[187,"Archivador de palanca a-z sin caja.Cartón jaspeado. Con cantonera metálica. Dos anillas. Lomo de  75 mm. Tamaño A4.","Unidad",0.99499999999999988,1,{"$f":"SOLICITUD!F193","v":0},0,{"$f":"MIN(DiaCash!G193,DisOfic!G193,Lablink!G193,Lyreco!G193,Ocaña!G193,Taine!G193,Vistalegre!G193)","v":0},0]
[188,"Archivador de palanca a-z sin caja.Cartón jaspeado. Con cantonera metálica. Dos anillas. Lomo de  75 mm. Tamaño folio.","Unidad",0.97399999999999998,1,{"$f":"SOLICITUD!F194","v":0},0,{"$f":"MIN(DiaCash!G194,DisOfic!G194,Lablink!G194,Lyreco!G194,Ocaña!G194,Taine!G194,Vistalegre!G194)","v":0},0]
[189,"Caja de cartón color blanco para archivo definitivo. Tamaño folio  Lomo 100 mm aprox.","Unidad",0.24,1,{"$f":"SOLICITUD!F195","v":0},0,{"$f":"MIN(DiaCash!G195,DisOfic!G195,Lablink!G195,Lyreco!G195,Ocaña!G195,Taine!G195,Vistalegre!G195)","v":0},0]
[190,"Caja de cartón color blanco para archivo definitivo. Tamaño folio prolongado Lomo 115 mm aprox.","Unidad",0.3,1,{"$f":"SOLICITUD!F196","v":0},0,{"$f":"MIN(DiaCash!G196,DisOfic!G196,Lablink!G196,Lyreco!G196,Ocaña!G196,Taine!G196,Vistalegre!G196)","v":0},0]
[191,"Caja de cartón color blanco para archivo definitivo. Tamaño folio prolongado. Lomo 100 mm aprox.","Unidad",0.3,1,{"$f":"SOLICITUD!F197","v":0},0,{"$f":"MIN(DiaCash!G197,DisOfic!G197,Lablink!G197,Lyreco!G197,Ocaña!G197,Taine!G197,Vistalegre!G197)","v":0},0]
[192,"Caja para archivador de palanca a-z. Misma calidad y dimensiones compatibles con el archivador de palanca a-z. Tamaño A4. Lomo de  75 mm.","Unidad",0.36,1,{"$f":"SOLICITUD!F198","v":0},0,{"$f":"MIN(DiaCash!G198,DisOfic!G198,Lablink!G198,Lyreco!G198,Ocaña!G198,Taine!G198,Vistalegre!G198)","v":0},0]
[193,"Caja para archivador de palanca a-z. Misma calidad y dimensiones compatibles con el archivador de palanca a-z. Tamaño folio. Lomo de  75 mm.","Unidad",0.26,1,{"$f":"SOLICITUD!F199","v":0},0,{"$f":"MIN(DiaCash!G199,DisOfic!G199,Lablink!G199,Lyreco!G199,Ocaña!G199,Taine!G199,Vistalegre!G199)","v":0},0]
[194,"Archivador de 2 anillas 25 mm. Fabricado en cartón forrado en plástico tanto en el exterior como en el interior. Dos anillas. Lomo de 40 mm. Tamaño A4.","Unidad",1.55,1,{"$f":"SOLICITUD!F200","v":0},{"$f":"IF(F200>0,IF(E200=\"Excluido\",\"Excluido1\",IF(F200>0,IF(F200<E200,\"Excluido2\",D200*F200),0)),0)","v":0},{"$f":"MIN(DiaCash!G200,DisOfic!G200,Lablink!G200,Lyreco!G200,Ocaña!G200,Taine!G200,Vistalegre!G200)","v":0},{"$f":"IF(G200<=H200,G200,0)","v":0}]
[195,"Archivador de 2 anillas 25 mm. Fabricado en cartón forrado en plástico tanto en el exterior como en el interior. Dos anillas. Lomo de 40 mm. Tamaño folio.","Unidad",1.65,1,{"$f":"SOLICITUD!F201","v":0},0,{"$f":"MIN(DiaCash!G201,DisOfic!G201,Lablink!G201,Lyreco!G201,Ocaña!G201,Taine!G201,Vistalegre!G201)","v":0},0]
[196,"Archivador de 4 anillas 25 mm. Fabricado en cartón forrado en plástico tanto en el exterior como en el interior. Lomo de 40 mm. Tamaño A4.","Unidad",1.55,1,{"$f":"SOLICITUD!F202","v":0},0,{"$f":"MIN(DiaCash!G202,DisOfic!G202,Lablink!G202,Lyreco!G202,Ocaña!G202,Taine!G202,Vistalegre!G202)","v":0},0]
[197,"Archivador de 4 anillas 25 mm. Fabricado en cartón forrado en plástico tanto en el exterior como en el interior. Lomo de 40 mm. Tamaño folio.","Unidad",1.18,1,{"$f":"SOLICITUD!F203","v":0},0,{"$f":"MIN(DiaCash!G203,DisOfic!G203,Lablink!G203,Lyreco!G203,Ocaña!G203,Taine!G203,Vistalegre!G203)","v":0},0]
[198,"Archivador de 4 anillas 40 mm. Fabricado en cartón forrado en plástico tanto en el exterior como en el interior. Lomo de 60 mm. Tamaño A4.","Unidad",2.1900000000000004,1,{"$f":"SOLICITUD!F204","v":0},0,{"$f":"MIN(DiaCash!G204,DisOfic!G204,Lablink!G204,Lyreco!G204,Ocaña!G204,Taine!G204,Vistalegre!G204)","v":0},0]
[199,"Archivador de 4 anillas 40 mm. Fabricado en cartón forrado en plástico tanto en el exterior como en el interior. Lomo de 60 mm. Tamaño folio.","Unidad",1.63,1,{"$f":"SOLICITUD!F205","v":0},0,{"$f":"MIN(DiaCash!G205,DisOfic!G205,Lablink!G205,Lyreco!G205,Ocaña!G205,Taine!G205,Vistalegre!G205)","v":0},0]
[200,"Separadores de plástico tamaño folio 5 pestañas 2 o 4 perforaciones","Unidad",0.27,1,{"$f":"SOLICITUD!F206","v":0},0,{"$f":"MIN(DiaCash!G206,DisOfic!G206,Lablink!G206,Lyreco!G206,Ocaña!G206,Taine!G206,Vistalegre!G206)","v":0},0]
[201,"Carpeta clasificadora forrada, con fuelle-acordeón. Índice alfabético (a-z) o numérico (1-31) . Tamaño folio. 12 departamentos mínimo.","Unidad",2.0499999999999998,1,{"$f":"SOLICITUD!F207","v":0},0,{"$f":"MIN(DiaCash!G207,DisOfic!G207,Lablink!G207,Lyreco!G207,Ocaña!G207,Taine!G207,Vistalegre!G207)","v":0},0]
[202,"Carpeta clasificadora forrada, con fuelle-acordeón. Índice alfabético (a-z) o numérico (1-31) . Tamaño folio. 20 departamentos mínimo.","Unidad",4.37,1,{"$f":"SOLICITUD!F208","v":0},0,{"$f":"MIN(DiaCash!G208,DisOfic!G208,Lablink!G208,Lyreco!G208,Ocaña!G208,Taine!G208,Vistalegre!G208)","v":0},0]
[203,"Carpeta colgante de armario  . Tamaño A4.  Visor vertical o lateral rígido 13 cm. Varilla de plástico o metálica. Medida entre ejes 330 mm.  Cartón de 230 gr/m2 mínimo.  Lomo en 15 mm .","Unidad",0.54,1,{"$f":"SOLICITUD!F209","v":0},0,{"$f":"MIN(DiaCash!G209,DisOfic!G209,Lablink!G209,Lyreco!G209,Ocaña!G209,Taine!G209,Vistalegre!G209)","v":0},0]
[204,"Carpeta colgante de armario  . Tamaño A4. Visor vertical o lateral rígido 13 cm. Varilla de plástico o metálica.  Medida entre ejes 330 mm . Cartón de 230gr/m2 mínimo. Lomo en 30mm.","Unidad",0.54,1,{"$f":"SOLICITUD!F210","v":0},0,{"$f":"MIN(DiaCash!G210,DisOfic!G210,Lablink!G210,Lyreco!G210,Ocaña!G210,Taine!G210,Vistalegre!G210)","v":0},0]
[205,"Carpeta colgante de armario  . Tamaño A4.  Visor vertical o lateral rígido 13 cm. Varilla de plástico o metálica. Medida entre ejes 330 mm . Cartón de 230 gr/m2 mínimo. Lomo en v.","Unidad",0.35099999999999998,1,{"$f":"SOLICITUD!F211","v":0},0,{"$f":"MIN(DiaCash!G211,DisOfic!G211,Lablink!G211,Lyreco!G211,Ocaña!G211,Taine!G211,Vistalegre!G211)","v":0},0]
[206,"Carpeta colgante de armario  . Tamaño folio. Visor vertical o lateral rígido de 13 cm. Medida entre ejes 365 mm.  Cartón de 230gr/m2 mínimo. Lomo en v.","Unidad",0.437,1,{"$f":"SOLICITUD!F212","v":0},0,{"$f":"MIN(DiaCash!G212,DisOfic!G212,Lablink!G212,Lyreco!G212,Ocaña!G212,Taine!G212,Vistalegre!G212)","v":0},0]
[207,"Carpeta colgante de cajón . Tamaño A4. Visor horizontal o superior .Varilla de plástico o metálica. Medida entre ejes 330 mm. Cartón kraft de 230gr/m2 mínimo.Lomo 15 mm ","Unidad",0.28999999999999998,1,{"$f":"SOLICITUD!F213","v":0},0,{"$f":"MIN(DiaCash!G213,DisOfic!G213,Lablink!G213,Lyreco!G213,Ocaña!G213,Taine!G213,Vistalegre!G213)","v":0},0]
[208,"Carpeta colgante de cajón . Tamaño folio. Visor horizontal o superior .Varilla de plástico o metálica. Medida entre ejes 365 mm.  Cartón de 230gr/m2 mínimo. Lomo 15 mm","Unidad",0.31,1,{"$f":"SOLICITUD!F214","v":0},0,{"$f":"MIN(DiaCash!G214,DisOfic!G214,Lablink!G214,Lyreco!G214,Ocaña!G214,Taine!G214,Vistalegre!G214)","v":0},0]
[209,"Carpeta colgante de cajón . Tamaño folio. Visor horizontal o superior .Varilla de plástico o metálica. Medida entre ejes 365 mm. Cartón de 230gr/m2 mínimo. Lomo en 30 mm","Unidad",0.31,1,{"$f":"SOLICITUD!F215","v":0},0,{"$f":"MIN(DiaCash!G215,DisOfic!G215,Lablink!G215,Lyreco!G215,Ocaña!G215,Taine!G215,Vistalegre!G215)","v":0},0]
[210,"Carpeta colgante de cajón . Tamaño A4.Visor horizontal o superior .Varilla de plástico o metálica. Medida entre ejes 330 mm. Cartón kraft de 230gr/m2 mínimo. Lomo en v.","Unidad",0.28999999999999998,1,{"$f":"SOLICITUD!F216","v":0},0,{"$f":"MIN(DiaCash!G216,DisOfic!G216,Lablink!G216,Lyreco!G216,Ocaña!G216,Taine!G216,Vistalegre!G216)","v":0},0]
[211,"Carpeta colgante de cajón . Tamaño folio prolongado. Visor horizontal o superior. Varilla de plástico o metálica.  Medida entre ejes 390 mm. Cartón kraft de 230gr/m2 mínimo. Lomo en v.","Unidad",0.33,1,{"$f":"SOLICITUD!F217","v":0},0,{"$f":"MIN(DiaCash!G217,DisOfic!G217,Lablink!G217,Lyreco!G217,Ocaña!G217,Taine!G217,Vistalegre!G217)","v":0},0]
[212,"Carpeta de cartulina con gomas y 3 solapas. Gramaje de 380 gr/m2 mínimo Medidas 320 x 240 mm aprox.","Unidad",0.33,1,{"$f":"SOLICITUD!F218","v":0},0,{"$f":"MIN(DiaCash!G218,DisOfic!G218,Lablink!G218,Lyreco!G218,Ocaña!G218,Taine!G218,Vistalegre!G218)","v":0},0]
[213,"Carpeta proyectos. Cartón gomas montadas. Lomo 50 mm.","Unidad",1.6459999999999999,1,{"$f":"SOLICITUD!F219","v":0},0,{"$f":"MIN(DiaCash!G219,DisOfic!G219,Lablink!G219,Lyreco!G219,Ocaña!G219,Taine!G219,Vistalegre!G219)","v":0},0]
[214,"Carpeta proyectos. Cartón gomas montadas. Lomo 90 mm.","Unidad",1.99,1,{"$f":"SOLICITUD!F220","v":0},0,{"$f":"MIN(DiaCash!G220,DisOfic!G220,Lablink!G220,Lyreco!G220,Ocaña!G220,Taine!G220,Vistalegre!G220)","v":0},0]
[215,"Carpetas de fundas. Cubiertas en plástico semirrígido opaco. Fundas interiores soldadas al lomo. Número de fundas interiores: 10.","Unidad",0.7,1,{"$f":"SOLICITUD!F221","v":0},0,{"$f":"MIN(DiaCash!G221,DisOfic!G221,Lablink!G221,Lyreco!G221,Ocaña!G221,Taine!G221,Vistalegre!G221)","v":0},0]
[216,"Carpetas de fundas. Cubiertas en plástico semirrígido opaco. Fundas interiores soldadas al lomo. Número de fundas interiores: 20.","Unidad",0.9,1,{"$f":"SOLICITUD!F222","v":0},0,{"$f":"MIN(DiaCash!G222,DisOfic!G222,Lablink!G222,Lyreco!G222,Ocaña!G222,Taine!G222,Vistalegre!G222)","v":0},0]
[217,"Carpetas de fundas. Cubiertas en plástico semirrígido opaco. Fundas interiores soldadas al lomo. Número de fundas interiores: 30.","Unidad",1.1100000000000001,1,{"$f":"SOLICITUD!F223","v":0},0,{"$f":"MIN(DiaCash!G223,DisOfic!G223,Lablink!G223,Lyreco!G223,Ocaña!G223,Taine!G223,Vistalegre!G223)","v":0},0]
[218,"Carpetas de fundas. Cubiertas en plástico semirrígido opaco. Fundas interiores soldadas al lomo. Número de fundas interiores: 40.","Unidad",1.31,1,{"$f":"SOLICITUD!F224","v":0},0,{"$f":"MIN(DiaCash!G224,DisOfic!G224,Lablink!G224,Lyreco!G224,Ocaña!G224,Taine!G224,Vistalegre!G224)","v":0},0]
[219,"Carpetas de fundas. Cubiertas en plástico semirrígido opaco. Fundas interiores soldadas al lomo. Número de fundas interiores: 60.","Unidad",1.93,1,{"$f":"SOLICITUD!F225","v":0},0,{"$f":"MIN(DiaCash!G225,DisOfic!G225,Lablink!G225,Lyreco!G225,Ocaña!G225,Taine!G225,Vistalegre!G225)","v":0},0]
[220,"Índice plástico varios colores. Juego de solapas tipo 1 a 10 de plástico mínimo de 120 micras . Tamaño  A4 o superior.","Unidad",0.54,1,{"$f":"SOLICITUD!F226","v":0},0,{"$f":"MIN(DiaCash!G226,DisOfic!G226,Lablink!G226,Lyreco!G226,Ocaña!G226,Taine!G226,Vistalegre!G226)","v":0},0]
[221,"Índice plástico varios colores. Juego de solapas tipo A a Z de plástico espesor mínimo de 120 micras . Tamaño  A4 o superior.","Unidad",1.19,1,{"$f":"SOLICITUD!F227","v":0},0,{"$f":"MIN(DiaCash!G227,DisOfic!G227,Lablink!G227,Lyreco!G227,Ocaña!G227,Taine!G227,Vistalegre!G227)","v":0},0]
[222,"Subcarpeta cartulina. Gramaje 170 gr/m2 mínimo. Tamaño A4.","Unidad",6.6000000000000003E-2,1,{"$f":"SOLICITUD!F228","v":0},0,{"$f":"MIN(DiaCash!G228,DisOfic!G228,Lablink!G228,Lyreco!G228,Ocaña!G228,Taine!G228,Vistalegre!G228)","v":0},0]
[223,"Subcarpeta cartulina. Gramaje 170 gr/m2 mínimo. Tamaño folio.","Unidad",0.08,1,{"$f":"SOLICITUD!F229","v":0},0,{"$f":"MIN(DiaCash!G229,DisOfic!G229,Lablink!G229,Lyreco!G229,Ocaña!G229,Taine!G229,Vistalegre!G229)","v":0},0]
[224,"Subcarpeta cartulina. Gramaje 210 gr/m2 mínimo. Tamaño A4.","Unidad",0.09,0.02,{"$f":"SOLICITUD!F230","v":0},0,{"$f":"MIN(DiaCash!G230,DisOfic!G230,Lablink!G230,Lyreco!G230,Ocaña!G230,Taine!G230,Vistalegre!G230)","v":0},0]
[225,"Subcarpeta cartulina. Gramaje 210 gr/m2 mínimo. Tamaño folio.","Unidad",9.9000000000000005E-2,0.02,{"$f":"SOLICITUD!F231","v":0},0,{"$f":"MIN(DiaCash!G231,DisOfic!G231,Lablink!G231,Lyreco!G231,Ocaña!G231,Taine!G231,Vistalegre!G231)","v":0},0]
[226,"Tubo portaplanos de plástico","Unidad",1.07,1,{"$f":"SOLICITUD!F232","v":0},0,{"$f":"MIN(DiaCash!G232,DisOfic!G232,Lablink!G232,Lyreco!G232,Ocaña!G232,Taine!G232,Vistalegre!G232)","v":0},0]
[227,"Visores plásticos (rígido o flexible con/sin efecto lupa, visión superior o lateral, con/sin etiquetas ).","Unidad",8.900000000000001E-2,0.04,{"$f":"SOLICITUD!F233","v":0},0,{"$f":"MIN(DiaCash!G233,DisOfic!G233,Lablink!G233,Lyreco!G233,Ocaña!G233,Taine!G233,Vistalegre!G233)","v":0},0]
[228,"Dossier con fastener. Portada transparente, contraportada opaca.  Fastener metálico. Tamaño A4.","Unidad",0.3,0.04,{"$f":"SOLICITUD!F234","v":0},0,{"$f":"MIN(DiaCash!G234,DisOfic!G234,Lablink!G234,Lyreco!G234,Ocaña!G234,Taine!G234,Vistalegre!G234)","v":0},0]
[229,"Dossier con fastener. Portada transparente, contraportada opaca.  Fastener metálico. Tamaño folio.","Unidad",0.28000000000000003,1,{"$f":"SOLICITUD!F235","v":0},0,{"$f":"MIN(DiaCash!G235,DisOfic!G235,Lablink!G235,Lyreco!G235,Ocaña!G235,Taine!G235,Vistalegre!G235)","v":0},0]
[230,"Dossier uñero en plástico. Apertura superior y lateral. Tamaño folio","Envase 100 unidades",5.19,1,{"$f":"SOLICITUD!F236","v":0},0,{"$f":"MIN(DiaCash!G236,DisOfic!G236,Lablink!G236,Lyreco!G236,Ocaña!G236,Taine!G236,Vistalegre!G236)","v":0},0]
[231,"Funda plástico transparente antiestática multitaladro. Tamaño A4. Grosor de 60 micras mínimo.","Envase 100 unidades",1.69,1,{"$f":"SOLICITUD!F237","v":0},0,{"$f":"MIN(DiaCash!G237,DisOfic!G237,Lablink!G237,Lyreco!G237,Ocaña!G237,Taine!G237,Vistalegre!G237)","v":0},0]
[232,"Funda plástico transparente antiestática multitaladro. Tamaño folio. Grosor de 60 micras mínimo.","Envase 100 unidades",3.09,1,{"$f":"SOLICITUD!F238","v":0},0,{"$f":"MIN(DiaCash!G238,DisOfic!G238,Lablink!G238,Lyreco!G238,Ocaña!G238,Taine!G238,Vistalegre!G238)","v":0},0]
[233,"Bolsas para plastificar tamaño A4. 80 micras mínimo","Envase 100 unidades",4.03,1,{"$f":"SOLICITUD!F239","v":0},0,{"$f":"MIN(DiaCash!G239,DisOfic!G239,Lablink!G239,Lyreco!G239,Ocaña!G239,Taine!G239,Vistalegre!G239)","v":0},0]
[234,"Portafirmas fabricado en plástico color negro, tapas acolchadas  con refuerzo en base y escalonados . Medidas 335 x 245 mm aprox. Con 18 departamentos mínimo de doble cartulina y lomo tipo fuelle.","Unidad",23.74,1,{"$f":"SOLICITUD!F240","v":0},0,{"$f":"MIN(DiaCash!G240,DisOfic!G240,Lablink!G240,Lyreco!G240,Ocaña!G240,Taine!G240,Vistalegre!G240)","v":0},0]
[235,"Bloc de notas. Liso o cuadrícula. De 80-90 hojas aprox. Gramaje 60 gr/m2 mínimo.Tamaño A4 o folio.","Unidad",0.82,1,{"$f":"SOLICITUD!F241","v":0},0,{"$f":"MIN(DiaCash!G241,DisOfic!G241,Lablink!G241,Lyreco!G241,Ocaña!G241,Taine!G241,Vistalegre!G241)","v":0},0]
[236,"Bloc de notas. Liso o cuadrícula. De 80-90 hojas aprox. Gramaje 60 gr/m2 mínimo.Tamaño A4 o folio. (Enri)","Unidad",0.92,1,{"$f":"SOLICITUD!F242","v":0},0,{"$f":"MIN(DiaCash!G242,DisOfic!G242,Lablink!G242,Lyreco!G242,Ocaña!G242,Taine!G242,Vistalegre!G242)","v":0},0]
[237,"Bloc de notas. Liso o cuadrícula. De 80-90 hojas aprox. Gramaje 60 gr/m2 mínimo.Tamaño A5 o 4º.","Unidad",0.44,1,{"$f":"SOLICITUD!F243","v":0},0,{"$f":"MIN(DiaCash!G243,DisOfic!G243,Lablink!G243,Lyreco!G243,Ocaña!G243,Taine!G243,Vistalegre!G243)","v":0},0]
[238,"Bloc de notas. Liso o cuadrícula. De 80-90 hojas aprox. Gramaje 60 gr/m2 mínimo.Tamaño A5 o 4º. (Enri)","Unidad",0.47,1,{"$f":"SOLICITUD!F244","v":0},0,{"$f":"MIN(DiaCash!G244,DisOfic!G244,Lablink!G244,Lyreco!G244,Ocaña!G244,Taine!G244,Vistalegre!G244)","v":0},0]
[239,"Bloc de notas. Liso o cuadrícula. De 80-90 hojas aprox. Gramaje 60 gr/m2 mínimo.Tamaño A6 u 8º.","Unidad",0.26,1,{"$f":"SOLICITUD!F245","v":0},0,{"$f":"MIN(DiaCash!G245,DisOfic!G245,Lablink!G245,Lyreco!G245,Ocaña!G245,Taine!G245,Vistalegre!G245)","v":0},0]
[240,"Bloc de notas. Liso o cuadrícula. De 80-90 hojas aprox. Gramaje 60 gr/m2 mínimo.Tamaño A6 u 8º. (Enri)","Unidad",0.28000000000000003,1,{"$f":"SOLICITUD!F246","v":0},0,{"$f":"MIN(DiaCash!G246,DisOfic!G246,Lablink!G246,Lyreco!G246,Ocaña!G246,Taine!G246,Vistalegre!G246)","v":0},0]
[241,"Bloc de papel liso, para caballete (pizarra de papel) 70 gr/m2 mínimo . Medidas 650 x 900 mm aprox, (mínimo 25 hojas por bloc aprox.).","Unidad",4.51,1,{"$f":"SOLICITUD!F247","v":0},0,{"$f":"MIN(DiaCash!G247,DisOfic!G247,Lablink!G247,Lyreco!G247,Ocaña!G247,Taine!G247,Vistalegre!G247)","v":0},0]
[242,"Bloc de papel liso, para caballete (pizarra de papel) 70 gr/m2 mínimo . Medidas 650 x 900 mm aprox, (mínimo 25 hojas por bloc aprox.). (Enri)","Unidad",4.8600000000000003,1,{"$f":"SOLICITUD!F248","v":0},0,{"$f":"MIN(DiaCash!G248,DisOfic!G248,Lablink!G248,Lyreco!G248,Ocaña!G248,Taine!G248,Vistalegre!G248)","v":0},0]
[243,"Cuaderno espiral cubierta cartón duro. Liso o cuadrícula. De 80-90 hojas aprox. Gramaje 60 gr/m2 mínimo.Tamaño A4 o folio.","Unidad",0.98,1,{"$f":"SOLICITUD!F249","v":0},0,{"$f":"MIN(DiaCash!G249,DisOfic!G249,Lablink!G249,Lyreco!G249,Ocaña!G249,Taine!G249,Vistalegre!G249)","v":0},0]
[244,"Cuaderno espiral cubierta cartón duro. Liso o cuadrícula. De 80-90 hojas aprox. Gramaje 60 gr/m2 mínimo.Tamaño A4 o folio. (Enri)","Unidad",1.05,1,{"$f":"SOLICITUD!F250","v":0},0,{"$f":"MIN(DiaCash!G250,DisOfic!G250,Lablink!G250,Lyreco!G250,Ocaña!G250,Taine!G250,Vistalegre!G250)","v":0},0]
[245,"Cuaderno espiral cubierta cartón duro. Liso o cuadrícula. De 80-90 hojas aprox. Gramaje 60 gr/m2 mínimo. Tamaño A5 o 4º.","Unidad",0.59,1,{"$f":"SOLICITUD!F251","v":0},0,{"$f":"MIN(DiaCash!G251,DisOfic!G251,Lablink!G251,Lyreco!G251,Ocaña!G251,Taine!G251,Vistalegre!G251)","v":0},0]
[246,"Cuaderno espiral cubierta cartón duro. Liso o cuadrícula. De 80-90 hojas aprox. Gramaje 60 gr/m2 mínimo. Tamaño A5 o 4º. (Enri)","Unidad",0.63,1,{"$f":"SOLICITUD!F252","v":0},0,{"$f":"MIN(DiaCash!G252,DisOfic!G252,Lablink!G252,Lyreco!G252,Ocaña!G252,Taine!G252,Vistalegre!G252)","v":0},0]
[247,"Cuaderno espiral cubierta cartón duro. Liso o cuadrícula. De 80-90 hojas aprox. Gramaje 60 gr/m2 mínimo.Tamaño A6 u 8º.","Unidad",0.39,1,{"$f":"SOLICITUD!F253","v":0},0,{"$f":"MIN(DiaCash!G253,DisOfic!G253,Lablink!G253,Lyreco!G253,Ocaña!G253,Taine!G253,Vistalegre!G253)","v":0},0]
[248,"Cuaderno espiral cubierta cartón duro. Liso o cuadrícula. De 80-90 hojas aprox. Gramaje 60 gr/m2 mínimo.Tamaño A6 u 8º. (Enri)","Unidad",0.41,1,{"$f":"SOLICITUD!F254","v":0},0,{"$f":"MIN(DiaCash!G254,DisOfic!G254,Lablink!G254,Lyreco!G254,Ocaña!G254,Taine!G254,Vistalegre!G254)","v":0},0]
[249,"Cuaderno espiral cubierta plastificada. Liso o cuadrícula. De 80-90 hojas aprox. Gramaje 60 gr/m2 mínimo.Tamaño A4 o folio.","Unidad",0.71,1,{"$f":"SOLICITUD!F255","v":0},0,{"$f":"MIN(DiaCash!G255,DisOfic!G255,Lablink!G255,Lyreco!G255,Ocaña!G255,Taine!G255,Vistalegre!G255)","v":0},0]
[250,"Cuaderno espiral cubierta plastificada. Liso o cuadrícula. De 80-90 hojas aprox. Gramaje 60 gr/m2 mínimo.Tamaño A4 o folio. (Enri)","Unidad",0.76,1,{"$f":"SOLICITUD!F256","v":0},0,{"$f":"MIN(DiaCash!G256,DisOfic!G256,Lablink!G256,Lyreco!G256,Ocaña!G256,Taine!G256,Vistalegre!G256)","v":0},0]
[251,"Cuaderno espiral cubierta plastificada. Liso o cuadrícula. De 80-90 hojas aprox. Gramaje 60 gr/m2 mínimo.Tamaño A5 o 4º.","Unidad",0.71,1,{"$f":"SOLICITUD!F257","v":0},0,{"$f":"MIN(DiaCash!G257,DisOfic!G257,Lablink!G257,Lyreco!G257,Ocaña!G257,Taine!G257,Vistalegre!G257)","v":0},0]
[252,"Cuaderno espiral cubierta plastificada. Liso o cuadrícula. De 80-90 hojas aprox. Gramaje 60 gr/m2 mínimo.Tamaño A5 o 4º. (Enri)","Unidad",0.76,1,{"$f":"SOLICITUD!F258","v":0},0,{"$f":"MIN(DiaCash!G258,DisOfic!G258,Lablink!G258,Lyreco!G258,Ocaña!G258,Taine!G258,Vistalegre!G258)","v":0},0]
[253,"Cuaderno espiral cubierta plastificada. Liso o cuadrícula. De 80-90 hojas aprox. Gramaje 60 gr/m2 mínimo.Tamaño A6 u 8º.","Unidad",0.74,1,{"$f":"SOLICITUD!F259","v":0},0,{"$f":"MIN(DiaCash!G259,DisOfic!G259,Lablink!G259,Lyreco!G259,Ocaña!G259,Taine!G259,Vistalegre!G259)","v":0},0]
[254,"Cuaderno espiral cubierta plastificada. Liso o cuadrícula. De 80-90 hojas aprox. Gramaje 60 gr/m2 mínimo.Tamaño A6 u 8º. (Enri)","Unidad",0.99,1,{"$f":"SOLICITUD!F260","v":0},0,{"$f":"MIN(DiaCash!G260,DisOfic!G260,Lablink!G260,Lyreco!G260,Ocaña!G260,Taine!G260,Vistalegre!G260)","v":0},0]
[255,"Cuaderno espiral cubierta plastificada. Liso o cuadrícula. De 80-90 hojas aprox. Gramaje 60 gr/m2 mínimo.Tamaño A7 u 16º.","Unidad",0.49,1,{"$f":"SOLICITUD!F261","v":0},0,{"$f":"MIN(DiaCash!G261,DisOfic!G261,Lablink!G261,Lyreco!G261,Ocaña!G261,Taine!G261,Vistalegre!G261)","v":0},0]
[256,"Cuaderno espiral cubierta plastificada. Liso o cuadrícula. De 80-90 hojas aprox. Gramaje 60 gr/m2 mínimo.Tamaño A7 u 16º. (Enri)","Unidad",0.99,1,{"$f":"SOLICITUD!F262","v":0},0,{"$f":"MIN(DiaCash!G262,DisOfic!G262,Lablink!G262,Lyreco!G262,Ocaña!G262,Taine!G262,Vistalegre!G262)","v":0},0]
[257,"Banderitas/Index autoadhesivas colores surtidos ","Taco 100 unidades",9.0000000000000011E-2,1,{"$f":"SOLICITUD!F263","v":0},0,{"$f":"MIN(DiaCash!G263,DisOfic!G263,Lablink!G263,Lyreco!G263,Ocaña!G263,Taine!G263,Vistalegre!G263)","v":0},0]
[258,"Banderitas/Index pack 5 mininotas neon Post-it","Taco 100 unidades",0.38,1,{"$f":"SOLICITUD!F264","v":0},{"$f":"IF(F264>0,IF(E264=\"Excluido\",\"Excluido1\",IF(F264>0,IF(F264<E264,\"Excluido2\",D264*F264),0)),0)","v":0},{"$f":"MIN(DiaCash!G264,DisOfic!G264,Lablink!G264,Lyreco!G264,Ocaña!G264,Taine!G264,Vistalegre!G264)","v":0},{"$f":"IF(G264<=H264,G264,0)","v":0}]
[259,"Blocs de notas autoadhesivas amarillas. Medidas 38 x 51 mm, 100 hojas.","Taco 100 unidades",0.06,1,{"$f":"SOLICITUD!F265","v":0},0,{"$f":"MIN(DiaCash!G265,DisOfic!G265,Lablink!G265,Lyreco!G265,Ocaña!G265,Taine!G265,Vistalegre!G265)","v":0},0]
[260,"Blocs de notas autoadhesivas amarillas. Medidas 38 x 51 mm, 100 hojas. (Post-it)","Taco 100 unidades",7.0000000000000007E-2,1,{"$f":"SOLICITUD!F266","v":0},0,{"$f":"MIN(DiaCash!G266,DisOfic!G266,Lablink!G266,Lyreco!G266,Ocaña!G266,Taine!G266,Vistalegre!G266)","v":0},0]
[261,"Blocs de notas autoadhesivas amarillas. Medidas 76 x 76 mm, 100 hojas.","Taco 100 unidades",0.11,1,{"$f":"SOLICITUD!F267","v":0},0,{"$f":"MIN(DiaCash!G267,DisOfic!G267,Lablink!G267,Lyreco!G267,Ocaña!G267,Taine!G267,Vistalegre!G267)","v":0},0]
[262,"Blocs de notas autoadhesivas de colores. Medidas 76 x 76 mm, 100 hojas. (Post-it)","Taco 100 unidades",0.13,1,{"$f":"SOLICITUD!F268","v":0},0,{"$f":"MIN(DiaCash!G268,DisOfic!G268,Lablink!G268,Lyreco!G268,Ocaña!G268,Taine!G268,Vistalegre!G268)","v":0},0]
[263,"Blocs de notas autoadhesivas amarillas. Medidas 76 x 127 mm, 100 hojas.","Taco 100 unidades",0.2,1,{"$f":"SOLICITUD!F269","v":0},0,{"$f":"MIN(DiaCash!G269,DisOfic!G269,Lablink!G269,Lyreco!G269,Ocaña!G269,Taine!G269,Vistalegre!G269)","v":0},0]
[264,"Blocs de notas autoadhesivas amarillas. Medidas 76 x 127 mm, 100 hojas. (Post-it)","Taco 100 unidades",0.21,1,{"$f":"SOLICITUD!F270","v":0},0,{"$f":"MIN(DiaCash!G270,DisOfic!G270,Lablink!G270,Lyreco!G270,Ocaña!G270,Taine!G270,Vistalegre!G270)","v":0},0]
[265,"Etiquetas adhesivas. En formato  A4, número de etiquetas por hoja según el tamaño de etiqueta. ","Paquete 100 hojas",3.66,1,{"$f":"SOLICITUD!F271","v":0},0,{"$f":"MIN(DiaCash!G271,DisOfic!G271,Lablink!G271,Lyreco!G271,Ocaña!G271,Taine!G271,Vistalegre!G271)","v":0},0]
[266,"Etiquetas adhesivas. En formato  A4, número de etiquetas por hoja según el tamaño de\netiqueta. ","Paquete 25 hojas",3.66,1,{"$f":"SOLICITUD!F272","v":0},0,{"$f":"MIN(DiaCash!G272,DisOfic!G272,Lablink!G272,Lyreco!G272,Ocaña!G272,Taine!G272,Vistalegre!G272)","v":0},0]
[267,"Etiquetas adhesivas. En formato  A4, número de etiquetas por hoja según el tamaño de\netiqueta. ","Paquete 10 hojas",1.74,1,{"$f":"SOLICITUD!F273","v":0},0,{"$f":"MIN(DiaCash!G273,DisOfic!G273,Lablink!G273,Lyreco!G273,Ocaña!G273,Taine!G273,Vistalegre!G273)","v":0},0]
[268,"Carpeta de cartulina  por una cara plegada y solapa al pie. Tamaño mínimo A4.  Gramaje mínimo 170 gr/m2.","Unidad",0.19899999999999998,1,{"$f":"SOLICITUD!F274","v":0},0,{"$f":"MIN(DiaCash!G274,DisOfic!G274,Lablink!G274,Lyreco!G274,Ocaña!G274,Taine!G274,Vistalegre!G274)","v":0},0]
[269,"Carpeta de cartulina  por una cara plegada y solapa al pie. Tamaño mínimo A4.  Gramaje mínimo  210  gr/m2.","Unidad",0.35099999999999998,1,{"$f":"SOLICITUD!F275","v":0},0,{"$f":"MIN(DiaCash!G275,DisOfic!G275,Lablink!G275,Lyreco!G275,Ocaña!G275,Taine!G275,Vistalegre!G275)","v":0},0]
[270,"Carpeta de cartulina con dos bolsillos. Tamaño mínimo A4.  Gramaje mínimo 170 gr/m2.","Unidad",0.39,1,{"$f":"SOLICITUD!F276","v":0},0,{"$f":"MIN(DiaCash!G276,DisOfic!G276,Lablink!G276,Lyreco!G276,Ocaña!G276,Taine!G276,Vistalegre!G276)","v":0},0]
[271,"Carpeta de cartulina con dos bolsillos. Tamaño mínimo  A4 Gramaje mínimo  210  gr/m2.","Unidad",0.39,1,{"$f":"SOLICITUD!F277","v":0},0,{"$f":"MIN(DiaCash!G277,DisOfic!G277,Lablink!G277,Lyreco!G277,Ocaña!G277,Taine!G277,Vistalegre!G277)","v":0},0]
[272,"Carpeta de cartulina. Tamaño A4.  Gramaje mínimo 170 gr/m2.","Unidad",0.08,1,{"$f":"SOLICITUD!F278","v":0},0,{"$f":"MIN(DiaCash!G278,DisOfic!G278,Lablink!G278,Lyreco!G278,Ocaña!G278,Taine!G278,Vistalegre!G278)","v":0},0]
[273,"Carpeta de cartulina. Tamaño folio gramaje 210 gr/m2.","Unidad",0.11,0.2,{"$f":"SOLICITUD!F279","v":0},0,{"$f":"MIN(DiaCash!G279,DisOfic!G279,Lablink!G279,Lyreco!G279,Ocaña!G279,Taine!G279,Vistalegre!G279)","v":0},0]
[274,"Canutillos plásticos. Redondos y ovalados, de 6 mm.","Paquete 200",3.7290000000000001,1,{"$f":"SOLICITUD!F280","v":0},0,{"$f":"MIN(DiaCash!G280,DisOfic!G280,Lablink!G280,Lyreco!G280,Ocaña!G280,Taine!G280,Vistalegre!G280)","v":0},0]
[275,"Canutillos plásticos. Redondos y ovalados, de 8 mm.","Paquete 100",2.29,1,{"$f":"SOLICITUD!F281","v":0},0,{"$f":"MIN(DiaCash!G281,DisOfic!G281,Lablink!G281,Lyreco!G281,Ocaña!G281,Taine!G281,Vistalegre!G281)","v":0},0]
[276,"Canutillos plásticos. Redondos y ovalados, de 10 mm.","Paquete 100",2.5299999999999998,1,{"$f":"SOLICITUD!F282","v":0},0,{"$f":"MIN(DiaCash!G282,DisOfic!G282,Lablink!G282,Lyreco!G282,Ocaña!G282,Taine!G282,Vistalegre!G282)","v":0},0]
[277,"Canutillos plásticos. Redondos y ovalados, de 12 mm.","Paquete 100",3.57,1,{"$f":"SOLICITUD!F283","v":0},0,{"$f":"MIN(DiaCash!G283,DisOfic!G283,Lablink!G283,Lyreco!G283,Ocaña!G283,Taine!G283,Vistalegre!G283)","v":0},0]
[278,"Canutillos plásticos. Redondos y ovalados, de 14 mm.","Paquete 100",3.57,1,{"$f":"SOLICITUD!F284","v":0},0,{"$f":"MIN(DiaCash!G284,DisOfic!G284,Lablink!G284,Lyreco!G284,Ocaña!G284,Taine!G284,Vistalegre!G284)","v":0},0]
[279,"Canutillos plásticos. Redondos y ovalados, de 16 mm.","Paquete 100",4.71,1,{"$f":"SOLICITUD!F285","v":0},0,{"$f":"MIN(DiaCash!G285,DisOfic!G285,Lablink!G285,Lyreco!G285,Ocaña!G285,Taine!G285,Vistalegre!G285)","v":0},0]
[280,"Canutillos plásticos. Redondos y ovalados, de 18 mm.","Paquete 100",5.43,1,{"$f":"SOLICITUD!F286","v":0},0,{"$f":"MIN(DiaCash!G286,DisOfic!G286,Lablink!G286,Lyreco!G286,Ocaña!G286,Taine!G286,Vistalegre!G286)","v":0},0]
[281,"Canutillos plásticos. Redondos y ovalados, de 22 mm.","Paquete 50",6.0040000000000004,1,{"$f":"SOLICITUD!F287","v":0},0,{"$f":"MIN(DiaCash!G287,DisOfic!G287,Lablink!G287,Lyreco!G287,Ocaña!G287,Taine!G287,Vistalegre!G287)","v":0},0]
[282,"Canutillos plásticos. Redondos y ovalados, de 25 mm.","Paquete 50",6.9460000000000006,1,{"$f":"SOLICITUD!F288","v":0},0,{"$f":"MIN(DiaCash!G288,DisOfic!G288,Lablink!G288,Lyreco!G288,Ocaña!G288,Taine!G288,Vistalegre!G288)","v":0},0]
[283,"Canutillos plásticos. Redondos y ovalados, de 28 mm.","Paquete 50",7.3,1,{"$f":"SOLICITUD!F289","v":0},0,{"$f":"MIN(DiaCash!G289,DisOfic!G289,Lablink!G289,Lyreco!G289,Ocaña!G289,Taine!G289,Vistalegre!G289)","v":0},0]
[284,"Canutillos plásticos. Redondos y ovalados, de 32 mm.","Paquete 50",7.4,1,{"$f":"SOLICITUD!F290","v":0},0,{"$f":"MIN(DiaCash!G290,DisOfic!G290,Lablink!G290,Lyreco!G290,Ocaña!G290,Taine!G290,Vistalegre!G290)","v":0},0]
[285,"Canutillos plásticos. Redondos y ovalados, de 45 mm.","Paquete 25",4.3600000000000003,1,{"$f":"SOLICITUD!F291","v":0},0,{"$f":"MIN(DiaCash!G291,DisOfic!G291,Lablink!G291,Lyreco!G291,Ocaña!G291,Taine!G291,Vistalegre!G291)","v":0},0]
[286,"Canutillos plásticos. Redondos y ovalados, de 51 mm.","Paquete 25",5.01,1,{"$f":"SOLICITUD!F292","v":0},0,{"$f":"MIN(DiaCash!G292,DisOfic!G292,Lablink!G292,Lyreco!G292,Ocaña!G292,Taine!G292,Vistalegre!G292)","v":0},0]
[287,"Espirales metálicas de encuadernación. Paso 5:1, de diámetro 8 mm.","Paquete 100",4.12,1,{"$f":"SOLICITUD!F293","v":0},0,{"$f":"MIN(DiaCash!G293,DisOfic!G293,Lablink!G293,Lyreco!G293,Ocaña!G293,Taine!G293,Vistalegre!G293)","v":0},0]
[288,"Espirales metálicas de encuadernación. Paso 5:1, de diámetro 10 mm.","Paquete 100",5.14,1,{"$f":"SOLICITUD!F294","v":0},0,{"$f":"MIN(DiaCash!G294,DisOfic!G294,Lablink!G294,Lyreco!G294,Ocaña!G294,Taine!G294,Vistalegre!G294)","v":0},0]
[289,"Espirales metálicas de encuadernación. Paso 5:1, de diámetro 12 mm.","Paquete 100",5.99,1,{"$f":"SOLICITUD!F295","v":0},0,{"$f":"MIN(DiaCash!G295,DisOfic!G295,Lablink!G295,Lyreco!G295,Ocaña!G295,Taine!G295,Vistalegre!G295)","v":0},0]
[290,"Espirales metálicas de encuadernación. Paso 5:1, de diámetro 14 mm.","Paquete 100",6.82,1,{"$f":"SOLICITUD!F296","v":0},0,{"$f":"MIN(DiaCash!G296,DisOfic!G296,Lablink!G296,Lyreco!G296,Ocaña!G296,Taine!G296,Vistalegre!G296)","v":0},0]
[291,"Espirales metálicas de encuadernación. Paso 5:1, de diámetro 16 mm.","Paquete 100",9.19,1,{"$f":"SOLICITUD!F297","v":0},0,{"$f":"MIN(DiaCash!G297,DisOfic!G297,Lablink!G297,Lyreco!G297,Ocaña!G297,Taine!G297,Vistalegre!G297)","v":0},0]
[292,"Espirales metálicas de encuadernación. Paso 5:1, de diámetro 18 mm.","Paquete 100",10.43,1,{"$f":"SOLICITUD!F298","v":0},0,{"$f":"MIN(DiaCash!G298,DisOfic!G298,Lablink!G298,Lyreco!G298,Ocaña!G298,Taine!G298,Vistalegre!G298)","v":0},0]
[293,"Espirales metálicas de encuadernación. Paso 5:1, de diámetro 20 mm.","Paquete 100",11.33,1,{"$f":"SOLICITUD!F299","v":0},0,{"$f":"MIN(DiaCash!G299,DisOfic!G299,Lablink!G299,Lyreco!G299,Ocaña!G299,Taine!G299,Vistalegre!G299)","v":0},0]
[294,"Espirales metálicas de encuadernación. Paso 5:1, de diámetro 22 mm.","Paquete 100",12.39,1,{"$f":"SOLICITUD!F300","v":0},0,{"$f":"MIN(DiaCash!G300,DisOfic!G300,Lablink!G300,Lyreco!G300,Ocaña!G300,Taine!G300,Vistalegre!G300)","v":0},0]
[295,"Espirales metálicas de encuadernación. Paso 5:1, de diámetro 24 mm.","Paquete 100",13.74,1,{"$f":"SOLICITUD!F301","v":0},0,{"$f":"MIN(DiaCash!G301,DisOfic!G301,Lablink!G301,Lyreco!G301,Ocaña!G301,Taine!G301,Vistalegre!G301)","v":0},0]
[296,"Espirales metálicas de encuadernación. Paso 5:1, de diámetro 28 mm.","Paquete 50",8.82,1,{"$f":"SOLICITUD!F302","v":0},0,{"$f":"MIN(DiaCash!G302,DisOfic!G302,Lablink!G302,Lyreco!G302,Ocaña!G302,Taine!G302,Vistalegre!G302)","v":0},0]
[297,"Espirales metálicas de encuadernación. Paso 5:1, de diámetro 30 mm. ","Paquete 50",9.86,1,{"$f":"SOLICITUD!F303","v":0},0,{"$f":"MIN(DiaCash!G303,DisOfic!G303,Lablink!G303,Lyreco!G303,Ocaña!G303,Taine!G303,Vistalegre!G303)","v":0},0]
[298,"Espirales metálicas de encuadernación. Paso 5:1, de diámetro 34 mm. ","Paquete 50",10.57,1,{"$f":"SOLICITUD!F304","v":0},0,{"$f":"MIN(DiaCash!G304,DisOfic!G304,Lablink!G304,Lyreco!G304,Ocaña!G304,Taine!G304,Vistalegre!G304)","v":0},0]
[299,"Espirales metálicas de encuadernación. Paso 5:1, de diámetro 38 mm. ","Paquete 50",8.99,1,{"$f":"SOLICITUD!F305","v":0},0,{"$f":"MIN(DiaCash!G305,DisOfic!G305,Lablink!G305,Lyreco!G305,Ocaña!G305,Taine!G305,Vistalegre!G305)","v":0},0]
[300,"Espirales metálicas de encuadernación. Paso 5:1, de diámetro 40 mm o superior.","Paquete 25",8.07,1,{"$f":"SOLICITUD!F306","v":0},0,{"$f":"MIN(DiaCash!G306,DisOfic!G306,Lablink!G306,Lyreco!G306,Ocaña!G306,Taine!G306,Vistalegre!G306)","v":0},0]
[301,"Cartulina. Tamaño A4. Gramaje 185 gr/m2 mínimo.","Paquete 50",2.3400000000000003,1,{"$f":"SOLICITUD!F307","v":0},0,{"$f":"MIN(DiaCash!G307,DisOfic!G307,Lablink!G307,Lyreco!G307,Ocaña!G307,Taine!G307,Vistalegre!G307)","v":0},0]
[302,"Cartulina. Tamaño A4. Gramaje 220 gr/m2 mínimo.","Paquete 50",2.61,1,{"$f":"SOLICITUD!F308","v":0},0,{"$f":"MIN(DiaCash!G308,DisOfic!G308,Lablink!G308,Lyreco!G308,Ocaña!G308,Taine!G308,Vistalegre!G308)","v":0},0]
[303,"Cartulina. Tamaño A3. Gramaje 185 gr/m2 mínimo.","Paquete 25",2.665,1,{"$f":"SOLICITUD!F309","v":0},0,{"$f":"MIN(DiaCash!G309,DisOfic!G309,Lablink!G309,Lyreco!G309,Ocaña!G309,Taine!G309,Vistalegre!G309)","v":0},0]
[304,"Cartulina. Tamaño A3. Gramaje 220 gr/m2 mínimo.","Paquete 25",16.989999999999998,1,{"$f":"SOLICITUD!F310","v":0},0,{"$f":"MIN(DiaCash!G310,DisOfic!G310,Lablink!G310,Lyreco!G310,Ocaña!G310,Taine!G310,Vistalegre!G310)","v":0},0]
[305,"Pastener  metálico con compresor y correderas . ","Unidad",0.02,1,{"$f":"SOLICITUD!F311","v":0},0,{"$f":"MIN(DiaCash!G311,DisOfic!G311,Lablink!G311,Lyreco!G311,Ocaña!G311,Taine!G311,Vistalegre!G311)","v":0},0]
[306,"Cubiertas de plástico. Tamaño A4, espesor mínimo 180 micras.","Unidad",3.6999999999999998E-2,1,{"$f":"SOLICITUD!F312","v":0},0,{"$f":"MIN(DiaCash!G312,DisOfic!G312,Lablink!G312,Lyreco!G312,Ocaña!G312,Taine!G312,Vistalegre!G312)","v":0},0]
[307,"Cubiertas de plástico. Tamaño A3, espesor mínimo 180 micras.","Unidad",9.9000000000000005E-2,1,{"$f":"SOLICITUD!F313","v":0},0,{"$f":"MIN(DiaCash!G313,DisOfic!G313,Lablink!G313,Lyreco!G313,Ocaña!G313,Taine!G313,Vistalegre!G313)","v":0},0]
[308,"Bobina de rafia de plástico. (bobina 400 gr)","Unidad",2.21,1,{"$f":"SOLICITUD!F314","v":0},0,{"$f":"MIN(DiaCash!G314,DisOfic!G314,Lablink!G314,Lyreco!G314,Ocaña!G314,Taine!G314,Vistalegre!G314)","v":0},0]
[309,"Cinta balduque en rollo algodón 100% . Medidas 19mm x 14m aprox.","Unidad",2.246,1,{"$f":"SOLICITUD!F315","v":0},0,{"$f":"MIN(DiaCash!G315,DisOfic!G315,Lablink!G315,Lyreco!G315,Ocaña!G315,Taine!G315,Vistalegre!G315)","v":0},0]
[310,"Caja de embalaje cartón, canal sencillo, 4 solapas. Medidas 355x265x270 mm aprox.","Unidad",0.57999999999999996,1,{"$f":"SOLICITUD!F316","v":0},0,{"$f":"MIN(DiaCash!G316,DisOfic!G316,Lablink!G316,Lyreco!G316,Ocaña!G316,Taine!G316,Vistalegre!G316)","v":0},0]
[311,"Caja de embalaje cartón, canal sencillo, 4 solapas. Medidas 400x325x420 mm aprox.","Unidad",0.91,1,{"$f":"SOLICITUD!F317","v":0},0,{"$f":"MIN(DiaCash!G317,DisOfic!G317,Lablink!G317,Lyreco!G317,Ocaña!G317,Taine!G317,Vistalegre!G317)","v":0},0]
[312,"Caja embalaje cartón, doble canal, 4 solapas. Medidas 400x400x400 mm aprox.","Unidad",1.7499999999999998,1,{"$f":"SOLICITUD!F318","v":0},0,{"$f":"MIN(DiaCash!G318,DisOfic!G318,Lablink!G318,Lyreco!G318,Ocaña!G318,Taine!G318,Vistalegre!G318)","v":0},0]
[313,"Papel embalar. Medidas ancho 1 m.  Gramaje 70 gr/m2 mínimo.(bobina 25 kg)","Bobina 25 Kg",59.03,1,{"$f":"SOLICITUD!F319","v":0},0,{"$f":"MIN(DiaCash!G319,DisOfic!G319,Lablink!G319,Lyreco!G319,Ocaña!G319,Taine!G319,Vistalegre!G319)","v":0},0]
[314,"Papel embalar. Medidas ancho 1 m.  Gramaje 70 gr/m2 mínimo.(bobina 25 kg)","Bobina 25 Kg",59.03,1,{"$f":"SOLICITUD!F320","v":0},0,{"$f":"MIN(DiaCash!G320,DisOfic!G320,Lablink!G320,Lyreco!G320,Ocaña!G320,Taine!G320,Vistalegre!G320)","v":0},0]
[315,"Papel embalar. Medidas ancho 1 m.  Gramaje 70 gr/m2 mínimo.(bobina 55 kg)","Bobina 55 Kg",118.95099999999999,1,{"$f":"SOLICITUD!F321","v":0},0,{"$f":"MIN(DiaCash!G321,DisOfic!G321,Lablink!G321,Lyreco!G321,Ocaña!G321,Taine!G321,Vistalegre!G321)","v":0},0]
[316,"Papel embalar. Medidas ancho 1 m.  Gramaje 70 gr/m2 mínimo.(bobina 55 kg)","Bobina 55 Kg",100.03999999999999,1,{"$f":"SOLICITUD!F322","v":0},0,{"$f":"MIN(DiaCash!G322,DisOfic!G322,Lablink!G322,Lyreco!G322,Ocaña!G322,Taine!G322,Vistalegre!G322)","v":0},0]
[317,"Bolsa de correo interno de papel kraft. Tamaño 250 x 353 mm aprox.  Gramaje mínimo 100 gr/m2.","Caja 250 unidades",30.74,1,{"$f":"SOLICITUD!F323","v":0},0,{"$f":"MIN(DiaCash!G323,DisOfic!G323,Lablink!G323,Lyreco!G323,Ocaña!G323,Taine!G323,Vistalegre!G323)","v":0},0]
[318,"Bolsa de papel kraft armado. Tamaño 310 x 410 mm aprox.  Gramaje mínimo 110 gr/m2.","Caja 100 unidades",11.85,1,{"$f":"SOLICITUD!F324","v":0},0,{"$f":"MIN(DiaCash!G324,DisOfic!G324,Lablink!G324,Lyreco!G324,Ocaña!G324,Taine!G324,Vistalegre!G324)","v":0},0]
[319,"Sobre autopegue con ventana a la derecha o izquierda. Tamaño 115x225 mm aprox.  Gramaje mínimo 90 gr/m2.","Caja 500 unidades",8.01,1,{"$f":"SOLICITUD!F325","v":0},0,{"$f":"MIN(DiaCash!G325,DisOfic!G325,Lablink!G325,Lyreco!G325,Ocaña!G325,Taine!G325,Vistalegre!G325)","v":0},0]
[320,"Sobre autopegue sin ventana. Tamaño 120x176 mm aprox.  Gramaje mínimo 90 gr/m2.","Caja 500 unidades",8.0399999999999991,1,{"$f":"SOLICITUD!F326","v":0},0,{"$f":"MIN(DiaCash!G326,DisOfic!G326,Lablink!G326,Lyreco!G326,Ocaña!G326,Taine!G326,Vistalegre!G326)","v":0},0]
[321,"Sobre autopegue sin ventana. Tamaño 115x225 mm aprox.  Gramaje mínimo 90 gr/m2.","Caja 500 unidades",8.01,1,{"$f":"SOLICITUD!F327","v":0},0,{"$f":"MIN(DiaCash!G327,DisOfic!G327,Lablink!G327,Lyreco!G327,Ocaña!G327,Taine!G327,Vistalegre!G327)","v":0},0]
[322,"Sobre autopegue sin ventana. Tamaño 176x231 mm aprox.  Gramaje mínimo 90 gr/m2.","Caja 500 unidades",17.86,1,{"$f":"SOLICITUD!F328","v":0},{"$f":"IF(F328>0,IF(E328=\"Excluido\",\"Excluido1\",IF(F328>0,IF(F328<E328,\"Excluido2\",D328*F328),0)),0)","v":0},{"$f":"MIN(DiaCash!G328,DisOfic!G328,Lablink!G328,Lyreco!G328,Ocaña!G328,Taine!G328,Vistalegre!G328)","v":0},{"$f":"IF(G328<=H328,G328,0)","v":0}]
[323,"Sobre autopegue sin ventana. Tamaño 260x360 mm aprox.  Gramaje mínimo 90 gr/m2.","Caja 250 unidades",17.13,1,{"$f":"SOLICITUD!F329","v":0},0,{"$f":"MIN(DiaCash!G329,DisOfic!G329,Lablink!G329,Lyreco!G329,Ocaña!G329,Taine!G329,Vistalegre!G329)","v":0},0]
[324,"Sobre bolsa burbuja. Tamaño 270 x 360 mm aprox.  Gramaje mínimo 110 gr/m2.","Paquete 10 unidades",2.46,1,{"$f":"SOLICITUD!F330","v":0},0,{"$f":"MIN(DiaCash!G330,DisOfic!G330,Lablink!G330,Lyreco!G330,Ocaña!G330,Taine!G330,Vistalegre!G330)","v":0},0]
[325,"Sobre bolsa fuelle papel kraft. Tamaño 280 x 410 x 30 mm aprox. Gramaje mínimo 110 gr/m2.","Caja 100 unidades",26.59,1,{"$f":"SOLICITUD!F331","v":0},0,{"$f":"MIN(DiaCash!G331,DisOfic!G331,Lablink!G331,Lyreco!G331,Ocaña!G331,Taine!G331,Vistalegre!G331)","v":0},0]
[326,"Sobre plástico, cierre broche o velcro. Tamaño A4 / folio.","Unidad",0.29199999999999998,1,{"$f":"SOLICITUD!F332","v":0},0,{"$f":"MIN(DiaCash!G332,DisOfic!G332,Lablink!G332,Lyreco!G332,Ocaña!G332,Taine!G332,Vistalegre!G332)","v":0},0]
[327,"Sobre plástico, cierre broche o velcro. Tamaño A3.","Unidad",0.84199999999999997,1,{"$f":"SOLICITUD!F333","v":0},0,{"$f":"MIN(DiaCash!G333,DisOfic!G333,Lablink!G333,Lyreco!G333,Ocaña!G333,Taine!G333,Vistalegre!G333)","v":0},0]
[328,"Tubos planos cartón 4x46 cm (diam. X altura)","Unidad",0.89,1,{"$f":"SOLICITUD!F334","v":0},0,{"$f":"MIN(DiaCash!G334,DisOfic!G334,Lablink!G334,Lyreco!G334,Ocaña!G334,Taine!G334,Vistalegre!G334)","v":0},0]
[329,"Tubos planos cartón 60x64 cm (diam. X altura)","Unidad",1.99,1,{"$f":"SOLICITUD!F335","v":0},0,{"$f":"MIN(DiaCash!G335,DisOfic!G335,Lablink!G335,Lyreco!G335,Ocaña!G335,Taine!G335,Vistalegre!G335)","v":0},0]
[330,"Tubos envíos cartón 6x46 cm (diam. X altura)","Unidad",1.1100000000000001,1,{"$f":"SOLICITUD!F336","v":0},0,{"$f":"MIN(DiaCash!G336,DisOfic!G336,Lablink!G336,Lyreco!G336,Ocaña!G336,Taine!G336,Vistalegre!G336)","v":0},0]
[331,"Rollo de papel para calculadora 57mm 65mts.","Unidad",0.27,1,{"$f":"SOLICITUD!F337","v":0},0,{"$f":"MIN(DiaCash!G337,DisOfic!G337,Lablink!G337,Lyreco!G337,Ocaña!G337,Taine!G337,Vistalegre!G337)","v":0},0]
[332,"Tablero de corcho para anuncios con marco de madera 60 x 90 cm (hxa) (Bi-Office)","Unidad",6.5,1,{"$f":"SOLICITUD!F338","v":0},0,{"$f":"MIN(DiaCash!G338,DisOfic!G338,Lablink!G338,Lyreco!G338,Ocaña!G338,Taine!G338,Vistalegre!G338)","v":0},0]
[333,"Caja de 5 Paquetes de papel A4 80gr./m2, para impresoras inkjet, láser y fotocopiadora","Caja de 5 Paquetes",15.995000000000001,1,{"$f":"SOLICITUD!F339","v":0},0,{"$f":"MIN(DiaCash!G339,DisOfic!G339,Lablink!G339,Lyreco!G339,Ocaña!G339,Taine!G339,Vistalegre!G339)","v":0},0]
[334,"Caja de 5 Paquetes de papel A4 80gr./m2, para impresoras inkjet, láser y fotocopiadora (Navigator)","Caja de 5 Paquetes",20.994999999999997,1,{"$f":"SOLICITUD!F340","v":0},0,{"$f":"MIN(DiaCash!G340,DisOfic!G340,Lablink!G340,Lyreco!G340,Ocaña!G340,Taine!G340,Vistalegre!G340)","v":0},0]
[335,"Paquete de papel A3 80gr./m2, para impresoras inkjet, láser y fotocopiadora ","Paquete 500 hojas",7,1,{"$f":"SOLICITUD!F341","v":0},0,{"$f":"MIN(DiaCash!G341,DisOfic!G341,Lablink!G341,Lyreco!G341,Ocaña!G341,Taine!G341,Vistalegre!G341)","v":0},0]
[336,"Paquete de papel A3 80gr./m2, para impresoras inkjet, láser y fotocopiadora (Navigator)","Paquete 500 hojas",7.6,1,{"$f":"SOLICITUD!F342","v":0},0,{"$f":"MIN(DiaCash!G342,DisOfic!G342,Lablink!G342,Lyreco!G342,Ocaña!G342,Taine!G342,Vistalegre!G342)","v":0},0]
[337,"Paquete de papel A4 80gr./m2 colores pastel, intensos y fluorescentes, impresoas inkjet, láser y fotocopiadora (Clairefontaine)","Paquete 500 hojas",7,1,{"$f":"SOLICITUD!F343","v":0},0,{"$f":"MIN(DiaCash!G343,DisOfic!G343,Lablink!G343,Lyreco!G343,Ocaña!G343,Taine!G343,Vistalegre!G343)","v":0},0]
[338,"Paquete de papel A4 80gr./m2 colores intensos y fluorescentes, impresoas inkjet, láser y fotocopiadora (Clairefontaine)","Paquete 500 hojas",7,1,{"$f":"SOLICITUD!F344","v":0},0,{"$f":"MIN(DiaCash!G344,DisOfic!G344,Lablink!G344,Lyreco!G344,Ocaña!G344,Taine!G344,Vistalegre!G344)","v":0},0]
[339,"Caja de 5 Paquetes de papel A4 ecológico 75gr/m2 (Navigator Eco-Logical)","Caja de 5 Paquetes",20.745000000000001,1,{"$f":"SOLICITUD!F345","v":0},0,{"$f":"MIN(DiaCash!G345,DisOfic!G345,Lablink!G345,Lyreco!G345,Ocaña!G345,Taine!G345,Vistalegre!G345)","v":0},0]
[340,"Caja de 5 Paquetes de papel A4 Blanco 90 gr/m2 ","Caja de 5 Paquetes",23.994999999999997,1,{"$f":"SOLICITUD!F346","v":0},0,{"$f":"MIN(DiaCash!G346,DisOfic!G346,Lablink!G346,Lyreco!G346,Ocaña!G346,Taine!G346,Vistalegre!G346)","v":0},0]
[341,"Caja de 5 Paquetes de papel A4 Blanco 90 gr/m2 (Navigator)","Caja de 5 Paquetes",27.494999999999997,1,{"$f":"SOLICITUD!F347","v":0},0,{"$f":"MIN(DiaCash!G347,DisOfic!G347,Lablink!G347,Lyreco!G347,Ocaña!G347,Taine!G347,Vistalegre!G347)","v":0},0]
[342,"Caja de 5 Paquetes de papel A4 80gr./m2, para impresoras inkjet, láser y fotocopiadora reciclado","Caja de 5 Paquetes",18.995000000000001,1,{"$f":"SOLICITUD!F348","v":0},0,{"$f":"MIN(DiaCash!G348,DisOfic!G348,Lablink!G348,Lyreco!G348,Ocaña!G348,Taine!G348,Vistalegre!G348)","v":0},0]
[343,"Paquete de papel verjurado A4 90 gr/m2 blanco (Apli)","Paquete 100 hojas",5.9,1,{"$f":"SOLICITUD!F349","v":0},0,{"$f":"MIN(DiaCash!G349,DisOfic!G349,Lablink!G349,Lyreco!G349,Ocaña!G349,Taine!G349,Vistalegre!G349)","v":0},0]
[344,"Paquete de papel verjurado A4 100 color crema 90 gr/m2 (Apli)","Paquete 100 hojas",5.9,1,{"$f":"SOLICITUD!F350","v":0},0,{"$f":"MIN(DiaCash!G350,DisOfic!G350,Lablink!G350,Lyreco!G350,Ocaña!G350,Taine!G350,Vistalegre!G350)","v":0},0]
[350,"Boligrado Pentel BK-77 Superb (boligrado de punta fina 0.7 mm y tinta base de aceite)","12 unidades",12,1,{"$f":"SOLICITUD!F351","v":0},{"$f":"IF(F351>0,IF(E351=\"Excluido\",\"Excluido1\",IF(F351>0,IF(F351<E351,\"Excluido2\",D351*F351),0)),0)","v":0},{"$f":"MIN(DiaCash!G351,DisOfic!G351,Lablink!G351,Lyreco!G351,Ocaña!G351,Taine!G351,Vistalegre!G351)","v":0},{"$f":"IF(G351<=H351,G351,0)","v":0}]
[351,"50 tapas encuadernar gofrado A4 Negro","50 unidades",10.75,1,{"$f":"SOLICITUD!F352","v":0},0,{"$f":"MIN(DiaCash!G352,DisOfic!G352,Lablink!G352,Lyreco!G352,Ocaña!G352,Taine!G352,Vistalegre!G352)","v":0},0]
[352,"Cinta doble cara 19x33 mm","Unidad",20.57,1,{"$f":"SOLICITUD!F353","v":0},0,{"$f":"MIN(DiaCash!G353,DisOfic!G353,Lablink!G353,Lyreco!G353,Ocaña!G353,Taine!G353,Vistalegre!G353)","v":0},0]
[353,"Bolsas para plastificar carnet tamaño 60x90 mm y grosor 200 micras.","100 unidades",3.44,1,{"$f":"SOLICITUD!F354","v":0},0,{"$f":"MIN(DiaCash!G354,DisOfic!G354,Lablink!G354,Lyreco!G354,Ocaña!G354,Taine!G354,Vistalegre!G354)","v":0},0]
[354,"Bolsas para plastificar tamaño A3 grosor 125 micras","100 unidades",21.92,1,{"$f":"SOLICITUD!F355","v":0},0,{"$f":"MIN(DiaCash!G355,DisOfic!G355,Lablink!G355,Lyreco!G355,Ocaña!G355,Taine!G355,Vistalegre!G355)","v":0},0]
[355,"Sobres de tamaño 229x324 con tira de silicona","250 unidades",19.7,1,{"$f":"SOLICITUD!F356","v":0},0,{"$f":"MIN(DiaCash!G356,DisOfic!G356,Lablink!G356,Lyreco!G356,Ocaña!G356,Taine!G356,Vistalegre!G356)","v":0},0]
[356,"Minas Super Polymer 0.35 HB","12 unidades",0.99,1,{"$f":"SOLICITUD!F357","v":0},0,{"$f":"MIN(DiaCash!G357,DisOfic!G357,Lablink!G357,Lyreco!G357,Ocaña!G357,Taine!G357,Vistalegre!G357)","v":0},0]
[357,"Minas Super Polymer 0.35 2H","12 unidades",0.99,1,{"$f":"SOLICITUD!F358","v":0},0,{"$f":"MIN(DiaCash!G358,DisOfic!G358,Lablink!G358,Lyreco!G358,Ocaña!G358,Taine!G358,Vistalegre!G358)","v":0},0]
[358,"Cuaderno Cuadros A4 160H (marca SAM, Enri, tec)","Unidad",2.5,1,{"$f":"SOLICITUD!F359","v":0},0,{"$f":"MIN(DiaCash!G359,DisOfic!G359,Lablink!G359,Lyreco!G359,Ocaña!G359,Taine!G359,Vistalegre!G359)","v":0},0]
[359,"Fichas rayadas 160x220 (paquete de 100 hojas)","100 unidades",10.050000000000001,1,{"$f":"SOLICITUD!F360","v":0},0,{"$f":"MIN(DiaCash!G360,DisOfic!G360,Lablink!G360,Lyreco!G360,Ocaña!G360,Taine!G360,Vistalegre!G360)","v":0},0]
[360,"Portablocks con pinza y solapa","Unidad",1.76,1,{"$f":"SOLICITUD!F361","v":0},0,{"$f":"MIN(DiaCash!G361,DisOfic!G361,Lablink!G361,Lyreco!G361,Ocaña!G361,Taine!G361,Vistalegre!G361)","v":0},0]
[361,"Pack 100 Fundas multitaladro folio PP Cristal","100 unidades",8.2799999999999994,1,{"$f":"SOLICITUD!F362","v":0},0,{"$f":"MIN(DiaCash!G362,DisOfic!G362,Lablink!G362,Lyreco!G362,Ocaña!G362,Taine!G362,Vistalegre!G362)","v":0},0]
[362,"Sobre burbuja/acolchado tamaño 350x470 mm ","10 unidades",9.34,1,{"$f":"SOLICITUD!F363","v":0},0,{"$f":"MIN(DiaCash!G363,DisOfic!G363,Lablink!G363,Lyreco!G363,Ocaña!G363,Taine!G363,Vistalegre!G363)","v":0},0]
[363,"Sobre burbuja/acolchado tamaño 300x445 mm ","10 unidades",5.19,1,{"$f":"SOLICITUD!F364","v":0},0,{"$f":"MIN(DiaCash!G364,DisOfic!G364,Lablink!G364,Lyreco!G364,Ocaña!G364,Taine!G364,Vistalegre!G364)","v":0},0]
[364,"Sobre burbuja/acolchado tamaño 120x215 mm ","-"," - ","-",{"$f":"SOLICITUD!F365","v":0},0,{"$f":"MIN(DiaCash!G365,DisOfic!G365,Lablink!G365,Lyreco!G365,Ocaña!G365,Taine!G365,Vistalegre!G365)","v":0},0]
[365,"Sobre burbuja/acolchado tamaño 220x340 mm","10 unidades",4.87,1,{"$f":"SOLICITUD!F366","v":0},0,{"$f":"MIN(DiaCash!G366,DisOfic!G366,Lablink!G366,Lyreco!G366,Ocaña!G366,Taine!G366,Vistalegre!G366)","v":0},0]
[366,"Sobre burbuja/acolchado tamaño 220x265 mm","10 unidades",3.97,1,{"$f":"SOLICITUD!F367","v":0},0,{"$f":"MIN(DiaCash!G367,DisOfic!G367,Lablink!G367,Lyreco!G367,Ocaña!G367,Taine!G367,Vistalegre!G367)","v":0},0]
[367,"Carpeta Polipropileno A4 Gomas Solapas","Unidad",1.1000000000000001,1,{"$f":"SOLICITUD!F368","v":0},0,{"$f":"MIN(DiaCash!G368,DisOfic!G368,Lablink!G368,Lyreco!G368,Ocaña!G368,Taine!G368,Vistalegre!G368)","v":0},0]
[368,"Roller Pilot V-5 Azul","Unidad",1.43,1,{"$f":"SOLICITUD!F369","v":0},0,{"$f":"MIN(DiaCash!G369,DisOfic!G369,Lablink!G369,Lyreco!G369,Ocaña!G369,Taine!G369,Vistalegre!G369)","v":0},0]
[369,"Roller Pilot V-5 Negro","Unidad",1.43,1,{"$f":"SOLICITUD!F370","v":0},0,{"$f":"MIN(DiaCash!G370,DisOfic!G370,Lablink!G370,Lyreco!G370,Ocaña!G370,Taine!G370,Vistalegre!G370)","v":0},0]
[370,"Roller Pilot V-5 Rojo","Unidad",1.43,1,{"$f":"SOLICITUD!F371","v":0},0,{"$f":"MIN(DiaCash!G371,DisOfic!G371,Lablink!G371,Lyreco!G371,Ocaña!G371,Taine!G371,Vistalegre!G371)","v":0},0]
[371,"Sobres blancos para entrega de títulos en mano 30 x 42 cm.","250 unidades",17.13,1,{"$f":"SOLICITUD!F372","v":0},0,{"$f":"MIN(DiaCash!G372,DisOfic!G372,Lablink!G372,Lyreco!G372,Ocaña!G372,Taine!G372,Vistalegre!G372)","v":0},0]
[372,"Dosier flexible con pinza A4 60 hojas     ","Unidad",0.78,1,{"$f":"SOLICITUD!F373","v":0},0,{"$f":"MIN(DiaCash!G373,DisOfic!G373,Lablink!G373,Lyreco!G373,Ocaña!G373,Taine!G373,Vistalegre!G373)","v":0},0]
[373,"Dosier flexible con pinza A4 30 hojas     ","Unidad",0.86,1,{"$f":"SOLICITUD!F374","v":0},0,{"$f":"MIN(DiaCash!G374,DisOfic!G374,Lablink!G374,Lyreco!G374,Ocaña!G374,Taine!G374,Vistalegre!G374)","v":0},0]
[374,"Rollos de papel térmico para las máquinas CIGES 8x8 cm","8 unidades",13.52,1,{"$f":"SOLICITUD!F375","v":0},0,{"$f":"MIN(DiaCash!G375,DisOfic!G375,Lablink!G375,Lyreco!G375,Ocaña!G375,Taine!G375,Vistalegre!G375)","v":0},0]
[null,null,null,null,null,null,null,null,{"$f":"SUM(I7:I375)","v":0}]
[null,null,null,null,null,null,null,null,{"$f":"COUNTIF(I7:I375,\">0\")","v":0}]